{"text_format":"1","workbook":"xlsx","n_sheets":75,"sheets":["PictureValidation","Benefits","BenefitsMBCx","UtilityData","ECM Form Inputs","BenefitsMBCx_Not Used","App","DataPhaseValid","Instructions","Checklist","Contact & Facility Information","Measure Recommendation","Utility Calcs","RecElec","RecElecGas","RecElecGasDist","RecElec2","RecElecGas2","RecElecGasDist2","Contacts","Additional Measure Information","Issue Log","ECM1","ECM2","ECM3","ECM4","ECM5","ECM6","ECM7","ECM8","ECM9","ECM10","ECM11","ECM12","ECM13","ECM14","ECM15","ECM16","ECM17","ECM18","ECM19","ECM20","Screenshots","MeasDet1","MeasDet2","MeasDet3","MeasDet4","MeasDet5","MeasDet6","MeasDet7","MeasDet8","MeasDet9","MeasDet10","MeasDet11","MeasDet12","MeasDet13","MeasDet14","MeasDet15","MeasDet16","MeasDet17","MeasDet18","MeasDet19","MeasDet20","Autofit","AddOps","FacDesc","Autofit2","EquipList","Top10","BOC","IssueLog","MeasPersist","MeasPersistBEA","etrack_inputs","Autofit3"],"not_rendered":{"charts":4,"images":28,"macros":1,"external_links":1,"defined_names":19,"comments":23,"pivot_tables":0},"unopened":[],"bounds":{"document_bytes":16777216,"sheet_cells":100000,"rows_first":2000,"rows_last":500,"rows_between":2000,"halvings":0,"cell_chars":16384,"cell_head_chars":4096},"cells_cut":0,"cells_raw":0,"read":"whole","date_system":"1900"}

{"sheet":"PictureValidation","index":0,"n_rows":4,"n_cols":3,"rows_kept":4,"cut":false,"hidden":true,"merged":[]}
["Name","Picture","Picture Location"]
["Planning",null,"PictureValidation!B2"]
["Investigation",null,"PictureValidation!B3"]
["Verification",null,"PictureValidation!B4"]

{"sheet":"Benefits","index":1,"n_rows":38,"n_cols":13,"rows_kept":38,"cut":false,"hidden":true,"merged":[[12,11,14,14],[4,0,5,14],[6,0,6,14],[10,0,12,9],[14,0,14,8],[1,0,1,10],[2,0,2,10],[1,11,1,14],[9,0,9,9],[2,12,2,14],[7,0,7,14],[9,11,10,14],[21,11,21,14],[47,0,47,14],[46,0,46,14],[41,11,41,14],[16,0,16,8],[24,0,24,7],[37,0,37,14],[26,0,28,9],[29,0,29,14],[36,0,36,14],[15,0,15,8],[19,0,19,9],[20,0,21,9],[23,0,23,7],[17,0,18,9]]}
[]
[{"$f":"IF(Instructions!F4=\"Investigation\",\"Investigation Report\",\"Verification Report\")","v":"Verification Report"},null,null,null,null,null,null,null,null,null,null,{"$f":"TODAY()","v":"2025-05-06"}]
[{"$f":"DataPhaseValid!$G$4&\" | \"&DataPhaseValid!$G$5","v":" | "},null,null,null,null,null,null,null,null,null,null,null,{"$f":"DataPhaseValid!G7","v":""}]
[]
[{"$f":"DataPhaseValid!G12","v":""}]
[]
[]
[{"$f":"DataPhaseValid!G25","v":""}]
[]
["Financial Benefit",null,null,null,null,null,null,null,null,null,null,{"$f":"DataPhaseValid!G19","v":""}]
[{"$f":"DataPhaseValid!G30","v":""}]
[]
[null,null,null,null,null,null,null,null,null,null,null,"Percent of Total Implementation Cost Covered by ComEd Energy Efficiency Program Incentives:"]
[]
["Cost of All Recommended ECMs",null,null,null,null,null,null,null,null,{"$f":"DataPhaseValid!G26","v":""}]
["Incentives from ComEd Energy Efficiency Program",null,null,null,null,null,null,null,null,{"$f":"DataPhaseValid!G27","v":""}]
["Final Project Cost",null,null,null,null,null,null,null,null,{"$f":"IFERROR(J15+J16,\"\")","v":""}]
[{"$f":"IF(Instructions!F5=1,DataPhaseValid!G35,DataPhaseValid!G36)","v":""}]
[]
["Annual Energy Benefit"]
["The section below shows your estimated annual energy cost savings and energy savings after implementing all recommended ECMs. "]
[null,null,null,null,null,null,null,null,null,null,null,{"$f":"IF(Instructions!$F$4 = \"Investigation\", \"Estimated Project Payback with Incentives:\", \"Project Payback with Incentives:\")","v":"Project Payback with Incentives:"}]
[null,null,null,null,null,null,null,null,{"$f":"IF(OR('Measure Recommendation'!$F$6=\"Yes\",'Measure Recommendation'!$F$10=\"Yes\"),\"kWh\",\"\")","v":""},{"$f":"IF('Measure Recommendation'!$F$6=\"Yes\",\"Therms\",\"kWh\")","v":"kWh"}]
[{"$f":"DataPhaseValid!G14& \" Annual Energy Savings\"","v":" Annual Energy Savings"},null,null,null,null,null,null,null,{"$f":"IF(AND(I23=\"kWh\",DataPhaseValid!G14=\"Identified\"),'Measure Recommendation'!$AM$38,IF(AND(I23=\"kWh\",DataPhaseValid!G14=\"Verified\"),'Measure Recommendation'!$AW$38,\"\"))","v":""},{"$f":"IF('Measure Recommendation'!$F$6=\"Yes\",DataPhaseValid!G16,DataPhaseValid!G15)","v":""}]
[{"$f":"DataPhaseValid!G14&\" Annual Energy Cost Savings\"","v":" Annual Energy Cost Savings"},null,null,null,null,null,null,null,{"$f":"IF('Measure Recommendation'!$F$6=\"Yes\",DataPhaseValid!$G$17,\"\")","v":""},{"$f":"IF('Measure Recommendation'!$F$6=\"Yes\",DataPhaseValid!$G$18,DataPhaseValid!$G$17)","v":""}]
[]
[{"$f":"DataPhaseValid!G98","v":""}]
[]
[]
["Estimated Annual Greenhouse Gas Emissions Savings*"]
[]
[]
[]
[]
[]
[]
["*Annual therm savings, if present, are converted to kWh and included in the greenhouse gas emissions savings above."]
["Project Timeline"]

{"sheet":"BenefitsMBCx","index":2,"n_rows":35,"n_cols":14,"rows_kept":35,"cut":false,"hidden":true,"merged":[[34,0,34,14],[38,11,38,14],[43,0,43,14],[44,0,44,14],[22,0,22,7],[24,0,24,7],[25,0,26,9],[21,13,24,13],[27,0,27,14],[33,0,33,14],[19,11,19,14],[11,0,12,9],[14,0,14,7],[16,0,16,7],[18,0,18,9],[19,0,20,9],[14,13,16,13],[12,11,12,14],[9,0,9,9],[9,11,10,14],[7,0,7,14],[1,0,1,10],[1,11,1,14],[2,0,2,10],[2,12,2,14],[4,0,5,14]]}
[]
[{"$f":"IF(Instructions!F4=\"Investigation\",\"Investigation Report\",\"Verification Report\")","v":"Verification Report"},null,null,null,null,null,null,null,null,null,null,{"$f":"TODAY()","v":"2025-05-06"}]
[{"$f":"DataPhaseValid!$G$4&\" | \"&DataPhaseValid!$G$5","v":" | "},null,null,null,null,null,null,null,null,null,null,null,{"$f":"\"Project ID #\" &Instructions!H12&\", \"& \"Bundle #\"&'Measure Recommendation'!AM12","v":"Project ID #, Bundle #0"}]
[]
[{"$f":"DataPhaseValid!G12","v":""}]
[]
[]
[{"$f":"DataPhaseValid!G25","v":""}]
[]
["Annual Energy Benefit",null,null,null,null,null,null,null,null,null,null,{"$f":"DataPhaseValid!G19","v":""}]
[]
[{"$f":"\"The section below shows your estimated annual energy cost savings and energy savings after implementing all recommended ECMs. \"&IF('Measure Recommendation'!F10=\"Yes\",\"The therms savings below represents District Steam Equivalent Natural Gas Savings\",\"\")","v":"The section below shows your estimated annual energy cost savings and energy savings after implementing all recommended ECMs. "}]
[null,null,null,null,null,null,null,null,null,null,null,"Percent of Total Implementation Cost Covered by ComEd Energy Efficiency Program Incentives:"]
[null,null,null,null,null,null,null,null,{"$f":"IF(OR('Measure Recommendation'!$F$6=\"Yes\",'Measure Recommendation'!$F$10=\"Yes\"),\"kWh\",\"\")","v":""},{"$f":"IF(OR('Measure Recommendation'!$F$6=\"Yes\",'Measure Recommendation'!$F$10=\"Yes\"),\"Therms\",\"kWh\")","v":"kWh"}]
[{"$f":"DataPhaseValid!G14& \" Annual Energy Savings\"","v":" Annual Energy Savings"},null,null,null,null,null,null,null,{"$f":"IF(AND($I$14=\"kWh\",'Measure Recommendation'!$AM$11=\"Investigation\"),'Measure Recommendation'!$AM$38,IF(AND(BenefitsMBCx!$I$14=\"kWh\",'Measure Recommendation'!$AM$11=\"Verification\"),'Measure Recommendation'!$AW$38,\"\"))","v":""},{"$f":"IF(AND($J$14=\"Therms\",'Measure Recommendation'!$AM$11=\"Investigation\"),'Measure Recommendation'!$AN$38,IF(AND($J$14=\"Therms\",'Measure Recommendation'!$AM$11=\"Verification\"),'Measure Recommendation'!$AX$38,IF(AND($J$14=\"kWh\",'Measure Recommendation'!$AM$11=\"Investigation\"),'Measure Recommendation'!$AM$38,'Measure Recommendation'!$AW$38)))","v":0},null,null,null,{"$f":"DataPhaseValid!G31","v":""}]
[]
[{"$f":"DataPhaseValid!G14 &\" Annual Cost Savings\"","v":" Annual Cost Savings"},null,null,null,null,null,null,null,{"$f":"IF(AND($I$14=\"kWh\",'Measure Recommendation'!$AM$11=\"Investigation\"),'Measure Recommendation'!$AR$38,IF(AND($I$14=\"kWh\",'Measure Recommendation'!$AM$11=\"Verification\"),'Measure Recommendation'!$BB$38,\"\"))","v":""},{"$f":"IF(AND($J$14=\"Therms\",'Measure Recommendation'!$AM$11=\"Investigation\"),'Measure Recommendation'!$AS$38,IF(AND($J$14=\"Therms\",'Measure Recommendation'!$AM$11=\"Verification\"),'Measure Recommendation'!$BC$38,IF(AND($J$14=\"kWh\",'Measure Recommendation'!$AM$11=\"Investigation\"),'Measure Recommendation'!$AR$38,'Measure Recommendation'!$BB$38)))","v":0}]
[]
[{"$f":"\"Bundle #\"&Instructions!$F$5&\" Summary\"","v":"Bundle # Summary"}]
[{"$f":"IF(Instructions!$F$4=\"Investigation\", \"The section below summarizes the estimated annual energy cost and energy savings\",\"The section below summarizes the annual energy and cost savings for the current verified bundle.\")","v":"The section below summarizes the annual energy and cost savings for the current verified bundle."},null,null,null,null,null,null,null,null,null,null,{"$f":"IF(Instructions!$F$4 = \"Investigation\", \"Estimated Project Payback with Incentives:\", \"Project Payback with Incentives:\")","v":"Project Payback with Incentives:"}]
[]
[null,null,null,null,null,null,null,null,{"$f":"IF(OR('Measure Recommendation'!$F$6=\"Yes\",'Measure Recommendation'!$F$10=\"Yes\"),\"kWh\",\"\")","v":""},{"$f":"IF(OR('Measure Recommendation'!$F$6=\"Yes\",'Measure Recommendation'!$F$10=\"Yes\"),\"Therms\",\"kWh\")","v":"kWh"},null,null,null,{"$f":"DataPhaseValid!$G$22","v":""}]
[{"$f":"DataPhaseValid!G14& \" Annual Energy Savings\"","v":" Annual Energy Savings"},null,null,null,null,null,null,null,{"$f":"IF(AND(I22=\"kWh\",'Measure Recommendation'!$AM$11=\"Investigation\"),'Measure Recommendation'!$AM$42,IF(AND(I22=\"kWh\",'Measure Recommendation'!$AM$11=\"Verification\"),'Measure Recommendation'!$AM$43,\"\"))","v":""},{"$f":"IF(AND($J$22=\"Therms\",'Measure Recommendation'!$AM$11=\"Investigation\"),'Measure Recommendation'!$AN$42,IF(AND($J$22=\"Therms\",'Measure Recommendation'!$AM$11=\"Verification\"),'Measure Recommendation'!$AN$43,IF(AND($J$22=\"kWh\",'Measure Recommendation'!$AM$11=\"Investigation\"),'Measure Recommendation'!$AM$42,'Measure Recommendation'!$AM$43)))","v":{"$error":"#N/A"}}]
[]
[{"$f":"DataPhaseValid!G14 &\" Annual Cost Savings\"","v":" Annual Cost Savings"},null,null,null,null,null,null,null,{"$f":"IF(AND(I22=\"kWh\",'Measure Recommendation'!$AM$11=\"Investigation\"),'Measure Recommendation'!$AR$42,IF(AND(I22=\"kWh\",'Measure Recommendation'!$AM$11=\"Verification\"),'Measure Recommendation'!$AR$43,\"\"))","v":""},{"$f":"IF(AND($J$22=\"Therms\",'Measure Recommendation'!$AM$11=\"Investigation\"),'Measure Recommendation'!$AS$42,IF(AND($J$22=\"Therms\",'Measure Recommendation'!$AM$11=\"Verification\"),'Measure Recommendation'!$AS$43,IF(AND($J$22=\"kWh\",'Measure Recommendation'!$AM$11=\"Investigation\"),'Measure Recommendation'!$AR$42,'Measure Recommendation'!$AR$43)))","v":{"$error":"#N/A"}}]
[{"$f":"DataPhaseValid!G98","v":""}]
[]
["Estimated Annual Greenhouse Gas Emissions Savings*"]
[]
[]
[]
[]
[]
["*Annual therm savings, if present, are converted to kWh and included in the greenhouse gas emissions savings above."]
[{"$f":"'Measure Recommendation'!$AK$41&'Measure Recommendation'!$AL$41&\"'s Timeline\"","v":"Bundle #0's Timeline"}]

{"sheet":"UtilityData","index":3,"n_rows":0,"n_cols":0,"rows_kept":0,"cut":false,"hidden":true,"merged":[]}

{"sheet":"ECM Form Inputs","index":4,"n_rows":31,"n_cols":32,"rows_kept":31,"cut":false,"hidden":true,"merged":[]}
[]
[]
[]
[]
[]
[]
[null,null,"phase",{"$f":"Instructions!F4","v":0},null,null,null,null,null,null,null,null,null,null,null,null,null,null,null,null,null,null,null,"Customer Incentive"]
[null,null,null,null,null,null,null,null,null,null,null,null,null,null,null,null,null,null,null,null,null,null,null,{"$f":"IF('Measure Recommendation'!$L$8<>\"\",'Measure Recommendation'!$L$8,0)","v":0}]
[]
["shared_uuid","selected","ecm_number","standard_measure_type","standard_measure_name","description","measure_name","interacted_measures","kW_savings","kWh_savings","electric_cost_savings","therm_savings","gas_cost_savings","district_chilled_water_energy_savings","district_chilled_water_cost_savings","district_chilled_water_kWh_savings","district_steam_energy_savings","district_steam_cost_savings","district_steam_therm_savings","incremental_cost","pay_back","standard_calculation_used","C_V","imp_start_date","imp_completion_date","ver_acceptance_date","bundle_name"]
["UUID","Measure Selected by Owner1","ECM #","Standard Measure Type","Standard Measure Name","Standard Measure Name Modifier\n(Required for \"Other\" measures)","Measure Name","Interaction Factor2\nEx. \"1,2,4\"","ComEd Peak Demand Savings (kW)","Electric Energy Savings (kWh/year)","ElectricCost Savings ($/year)","Gas Energy Savings (therms/year)","Gas Cost Savings ($/year)","District Chilled Water kWh Savings \n(ton-hrs/year)","District Chilled Water Cost Savings ($/year)","District Chilled Water Equivalent Electric Energy Savings (kWh/year)","District Steam Energy Savings (therms/yr)","District Steam Cost savings ($/year)","District Steam Equivalent Gas Energy Savings (therms/year)","Incremental Measure Cost\n($)","Simple Payback (Years)","standard_calculation_used",null,"IMP Start Date","IMP Completion Date","VER Acceptance Date","Bundle #",null,"Total Electric Energy Savings (kWh/year)","Total Electric Cost Savings ($/year)","Total Gas Energy Savings (therms/year)","Total Gas Cost Savings ($/year)"]
[{"$f":"IF(Instructions!$F$4=\"Investigation\",IF('Measure Recommendation'!A17=\"\",0,'Measure Recommendation'!A17),IF(Instructions!$F$4=\"Verification\",IF('Measure Recommendation'!A41=\"\",0,'Measure Recommendation'!A41)))","v":false},{"$f":"IF(Instructions!$F$4=\"Investigation\",IF('Measure Recommendation'!X17=\"\",\"\",'Measure Recommendation'!X17),IF(AND(Instructions!$F$4=\"Verification\",'Measure Recommendation'!C41=MAX('Measure Recommendation'!$C$41:$C$60)),IF('Measure Recommendation'!X41=\"\",\"\",'Measure Recommendation'!X41),\"\"))","v":""},1,{"$f":"IF(Instructions!$F$4=\"Investigation\",IF('Measure Recommendation'!E17=\"\",\"\",'Measure Recommendation'!E17),IF(Instructions!$F$4=\"Verification\",IF('Measure Recommendation'!E41=\"\",\"\",'Measure Recommendation'!E41)))","v":false},{"$f":"IF(Instructions!$F$4=\"Investigation\",IF('Measure Recommendation'!F17=\"\",\"\",'Measure Recommendation'!F17),IF(Instructions!$F$4=\"Verification\",IF('Measure Recommendation'!F41=\"\",\"\",'Measure Recommendation'!F41)))","v":false},{"$f":"IF(Instructions!$F$4=\"Investigation\",IF('Measure Recommendation'!H17=\"\",\"\",'Measure Recommendation'!H17),IF(Instructions!$F$4=\"Verification\",IF('Measure Recommendation'!H41=\"\",\"\",'Measure Recommendation'!H41)))","v":false},{"$f":"IF(Instructions!$F$4=\"Investigation\",IF('Measure Recommendation'!I17=\"\",\"\",'Measure Recommendation'!I17),IF(Instructions!$F$4=\"Verification\",IF('Measure Recommendation'!I41=\"\",\"\",'Measure Recommendation'!I41)))","v":false},{"$f":"IF(Instructions!$F$4=\"Investigation\",IF('Measure Recommendation'!J17=\"\",\"\",'Measure Recommendation'!J17),IF(Instructions!$F$4=\"Verification\",IF('Measure Recommendation'!J41=\"\",\"\",'Measure Recommendation'!J41)))","v":false},{"$f":"IF(Instructions!$F$4=\"Investigation\",IF('Measure Recommendation'!K17=\"\",0,'Measure Recommendation'!K17),IF(Instructions!$F$4=\"Verification\",IF('Measure Recommendation'!K41=\"\",0,'Measure Recommendation'!K41)))","v":false},{"$f":"IF(Instructions!$F$4=\"Investigation\",IF('Measure Recommendation'!L17=\"\",0,'Measure Recommendation'!L17),IF(Instructions!$F$4=\"Verification\",IF('Measure Recommendation'!L41=\"\",0,'Measure Recommendation'!L41)))","v":false},{"$f":"IF(Instructions!$F$4=\"Investigation\",IF('Measure Recommendation'!M17=\"\",0,'Measure Recommendation'!M17),IF(Instructions!$F$4=\"Verification\",IF('Measure Recommendation'!M41=\"\",0,'Measure Recommendation'!M41)))","v":false},{"$f":"IF(Instructions!$F$4=\"Investigation\",IF('Measure Recommendation'!N17=\"\",0,'Measure Recommendation'!N17),IF(Instructions!$F$4=\"Verification\",IF('Measure Recommendation'!N41=\"\",0,'Measure Recommendation'!N41)))","v":false},{"$f":"IF(Instructions!$F$4=\"Investigation\",IF('Measure Recommendation'!O17=\"\",0,'Measure Recommendation'!O17),IF(Instructions!$F$4=\"Verification\",IF('Measure Recommendation'!O41=\"\",0,'Measure Recommendation'!O41)))","v":false},{"$f":"IF(Instructions!$F$4=\"Investigation\",IF('Measure Recommendation'!P17=\"\",0,'Measure Recommendation'!P17),IF(Instructions!$F$4=\"Verification\",IF('Measure Recommendation'!P41=\"\",0,'Measure Recommendation'!P41)))","v":false},{"$f":"IF(Instructions!$F$4=\"Investigation\",IF('Measure Recommendation'!R17=\"\",0,'Measure Recommendation'!R17),IF(Instructions!$F$4=\"Verification\",IF('Measure Recommendation'!R41=\"\",0,'Measure Recommendation'!R41)))","v":false},{"$f":"IF(Instructions!$F$4=\"Investigation\",IF('Measure Recommendation'!Q17=\"\",0,'Measure Recommendation'!Q17),IF(Instructions!$F$4=\"Verification\",IF('Measure Recommendation'!Q41=\"\",0,'Measure Recommendation'!Q41)))","v":false},{"$f":"IF(Instructions!$F$4=\"Investigation\",IF('Measure Recommendation'!S17=\"\",0,'Measure Recommendation'!S17),IF(Instructions!$F$4=\"Verification\",IF('Measure Recommendation'!S41=\"\",0,'Measure Recommendation'!S41)))","v":false},{"$f":"IF(Instructions!$F$4=\"Investigation\",IF('Measure Recommendation'!U17=\"\",0,'Measure Recommendation'!U17),IF(Instructions!$F$4=\"Verification\",IF('Measure Recommendation'!U41=\"\",0,'Measure Recommendation'!U41)))","v":false},{"$f":"IF(Instructions!$F$4=\"Investigation\",IF('Measure Recommendation'!T17=\"\",0,'Measure Recommendation'!T17),IF(Instructions!$F$4=\"Verification\",IF('Measure Recommendation'!T41=\"\",0,'Measure Recommendation'!T41)))","v":false},{"$f":"IF(Instructions!$F$4=\"Investigation\",IF('Measure Recommendation'!V17=\"\",0,'Measure Recommendation'!V17),IF(Instructions!$F$4=\"Verification\",IF('Measure Recommendation'!V41=\"\",0,'Measure Recommendation'!V41)))","v":false},{"$f":"IF(Instructions!$F$4=\"Investigation\",IF('Measure Recommendation'!W17=\"\",0,'Measure Recommendation'!W17),IF(Instructions!$F$4=\"Verification\",IF('Measure Recommendation'!W41=\"\",0,'Measure Recommendation'!W41)))","v":false},{"$f":"IF(Instructions!$F$4=\"Investigation\",IF('Measure Recommendation'!Y17=\"\",\"\",'Measure Recommendation'!Y17),IF(Instructions!$F$4=\"Verification\",IF('Measure Recommendation'!AA41=\"\",\"\",'Measure Recommendation'!AA41)))","v":false},null,{"$f":"IF(Instructions!$F$4=\"Investigation\",\"\",IF(AND(Instructions!$F$4=\"Verification\",$B12=\"Yes\"),IF('Measure Recommendation'!Y41=\"\",\"\",'Measure Recommendation'!Y41),\"\"))","v":""},{"$f":"IF(Instructions!$F$4=\"Investigation\",\"\",IF(AND(Instructions!$F$4=\"Verification\",$B12=\"Yes\"),IF('Measure Recommendation'!Z41=\"\",\"\",'Measure Recommendation'!Z41),\"\"))","v":""},{"$f":"IF(Instructions!$F$4=\"Investigation\",\"\",IF(AND(Instructions!$F$4=\"Verification\",$B12=\"Yes\"),IF('Measure Recommendation'!AB41=\"\",\"\",'Measure Recommendation'!AB41),\"\"))","v":""},{"$f":"IF(Instructions!$F$4=\"Investigation\",IF('Measure Recommendation'!C17=\"\",\"\",'Measure Recommendation'!C17),IF(AND(Instructions!$F$4=\"Verification\",$B12=\"Yes\"),IF('Measure Recommendation'!C41=\"\",\"\",'Measure Recommendation'!C41),\"\"))","v":""},null,{"$f":"IF(Instructions!$F$4=\"Investigation\",IF('Measure Recommendation'!AE17=\"\",0,'Measure Recommendation'!AE17),IF(AND(Instructions!$F$4=\"Verification\",$B12=\"Yes\"),IF('Measure Recommendation'!AE41=\"\",0,'Measure Recommendation'!AE41),\"\"))","v":""},{"$f":"IF(Instructions!$F$4=\"Investigation\",IF('Measure Recommendation'!AF17=\"\",0,'Measure Recommendation'!AF17),IF(AND(Instructions!$F$4=\"Verification\",$B12=\"Yes\"),IF('Measure Recommendation'!AF41=\"\",0,'Measure Recommendation'!AF41),\"\"))","v":""},{"$f":"IF(Instructions!$F$4=\"Investigation\",IF('Measure Recommendation'!AG17=\"\",0,'Measure Recommendation'!AG17),IF(AND(Instructions!$F$4=\"Verification\",$B12=\"Yes\"),IF('Measure Recommendation'!AG41=\"\",0,'Measure Recommendation'!AG41),\"\"))","v":""},{"$f":"IF(Instructions!$F$4=\"Investigation\",IF('Measure Recommendation'!AH17=\"\",0,'Measure Recommendation'!AH17),IF(AND(Instructions!$F$4=\"Verification\",$B12=\"Yes\"),IF('Measure Recommendation'!AH41=\"\",0,'Measure Recommendation'!AH41),\"\"))","v":""}]
[{"$f":"IF(Instructions!$F$4=\"Investigation\",IF('Measure Recommendation'!A18=\"\",0,'Measure Recommendation'!A18),IF(Instructions!$F$4=\"Verification\",IF('Measure Recommendation'!A42=\"\",0,'Measure Recommendation'!A42)))","v":false},{"$f":"IF(Instructions!$F$4=\"Investigation\",IF('Measure Recommendation'!X18=\"\",\"\",'Measure Recommendation'!X18),IF(AND(Instructions!$F$4=\"Verification\",'Measure Recommendation'!C42=MAX('Measure Recommendation'!$C$41:$C$60)),IF('Measure Recommendation'!X42=\"\",\"\",'Measure Recommendation'!X42),\"\"))","v":""},2,{"$f":"IF(Instructions!$F$4=\"Investigation\",IF('Measure Recommendation'!E18=\"\",\"\",'Measure Recommendation'!E18),IF(Instructions!$F$4=\"Verification\",IF('Measure Recommendation'!E42=\"\",\"\",'Measure Recommendation'!E42)))","v":false},{"$f":"IF(Instructions!$F$4=\"Investigation\",IF('Measure Recommendation'!F18=\"\",\"\",'Measure Recommendation'!F18),IF(Instructions!$F$4=\"Verification\",IF('Measure Recommendation'!F42=\"\",\"\",'Measure Recommendation'!F42)))","v":false},{"$f":"IF(Instructions!$F$4=\"Investigation\",IF('Measure Recommendation'!H18=\"\",\"\",'Measure Recommendation'!H18),IF(Instructions!$F$4=\"Verification\",IF('Measure Recommendation'!H42=\"\",\"\",'Measure Recommendation'!H42)))","v":false},{"$f":"IF(Instructions!$F$4=\"Investigation\",IF('Measure Recommendation'!I18=\"\",\"\",'Measure Recommendation'!I18),IF(Instructions!$F$4=\"Verification\",IF('Measure Recommendation'!I42=\"\",\"\",'Measure Recommendation'!I42)))","v":false},{"$f":"IF(Instructions!$F$4=\"Investigation\",IF('Measure Recommendation'!J18=\"\",\"\",'Measure Recommendation'!J18),IF(Instructions!$F$4=\"Verification\",IF('Measure Recommendation'!J42=\"\",\"\",'Measure Recommendation'!J42)))","v":false},{"$f":"IF(Instructions!$F$4=\"Investigation\",IF('Measure Recommendation'!K18=\"\",0,'Measure Recommendation'!K18),IF(Instructions!$F$4=\"Verification\",IF('Measure Recommendation'!K42=\"\",0,'Measure Recommendation'!K42)))","v":false},{"$f":"IF(Instructions!$F$4=\"Investigation\",IF('Measure Recommendation'!L18=\"\",0,'Measure Recommendation'!L18),IF(Instructions!$F$4=\"Verification\",IF('Measure Recommendation'!L42=\"\",0,'Measure Recommendation'!L42)))","v":false},{"$f":"IF(Instructions!$F$4=\"Investigation\",IF('Measure Recommendation'!M18=\"\",0,'Measure Recommendation'!M18),IF(Instructions!$F$4=\"Verification\",IF('Measure Recommendation'!M42=\"\",0,'Measure Recommendation'!M42)))","v":false},{"$f":"IF(Instructions!$F$4=\"Investigation\",IF('Measure Recommendation'!N18=\"\",0,'Measure Recommendation'!N18),IF(Instructions!$F$4=\"Verification\",IF('Measure Recommendation'!N42=\"\",0,'Measure Recommendation'!N42)))","v":false},{"$f":"IF(Instructions!$F$4=\"Investigation\",IF('Measure Recommendation'!O18=\"\",0,'Measure Recommendation'!O18),IF(Instructions!$F$4=\"Verification\",IF('Measure Recommendation'!O42=\"\",0,'Measure Recommendation'!O42)))","v":false},{"$f":"IF(Instructions!$F$4=\"Investigation\",IF('Measure Recommendation'!P18=\"\",0,'Measure Recommendation'!P18),IF(Instructions!$F$4=\"Verification\",IF('Measure Recommendation'!P42=\"\",0,'Measure Recommendation'!P42)))","v":false},{"$f":"IF(Instructions!$F$4=\"Investigation\",IF('Measure Recommendation'!R18=\"\",0,'Measure Recommendation'!R18),IF(Instructions!$F$4=\"Verification\",IF('Measure Recommendation'!R42=\"\",0,'Measure Recommendation'!R42)))","v":false},{"$f":"IF(Instructions!$F$4=\"Investigation\",IF('Measure Recommendation'!Q18=\"\",0,'Measure Recommendation'!Q18),IF(Instructions!$F$4=\"Verification\",IF('Measure Recommendation'!Q42=\"\",0,'Measure Recommendation'!Q42)))","v":false},{"$f":"IF(Instructions!$F$4=\"Investigation\",IF('Measure Recommendation'!S18=\"\",0,'Measure Recommendation'!S18),IF(Instructions!$F$4=\"Verification\",IF('Measure Recommendation'!S42=\"\",0,'Measure Recommendation'!S42)))","v":false},{"$f":"IF(Instructions!$F$4=\"Investigation\",IF('Measure Recommendation'!U18=\"\",0,'Measure Recommendation'!U18),IF(Instructions!$F$4=\"Verification\",IF('Measure Recommendation'!U42=\"\",0,'Measure Recommendation'!U42)))","v":false},{"$f":"IF(Instructions!$F$4=\"Investigation\",IF('Measure Recommendation'!T18=\"\",0,'Measure Recommendation'!T18),IF(Instructions!$F$4=\"Verification\",IF('Measure Recommendation'!T42=\"\",0,'Measure Recommendation'!T42)))","v":false},{"$f":"IF(Instructions!$F$4=\"Investigation\",IF('Measure Recommendation'!V18=\"\",0,'Measure Recommendation'!V18),IF(Instructions!$F$4=\"Verification\",IF('Measure Recommendation'!V42=\"\",0,'Measure Recommendation'!V42)))","v":false},{"$f":"IF(Instructions!$F$4=\"Investigation\",IF('Measure Recommendation'!W18=\"\",0,'Measure Recommendation'!W18),IF(Instructions!$F$4=\"Verification\",IF('Measure Recommendation'!W42=\"\",0,'Measure Recommendation'!W42)))","v":false},{"$f":"IF(Instructions!$F$4=\"Investigation\",IF('Measure Recommendation'!Y18=\"\",\"\",'Measure Recommendation'!Y18),IF(Instructions!$F$4=\"Verification\",IF('Measure Recommendation'!AA42=\"\",\"\",'Measure Recommendation'!AA42)))","v":false},null,{"$f":"IF(Instructions!$F$4=\"Investigation\",\"\",IF(AND(Instructions!$F$4=\"Verification\",$B13=\"Yes\"),IF('Measure Recommendation'!Y42=\"\",\"\",'Measure Recommendation'!Y42),\"\"))","v":""},{"$f":"IF(Instructions!$F$4=\"Investigation\",\"\",IF(AND(Instructions!$F$4=\"Verification\",$B13=\"Yes\"),IF('Measure Recommendation'!Z42=\"\",\"\",'Measure Recommendation'!Z42),\"\"))","v":""},{"$f":"IF(Instructions!$F$4=\"Investigation\",\"\",IF(AND(Instructions!$F$4=\"Verification\",$B13=\"Yes\"),IF('Measure Recommendation'!AB42=\"\",\"\",'Measure Recommendation'!AB42),\"\"))","v":""},{"$f":"IF(Instructions!$F$4=\"Investigation\",IF('Measure Recommendation'!C18=\"\",\"\",'Measure Recommendation'!C18),IF(AND(Instructions!$F$4=\"Verification\",$B13=\"Yes\"),IF('Measure Recommendation'!C42=\"\",\"\",'Measure Recommendation'!C42),\"\"))","v":""},null,{"$f":"IF(Instructions!$F$4=\"Investigation\",IF('Measure Recommendation'!AE18=\"\",0,'Measure Recommendation'!AE18),IF(AND(Instructions!$F$4=\"Verification\",$B13=\"Yes\"),IF('Measure Recommendation'!AE42=\"\",0,'Measure Recommendation'!AE42),\"\"))","v":""},{"$f":"IF(Instructions!$F$4=\"Investigation\",IF('Measure Recommendation'!AF18=\"\",0,'Measure Recommendation'!AF18),IF(AND(Instructions!$F$4=\"Verification\",$B13=\"Yes\"),IF('Measure Recommendation'!AF42=\"\",0,'Measure Recommendation'!AF42),\"\"))","v":""},{"$f":"IF(Instructions!$F$4=\"Investigation\",IF('Measure Recommendation'!AG18=\"\",0,'Measure Recommendation'!AG18),IF(AND(Instructions!$F$4=\"Verification\",$B13=\"Yes\"),IF('Measure Recommendation'!AG42=\"\",0,'Measure Recommendation'!AG42),\"\"))","v":""},{"$f":"IF(Instructions!$F$4=\"Investigation\",IF('Measure Recommendation'!AH18=\"\",0,'Measure Recommendation'!AH18),IF(AND(Instructions!$F$4=\"Verification\",$B13=\"Yes\"),IF('Measure Recommendation'!AH42=\"\",0,'Measure Recommendation'!AH42),\"\"))","v":""}]
[{"$f":"IF(Instructions!$F$4=\"Investigation\",IF('Measure Recommendation'!A19=\"\",0,'Measure Recommendation'!A19),IF(Instructions!$F$4=\"Verification\",IF('Measure Recommendation'!A43=\"\",0,'Measure Recommendation'!A43)))","v":false},{"$f":"IF(Instructions!$F$4=\"Investigation\",IF('Measure Recommendation'!X19=\"\",\"\",'Measure Recommendation'!X19),IF(AND(Instructions!$F$4=\"Verification\",'Measure Recommendation'!C43=MAX('Measure Recommendation'!$C$41:$C$60)),IF('Measure Recommendation'!X43=\"\",\"\",'Measure Recommendation'!X43),\"\"))","v":""},3,{"$f":"IF(Instructions!$F$4=\"Investigation\",IF('Measure Recommendation'!E19=\"\",\"\",'Measure Recommendation'!E19),IF(Instructions!$F$4=\"Verification\",IF('Measure Recommendation'!E43=\"\",\"\",'Measure Recommendation'!E43)))","v":false},{"$f":"IF(Instructions!$F$4=\"Investigation\",IF('Measure Recommendation'!F19=\"\",\"\",'Measure Recommendation'!F19),IF(Instructions!$F$4=\"Verification\",IF('Measure Recommendation'!F43=\"\",\"\",'Measure Recommendation'!F43)))","v":false},{"$f":"IF(Instructions!$F$4=\"Investigation\",IF('Measure Recommendation'!H19=\"\",\"\",'Measure Recommendation'!H19),IF(Instructions!$F$4=\"Verification\",IF('Measure Recommendation'!H43=\"\",\"\",'Measure Recommendation'!H43)))","v":false},{"$f":"IF(Instructions!$F$4=\"Investigation\",IF('Measure Recommendation'!I19=\"\",\"\",'Measure Recommendation'!I19),IF(Instructions!$F$4=\"Verification\",IF('Measure Recommendation'!I43=\"\",\"\",'Measure Recommendation'!I43)))","v":false},{"$f":"IF(Instructions!$F$4=\"Investigation\",IF('Measure Recommendation'!J19=\"\",\"\",'Measure Recommendation'!J19),IF(Instructions!$F$4=\"Verification\",IF('Measure Recommendation'!J43=\"\",\"\",'Measure Recommendation'!J43)))","v":false},{"$f":"IF(Instructions!$F$4=\"Investigation\",IF('Measure Recommendation'!K19=\"\",0,'Measure Recommendation'!K19),IF(Instructions!$F$4=\"Verification\",IF('Measure Recommendation'!K43=\"\",0,'Measure Recommendation'!K43)))","v":false},{"$f":"IF(Instructions!$F$4=\"Investigation\",IF('Measure Recommendation'!L19=\"\",0,'Measure Recommendation'!L19),IF(Instructions!$F$4=\"Verification\",IF('Measure Recommendation'!L43=\"\",0,'Measure Recommendation'!L43)))","v":false},{"$f":"IF(Instructions!$F$4=\"Investigation\",IF('Measure Recommendation'!M19=\"\",0,'Measure Recommendation'!M19),IF(Instructions!$F$4=\"Verification\",IF('Measure Recommendation'!M43=\"\",0,'Measure Recommendation'!M43)))","v":false},{"$f":"IF(Instructions!$F$4=\"Investigation\",IF('Measure Recommendation'!N19=\"\",0,'Measure Recommendation'!N19),IF(Instructions!$F$4=\"Verification\",IF('Measure Recommendation'!N43=\"\",0,'Measure Recommendation'!N43)))","v":false},{"$f":"IF(Instructions!$F$4=\"Investigation\",IF('Measure Recommendation'!O19=\"\",0,'Measure Recommendation'!O19),IF(Instructions!$F$4=\"Verification\",IF('Measure Recommendation'!O43=\"\",0,'Measure Recommendation'!O43)))","v":false},{"$f":"IF(Instructions!$F$4=\"Investigation\",IF('Measure Recommendation'!P19=\"\",0,'Measure Recommendation'!P19),IF(Instructions!$F$4=\"Verification\",IF('Measure Recommendation'!P43=\"\",0,'Measure Recommendation'!P43)))","v":false},{"$f":"IF(Instructions!$F$4=\"Investigation\",IF('Measure Recommendation'!R19=\"\",0,'Measure Recommendation'!R19),IF(Instructions!$F$4=\"Verification\",IF('Measure Recommendation'!R43=\"\",0,'Measure Recommendation'!R43)))","v":false},{"$f":"IF(Instructions!$F$4=\"Investigation\",IF('Measure Recommendation'!Q19=\"\",0,'Measure Recommendation'!Q19),IF(Instructions!$F$4=\"Verification\",IF('Measure Recommendation'!Q43=\"\",0,'Measure Recommendation'!Q43)))","v":false},{"$f":"IF(Instructions!$F$4=\"Investigation\",IF('Measure Recommendation'!S19=\"\",0,'Measure Recommendation'!S19),IF(Instructions!$F$4=\"Verification\",IF('Measure Recommendation'!S43=\"\",0,'Measure Recommendation'!S43)))","v":false},{"$f":"IF(Instructions!$F$4=\"Investigation\",IF('Measure Recommendation'!U19=\"\",0,'Measure Recommendation'!U19),IF(Instructions!$F$4=\"Verification\",IF('Measure Recommendation'!U43=\"\",0,'Measure Recommendation'!U43)))","v":false},{"$f":"IF(Instructions!$F$4=\"Investigation\",IF('Measure Recommendation'!T19=\"\",0,'Measure Recommendation'!T19),IF(Instructions!$F$4=\"Verification\",IF('Measure Recommendation'!T43=\"\",0,'Measure Recommendation'!T43)))","v":false},{"$f":"IF(Instructions!$F$4=\"Investigation\",IF('Measure Recommendation'!V19=\"\",0,'Measure Recommendation'!V19),IF(Instructions!$F$4=\"Verification\",IF('Measure Recommendation'!V43=\"\",0,'Measure Recommendation'!V43)))","v":false},{"$f":"IF(Instructions!$F$4=\"Investigation\",IF('Measure Recommendation'!W19=\"\",0,'Measure Recommendation'!W19),IF(Instructions!$F$4=\"Verification\",IF('Measure Recommendation'!W43=\"\",0,'Measure Recommendation'!W43)))","v":false},{"$f":"IF(Instructions!$F$4=\"Investigation\",IF('Measure Recommendation'!Y19=\"\",\"\",'Measure Recommendation'!Y19),IF(Instructions!$F$4=\"Verification\",IF('Measure Recommendation'!AA43=\"\",\"\",'Measure Recommendation'!AA43)))","v":false},null,{"$f":"IF(Instructions!$F$4=\"Investigation\",\"\",IF(AND(Instructions!$F$4=\"Verification\",$B14=\"Yes\"),IF('Measure Recommendation'!Y43=\"\",\"\",'Measure Recommendation'!Y43),\"\"))","v":""},{"$f":"IF(Instructions!$F$4=\"Investigation\",\"\",IF(AND(Instructions!$F$4=\"Verification\",$B14=\"Yes\"),IF('Measure Recommendation'!Z43=\"\",\"\",'Measure Recommendation'!Z43),\"\"))","v":""},{"$f":"IF(Instructions!$F$4=\"Investigation\",\"\",IF(AND(Instructions!$F$4=\"Verification\",$B14=\"Yes\"),IF('Measure Recommendation'!AB43=\"\",\"\",'Measure Recommendation'!AB43),\"\"))","v":""},{"$f":"IF(Instructions!$F$4=\"Investigation\",IF('Measure Recommendation'!C19=\"\",\"\",'Measure Recommendation'!C19),IF(AND(Instructions!$F$4=\"Verification\",$B14=\"Yes\"),IF('Measure Recommendation'!C43=\"\",\"\",'Measure Recommendation'!C43),\"\"))","v":""},null,{"$f":"IF(Instructions!$F$4=\"Investigation\",IF('Measure Recommendation'!AE19=\"\",0,'Measure Recommendation'!AE19),IF(AND(Instructions!$F$4=\"Verification\",$B14=\"Yes\"),IF('Measure Recommendation'!AE43=\"\",0,'Measure Recommendation'!AE43),\"\"))","v":""},{"$f":"IF(Instructions!$F$4=\"Investigation\",IF('Measure Recommendation'!AF19=\"\",0,'Measure Recommendation'!AF19),IF(AND(Instructions!$F$4=\"Verification\",$B14=\"Yes\"),IF('Measure Recommendation'!AF43=\"\",0,'Measure Recommendation'!AF43),\"\"))","v":""},{"$f":"IF(Instructions!$F$4=\"Investigation\",IF('Measure Recommendation'!AG19=\"\",0,'Measure Recommendation'!AG19),IF(AND(Instructions!$F$4=\"Verification\",$B14=\"Yes\"),IF('Measure Recommendation'!AG43=\"\",0,'Measure Recommendation'!AG43),\"\"))","v":""},{"$f":"IF(Instructions!$F$4=\"Investigation\",IF('Measure Recommendation'!AH19=\"\",0,'Measure Recommendation'!AH19),IF(AND(Instructions!$F$4=\"Verification\",$B14=\"Yes\"),IF('Measure Recommendation'!AH43=\"\",0,'Measure Recommendation'!AH43),\"\"))","v":""}]
[{"$f":"IF(Instructions!$F$4=\"Investigation\",IF('Measure Recommendation'!A20=\"\",0,'Measure Recommendation'!A20),IF(Instructions!$F$4=\"Verification\",IF('Measure Recommendation'!A44=\"\",0,'Measure Recommendation'!A44)))","v":false},{"$f":"IF(Instructions!$F$4=\"Investigation\",IF('Measure Recommendation'!X20=\"\",\"\",'Measure Recommendation'!X20),IF(AND(Instructions!$F$4=\"Verification\",'Measure Recommendation'!C44=MAX('Measure Recommendation'!$C$41:$C$60)),IF('Measure Recommendation'!X44=\"\",\"\",'Measure Recommendation'!X44),\"\"))","v":""},4,{"$f":"IF(Instructions!$F$4=\"Investigation\",IF('Measure Recommendation'!E20=\"\",\"\",'Measure Recommendation'!E20),IF(Instructions!$F$4=\"Verification\",IF('Measure Recommendation'!E44=\"\",\"\",'Measure Recommendation'!E44)))","v":false},{"$f":"IF(Instructions!$F$4=\"Investigation\",IF('Measure Recommendation'!F20=\"\",\"\",'Measure Recommendation'!F20),IF(Instructions!$F$4=\"Verification\",IF('Measure Recommendation'!F44=\"\",\"\",'Measure Recommendation'!F44)))","v":false},{"$f":"IF(Instructions!$F$4=\"Investigation\",IF('Measure Recommendation'!H20=\"\",\"\",'Measure Recommendation'!H20),IF(Instructions!$F$4=\"Verification\",IF('Measure Recommendation'!H44=\"\",\"\",'Measure Recommendation'!H44)))","v":false},{"$f":"IF(Instructions!$F$4=\"Investigation\",IF('Measure Recommendation'!I20=\"\",\"\",'Measure Recommendation'!I20),IF(Instructions!$F$4=\"Verification\",IF('Measure Recommendation'!I44=\"\",\"\",'Measure Recommendation'!I44)))","v":false},{"$f":"IF(Instructions!$F$4=\"Investigation\",IF('Measure Recommendation'!J20=\"\",\"\",'Measure Recommendation'!J20),IF(Instructions!$F$4=\"Verification\",IF('Measure Recommendation'!J44=\"\",\"\",'Measure Recommendation'!J44)))","v":false},{"$f":"IF(Instructions!$F$4=\"Investigation\",IF('Measure Recommendation'!K20=\"\",0,'Measure Recommendation'!K20),IF(Instructions!$F$4=\"Verification\",IF('Measure Recommendation'!K44=\"\",0,'Measure Recommendation'!K44)))","v":false},{"$f":"IF(Instructions!$F$4=\"Investigation\",IF('Measure Recommendation'!L20=\"\",0,'Measure Recommendation'!L20),IF(Instructions!$F$4=\"Verification\",IF('Measure Recommendation'!L44=\"\",0,'Measure Recommendation'!L44)))","v":false},{"$f":"IF(Instructions!$F$4=\"Investigation\",IF('Measure Recommendation'!M20=\"\",0,'Measure Recommendation'!M20),IF(Instructions!$F$4=\"Verification\",IF('Measure Recommendation'!M44=\"\",0,'Measure Recommendation'!M44)))","v":false},{"$f":"IF(Instructions!$F$4=\"Investigation\",IF('Measure Recommendation'!N20=\"\",0,'Measure Recommendation'!N20),IF(Instructions!$F$4=\"Verification\",IF('Measure Recommendation'!N44=\"\",0,'Measure Recommendation'!N44)))","v":false},{"$f":"IF(Instructions!$F$4=\"Investigation\",IF('Measure Recommendation'!O20=\"\",0,'Measure Recommendation'!O20),IF(Instructions!$F$4=\"Verification\",IF('Measure Recommendation'!O44=\"\",0,'Measure Recommendation'!O44)))","v":false},{"$f":"IF(Instructions!$F$4=\"Investigation\",IF('Measure Recommendation'!P20=\"\",0,'Measure Recommendation'!P20),IF(Instructions!$F$4=\"Verification\",IF('Measure Recommendation'!P44=\"\",0,'Measure Recommendation'!P44)))","v":false},{"$f":"IF(Instructions!$F$4=\"Investigation\",IF('Measure Recommendation'!R20=\"\",0,'Measure Recommendation'!R20),IF(Instructions!$F$4=\"Verification\",IF('Measure Recommendation'!R44=\"\",0,'Measure Recommendation'!R44)))","v":false},{"$f":"IF(Instructions!$F$4=\"Investigation\",IF('Measure Recommendation'!Q20=\"\",0,'Measure Recommendation'!Q20),IF(Instructions!$F$4=\"Verification\",IF('Measure Recommendation'!Q44=\"\",0,'Measure Recommendation'!Q44)))","v":false},{"$f":"IF(Instructions!$F$4=\"Investigation\",IF('Measure Recommendation'!S20=\"\",0,'Measure Recommendation'!S20),IF(Instructions!$F$4=\"Verification\",IF('Measure Recommendation'!S44=\"\",0,'Measure Recommendation'!S44)))","v":false},{"$f":"IF(Instructions!$F$4=\"Investigation\",IF('Measure Recommendation'!U20=\"\",0,'Measure Recommendation'!U20),IF(Instructions!$F$4=\"Verification\",IF('Measure Recommendation'!U44=\"\",0,'Measure Recommendation'!U44)))","v":false},{"$f":"IF(Instructions!$F$4=\"Investigation\",IF('Measure Recommendation'!T20=\"\",0,'Measure Recommendation'!T20),IF(Instructions!$F$4=\"Verification\",IF('Measure Recommendation'!T44=\"\",0,'Measure Recommendation'!T44)))","v":false},{"$f":"IF(Instructions!$F$4=\"Investigation\",IF('Measure Recommendation'!V20=\"\",0,'Measure Recommendation'!V20),IF(Instructions!$F$4=\"Verification\",IF('Measure Recommendation'!V44=\"\",0,'Measure Recommendation'!V44)))","v":false},{"$f":"IF(Instructions!$F$4=\"Investigation\",IF('Measure Recommendation'!W20=\"\",0,'Measure Recommendation'!W20),IF(Instructions!$F$4=\"Verification\",IF('Measure Recommendation'!W44=\"\",0,'Measure Recommendation'!W44)))","v":false},{"$f":"IF(Instructions!$F$4=\"Investigation\",IF('Measure Recommendation'!Y20=\"\",\"\",'Measure Recommendation'!Y20),IF(Instructions!$F$4=\"Verification\",IF('Measure Recommendation'!AA44=\"\",\"\",'Measure Recommendation'!AA44)))","v":false},null,{"$f":"IF(Instructions!$F$4=\"Investigation\",\"\",IF(AND(Instructions!$F$4=\"Verification\",$B15=\"Yes\"),IF('Measure Recommendation'!Y44=\"\",\"\",'Measure Recommendation'!Y44),\"\"))","v":""},{"$f":"IF(Instructions!$F$4=\"Investigation\",\"\",IF(AND(Instructions!$F$4=\"Verification\",$B15=\"Yes\"),IF('Measure Recommendation'!Z44=\"\",\"\",'Measure Recommendation'!Z44),\"\"))","v":""},{"$f":"IF(Instructions!$F$4=\"Investigation\",\"\",IF(AND(Instructions!$F$4=\"Verification\",$B15=\"Yes\"),IF('Measure Recommendation'!AB44=\"\",\"\",'Measure Recommendation'!AB44),\"\"))","v":""},{"$f":"IF(Instructions!$F$4=\"Investigation\",IF('Measure Recommendation'!C20=\"\",\"\",'Measure Recommendation'!C20),IF(AND(Instructions!$F$4=\"Verification\",$B15=\"Yes\"),IF('Measure Recommendation'!C44=\"\",\"\",'Measure Recommendation'!C44),\"\"))","v":""},null,{"$f":"IF(Instructions!$F$4=\"Investigation\",IF('Measure Recommendation'!AE20=\"\",0,'Measure Recommendation'!AE20),IF(AND(Instructions!$F$4=\"Verification\",$B15=\"Yes\"),IF('Measure Recommendation'!AE44=\"\",0,'Measure Recommendation'!AE44),\"\"))","v":""},{"$f":"IF(Instructions!$F$4=\"Investigation\",IF('Measure Recommendation'!AF20=\"\",0,'Measure Recommendation'!AF20),IF(AND(Instructions!$F$4=\"Verification\",$B15=\"Yes\"),IF('Measure Recommendation'!AF44=\"\",0,'Measure Recommendation'!AF44),\"\"))","v":""},{"$f":"IF(Instructions!$F$4=\"Investigation\",IF('Measure Recommendation'!AG20=\"\",0,'Measure Recommendation'!AG20),IF(AND(Instructions!$F$4=\"Verification\",$B15=\"Yes\"),IF('Measure Recommendation'!AG44=\"\",0,'Measure Recommendation'!AG44),\"\"))","v":""},{"$f":"IF(Instructions!$F$4=\"Investigation\",IF('Measure Recommendation'!AH20=\"\",0,'Measure Recommendation'!AH20),IF(AND(Instructions!$F$4=\"Verification\",$B15=\"Yes\"),IF('Measure Recommendation'!AH44=\"\",0,'Measure Recommendation'!AH44),\"\"))","v":""}]
[{"$f":"IF(Instructions!$F$4=\"Investigation\",IF('Measure Recommendation'!A21=\"\",0,'Measure Recommendation'!A21),IF(Instructions!$F$4=\"Verification\",IF('Measure Recommendation'!A45=\"\",0,'Measure Recommendation'!A45)))","v":false},{"$f":"IF(Instructions!$F$4=\"Investigation\",IF('Measure Recommendation'!X21=\"\",\"\",'Measure Recommendation'!X21),IF(AND(Instructions!$F$4=\"Verification\",'Measure Recommendation'!C45=MAX('Measure Recommendation'!$C$41:$C$60)),IF('Measure Recommendation'!X45=\"\",\"\",'Measure Recommendation'!X45),\"\"))","v":""},5,{"$f":"IF(Instructions!$F$4=\"Investigation\",IF('Measure Recommendation'!E21=\"\",\"\",'Measure Recommendation'!E21),IF(Instructions!$F$4=\"Verification\",IF('Measure Recommendation'!E45=\"\",\"\",'Measure Recommendation'!E45)))","v":false},{"$f":"IF(Instructions!$F$4=\"Investigation\",IF('Measure Recommendation'!F21=\"\",\"\",'Measure Recommendation'!F21),IF(Instructions!$F$4=\"Verification\",IF('Measure Recommendation'!F45=\"\",\"\",'Measure Recommendation'!F45)))","v":false},{"$f":"IF(Instructions!$F$4=\"Investigation\",IF('Measure Recommendation'!H21=\"\",\"\",'Measure Recommendation'!H21),IF(Instructions!$F$4=\"Verification\",IF('Measure Recommendation'!H45=\"\",\"\",'Measure Recommendation'!H45)))","v":false},{"$f":"IF(Instructions!$F$4=\"Investigation\",IF('Measure Recommendation'!I21=\"\",\"\",'Measure Recommendation'!I21),IF(Instructions!$F$4=\"Verification\",IF('Measure Recommendation'!I45=\"\",\"\",'Measure Recommendation'!I45)))","v":false},{"$f":"IF(Instructions!$F$4=\"Investigation\",IF('Measure Recommendation'!J21=\"\",\"\",'Measure Recommendation'!J21),IF(Instructions!$F$4=\"Verification\",IF('Measure Recommendation'!J45=\"\",\"\",'Measure Recommendation'!J45)))","v":false},{"$f":"IF(Instructions!$F$4=\"Investigation\",IF('Measure Recommendation'!K21=\"\",0,'Measure Recommendation'!K21),IF(Instructions!$F$4=\"Verification\",IF('Measure Recommendation'!K45=\"\",0,'Measure Recommendation'!K45)))","v":false},{"$f":"IF(Instructions!$F$4=\"Investigation\",IF('Measure Recommendation'!L21=\"\",0,'Measure Recommendation'!L21),IF(Instructions!$F$4=\"Verification\",IF('Measure Recommendation'!L45=\"\",0,'Measure Recommendation'!L45)))","v":false},{"$f":"IF(Instructions!$F$4=\"Investigation\",IF('Measure Recommendation'!M21=\"\",0,'Measure Recommendation'!M21),IF(Instructions!$F$4=\"Verification\",IF('Measure Recommendation'!M45=\"\",0,'Measure Recommendation'!M45)))","v":false},{"$f":"IF(Instructions!$F$4=\"Investigation\",IF('Measure Recommendation'!N21=\"\",0,'Measure Recommendation'!N21),IF(Instructions!$F$4=\"Verification\",IF('Measure Recommendation'!N45=\"\",0,'Measure Recommendation'!N45)))","v":false},{"$f":"IF(Instructions!$F$4=\"Investigation\",IF('Measure Recommendation'!O21=\"\",0,'Measure Recommendation'!O21),IF(Instructions!$F$4=\"Verification\",IF('Measure Recommendation'!O45=\"\",0,'Measure Recommendation'!O45)))","v":false},{"$f":"IF(Instructions!$F$4=\"Investigation\",IF('Measure Recommendation'!P21=\"\",0,'Measure Recommendation'!P21),IF(Instructions!$F$4=\"Verification\",IF('Measure Recommendation'!P45=\"\",0,'Measure Recommendation'!P45)))","v":false},{"$f":"IF(Instructions!$F$4=\"Investigation\",IF('Measure Recommendation'!R21=\"\",0,'Measure Recommendation'!R21),IF(Instructions!$F$4=\"Verification\",IF('Measure Recommendation'!R45=\"\",0,'Measure Recommendation'!R45)))","v":false},{"$f":"IF(Instructions!$F$4=\"Investigation\",IF('Measure Recommendation'!Q21=\"\",0,'Measure Recommendation'!Q21),IF(Instructions!$F$4=\"Verification\",IF('Measure Recommendation'!Q45=\"\",0,'Measure Recommendation'!Q45)))","v":false},{"$f":"IF(Instructions!$F$4=\"Investigation\",IF('Measure Recommendation'!S21=\"\",0,'Measure Recommendation'!S21),IF(Instructions!$F$4=\"Verification\",IF('Measure Recommendation'!S45=\"\",0,'Measure Recommendation'!S45)))","v":false},{"$f":"IF(Instructions!$F$4=\"Investigation\",IF('Measure Recommendation'!U21=\"\",0,'Measure Recommendation'!U21),IF(Instructions!$F$4=\"Verification\",IF('Measure Recommendation'!U45=\"\",0,'Measure Recommendation'!U45)))","v":false},{"$f":"IF(Instructions!$F$4=\"Investigation\",IF('Measure Recommendation'!T21=\"\",0,'Measure Recommendation'!T21),IF(Instructions!$F$4=\"Verification\",IF('Measure Recommendation'!T45=\"\",0,'Measure Recommendation'!T45)))","v":false},{"$f":"IF(Instructions!$F$4=\"Investigation\",IF('Measure Recommendation'!V21=\"\",0,'Measure Recommendation'!V21),IF(Instructions!$F$4=\"Verification\",IF('Measure Recommendation'!V45=\"\",0,'Measure Recommendation'!V45)))","v":false},{"$f":"IF(Instructions!$F$4=\"Investigation\",IF('Measure Recommendation'!W21=\"\",0,'Measure Recommendation'!W21),IF(Instructions!$F$4=\"Verification\",IF('Measure Recommendation'!W45=\"\",0,'Measure Recommendation'!W45)))","v":false},{"$f":"IF(Instructions!$F$4=\"Investigation\",IF('Measure Recommendation'!Y21=\"\",\"\",'Measure Recommendation'!Y21),IF(Instructions!$F$4=\"Verification\",IF('Measure Recommendation'!AA45=\"\",\"\",'Measure Recommendation'!AA45)))","v":false},null,{"$f":"IF(Instructions!$F$4=\"Investigation\",\"\",IF(AND(Instructions!$F$4=\"Verification\",$B16=\"Yes\"),IF('Measure Recommendation'!Y45=\"\",\"\",'Measure Recommendation'!Y45),\"\"))","v":""},{"$f":"IF(Instructions!$F$4=\"Investigation\",\"\",IF(AND(Instructions!$F$4=\"Verification\",$B16=\"Yes\"),IF('Measure Recommendation'!Z45=\"\",\"\",'Measure Recommendation'!Z45),\"\"))","v":""},{"$f":"IF(Instructions!$F$4=\"Investigation\",\"\",IF(AND(Instructions!$F$4=\"Verification\",$B16=\"Yes\"),IF('Measure Recommendation'!AB45=\"\",\"\",'Measure Recommendation'!AB45),\"\"))","v":""},{"$f":"IF(Instructions!$F$4=\"Investigation\",IF('Measure Recommendation'!C21=\"\",\"\",'Measure Recommendation'!C21),IF(AND(Instructions!$F$4=\"Verification\",$B16=\"Yes\"),IF('Measure Recommendation'!C45=\"\",\"\",'Measure Recommendation'!C45),\"\"))","v":""},null,{"$f":"IF(Instructions!$F$4=\"Investigation\",IF('Measure Recommendation'!AE21=\"\",0,'Measure Recommendation'!AE21),IF(AND(Instructions!$F$4=\"Verification\",$B16=\"Yes\"),IF('Measure Recommendation'!AE45=\"\",0,'Measure Recommendation'!AE45),\"\"))","v":""},{"$f":"IF(Instructions!$F$4=\"Investigation\",IF('Measure Recommendation'!AF21=\"\",0,'Measure Recommendation'!AF21),IF(AND(Instructions!$F$4=\"Verification\",$B16=\"Yes\"),IF('Measure Recommendation'!AF45=\"\",0,'Measure Recommendation'!AF45),\"\"))","v":""},{"$f":"IF(Instructions!$F$4=\"Investigation\",IF('Measure Recommendation'!AG21=\"\",0,'Measure Recommendation'!AG21),IF(AND(Instructions!$F$4=\"Verification\",$B16=\"Yes\"),IF('Measure Recommendation'!AG45=\"\",0,'Measure Recommendation'!AG45),\"\"))","v":""},{"$f":"IF(Instructions!$F$4=\"Investigation\",IF('Measure Recommendation'!AH21=\"\",0,'Measure Recommendation'!AH21),IF(AND(Instructions!$F$4=\"Verification\",$B16=\"Yes\"),IF('Measure Recommendation'!AH45=\"\",0,'Measure Recommendation'!AH45),\"\"))","v":""}]
[{"$f":"IF(Instructions!$F$4=\"Investigation\",IF('Measure Recommendation'!A22=\"\",0,'Measure Recommendation'!A22),IF(Instructions!$F$4=\"Verification\",IF('Measure Recommendation'!A46=\"\",0,'Measure Recommendation'!A46)))","v":false},{"$f":"IF(Instructions!$F$4=\"Investigation\",IF('Measure Recommendation'!X22=\"\",\"\",'Measure Recommendation'!X22),IF(AND(Instructions!$F$4=\"Verification\",'Measure Recommendation'!C46=MAX('Measure Recommendation'!$C$41:$C$60)),IF('Measure Recommendation'!X46=\"\",\"\",'Measure Recommendation'!X46),\"\"))","v":""},6,{"$f":"IF(Instructions!$F$4=\"Investigation\",IF('Measure Recommendation'!E22=\"\",\"\",'Measure Recommendation'!E22),IF(Instructions!$F$4=\"Verification\",IF('Measure Recommendation'!E46=\"\",\"\",'Measure Recommendation'!E46)))","v":false},{"$f":"IF(Instructions!$F$4=\"Investigation\",IF('Measure Recommendation'!F22=\"\",\"\",'Measure Recommendation'!F22),IF(Instructions!$F$4=\"Verification\",IF('Measure Recommendation'!F46=\"\",\"\",'Measure Recommendation'!F46)))","v":false},{"$f":"IF(Instructions!$F$4=\"Investigation\",IF('Measure Recommendation'!H22=\"\",\"\",'Measure Recommendation'!H22),IF(Instructions!$F$4=\"Verification\",IF('Measure Recommendation'!H46=\"\",\"\",'Measure Recommendation'!H46)))","v":false},{"$f":"IF(Instructions!$F$4=\"Investigation\",IF('Measure Recommendation'!I22=\"\",\"\",'Measure Recommendation'!I22),IF(Instructions!$F$4=\"Verification\",IF('Measure Recommendation'!I46=\"\",\"\",'Measure Recommendation'!I46)))","v":false},{"$f":"IF(Instructions!$F$4=\"Investigation\",IF('Measure Recommendation'!J22=\"\",\"\",'Measure Recommendation'!J22),IF(Instructions!$F$4=\"Verification\",IF('Measure Recommendation'!J46=\"\",\"\",'Measure Recommendation'!J46)))","v":false},{"$f":"IF(Instructions!$F$4=\"Investigation\",IF('Measure Recommendation'!K22=\"\",0,'Measure Recommendation'!K22),IF(Instructions!$F$4=\"Verification\",IF('Measure Recommendation'!K46=\"\",0,'Measure Recommendation'!K46)))","v":false},{"$f":"IF(Instructions!$F$4=\"Investigation\",IF('Measure Recommendation'!L22=\"\",0,'Measure Recommendation'!L22),IF(Instructions!$F$4=\"Verification\",IF('Measure Recommendation'!L46=\"\",0,'Measure Recommendation'!L46)))","v":false},{"$f":"IF(Instructions!$F$4=\"Investigation\",IF('Measure Recommendation'!M22=\"\",0,'Measure Recommendation'!M22),IF(Instructions!$F$4=\"Verification\",IF('Measure Recommendation'!M46=\"\",0,'Measure Recommendation'!M46)))","v":false},{"$f":"IF(Instructions!$F$4=\"Investigation\",IF('Measure Recommendation'!N22=\"\",0,'Measure Recommendation'!N22),IF(Instructions!$F$4=\"Verification\",IF('Measure Recommendation'!N46=\"\",0,'Measure Recommendation'!N46)))","v":false},{"$f":"IF(Instructions!$F$4=\"Investigation\",IF('Measure Recommendation'!O22=\"\",0,'Measure Recommendation'!O22),IF(Instructions!$F$4=\"Verification\",IF('Measure Recommendation'!O46=\"\",0,'Measure Recommendation'!O46)))","v":false},{"$f":"IF(Instructions!$F$4=\"Investigation\",IF('Measure Recommendation'!P22=\"\",0,'Measure Recommendation'!P22),IF(Instructions!$F$4=\"Verification\",IF('Measure Recommendation'!P46=\"\",0,'Measure Recommendation'!P46)))","v":false},{"$f":"IF(Instructions!$F$4=\"Investigation\",IF('Measure Recommendation'!R22=\"\",0,'Measure Recommendation'!R22),IF(Instructions!$F$4=\"Verification\",IF('Measure Recommendation'!R46=\"\",0,'Measure Recommendation'!R46)))","v":false},{"$f":"IF(Instructions!$F$4=\"Investigation\",IF('Measure Recommendation'!Q22=\"\",0,'Measure Recommendation'!Q22),IF(Instructions!$F$4=\"Verification\",IF('Measure Recommendation'!Q46=\"\",0,'Measure Recommendation'!Q46)))","v":false},{"$f":"IF(Instructions!$F$4=\"Investigation\",IF('Measure Recommendation'!S22=\"\",0,'Measure Recommendation'!S22),IF(Instructions!$F$4=\"Verification\",IF('Measure Recommendation'!S46=\"\",0,'Measure Recommendation'!S46)))","v":false},{"$f":"IF(Instructions!$F$4=\"Investigation\",IF('Measure Recommendation'!U22=\"\",0,'Measure Recommendation'!U22),IF(Instructions!$F$4=\"Verification\",IF('Measure Recommendation'!U46=\"\",0,'Measure Recommendation'!U46)))","v":false},{"$f":"IF(Instructions!$F$4=\"Investigation\",IF('Measure Recommendation'!T22=\"\",0,'Measure Recommendation'!T22),IF(Instructions!$F$4=\"Verification\",IF('Measure Recommendation'!T46=\"\",0,'Measure Recommendation'!T46)))","v":false},{"$f":"IF(Instructions!$F$4=\"Investigation\",IF('Measure Recommendation'!V22=\"\",0,'Measure Recommendation'!V22),IF(Instructions!$F$4=\"Verification\",IF('Measure Recommendation'!V46=\"\",0,'Measure Recommendation'!V46)))","v":false},{"$f":"IF(Instructions!$F$4=\"Investigation\",IF('Measure Recommendation'!W22=\"\",0,'Measure Recommendation'!W22),IF(Instructions!$F$4=\"Verification\",IF('Measure Recommendation'!W46=\"\",0,'Measure Recommendation'!W46)))","v":false},{"$f":"IF(Instructions!$F$4=\"Investigation\",IF('Measure Recommendation'!Y22=\"\",\"\",'Measure Recommendation'!Y22),IF(Instructions!$F$4=\"Verification\",IF('Measure Recommendation'!AA46=\"\",\"\",'Measure Recommendation'!AA46)))","v":false},null,{"$f":"IF(Instructions!$F$4=\"Investigation\",\"\",IF(AND(Instructions!$F$4=\"Verification\",$B17=\"Yes\"),IF('Measure Recommendation'!Y46=\"\",\"\",'Measure Recommendation'!Y46),\"\"))","v":""},{"$f":"IF(Instructions!$F$4=\"Investigation\",\"\",IF(AND(Instructions!$F$4=\"Verification\",$B17=\"Yes\"),IF('Measure Recommendation'!Z46=\"\",\"\",'Measure Recommendation'!Z46),\"\"))","v":""},{"$f":"IF(Instructions!$F$4=\"Investigation\",\"\",IF(AND(Instructions!$F$4=\"Verification\",$B17=\"Yes\"),IF('Measure Recommendation'!AB46=\"\",\"\",'Measure Recommendation'!AB46),\"\"))","v":""},{"$f":"IF(Instructions!$F$4=\"Investigation\",IF('Measure Recommendation'!C22=\"\",\"\",'Measure Recommendation'!C22),IF(AND(Instructions!$F$4=\"Verification\",$B17=\"Yes\"),IF('Measure Recommendation'!C46=\"\",\"\",'Measure Recommendation'!C46),\"\"))","v":""},null,{"$f":"IF(Instructions!$F$4=\"Investigation\",IF('Measure Recommendation'!AE22=\"\",0,'Measure Recommendation'!AE22),IF(AND(Instructions!$F$4=\"Verification\",$B17=\"Yes\"),IF('Measure Recommendation'!AE46=\"\",0,'Measure Recommendation'!AE46),\"\"))","v":""},{"$f":"IF(Instructions!$F$4=\"Investigation\",IF('Measure Recommendation'!AF22=\"\",0,'Measure Recommendation'!AF22),IF(AND(Instructions!$F$4=\"Verification\",$B17=\"Yes\"),IF('Measure Recommendation'!AF46=\"\",0,'Measure Recommendation'!AF46),\"\"))","v":""},{"$f":"IF(Instructions!$F$4=\"Investigation\",IF('Measure Recommendation'!AG22=\"\",0,'Measure Recommendation'!AG22),IF(AND(Instructions!$F$4=\"Verification\",$B17=\"Yes\"),IF('Measure Recommendation'!AG46=\"\",0,'Measure Recommendation'!AG46),\"\"))","v":""},{"$f":"IF(Instructions!$F$4=\"Investigation\",IF('Measure Recommendation'!AH22=\"\",0,'Measure Recommendation'!AH22),IF(AND(Instructions!$F$4=\"Verification\",$B17=\"Yes\"),IF('Measure Recommendation'!AH46=\"\",0,'Measure Recommendation'!AH46),\"\"))","v":""}]
[{"$f":"IF(Instructions!$F$4=\"Investigation\",IF('Measure Recommendation'!A23=\"\",0,'Measure Recommendation'!A23),IF(Instructions!$F$4=\"Verification\",IF('Measure Recommendation'!A47=\"\",0,'Measure Recommendation'!A47)))","v":false},{"$f":"IF(Instructions!$F$4=\"Investigation\",IF('Measure Recommendation'!X23=\"\",\"\",'Measure Recommendation'!X23),IF(AND(Instructions!$F$4=\"Verification\",'Measure Recommendation'!C47=MAX('Measure Recommendation'!$C$41:$C$60)),IF('Measure Recommendation'!X47=\"\",\"\",'Measure Recommendation'!X47),\"\"))","v":""},7,{"$f":"IF(Instructions!$F$4=\"Investigation\",IF('Measure Recommendation'!E23=\"\",\"\",'Measure Recommendation'!E23),IF(Instructions!$F$4=\"Verification\",IF('Measure Recommendation'!E47=\"\",\"\",'Measure Recommendation'!E47)))","v":false},{"$f":"IF(Instructions!$F$4=\"Investigation\",IF('Measure Recommendation'!F23=\"\",\"\",'Measure Recommendation'!F23),IF(Instructions!$F$4=\"Verification\",IF('Measure Recommendation'!F47=\"\",\"\",'Measure Recommendation'!F47)))","v":false},{"$f":"IF(Instructions!$F$4=\"Investigation\",IF('Measure Recommendation'!H23=\"\",\"\",'Measure Recommendation'!H23),IF(Instructions!$F$4=\"Verification\",IF('Measure Recommendation'!H47=\"\",\"\",'Measure Recommendation'!H47)))","v":false},{"$f":"IF(Instructions!$F$4=\"Investigation\",IF('Measure Recommendation'!I23=\"\",\"\",'Measure Recommendation'!I23),IF(Instructions!$F$4=\"Verification\",IF('Measure Recommendation'!I47=\"\",\"\",'Measure Recommendation'!I47)))","v":false},{"$f":"IF(Instructions!$F$4=\"Investigation\",IF('Measure Recommendation'!J23=\"\",\"\",'Measure Recommendation'!J23),IF(Instructions!$F$4=\"Verification\",IF('Measure Recommendation'!J47=\"\",\"\",'Measure Recommendation'!J47)))","v":false},{"$f":"IF(Instructions!$F$4=\"Investigation\",IF('Measure Recommendation'!K23=\"\",0,'Measure Recommendation'!K23),IF(Instructions!$F$4=\"Verification\",IF('Measure Recommendation'!K47=\"\",0,'Measure Recommendation'!K47)))","v":false},{"$f":"IF(Instructions!$F$4=\"Investigation\",IF('Measure Recommendation'!L23=\"\",0,'Measure Recommendation'!L23),IF(Instructions!$F$4=\"Verification\",IF('Measure Recommendation'!L47=\"\",0,'Measure Recommendation'!L47)))","v":false},{"$f":"IF(Instructions!$F$4=\"Investigation\",IF('Measure Recommendation'!M23=\"\",0,'Measure Recommendation'!M23),IF(Instructions!$F$4=\"Verification\",IF('Measure Recommendation'!M47=\"\",0,'Measure Recommendation'!M47)))","v":false},{"$f":"IF(Instructions!$F$4=\"Investigation\",IF('Measure Recommendation'!N23=\"\",0,'Measure Recommendation'!N23),IF(Instructions!$F$4=\"Verification\",IF('Measure Recommendation'!N47=\"\",0,'Measure Recommendation'!N47)))","v":false},{"$f":"IF(Instructions!$F$4=\"Investigation\",IF('Measure Recommendation'!O23=\"\",0,'Measure Recommendation'!O23),IF(Instructions!$F$4=\"Verification\",IF('Measure Recommendation'!O47=\"\",0,'Measure Recommendation'!O47)))","v":false},{"$f":"IF(Instructions!$F$4=\"Investigation\",IF('Measure Recommendation'!P23=\"\",0,'Measure Recommendation'!P23),IF(Instructions!$F$4=\"Verification\",IF('Measure Recommendation'!P47=\"\",0,'Measure Recommendation'!P47)))","v":false},{"$f":"IF(Instructions!$F$4=\"Investigation\",IF('Measure Recommendation'!R23=\"\",0,'Measure Recommendation'!R23),IF(Instructions!$F$4=\"Verification\",IF('Measure Recommendation'!R47=\"\",0,'Measure Recommendation'!R47)))","v":false},{"$f":"IF(Instructions!$F$4=\"Investigation\",IF('Measure Recommendation'!Q23=\"\",0,'Measure Recommendation'!Q23),IF(Instructions!$F$4=\"Verification\",IF('Measure Recommendation'!Q47=\"\",0,'Measure Recommendation'!Q47)))","v":false},{"$f":"IF(Instructions!$F$4=\"Investigation\",IF('Measure Recommendation'!S23=\"\",0,'Measure Recommendation'!S23),IF(Instructions!$F$4=\"Verification\",IF('Measure Recommendation'!S47=\"\",0,'Measure Recommendation'!S47)))","v":false},{"$f":"IF(Instructions!$F$4=\"Investigation\",IF('Measure Recommendation'!U23=\"\",0,'Measure Recommendation'!U23),IF(Instructions!$F$4=\"Verification\",IF('Measure Recommendation'!U47=\"\",0,'Measure Recommendation'!U47)))","v":false},{"$f":"IF(Instructions!$F$4=\"Investigation\",IF('Measure Recommendation'!T23=\"\",0,'Measure Recommendation'!T23),IF(Instructions!$F$4=\"Verification\",IF('Measure Recommendation'!T47=\"\",0,'Measure Recommendation'!T47)))","v":false},{"$f":"IF(Instructions!$F$4=\"Investigation\",IF('Measure Recommendation'!V23=\"\",0,'Measure Recommendation'!V23),IF(Instructions!$F$4=\"Verification\",IF('Measure Recommendation'!V47=\"\",0,'Measure Recommendation'!V47)))","v":false},{"$f":"IF(Instructions!$F$4=\"Investigation\",IF('Measure Recommendation'!W23=\"\",0,'Measure Recommendation'!W23),IF(Instructions!$F$4=\"Verification\",IF('Measure Recommendation'!W47=\"\",0,'Measure Recommendation'!W47)))","v":false},{"$f":"IF(Instructions!$F$4=\"Investigation\",IF('Measure Recommendation'!Y23=\"\",\"\",'Measure Recommendation'!Y23),IF(Instructions!$F$4=\"Verification\",IF('Measure Recommendation'!AA47=\"\",\"\",'Measure Recommendation'!AA47)))","v":false},null,{"$f":"IF(Instructions!$F$4=\"Investigation\",\"\",IF(AND(Instructions!$F$4=\"Verification\",$B18=\"Yes\"),IF('Measure Recommendation'!Y47=\"\",\"\",'Measure Recommendation'!Y47),\"\"))","v":""},{"$f":"IF(Instructions!$F$4=\"Investigation\",\"\",IF(AND(Instructions!$F$4=\"Verification\",$B18=\"Yes\"),IF('Measure Recommendation'!Z47=\"\",\"\",'Measure Recommendation'!Z47),\"\"))","v":""},{"$f":"IF(Instructions!$F$4=\"Investigation\",\"\",IF(AND(Instructions!$F$4=\"Verification\",$B18=\"Yes\"),IF('Measure Recommendation'!AB47=\"\",\"\",'Measure Recommendation'!AB47),\"\"))","v":""},{"$f":"IF(Instructions!$F$4=\"Investigation\",IF('Measure Recommendation'!C23=\"\",\"\",'Measure Recommendation'!C23),IF(AND(Instructions!$F$4=\"Verification\",$B18=\"Yes\"),IF('Measure Recommendation'!C47=\"\",\"\",'Measure Recommendation'!C47),\"\"))","v":""},null,{"$f":"IF(Instructions!$F$4=\"Investigation\",IF('Measure Recommendation'!AE23=\"\",0,'Measure Recommendation'!AE23),IF(AND(Instructions!$F$4=\"Verification\",$B18=\"Yes\"),IF('Measure Recommendation'!AE47=\"\",0,'Measure Recommendation'!AE47),\"\"))","v":""},{"$f":"IF(Instructions!$F$4=\"Investigation\",IF('Measure Recommendation'!AF23=\"\",0,'Measure Recommendation'!AF23),IF(AND(Instructions!$F$4=\"Verification\",$B18=\"Yes\"),IF('Measure Recommendation'!AF47=\"\",0,'Measure Recommendation'!AF47),\"\"))","v":""},{"$f":"IF(Instructions!$F$4=\"Investigation\",IF('Measure Recommendation'!AG23=\"\",0,'Measure Recommendation'!AG23),IF(AND(Instructions!$F$4=\"Verification\",$B18=\"Yes\"),IF('Measure Recommendation'!AG47=\"\",0,'Measure Recommendation'!AG47),\"\"))","v":""},{"$f":"IF(Instructions!$F$4=\"Investigation\",IF('Measure Recommendation'!AH23=\"\",0,'Measure Recommendation'!AH23),IF(AND(Instructions!$F$4=\"Verification\",$B18=\"Yes\"),IF('Measure Recommendation'!AH47=\"\",0,'Measure Recommendation'!AH47),\"\"))","v":""}]
[{"$f":"IF(Instructions!$F$4=\"Investigation\",IF('Measure Recommendation'!A24=\"\",0,'Measure Recommendation'!A24),IF(Instructions!$F$4=\"Verification\",IF('Measure Recommendation'!A48=\"\",0,'Measure Recommendation'!A48)))","v":false},{"$f":"IF(Instructions!$F$4=\"Investigation\",IF('Measure Recommendation'!X24=\"\",\"\",'Measure Recommendation'!X24),IF(AND(Instructions!$F$4=\"Verification\",'Measure Recommendation'!C48=MAX('Measure Recommendation'!$C$41:$C$60)),IF('Measure Recommendation'!X48=\"\",\"\",'Measure Recommendation'!X48),\"\"))","v":""},8,{"$f":"IF(Instructions!$F$4=\"Investigation\",IF('Measure Recommendation'!E24=\"\",\"\",'Measure Recommendation'!E24),IF(Instructions!$F$4=\"Verification\",IF('Measure Recommendation'!E48=\"\",\"\",'Measure Recommendation'!E48)))","v":false},{"$f":"IF(Instructions!$F$4=\"Investigation\",IF('Measure Recommendation'!F24=\"\",\"\",'Measure Recommendation'!F24),IF(Instructions!$F$4=\"Verification\",IF('Measure Recommendation'!F48=\"\",\"\",'Measure Recommendation'!F48)))","v":false},{"$f":"IF(Instructions!$F$4=\"Investigation\",IF('Measure Recommendation'!H24=\"\",\"\",'Measure Recommendation'!H24),IF(Instructions!$F$4=\"Verification\",IF('Measure Recommendation'!H48=\"\",\"\",'Measure Recommendation'!H48)))","v":false},{"$f":"IF(Instructions!$F$4=\"Investigation\",IF('Measure Recommendation'!I24=\"\",\"\",'Measure Recommendation'!I24),IF(Instructions!$F$4=\"Verification\",IF('Measure Recommendation'!I48=\"\",\"\",'Measure Recommendation'!I48)))","v":false},{"$f":"IF(Instructions!$F$4=\"Investigation\",IF('Measure Recommendation'!J24=\"\",\"\",'Measure Recommendation'!J24),IF(Instructions!$F$4=\"Verification\",IF('Measure Recommendation'!J48=\"\",\"\",'Measure Recommendation'!J48)))","v":false},{"$f":"IF(Instructions!$F$4=\"Investigation\",IF('Measure Recommendation'!K24=\"\",0,'Measure Recommendation'!K24),IF(Instructions!$F$4=\"Verification\",IF('Measure Recommendation'!K48=\"\",0,'Measure Recommendation'!K48)))","v":false},{"$f":"IF(Instructions!$F$4=\"Investigation\",IF('Measure Recommendation'!L24=\"\",0,'Measure Recommendation'!L24),IF(Instructions!$F$4=\"Verification\",IF('Measure Recommendation'!L48=\"\",0,'Measure Recommendation'!L48)))","v":false},{"$f":"IF(Instructions!$F$4=\"Investigation\",IF('Measure Recommendation'!M24=\"\",0,'Measure Recommendation'!M24),IF(Instructions!$F$4=\"Verification\",IF('Measure Recommendation'!M48=\"\",0,'Measure Recommendation'!M48)))","v":false},{"$f":"IF(Instructions!$F$4=\"Investigation\",IF('Measure Recommendation'!N24=\"\",0,'Measure Recommendation'!N24),IF(Instructions!$F$4=\"Verification\",IF('Measure Recommendation'!N48=\"\",0,'Measure Recommendation'!N48)))","v":false},{"$f":"IF(Instructions!$F$4=\"Investigation\",IF('Measure Recommendation'!O24=\"\",0,'Measure Recommendation'!O24),IF(Instructions!$F$4=\"Verification\",IF('Measure Recommendation'!O48=\"\",0,'Measure Recommendation'!O48)))","v":false},{"$f":"IF(Instructions!$F$4=\"Investigation\",IF('Measure Recommendation'!P24=\"\",0,'Measure Recommendation'!P24),IF(Instructions!$F$4=\"Verification\",IF('Measure Recommendation'!P48=\"\",0,'Measure Recommendation'!P48)))","v":false},{"$f":"IF(Instructions!$F$4=\"Investigation\",IF('Measure Recommendation'!R24=\"\",0,'Measure Recommendation'!R24),IF(Instructions!$F$4=\"Verification\",IF('Measure Recommendation'!R48=\"\",0,'Measure Recommendation'!R48)))","v":false},{"$f":"IF(Instructions!$F$4=\"Investigation\",IF('Measure Recommendation'!Q24=\"\",0,'Measure Recommendation'!Q24),IF(Instructions!$F$4=\"Verification\",IF('Measure Recommendation'!Q48=\"\",0,'Measure Recommendation'!Q48)))","v":false},{"$f":"IF(Instructions!$F$4=\"Investigation\",IF('Measure Recommendation'!S24=\"\",0,'Measure Recommendation'!S24),IF(Instructions!$F$4=\"Verification\",IF('Measure Recommendation'!S48=\"\",0,'Measure Recommendation'!S48)))","v":false},{"$f":"IF(Instructions!$F$4=\"Investigation\",IF('Measure Recommendation'!U24=\"\",0,'Measure Recommendation'!U24),IF(Instructions!$F$4=\"Verification\",IF('Measure Recommendation'!U48=\"\",0,'Measure Recommendation'!U48)))","v":false},{"$f":"IF(Instructions!$F$4=\"Investigation\",IF('Measure Recommendation'!T24=\"\",0,'Measure Recommendation'!T24),IF(Instructions!$F$4=\"Verification\",IF('Measure Recommendation'!T48=\"\",0,'Measure Recommendation'!T48)))","v":false},{"$f":"IF(Instructions!$F$4=\"Investigation\",IF('Measure Recommendation'!V24=\"\",0,'Measure Recommendation'!V24),IF(Instructions!$F$4=\"Verification\",IF('Measure Recommendation'!V48=\"\",0,'Measure Recommendation'!V48)))","v":false},{"$f":"IF(Instructions!$F$4=\"Investigation\",IF('Measure Recommendation'!W24=\"\",0,'Measure Recommendation'!W24),IF(Instructions!$F$4=\"Verification\",IF('Measure Recommendation'!W48=\"\",0,'Measure Recommendation'!W48)))","v":false},{"$f":"IF(Instructions!$F$4=\"Investigation\",IF('Measure Recommendation'!Y24=\"\",\"\",'Measure Recommendation'!Y24),IF(Instructions!$F$4=\"Verification\",IF('Measure Recommendation'!AA48=\"\",\"\",'Measure Recommendation'!AA48)))","v":false},null,{"$f":"IF(Instructions!$F$4=\"Investigation\",\"\",IF(AND(Instructions!$F$4=\"Verification\",$B19=\"Yes\"),IF('Measure Recommendation'!Y48=\"\",\"\",'Measure Recommendation'!Y48),\"\"))","v":""},{"$f":"IF(Instructions!$F$4=\"Investigation\",\"\",IF(AND(Instructions!$F$4=\"Verification\",$B19=\"Yes\"),IF('Measure Recommendation'!Z48=\"\",\"\",'Measure Recommendation'!Z48),\"\"))","v":""},{"$f":"IF(Instructions!$F$4=\"Investigation\",\"\",IF(AND(Instructions!$F$4=\"Verification\",$B19=\"Yes\"),IF('Measure Recommendation'!AB48=\"\",\"\",'Measure Recommendation'!AB48),\"\"))","v":""},{"$f":"IF(Instructions!$F$4=\"Investigation\",IF('Measure Recommendation'!C24=\"\",\"\",'Measure Recommendation'!C24),IF(AND(Instructions!$F$4=\"Verification\",$B19=\"Yes\"),IF('Measure Recommendation'!C48=\"\",\"\",'Measure Recommendation'!C48),\"\"))","v":""},null,{"$f":"IF(Instructions!$F$4=\"Investigation\",IF('Measure Recommendation'!AE24=\"\",0,'Measure Recommendation'!AE24),IF(AND(Instructions!$F$4=\"Verification\",$B19=\"Yes\"),IF('Measure Recommendation'!AE48=\"\",0,'Measure Recommendation'!AE48),\"\"))","v":""},{"$f":"IF(Instructions!$F$4=\"Investigation\",IF('Measure Recommendation'!AF24=\"\",0,'Measure Recommendation'!AF24),IF(AND(Instructions!$F$4=\"Verification\",$B19=\"Yes\"),IF('Measure Recommendation'!AF48=\"\",0,'Measure Recommendation'!AF48),\"\"))","v":""},{"$f":"IF(Instructions!$F$4=\"Investigation\",IF('Measure Recommendation'!AG24=\"\",0,'Measure Recommendation'!AG24),IF(AND(Instructions!$F$4=\"Verification\",$B19=\"Yes\"),IF('Measure Recommendation'!AG48=\"\",0,'Measure Recommendation'!AG48),\"\"))","v":""},{"$f":"IF(Instructions!$F$4=\"Investigation\",IF('Measure Recommendation'!AH24=\"\",0,'Measure Recommendation'!AH24),IF(AND(Instructions!$F$4=\"Verification\",$B19=\"Yes\"),IF('Measure Recommendation'!AH48=\"\",0,'Measure Recommendation'!AH48),\"\"))","v":""}]
[{"$f":"IF(Instructions!$F$4=\"Investigation\",IF('Measure Recommendation'!A25=\"\",0,'Measure Recommendation'!A25),IF(Instructions!$F$4=\"Verification\",IF('Measure Recommendation'!A49=\"\",0,'Measure Recommendation'!A49)))","v":false},{"$f":"IF(Instructions!$F$4=\"Investigation\",IF('Measure Recommendation'!X25=\"\",\"\",'Measure Recommendation'!X25),IF(AND(Instructions!$F$4=\"Verification\",'Measure Recommendation'!C49=MAX('Measure Recommendation'!$C$41:$C$60)),IF('Measure Recommendation'!X49=\"\",\"\",'Measure Recommendation'!X49),\"\"))","v":""},9,{"$f":"IF(Instructions!$F$4=\"Investigation\",IF('Measure Recommendation'!E25=\"\",\"\",'Measure Recommendation'!E25),IF(Instructions!$F$4=\"Verification\",IF('Measure Recommendation'!E49=\"\",\"\",'Measure Recommendation'!E49)))","v":false},{"$f":"IF(Instructions!$F$4=\"Investigation\",IF('Measure Recommendation'!F25=\"\",\"\",'Measure Recommendation'!F25),IF(Instructions!$F$4=\"Verification\",IF('Measure Recommendation'!F49=\"\",\"\",'Measure Recommendation'!F49)))","v":false},{"$f":"IF(Instructions!$F$4=\"Investigation\",IF('Measure Recommendation'!H25=\"\",\"\",'Measure Recommendation'!H25),IF(Instructions!$F$4=\"Verification\",IF('Measure Recommendation'!H49=\"\",\"\",'Measure Recommendation'!H49)))","v":false},{"$f":"IF(Instructions!$F$4=\"Investigation\",IF('Measure Recommendation'!I25=\"\",\"\",'Measure Recommendation'!I25),IF(Instructions!$F$4=\"Verification\",IF('Measure Recommendation'!I49=\"\",\"\",'Measure Recommendation'!I49)))","v":false},{"$f":"IF(Instructions!$F$4=\"Investigation\",IF('Measure Recommendation'!J25=\"\",\"\",'Measure Recommendation'!J25),IF(Instructions!$F$4=\"Verification\",IF('Measure Recommendation'!J49=\"\",\"\",'Measure Recommendation'!J49)))","v":false},{"$f":"IF(Instructions!$F$4=\"Investigation\",IF('Measure Recommendation'!K25=\"\",0,'Measure Recommendation'!K25),IF(Instructions!$F$4=\"Verification\",IF('Measure Recommendation'!K49=\"\",0,'Measure Recommendation'!K49)))","v":false},{"$f":"IF(Instructions!$F$4=\"Investigation\",IF('Measure Recommendation'!L25=\"\",0,'Measure Recommendation'!L25),IF(Instructions!$F$4=\"Verification\",IF('Measure Recommendation'!L49=\"\",0,'Measure Recommendation'!L49)))","v":false},{"$f":"IF(Instructions!$F$4=\"Investigation\",IF('Measure Recommendation'!M25=\"\",0,'Measure Recommendation'!M25),IF(Instructions!$F$4=\"Verification\",IF('Measure Recommendation'!M49=\"\",0,'Measure Recommendation'!M49)))","v":false},{"$f":"IF(Instructions!$F$4=\"Investigation\",IF('Measure Recommendation'!N25=\"\",0,'Measure Recommendation'!N25),IF(Instructions!$F$4=\"Verification\",IF('Measure Recommendation'!N49=\"\",0,'Measure Recommendation'!N49)))","v":false},{"$f":"IF(Instructions!$F$4=\"Investigation\",IF('Measure Recommendation'!O25=\"\",0,'Measure Recommendation'!O25),IF(Instructions!$F$4=\"Verification\",IF('Measure Recommendation'!O49=\"\",0,'Measure Recommendation'!O49)))","v":false},{"$f":"IF(Instructions!$F$4=\"Investigation\",IF('Measure Recommendation'!P25=\"\",0,'Measure Recommendation'!P25),IF(Instructions!$F$4=\"Verification\",IF('Measure Recommendation'!P49=\"\",0,'Measure Recommendation'!P49)))","v":false},{"$f":"IF(Instructions!$F$4=\"Investigation\",IF('Measure Recommendation'!R25=\"\",0,'Measure Recommendation'!R25),IF(Instructions!$F$4=\"Verification\",IF('Measure Recommendation'!R49=\"\",0,'Measure Recommendation'!R49)))","v":false},{"$f":"IF(Instructions!$F$4=\"Investigation\",IF('Measure Recommendation'!Q25=\"\",0,'Measure Recommendation'!Q25),IF(Instructions!$F$4=\"Verification\",IF('Measure Recommendation'!Q49=\"\",0,'Measure Recommendation'!Q49)))","v":false},{"$f":"IF(Instructions!$F$4=\"Investigation\",IF('Measure Recommendation'!S25=\"\",0,'Measure Recommendation'!S25),IF(Instructions!$F$4=\"Verification\",IF('Measure Recommendation'!S49=\"\",0,'Measure Recommendation'!S49)))","v":false},{"$f":"IF(Instructions!$F$4=\"Investigation\",IF('Measure Recommendation'!U25=\"\",0,'Measure Recommendation'!U25),IF(Instructions!$F$4=\"Verification\",IF('Measure Recommendation'!U49=\"\",0,'Measure Recommendation'!U49)))","v":false},{"$f":"IF(Instructions!$F$4=\"Investigation\",IF('Measure Recommendation'!T25=\"\",0,'Measure Recommendation'!T25),IF(Instructions!$F$4=\"Verification\",IF('Measure Recommendation'!T49=\"\",0,'Measure Recommendation'!T49)))","v":false},{"$f":"IF(Instructions!$F$4=\"Investigation\",IF('Measure Recommendation'!V25=\"\",0,'Measure Recommendation'!V25),IF(Instructions!$F$4=\"Verification\",IF('Measure Recommendation'!V49=\"\",0,'Measure Recommendation'!V49)))","v":false},{"$f":"IF(Instructions!$F$4=\"Investigation\",IF('Measure Recommendation'!W25=\"\",0,'Measure Recommendation'!W25),IF(Instructions!$F$4=\"Verification\",IF('Measure Recommendation'!W49=\"\",0,'Measure Recommendation'!W49)))","v":false},{"$f":"IF(Instructions!$F$4=\"Investigation\",IF('Measure Recommendation'!Y25=\"\",\"\",'Measure Recommendation'!Y25),IF(Instructions!$F$4=\"Verification\",IF('Measure Recommendation'!AA49=\"\",\"\",'Measure Recommendation'!AA49)))","v":false},null,{"$f":"IF(Instructions!$F$4=\"Investigation\",\"\",IF(AND(Instructions!$F$4=\"Verification\",$B20=\"Yes\"),IF('Measure Recommendation'!Y49=\"\",\"\",'Measure Recommendation'!Y49),\"\"))","v":""},{"$f":"IF(Instructions!$F$4=\"Investigation\",\"\",IF(AND(Instructions!$F$4=\"Verification\",$B20=\"Yes\"),IF('Measure Recommendation'!Z49=\"\",\"\",'Measure Recommendation'!Z49),\"\"))","v":""},{"$f":"IF(Instructions!$F$4=\"Investigation\",\"\",IF(AND(Instructions!$F$4=\"Verification\",$B20=\"Yes\"),IF('Measure Recommendation'!AB49=\"\",\"\",'Measure Recommendation'!AB49),\"\"))","v":""},{"$f":"IF(Instructions!$F$4=\"Investigation\",IF('Measure Recommendation'!C25=\"\",\"\",'Measure Recommendation'!C25),IF(AND(Instructions!$F$4=\"Verification\",$B20=\"Yes\"),IF('Measure Recommendation'!C49=\"\",\"\",'Measure Recommendation'!C49),\"\"))","v":""},null,{"$f":"IF(Instructions!$F$4=\"Investigation\",IF('Measure Recommendation'!AE25=\"\",0,'Measure Recommendation'!AE25),IF(AND(Instructions!$F$4=\"Verification\",$B20=\"Yes\"),IF('Measure Recommendation'!AE49=\"\",0,'Measure Recommendation'!AE49),\"\"))","v":""},{"$f":"IF(Instructions!$F$4=\"Investigation\",IF('Measure Recommendation'!AF25=\"\",0,'Measure Recommendation'!AF25),IF(AND(Instructions!$F$4=\"Verification\",$B20=\"Yes\"),IF('Measure Recommendation'!AF49=\"\",0,'Measure Recommendation'!AF49),\"\"))","v":""},{"$f":"IF(Instructions!$F$4=\"Investigation\",IF('Measure Recommendation'!AG25=\"\",0,'Measure Recommendation'!AG25),IF(AND(Instructions!$F$4=\"Verification\",$B20=\"Yes\"),IF('Measure Recommendation'!AG49=\"\",0,'Measure Recommendation'!AG49),\"\"))","v":""},{"$f":"IF(Instructions!$F$4=\"Investigation\",IF('Measure Recommendation'!AH25=\"\",0,'Measure Recommendation'!AH25),IF(AND(Instructions!$F$4=\"Verification\",$B20=\"Yes\"),IF('Measure Recommendation'!AH49=\"\",0,'Measure Recommendation'!AH49),\"\"))","v":""}]
[{"$f":"IF(Instructions!$F$4=\"Investigation\",IF('Measure Recommendation'!A26=\"\",0,'Measure Recommendation'!A26),IF(Instructions!$F$4=\"Verification\",IF('Measure Recommendation'!A50=\"\",0,'Measure Recommendation'!A50)))","v":false},{"$f":"IF(Instructions!$F$4=\"Investigation\",IF('Measure Recommendation'!X26=\"\",\"\",'Measure Recommendation'!X26),IF(AND(Instructions!$F$4=\"Verification\",'Measure Recommendation'!C50=MAX('Measure Recommendation'!$C$41:$C$60)),IF('Measure Recommendation'!X50=\"\",\"\",'Measure Recommendation'!X50),\"\"))","v":""},10,{"$f":"IF(Instructions!$F$4=\"Investigation\",IF('Measure Recommendation'!E26=\"\",\"\",'Measure Recommendation'!E26),IF(Instructions!$F$4=\"Verification\",IF('Measure Recommendation'!E50=\"\",\"\",'Measure Recommendation'!E50)))","v":false},{"$f":"IF(Instructions!$F$4=\"Investigation\",IF('Measure Recommendation'!F26=\"\",\"\",'Measure Recommendation'!F26),IF(Instructions!$F$4=\"Verification\",IF('Measure Recommendation'!F50=\"\",\"\",'Measure Recommendation'!F50)))","v":false},{"$f":"IF(Instructions!$F$4=\"Investigation\",IF('Measure Recommendation'!H26=\"\",\"\",'Measure Recommendation'!H26),IF(Instructions!$F$4=\"Verification\",IF('Measure Recommendation'!H50=\"\",\"\",'Measure Recommendation'!H50)))","v":false},{"$f":"IF(Instructions!$F$4=\"Investigation\",IF('Measure Recommendation'!I26=\"\",\"\",'Measure Recommendation'!I26),IF(Instructions!$F$4=\"Verification\",IF('Measure Recommendation'!I50=\"\",\"\",'Measure Recommendation'!I50)))","v":false},{"$f":"IF(Instructions!$F$4=\"Investigation\",IF('Measure Recommendation'!J26=\"\",\"\",'Measure Recommendation'!J26),IF(Instructions!$F$4=\"Verification\",IF('Measure Recommendation'!J50=\"\",\"\",'Measure Recommendation'!J50)))","v":false},{"$f":"IF(Instructions!$F$4=\"Investigation\",IF('Measure Recommendation'!K26=\"\",0,'Measure Recommendation'!K26),IF(Instructions!$F$4=\"Verification\",IF('Measure Recommendation'!K50=\"\",0,'Measure Recommendation'!K50)))","v":false},{"$f":"IF(Instructions!$F$4=\"Investigation\",IF('Measure Recommendation'!L26=\"\",0,'Measure Recommendation'!L26),IF(Instructions!$F$4=\"Verification\",IF('Measure Recommendation'!L50=\"\",0,'Measure Recommendation'!L50)))","v":false},{"$f":"IF(Instructions!$F$4=\"Investigation\",IF('Measure Recommendation'!M26=\"\",0,'Measure Recommendation'!M26),IF(Instructions!$F$4=\"Verification\",IF('Measure Recommendation'!M50=\"\",0,'Measure Recommendation'!M50)))","v":false},{"$f":"IF(Instructions!$F$4=\"Investigation\",IF('Measure Recommendation'!N26=\"\",0,'Measure Recommendation'!N26),IF(Instructions!$F$4=\"Verification\",IF('Measure Recommendation'!N50=\"\",0,'Measure Recommendation'!N50)))","v":false},{"$f":"IF(Instructions!$F$4=\"Investigation\",IF('Measure Recommendation'!O26=\"\",0,'Measure Recommendation'!O26),IF(Instructions!$F$4=\"Verification\",IF('Measure Recommendation'!O50=\"\",0,'Measure Recommendation'!O50)))","v":false},{"$f":"IF(Instructions!$F$4=\"Investigation\",IF('Measure Recommendation'!P26=\"\",0,'Measure Recommendation'!P26),IF(Instructions!$F$4=\"Verification\",IF('Measure Recommendation'!P50=\"\",0,'Measure Recommendation'!P50)))","v":false},{"$f":"IF(Instructions!$F$4=\"Investigation\",IF('Measure Recommendation'!R26=\"\",0,'Measure Recommendation'!R26),IF(Instructions!$F$4=\"Verification\",IF('Measure Recommendation'!R50=\"\",0,'Measure Recommendation'!R50)))","v":false},{"$f":"IF(Instructions!$F$4=\"Investigation\",IF('Measure Recommendation'!Q26=\"\",0,'Measure Recommendation'!Q26),IF(Instructions!$F$4=\"Verification\",IF('Measure Recommendation'!Q50=\"\",0,'Measure Recommendation'!Q50)))","v":false},{"$f":"IF(Instructions!$F$4=\"Investigation\",IF('Measure Recommendation'!S26=\"\",0,'Measure Recommendation'!S26),IF(Instructions!$F$4=\"Verification\",IF('Measure Recommendation'!S50=\"\",0,'Measure Recommendation'!S50)))","v":false},{"$f":"IF(Instructions!$F$4=\"Investigation\",IF('Measure Recommendation'!U26=\"\",0,'Measure Recommendation'!U26),IF(Instructions!$F$4=\"Verification\",IF('Measure Recommendation'!U50=\"\",0,'Measure Recommendation'!U50)))","v":false},{"$f":"IF(Instructions!$F$4=\"Investigation\",IF('Measure Recommendation'!T26=\"\",0,'Measure Recommendation'!T26),IF(Instructions!$F$4=\"Verification\",IF('Measure Recommendation'!T50=\"\",0,'Measure Recommendation'!T50)))","v":false},{"$f":"IF(Instructions!$F$4=\"Investigation\",IF('Measure Recommendation'!V26=\"\",0,'Measure Recommendation'!V26),IF(Instructions!$F$4=\"Verification\",IF('Measure Recommendation'!V50=\"\",0,'Measure Recommendation'!V50)))","v":false},{"$f":"IF(Instructions!$F$4=\"Investigation\",IF('Measure Recommendation'!W26=\"\",0,'Measure Recommendation'!W26),IF(Instructions!$F$4=\"Verification\",IF('Measure Recommendation'!W50=\"\",0,'Measure Recommendation'!W50)))","v":false},{"$f":"IF(Instructions!$F$4=\"Investigation\",IF('Measure Recommendation'!Y26=\"\",\"\",'Measure Recommendation'!Y26),IF(Instructions!$F$4=\"Verification\",IF('Measure Recommendation'!AA50=\"\",\"\",'Measure Recommendation'!AA50)))","v":false},null,{"$f":"IF(Instructions!$F$4=\"Investigation\",\"\",IF(AND(Instructions!$F$4=\"Verification\",$B21=\"Yes\"),IF('Measure Recommendation'!Y50=\"\",\"\",'Measure Recommendation'!Y50),\"\"))","v":""},{"$f":"IF(Instructions!$F$4=\"Investigation\",\"\",IF(AND(Instructions!$F$4=\"Verification\",$B21=\"Yes\"),IF('Measure Recommendation'!Z50=\"\",\"\",'Measure Recommendation'!Z50),\"\"))","v":""},{"$f":"IF(Instructions!$F$4=\"Investigation\",\"\",IF(AND(Instructions!$F$4=\"Verification\",$B21=\"Yes\"),IF('Measure Recommendation'!AB50=\"\",\"\",'Measure Recommendation'!AB50),\"\"))","v":""},{"$f":"IF(Instructions!$F$4=\"Investigation\",IF('Measure Recommendation'!C26=\"\",\"\",'Measure Recommendation'!C26),IF(AND(Instructions!$F$4=\"Verification\",$B21=\"Yes\"),IF('Measure Recommendation'!C50=\"\",\"\",'Measure Recommendation'!C50),\"\"))","v":""},null,{"$f":"IF(Instructions!$F$4=\"Investigation\",IF('Measure Recommendation'!AE26=\"\",0,'Measure Recommendation'!AE26),IF(AND(Instructions!$F$4=\"Verification\",$B21=\"Yes\"),IF('Measure Recommendation'!AE50=\"\",0,'Measure Recommendation'!AE50),\"\"))","v":""},{"$f":"IF(Instructions!$F$4=\"Investigation\",IF('Measure Recommendation'!AF26=\"\",0,'Measure Recommendation'!AF26),IF(AND(Instructions!$F$4=\"Verification\",$B21=\"Yes\"),IF('Measure Recommendation'!AF50=\"\",0,'Measure Recommendation'!AF50),\"\"))","v":""},{"$f":"IF(Instructions!$F$4=\"Investigation\",IF('Measure Recommendation'!AG26=\"\",0,'Measure Recommendation'!AG26),IF(AND(Instructions!$F$4=\"Verification\",$B21=\"Yes\"),IF('Measure Recommendation'!AG50=\"\",0,'Measure Recommendation'!AG50),\"\"))","v":""},{"$f":"IF(Instructions!$F$4=\"Investigation\",IF('Measure Recommendation'!AH26=\"\",0,'Measure Recommendation'!AH26),IF(AND(Instructions!$F$4=\"Verification\",$B21=\"Yes\"),IF('Measure Recommendation'!AH50=\"\",0,'Measure Recommendation'!AH50),\"\"))","v":""}]
[{"$f":"IF(Instructions!$F$4=\"Investigation\",IF('Measure Recommendation'!A27=\"\",0,'Measure Recommendation'!A27),IF(Instructions!$F$4=\"Verification\",IF('Measure Recommendation'!A51=\"\",0,'Measure Recommendation'!A51)))","v":false},{"$f":"IF(Instructions!$F$4=\"Investigation\",IF('Measure Recommendation'!X27=\"\",\"\",'Measure Recommendation'!X27),IF(AND(Instructions!$F$4=\"Verification\",'Measure Recommendation'!C51=MAX('Measure Recommendation'!$C$41:$C$60)),IF('Measure Recommendation'!X51=\"\",\"\",'Measure Recommendation'!X51),\"\"))","v":""},11,{"$f":"IF(Instructions!$F$4=\"Investigation\",IF('Measure Recommendation'!E27=\"\",\"\",'Measure Recommendation'!E27),IF(Instructions!$F$4=\"Verification\",IF('Measure Recommendation'!E51=\"\",\"\",'Measure Recommendation'!E51)))","v":false},{"$f":"IF(Instructions!$F$4=\"Investigation\",IF('Measure Recommendation'!F27=\"\",\"\",'Measure Recommendation'!F27),IF(Instructions!$F$4=\"Verification\",IF('Measure Recommendation'!F51=\"\",\"\",'Measure Recommendation'!F51)))","v":false},{"$f":"IF(Instructions!$F$4=\"Investigation\",IF('Measure Recommendation'!H27=\"\",\"\",'Measure Recommendation'!H27),IF(Instructions!$F$4=\"Verification\",IF('Measure Recommendation'!H51=\"\",\"\",'Measure Recommendation'!H51)))","v":false},{"$f":"IF(Instructions!$F$4=\"Investigation\",IF('Measure Recommendation'!I27=\"\",\"\",'Measure Recommendation'!I27),IF(Instructions!$F$4=\"Verification\",IF('Measure Recommendation'!I51=\"\",\"\",'Measure Recommendation'!I51)))","v":false},{"$f":"IF(Instructions!$F$4=\"Investigation\",IF('Measure Recommendation'!J27=\"\",\"\",'Measure Recommendation'!J27),IF(Instructions!$F$4=\"Verification\",IF('Measure Recommendation'!J51=\"\",\"\",'Measure Recommendation'!J51)))","v":false},{"$f":"IF(Instructions!$F$4=\"Investigation\",IF('Measure Recommendation'!K27=\"\",0,'Measure Recommendation'!K27),IF(Instructions!$F$4=\"Verification\",IF('Measure Recommendation'!K51=\"\",0,'Measure Recommendation'!K51)))","v":false},{"$f":"IF(Instructions!$F$4=\"Investigation\",IF('Measure Recommendation'!L27=\"\",0,'Measure Recommendation'!L27),IF(Instructions!$F$4=\"Verification\",IF('Measure Recommendation'!L51=\"\",0,'Measure Recommendation'!L51)))","v":false},{"$f":"IF(Instructions!$F$4=\"Investigation\",IF('Measure Recommendation'!M27=\"\",0,'Measure Recommendation'!M27),IF(Instructions!$F$4=\"Verification\",IF('Measure Recommendation'!M51=\"\",0,'Measure Recommendation'!M51)))","v":false},{"$f":"IF(Instructions!$F$4=\"Investigation\",IF('Measure Recommendation'!N27=\"\",0,'Measure Recommendation'!N27),IF(Instructions!$F$4=\"Verification\",IF('Measure Recommendation'!N51=\"\",0,'Measure Recommendation'!N51)))","v":false},{"$f":"IF(Instructions!$F$4=\"Investigation\",IF('Measure Recommendation'!O27=\"\",0,'Measure Recommendation'!O27),IF(Instructions!$F$4=\"Verification\",IF('Measure Recommendation'!O51=\"\",0,'Measure Recommendation'!O51)))","v":false},{"$f":"IF(Instructions!$F$4=\"Investigation\",IF('Measure Recommendation'!P27=\"\",0,'Measure Recommendation'!P27),IF(Instructions!$F$4=\"Verification\",IF('Measure Recommendation'!P51=\"\",0,'Measure Recommendation'!P51)))","v":false},{"$f":"IF(Instructions!$F$4=\"Investigation\",IF('Measure Recommendation'!R27=\"\",0,'Measure Recommendation'!R27),IF(Instructions!$F$4=\"Verification\",IF('Measure Recommendation'!R51=\"\",0,'Measure Recommendation'!R51)))","v":false},{"$f":"IF(Instructions!$F$4=\"Investigation\",IF('Measure Recommendation'!Q27=\"\",0,'Measure Recommendation'!Q27),IF(Instructions!$F$4=\"Verification\",IF('Measure Recommendation'!Q51=\"\",0,'Measure Recommendation'!Q51)))","v":false},{"$f":"IF(Instructions!$F$4=\"Investigation\",IF('Measure Recommendation'!S27=\"\",0,'Measure Recommendation'!S27),IF(Instructions!$F$4=\"Verification\",IF('Measure Recommendation'!S51=\"\",0,'Measure Recommendation'!S51)))","v":false},{"$f":"IF(Instructions!$F$4=\"Investigation\",IF('Measure Recommendation'!U27=\"\",0,'Measure Recommendation'!U27),IF(Instructions!$F$4=\"Verification\",IF('Measure Recommendation'!U51=\"\",0,'Measure Recommendation'!U51)))","v":false},{"$f":"IF(Instructions!$F$4=\"Investigation\",IF('Measure Recommendation'!T27=\"\",0,'Measure Recommendation'!T27),IF(Instructions!$F$4=\"Verification\",IF('Measure Recommendation'!T51=\"\",0,'Measure Recommendation'!T51)))","v":false},{"$f":"IF(Instructions!$F$4=\"Investigation\",IF('Measure Recommendation'!V27=\"\",0,'Measure Recommendation'!V27),IF(Instructions!$F$4=\"Verification\",IF('Measure Recommendation'!V51=\"\",0,'Measure Recommendation'!V51)))","v":false},{"$f":"IF(Instructions!$F$4=\"Investigation\",IF('Measure Recommendation'!W27=\"\",0,'Measure Recommendation'!W27),IF(Instructions!$F$4=\"Verification\",IF('Measure Recommendation'!W51=\"\",0,'Measure Recommendation'!W51)))","v":false},{"$f":"IF(Instructions!$F$4=\"Investigation\",IF('Measure Recommendation'!Y27=\"\",\"\",'Measure Recommendation'!Y27),IF(Instructions!$F$4=\"Verification\",IF('Measure Recommendation'!AA51=\"\",\"\",'Measure Recommendation'!AA51)))","v":false},null,{"$f":"IF(Instructions!$F$4=\"Investigation\",\"\",IF(AND(Instructions!$F$4=\"Verification\",$B22=\"Yes\"),IF('Measure Recommendation'!Y51=\"\",\"\",'Measure Recommendation'!Y51),\"\"))","v":""},{"$f":"IF(Instructions!$F$4=\"Investigation\",\"\",IF(AND(Instructions!$F$4=\"Verification\",$B22=\"Yes\"),IF('Measure Recommendation'!Z51=\"\",\"\",'Measure Recommendation'!Z51),\"\"))","v":""},{"$f":"IF(Instructions!$F$4=\"Investigation\",\"\",IF(AND(Instructions!$F$4=\"Verification\",$B22=\"Yes\"),IF('Measure Recommendation'!AB51=\"\",\"\",'Measure Recommendation'!AB51),\"\"))","v":""},{"$f":"IF(Instructions!$F$4=\"Investigation\",IF('Measure Recommendation'!C27=\"\",\"\",'Measure Recommendation'!C27),IF(AND(Instructions!$F$4=\"Verification\",$B22=\"Yes\"),IF('Measure Recommendation'!C51=\"\",\"\",'Measure Recommendation'!C51),\"\"))","v":""},null,{"$f":"IF(Instructions!$F$4=\"Investigation\",IF('Measure Recommendation'!AE27=\"\",0,'Measure Recommendation'!AE27),IF(AND(Instructions!$F$4=\"Verification\",$B22=\"Yes\"),IF('Measure Recommendation'!AE51=\"\",0,'Measure Recommendation'!AE51),\"\"))","v":""},{"$f":"IF(Instructions!$F$4=\"Investigation\",IF('Measure Recommendation'!AF27=\"\",0,'Measure Recommendation'!AF27),IF(AND(Instructions!$F$4=\"Verification\",$B22=\"Yes\"),IF('Measure Recommendation'!AF51=\"\",0,'Measure Recommendation'!AF51),\"\"))","v":""},{"$f":"IF(Instructions!$F$4=\"Investigation\",IF('Measure Recommendation'!AG27=\"\",0,'Measure Recommendation'!AG27),IF(AND(Instructions!$F$4=\"Verification\",$B22=\"Yes\"),IF('Measure Recommendation'!AG51=\"\",0,'Measure Recommendation'!AG51),\"\"))","v":""},{"$f":"IF(Instructions!$F$4=\"Investigation\",IF('Measure Recommendation'!AH27=\"\",0,'Measure Recommendation'!AH27),IF(AND(Instructions!$F$4=\"Verification\",$B22=\"Yes\"),IF('Measure Recommendation'!AH51=\"\",0,'Measure Recommendation'!AH51),\"\"))","v":""}]
[{"$f":"IF(Instructions!$F$4=\"Investigation\",IF('Measure Recommendation'!A28=\"\",0,'Measure Recommendation'!A28),IF(Instructions!$F$4=\"Verification\",IF('Measure Recommendation'!A52=\"\",0,'Measure Recommendation'!A52)))","v":false},{"$f":"IF(Instructions!$F$4=\"Investigation\",IF('Measure Recommendation'!X28=\"\",\"\",'Measure Recommendation'!X28),IF(AND(Instructions!$F$4=\"Verification\",'Measure Recommendation'!C52=MAX('Measure Recommendation'!$C$41:$C$60)),IF('Measure Recommendation'!X52=\"\",\"\",'Measure Recommendation'!X52),\"\"))","v":""},12,{"$f":"IF(Instructions!$F$4=\"Investigation\",IF('Measure Recommendation'!E28=\"\",\"\",'Measure Recommendation'!E28),IF(Instructions!$F$4=\"Verification\",IF('Measure Recommendation'!E52=\"\",\"\",'Measure Recommendation'!E52)))","v":false},{"$f":"IF(Instructions!$F$4=\"Investigation\",IF('Measure Recommendation'!F28=\"\",\"\",'Measure Recommendation'!F28),IF(Instructions!$F$4=\"Verification\",IF('Measure Recommendation'!F52=\"\",\"\",'Measure Recommendation'!F52)))","v":false},{"$f":"IF(Instructions!$F$4=\"Investigation\",IF('Measure Recommendation'!H28=\"\",\"\",'Measure Recommendation'!H28),IF(Instructions!$F$4=\"Verification\",IF('Measure Recommendation'!H52=\"\",\"\",'Measure Recommendation'!H52)))","v":false},{"$f":"IF(Instructions!$F$4=\"Investigation\",IF('Measure Recommendation'!I28=\"\",\"\",'Measure Recommendation'!I28),IF(Instructions!$F$4=\"Verification\",IF('Measure Recommendation'!I52=\"\",\"\",'Measure Recommendation'!I52)))","v":false},{"$f":"IF(Instructions!$F$4=\"Investigation\",IF('Measure Recommendation'!J28=\"\",\"\",'Measure Recommendation'!J28),IF(Instructions!$F$4=\"Verification\",IF('Measure Recommendation'!J52=\"\",\"\",'Measure Recommendation'!J52)))","v":false},{"$f":"IF(Instructions!$F$4=\"Investigation\",IF('Measure Recommendation'!K28=\"\",0,'Measure Recommendation'!K28),IF(Instructions!$F$4=\"Verification\",IF('Measure Recommendation'!K52=\"\",0,'Measure Recommendation'!K52)))","v":false},{"$f":"IF(Instructions!$F$4=\"Investigation\",IF('Measure Recommendation'!L28=\"\",0,'Measure Recommendation'!L28),IF(Instructions!$F$4=\"Verification\",IF('Measure Recommendation'!L52=\"\",0,'Measure Recommendation'!L52)))","v":false},{"$f":"IF(Instructions!$F$4=\"Investigation\",IF('Measure Recommendation'!M28=\"\",0,'Measure Recommendation'!M28),IF(Instructions!$F$4=\"Verification\",IF('Measure Recommendation'!M52=\"\",0,'Measure Recommendation'!M52)))","v":false},{"$f":"IF(Instructions!$F$4=\"Investigation\",IF('Measure Recommendation'!N28=\"\",0,'Measure Recommendation'!N28),IF(Instructions!$F$4=\"Verification\",IF('Measure Recommendation'!N52=\"\",0,'Measure Recommendation'!N52)))","v":false},{"$f":"IF(Instructions!$F$4=\"Investigation\",IF('Measure Recommendation'!O28=\"\",0,'Measure Recommendation'!O28),IF(Instructions!$F$4=\"Verification\",IF('Measure Recommendation'!O52=\"\",0,'Measure Recommendation'!O52)))","v":false},{"$f":"IF(Instructions!$F$4=\"Investigation\",IF('Measure Recommendation'!P28=\"\",0,'Measure Recommendation'!P28),IF(Instructions!$F$4=\"Verification\",IF('Measure Recommendation'!P52=\"\",0,'Measure Recommendation'!P52)))","v":false},{"$f":"IF(Instructions!$F$4=\"Investigation\",IF('Measure Recommendation'!R28=\"\",0,'Measure Recommendation'!R28),IF(Instructions!$F$4=\"Verification\",IF('Measure Recommendation'!R52=\"\",0,'Measure Recommendation'!R52)))","v":false},{"$f":"IF(Instructions!$F$4=\"Investigation\",IF('Measure Recommendation'!Q28=\"\",0,'Measure Recommendation'!Q28),IF(Instructions!$F$4=\"Verification\",IF('Measure Recommendation'!Q52=\"\",0,'Measure Recommendation'!Q52)))","v":false},{"$f":"IF(Instructions!$F$4=\"Investigation\",IF('Measure Recommendation'!S28=\"\",0,'Measure Recommendation'!S28),IF(Instructions!$F$4=\"Verification\",IF('Measure Recommendation'!S52=\"\",0,'Measure Recommendation'!S52)))","v":false},{"$f":"IF(Instructions!$F$4=\"Investigation\",IF('Measure Recommendation'!U28=\"\",0,'Measure Recommendation'!U28),IF(Instructions!$F$4=\"Verification\",IF('Measure Recommendation'!U52=\"\",0,'Measure Recommendation'!U52)))","v":false},{"$f":"IF(Instructions!$F$4=\"Investigation\",IF('Measure Recommendation'!T28=\"\",0,'Measure Recommendation'!T28),IF(Instructions!$F$4=\"Verification\",IF('Measure Recommendation'!T52=\"\",0,'Measure Recommendation'!T52)))","v":false},{"$f":"IF(Instructions!$F$4=\"Investigation\",IF('Measure Recommendation'!V28=\"\",0,'Measure Recommendation'!V28),IF(Instructions!$F$4=\"Verification\",IF('Measure Recommendation'!V52=\"\",0,'Measure Recommendation'!V52)))","v":false},{"$f":"IF(Instructions!$F$4=\"Investigation\",IF('Measure Recommendation'!W28=\"\",0,'Measure Recommendation'!W28),IF(Instructions!$F$4=\"Verification\",IF('Measure Recommendation'!W52=\"\",0,'Measure Recommendation'!W52)))","v":false},{"$f":"IF(Instructions!$F$4=\"Investigation\",IF('Measure Recommendation'!Y28=\"\",\"\",'Measure Recommendation'!Y28),IF(Instructions!$F$4=\"Verification\",IF('Measure Recommendation'!AA52=\"\",\"\",'Measure Recommendation'!AA52)))","v":false},null,{"$f":"IF(Instructions!$F$4=\"Investigation\",\"\",IF(AND(Instructions!$F$4=\"Verification\",$B23=\"Yes\"),IF('Measure Recommendation'!Y52=\"\",\"\",'Measure Recommendation'!Y52),\"\"))","v":""},{"$f":"IF(Instructions!$F$4=\"Investigation\",\"\",IF(AND(Instructions!$F$4=\"Verification\",$B23=\"Yes\"),IF('Measure Recommendation'!Z52=\"\",\"\",'Measure Recommendation'!Z52),\"\"))","v":""},{"$f":"IF(Instructions!$F$4=\"Investigation\",\"\",IF(AND(Instructions!$F$4=\"Verification\",$B23=\"Yes\"),IF('Measure Recommendation'!AB52=\"\",\"\",'Measure Recommendation'!AB52),\"\"))","v":""},{"$f":"IF(Instructions!$F$4=\"Investigation\",IF('Measure Recommendation'!C28=\"\",\"\",'Measure Recommendation'!C28),IF(AND(Instructions!$F$4=\"Verification\",$B23=\"Yes\"),IF('Measure Recommendation'!C52=\"\",\"\",'Measure Recommendation'!C52),\"\"))","v":""},null,{"$f":"IF(Instructions!$F$4=\"Investigation\",IF('Measure Recommendation'!AE28=\"\",0,'Measure Recommendation'!AE28),IF(AND(Instructions!$F$4=\"Verification\",$B23=\"Yes\"),IF('Measure Recommendation'!AE52=\"\",0,'Measure Recommendation'!AE52),\"\"))","v":""},{"$f":"IF(Instructions!$F$4=\"Investigation\",IF('Measure Recommendation'!AF28=\"\",0,'Measure Recommendation'!AF28),IF(AND(Instructions!$F$4=\"Verification\",$B23=\"Yes\"),IF('Measure Recommendation'!AF52=\"\",0,'Measure Recommendation'!AF52),\"\"))","v":""},{"$f":"IF(Instructions!$F$4=\"Investigation\",IF('Measure Recommendation'!AG28=\"\",0,'Measure Recommendation'!AG28),IF(AND(Instructions!$F$4=\"Verification\",$B23=\"Yes\"),IF('Measure Recommendation'!AG52=\"\",0,'Measure Recommendation'!AG52),\"\"))","v":""},{"$f":"IF(Instructions!$F$4=\"Investigation\",IF('Measure Recommendation'!AH28=\"\",0,'Measure Recommendation'!AH28),IF(AND(Instructions!$F$4=\"Verification\",$B23=\"Yes\"),IF('Measure Recommendation'!AH52=\"\",0,'Measure Recommendation'!AH52),\"\"))","v":""}]
[{"$f":"IF(Instructions!$F$4=\"Investigation\",IF('Measure Recommendation'!A29=\"\",0,'Measure Recommendation'!A29),IF(Instructions!$F$4=\"Verification\",IF('Measure Recommendation'!A53=\"\",0,'Measure Recommendation'!A53)))","v":false},{"$f":"IF(Instructions!$F$4=\"Investigation\",IF('Measure Recommendation'!X29=\"\",\"\",'Measure Recommendation'!X29),IF(AND(Instructions!$F$4=\"Verification\",'Measure Recommendation'!C53=MAX('Measure Recommendation'!$C$41:$C$60)),IF('Measure Recommendation'!X53=\"\",\"\",'Measure Recommendation'!X53),\"\"))","v":""},13,{"$f":"IF(Instructions!$F$4=\"Investigation\",IF('Measure Recommendation'!E29=\"\",\"\",'Measure Recommendation'!E29),IF(Instructions!$F$4=\"Verification\",IF('Measure Recommendation'!E53=\"\",\"\",'Measure Recommendation'!E53)))","v":false},{"$f":"IF(Instructions!$F$4=\"Investigation\",IF('Measure Recommendation'!F29=\"\",\"\",'Measure Recommendation'!F29),IF(Instructions!$F$4=\"Verification\",IF('Measure Recommendation'!F53=\"\",\"\",'Measure Recommendation'!F53)))","v":false},{"$f":"IF(Instructions!$F$4=\"Investigation\",IF('Measure Recommendation'!H29=\"\",\"\",'Measure Recommendation'!H29),IF(Instructions!$F$4=\"Verification\",IF('Measure Recommendation'!H53=\"\",\"\",'Measure Recommendation'!H53)))","v":false},{"$f":"IF(Instructions!$F$4=\"Investigation\",IF('Measure Recommendation'!I29=\"\",\"\",'Measure Recommendation'!I29),IF(Instructions!$F$4=\"Verification\",IF('Measure Recommendation'!I53=\"\",\"\",'Measure Recommendation'!I53)))","v":false},{"$f":"IF(Instructions!$F$4=\"Investigation\",IF('Measure Recommendation'!J29=\"\",\"\",'Measure Recommendation'!J29),IF(Instructions!$F$4=\"Verification\",IF('Measure Recommendation'!J53=\"\",\"\",'Measure Recommendation'!J53)))","v":false},{"$f":"IF(Instructions!$F$4=\"Investigation\",IF('Measure Recommendation'!K29=\"\",0,'Measure Recommendation'!K29),IF(Instructions!$F$4=\"Verification\",IF('Measure Recommendation'!K53=\"\",0,'Measure Recommendation'!K53)))","v":false},{"$f":"IF(Instructions!$F$4=\"Investigation\",IF('Measure Recommendation'!L29=\"\",0,'Measure Recommendation'!L29),IF(Instructions!$F$4=\"Verification\",IF('Measure Recommendation'!L53=\"\",0,'Measure Recommendation'!L53)))","v":false},{"$f":"IF(Instructions!$F$4=\"Investigation\",IF('Measure Recommendation'!M29=\"\",0,'Measure Recommendation'!M29),IF(Instructions!$F$4=\"Verification\",IF('Measure Recommendation'!M53=\"\",0,'Measure Recommendation'!M53)))","v":false},{"$f":"IF(Instructions!$F$4=\"Investigation\",IF('Measure Recommendation'!N29=\"\",0,'Measure Recommendation'!N29),IF(Instructions!$F$4=\"Verification\",IF('Measure Recommendation'!N53=\"\",0,'Measure Recommendation'!N53)))","v":false},{"$f":"IF(Instructions!$F$4=\"Investigation\",IF('Measure Recommendation'!O29=\"\",0,'Measure Recommendation'!O29),IF(Instructions!$F$4=\"Verification\",IF('Measure Recommendation'!O53=\"\",0,'Measure Recommendation'!O53)))","v":false},{"$f":"IF(Instructions!$F$4=\"Investigation\",IF('Measure Recommendation'!P29=\"\",0,'Measure Recommendation'!P29),IF(Instructions!$F$4=\"Verification\",IF('Measure Recommendation'!P53=\"\",0,'Measure Recommendation'!P53)))","v":false},{"$f":"IF(Instructions!$F$4=\"Investigation\",IF('Measure Recommendation'!R29=\"\",0,'Measure Recommendation'!R29),IF(Instructions!$F$4=\"Verification\",IF('Measure Recommendation'!R53=\"\",0,'Measure Recommendation'!R53)))","v":false},{"$f":"IF(Instructions!$F$4=\"Investigation\",IF('Measure Recommendation'!Q29=\"\",0,'Measure Recommendation'!Q29),IF(Instructions!$F$4=\"Verification\",IF('Measure Recommendation'!Q53=\"\",0,'Measure Recommendation'!Q53)))","v":false},{"$f":"IF(Instructions!$F$4=\"Investigation\",IF('Measure Recommendation'!S29=\"\",0,'Measure Recommendation'!S29),IF(Instructions!$F$4=\"Verification\",IF('Measure Recommendation'!S53=\"\",0,'Measure Recommendation'!S53)))","v":false},{"$f":"IF(Instructions!$F$4=\"Investigation\",IF('Measure Recommendation'!U29=\"\",0,'Measure Recommendation'!U29),IF(Instructions!$F$4=\"Verification\",IF('Measure Recommendation'!U53=\"\",0,'Measure Recommendation'!U53)))","v":false},{"$f":"IF(Instructions!$F$4=\"Investigation\",IF('Measure Recommendation'!T29=\"\",0,'Measure Recommendation'!T29),IF(Instructions!$F$4=\"Verification\",IF('Measure Recommendation'!T53=\"\",0,'Measure Recommendation'!T53)))","v":false},{"$f":"IF(Instructions!$F$4=\"Investigation\",IF('Measure Recommendation'!V29=\"\",0,'Measure Recommendation'!V29),IF(Instructions!$F$4=\"Verification\",IF('Measure Recommendation'!V53=\"\",0,'Measure Recommendation'!V53)))","v":false},{"$f":"IF(Instructions!$F$4=\"Investigation\",IF('Measure Recommendation'!W29=\"\",0,'Measure Recommendation'!W29),IF(Instructions!$F$4=\"Verification\",IF('Measure Recommendation'!W53=\"\",0,'Measure Recommendation'!W53)))","v":false},{"$f":"IF(Instructions!$F$4=\"Investigation\",IF('Measure Recommendation'!Y29=\"\",\"\",'Measure Recommendation'!Y29),IF(Instructions!$F$4=\"Verification\",IF('Measure Recommendation'!AA53=\"\",\"\",'Measure Recommendation'!AA53)))","v":false},null,{"$f":"IF(Instructions!$F$4=\"Investigation\",\"\",IF(AND(Instructions!$F$4=\"Verification\",$B24=\"Yes\"),IF('Measure Recommendation'!Y53=\"\",\"\",'Measure Recommendation'!Y53),\"\"))","v":""},{"$f":"IF(Instructions!$F$4=\"Investigation\",\"\",IF(AND(Instructions!$F$4=\"Verification\",$B24=\"Yes\"),IF('Measure Recommendation'!Z53=\"\",\"\",'Measure Recommendation'!Z53),\"\"))","v":""},{"$f":"IF(Instructions!$F$4=\"Investigation\",\"\",IF(AND(Instructions!$F$4=\"Verification\",$B24=\"Yes\"),IF('Measure Recommendation'!AB53=\"\",\"\",'Measure Recommendation'!AB53),\"\"))","v":""},{"$f":"IF(Instructions!$F$4=\"Investigation\",IF('Measure Recommendation'!C29=\"\",\"\",'Measure Recommendation'!C29),IF(AND(Instructions!$F$4=\"Verification\",$B24=\"Yes\"),IF('Measure Recommendation'!C53=\"\",\"\",'Measure Recommendation'!C53),\"\"))","v":""},null,{"$f":"IF(Instructions!$F$4=\"Investigation\",IF('Measure Recommendation'!AE29=\"\",0,'Measure Recommendation'!AE29),IF(AND(Instructions!$F$4=\"Verification\",$B24=\"Yes\"),IF('Measure Recommendation'!AE53=\"\",0,'Measure Recommendation'!AE53),\"\"))","v":""},{"$f":"IF(Instructions!$F$4=\"Investigation\",IF('Measure Recommendation'!AF29=\"\",0,'Measure Recommendation'!AF29),IF(AND(Instructions!$F$4=\"Verification\",$B24=\"Yes\"),IF('Measure Recommendation'!AF53=\"\",0,'Measure Recommendation'!AF53),\"\"))","v":""},{"$f":"IF(Instructions!$F$4=\"Investigation\",IF('Measure Recommendation'!AG29=\"\",0,'Measure Recommendation'!AG29),IF(AND(Instructions!$F$4=\"Verification\",$B24=\"Yes\"),IF('Measure Recommendation'!AG53=\"\",0,'Measure Recommendation'!AG53),\"\"))","v":""},{"$f":"IF(Instructions!$F$4=\"Investigation\",IF('Measure Recommendation'!AH29=\"\",0,'Measure Recommendation'!AH29),IF(AND(Instructions!$F$4=\"Verification\",$B24=\"Yes\"),IF('Measure Recommendation'!AH53=\"\",0,'Measure Recommendation'!AH53),\"\"))","v":""}]
[{"$f":"IF(Instructions!$F$4=\"Investigation\",IF('Measure Recommendation'!A30=\"\",0,'Measure Recommendation'!A30),IF(Instructions!$F$4=\"Verification\",IF('Measure Recommendation'!A54=\"\",0,'Measure Recommendation'!A54)))","v":false},{"$f":"IF(Instructions!$F$4=\"Investigation\",IF('Measure Recommendation'!X30=\"\",\"\",'Measure Recommendation'!X30),IF(AND(Instructions!$F$4=\"Verification\",'Measure Recommendation'!C54=MAX('Measure Recommendation'!$C$41:$C$60)),IF('Measure Recommendation'!X54=\"\",\"\",'Measure Recommendation'!X54),\"\"))","v":""},14,{"$f":"IF(Instructions!$F$4=\"Investigation\",IF('Measure Recommendation'!E30=\"\",\"\",'Measure Recommendation'!E30),IF(Instructions!$F$4=\"Verification\",IF('Measure Recommendation'!E54=\"\",\"\",'Measure Recommendation'!E54)))","v":false},{"$f":"IF(Instructions!$F$4=\"Investigation\",IF('Measure Recommendation'!F30=\"\",\"\",'Measure Recommendation'!F30),IF(Instructions!$F$4=\"Verification\",IF('Measure Recommendation'!F54=\"\",\"\",'Measure Recommendation'!F54)))","v":false},{"$f":"IF(Instructions!$F$4=\"Investigation\",IF('Measure Recommendation'!H30=\"\",\"\",'Measure Recommendation'!H30),IF(Instructions!$F$4=\"Verification\",IF('Measure Recommendation'!H54=\"\",\"\",'Measure Recommendation'!H54)))","v":false},{"$f":"IF(Instructions!$F$4=\"Investigation\",IF('Measure Recommendation'!I30=\"\",\"\",'Measure Recommendation'!I30),IF(Instructions!$F$4=\"Verification\",IF('Measure Recommendation'!I54=\"\",\"\",'Measure Recommendation'!I54)))","v":false},{"$f":"IF(Instructions!$F$4=\"Investigation\",IF('Measure Recommendation'!J30=\"\",\"\",'Measure Recommendation'!J30),IF(Instructions!$F$4=\"Verification\",IF('Measure Recommendation'!J54=\"\",\"\",'Measure Recommendation'!J54)))","v":false},{"$f":"IF(Instructions!$F$4=\"Investigation\",IF('Measure Recommendation'!K30=\"\",0,'Measure Recommendation'!K30),IF(Instructions!$F$4=\"Verification\",IF('Measure Recommendation'!K54=\"\",0,'Measure Recommendation'!K54)))","v":false},{"$f":"IF(Instructions!$F$4=\"Investigation\",IF('Measure Recommendation'!L30=\"\",0,'Measure Recommendation'!L30),IF(Instructions!$F$4=\"Verification\",IF('Measure Recommendation'!L54=\"\",0,'Measure Recommendation'!L54)))","v":false},{"$f":"IF(Instructions!$F$4=\"Investigation\",IF('Measure Recommendation'!M30=\"\",0,'Measure Recommendation'!M30),IF(Instructions!$F$4=\"Verification\",IF('Measure Recommendation'!M54=\"\",0,'Measure Recommendation'!M54)))","v":false},{"$f":"IF(Instructions!$F$4=\"Investigation\",IF('Measure Recommendation'!N30=\"\",0,'Measure Recommendation'!N30),IF(Instructions!$F$4=\"Verification\",IF('Measure Recommendation'!N54=\"\",0,'Measure Recommendation'!N54)))","v":false},{"$f":"IF(Instructions!$F$4=\"Investigation\",IF('Measure Recommendation'!O30=\"\",0,'Measure Recommendation'!O30),IF(Instructions!$F$4=\"Verification\",IF('Measure Recommendation'!O54=\"\",0,'Measure Recommendation'!O54)))","v":false},{"$f":"IF(Instructions!$F$4=\"Investigation\",IF('Measure Recommendation'!P30=\"\",0,'Measure Recommendation'!P30),IF(Instructions!$F$4=\"Verification\",IF('Measure Recommendation'!P54=\"\",0,'Measure Recommendation'!P54)))","v":false},{"$f":"IF(Instructions!$F$4=\"Investigation\",IF('Measure Recommendation'!R30=\"\",0,'Measure Recommendation'!R30),IF(Instructions!$F$4=\"Verification\",IF('Measure Recommendation'!R54=\"\",0,'Measure Recommendation'!R54)))","v":false},{"$f":"IF(Instructions!$F$4=\"Investigation\",IF('Measure Recommendation'!Q30=\"\",0,'Measure Recommendation'!Q30),IF(Instructions!$F$4=\"Verification\",IF('Measure Recommendation'!Q54=\"\",0,'Measure Recommendation'!Q54)))","v":false},{"$f":"IF(Instructions!$F$4=\"Investigation\",IF('Measure Recommendation'!S30=\"\",0,'Measure Recommendation'!S30),IF(Instructions!$F$4=\"Verification\",IF('Measure Recommendation'!S54=\"\",0,'Measure Recommendation'!S54)))","v":false},{"$f":"IF(Instructions!$F$4=\"Investigation\",IF('Measure Recommendation'!U30=\"\",0,'Measure Recommendation'!U30),IF(Instructions!$F$4=\"Verification\",IF('Measure Recommendation'!U54=\"\",0,'Measure Recommendation'!U54)))","v":false},{"$f":"IF(Instructions!$F$4=\"Investigation\",IF('Measure Recommendation'!T30=\"\",0,'Measure Recommendation'!T30),IF(Instructions!$F$4=\"Verification\",IF('Measure Recommendation'!T54=\"\",0,'Measure Recommendation'!T54)))","v":false},{"$f":"IF(Instructions!$F$4=\"Investigation\",IF('Measure Recommendation'!V30=\"\",0,'Measure Recommendation'!V30),IF(Instructions!$F$4=\"Verification\",IF('Measure Recommendation'!V54=\"\",0,'Measure Recommendation'!V54)))","v":false},{"$f":"IF(Instructions!$F$4=\"Investigation\",IF('Measure Recommendation'!W30=\"\",0,'Measure Recommendation'!W30),IF(Instructions!$F$4=\"Verification\",IF('Measure Recommendation'!W54=\"\",0,'Measure Recommendation'!W54)))","v":false},{"$f":"IF(Instructions!$F$4=\"Investigation\",IF('Measure Recommendation'!Y30=\"\",\"\",'Measure Recommendation'!Y30),IF(Instructions!$F$4=\"Verification\",IF('Measure Recommendation'!AA54=\"\",\"\",'Measure Recommendation'!AA54)))","v":false},null,{"$f":"IF(Instructions!$F$4=\"Investigation\",\"\",IF(AND(Instructions!$F$4=\"Verification\",$B25=\"Yes\"),IF('Measure Recommendation'!Y54=\"\",\"\",'Measure Recommendation'!Y54),\"\"))","v":""},{"$f":"IF(Instructions!$F$4=\"Investigation\",\"\",IF(AND(Instructions!$F$4=\"Verification\",$B25=\"Yes\"),IF('Measure Recommendation'!Z54=\"\",\"\",'Measure Recommendation'!Z54),\"\"))","v":""},{"$f":"IF(Instructions!$F$4=\"Investigation\",\"\",IF(AND(Instructions!$F$4=\"Verification\",$B25=\"Yes\"),IF('Measure Recommendation'!AB54=\"\",\"\",'Measure Recommendation'!AB54),\"\"))","v":""},{"$f":"IF(Instructions!$F$4=\"Investigation\",IF('Measure Recommendation'!C30=\"\",\"\",'Measure Recommendation'!C30),IF(AND(Instructions!$F$4=\"Verification\",$B25=\"Yes\"),IF('Measure Recommendation'!C54=\"\",\"\",'Measure Recommendation'!C54),\"\"))","v":""},null,{"$f":"IF(Instructions!$F$4=\"Investigation\",IF('Measure Recommendation'!AE30=\"\",0,'Measure Recommendation'!AE30),IF(AND(Instructions!$F$4=\"Verification\",$B25=\"Yes\"),IF('Measure Recommendation'!AE54=\"\",0,'Measure Recommendation'!AE54),\"\"))","v":""},{"$f":"IF(Instructions!$F$4=\"Investigation\",IF('Measure Recommendation'!AF30=\"\",0,'Measure Recommendation'!AF30),IF(AND(Instructions!$F$4=\"Verification\",$B25=\"Yes\"),IF('Measure Recommendation'!AF54=\"\",0,'Measure Recommendation'!AF54),\"\"))","v":""},{"$f":"IF(Instructions!$F$4=\"Investigation\",IF('Measure Recommendation'!AG30=\"\",0,'Measure Recommendation'!AG30),IF(AND(Instructions!$F$4=\"Verification\",$B25=\"Yes\"),IF('Measure Recommendation'!AG54=\"\",0,'Measure Recommendation'!AG54),\"\"))","v":""},{"$f":"IF(Instructions!$F$4=\"Investigation\",IF('Measure Recommendation'!AH30=\"\",0,'Measure Recommendation'!AH30),IF(AND(Instructions!$F$4=\"Verification\",$B25=\"Yes\"),IF('Measure Recommendation'!AH54=\"\",0,'Measure Recommendation'!AH54),\"\"))","v":""}]
[{"$f":"IF(Instructions!$F$4=\"Investigation\",IF('Measure Recommendation'!A31=\"\",0,'Measure Recommendation'!A31),IF(Instructions!$F$4=\"Verification\",IF('Measure Recommendation'!A55=\"\",0,'Measure Recommendation'!A55)))","v":false},{"$f":"IF(Instructions!$F$4=\"Investigation\",IF('Measure Recommendation'!X31=\"\",\"\",'Measure Recommendation'!X31),IF(AND(Instructions!$F$4=\"Verification\",'Measure Recommendation'!C55=MAX('Measure Recommendation'!$C$41:$C$60)),IF('Measure Recommendation'!X55=\"\",\"\",'Measure Recommendation'!X55),\"\"))","v":""},15,{"$f":"IF(Instructions!$F$4=\"Investigation\",IF('Measure Recommendation'!E31=\"\",\"\",'Measure Recommendation'!E31),IF(Instructions!$F$4=\"Verification\",IF('Measure Recommendation'!E55=\"\",\"\",'Measure Recommendation'!E55)))","v":false},{"$f":"IF(Instructions!$F$4=\"Investigation\",IF('Measure Recommendation'!F31=\"\",\"\",'Measure Recommendation'!F31),IF(Instructions!$F$4=\"Verification\",IF('Measure Recommendation'!F55=\"\",\"\",'Measure Recommendation'!F55)))","v":false},{"$f":"IF(Instructions!$F$4=\"Investigation\",IF('Measure Recommendation'!H31=\"\",\"\",'Measure Recommendation'!H31),IF(Instructions!$F$4=\"Verification\",IF('Measure Recommendation'!H55=\"\",\"\",'Measure Recommendation'!H55)))","v":false},{"$f":"IF(Instructions!$F$4=\"Investigation\",IF('Measure Recommendation'!I31=\"\",\"\",'Measure Recommendation'!I31),IF(Instructions!$F$4=\"Verification\",IF('Measure Recommendation'!I55=\"\",\"\",'Measure Recommendation'!I55)))","v":false},{"$f":"IF(Instructions!$F$4=\"Investigation\",IF('Measure Recommendation'!J31=\"\",\"\",'Measure Recommendation'!J31),IF(Instructions!$F$4=\"Verification\",IF('Measure Recommendation'!J55=\"\",\"\",'Measure Recommendation'!J55)))","v":false},{"$f":"IF(Instructions!$F$4=\"Investigation\",IF('Measure Recommendation'!K31=\"\",0,'Measure Recommendation'!K31),IF(Instructions!$F$4=\"Verification\",IF('Measure Recommendation'!K55=\"\",0,'Measure Recommendation'!K55)))","v":false},{"$f":"IF(Instructions!$F$4=\"Investigation\",IF('Measure Recommendation'!L31=\"\",0,'Measure Recommendation'!L31),IF(Instructions!$F$4=\"Verification\",IF('Measure Recommendation'!L55=\"\",0,'Measure Recommendation'!L55)))","v":false},{"$f":"IF(Instructions!$F$4=\"Investigation\",IF('Measure Recommendation'!M31=\"\",0,'Measure Recommendation'!M31),IF(Instructions!$F$4=\"Verification\",IF('Measure Recommendation'!M55=\"\",0,'Measure Recommendation'!M55)))","v":false},{"$f":"IF(Instructions!$F$4=\"Investigation\",IF('Measure Recommendation'!N31=\"\",0,'Measure Recommendation'!N31),IF(Instructions!$F$4=\"Verification\",IF('Measure Recommendation'!N55=\"\",0,'Measure Recommendation'!N55)))","v":false},{"$f":"IF(Instructions!$F$4=\"Investigation\",IF('Measure Recommendation'!O31=\"\",0,'Measure Recommendation'!O31),IF(Instructions!$F$4=\"Verification\",IF('Measure Recommendation'!O55=\"\",0,'Measure Recommendation'!O55)))","v":false},{"$f":"IF(Instructions!$F$4=\"Investigation\",IF('Measure Recommendation'!P31=\"\",0,'Measure Recommendation'!P31),IF(Instructions!$F$4=\"Verification\",IF('Measure Recommendation'!P55=\"\",0,'Measure Recommendation'!P55)))","v":false},{"$f":"IF(Instructions!$F$4=\"Investigation\",IF('Measure Recommendation'!R31=\"\",0,'Measure Recommendation'!R31),IF(Instructions!$F$4=\"Verification\",IF('Measure Recommendation'!R55=\"\",0,'Measure Recommendation'!R55)))","v":false},{"$f":"IF(Instructions!$F$4=\"Investigation\",IF('Measure Recommendation'!Q31=\"\",0,'Measure Recommendation'!Q31),IF(Instructions!$F$4=\"Verification\",IF('Measure Recommendation'!Q55=\"\",0,'Measure Recommendation'!Q55)))","v":false},{"$f":"IF(Instructions!$F$4=\"Investigation\",IF('Measure Recommendation'!S31=\"\",0,'Measure Recommendation'!S31),IF(Instructions!$F$4=\"Verification\",IF('Measure Recommendation'!S55=\"\",0,'Measure Recommendation'!S55)))","v":false},{"$f":"IF(Instructions!$F$4=\"Investigation\",IF('Measure Recommendation'!U31=\"\",0,'Measure Recommendation'!U31),IF(Instructions!$F$4=\"Verification\",IF('Measure Recommendation'!U55=\"\",0,'Measure Recommendation'!U55)))","v":false},{"$f":"IF(Instructions!$F$4=\"Investigation\",IF('Measure Recommendation'!T31=\"\",0,'Measure Recommendation'!T31),IF(Instructions!$F$4=\"Verification\",IF('Measure Recommendation'!T55=\"\",0,'Measure Recommendation'!T55)))","v":false},{"$f":"IF(Instructions!$F$4=\"Investigation\",IF('Measure Recommendation'!V31=\"\",0,'Measure Recommendation'!V31),IF(Instructions!$F$4=\"Verification\",IF('Measure Recommendation'!V55=\"\",0,'Measure Recommendation'!V55)))","v":false},{"$f":"IF(Instructions!$F$4=\"Investigation\",IF('Measure Recommendation'!W31=\"\",0,'Measure Recommendation'!W31),IF(Instructions!$F$4=\"Verification\",IF('Measure Recommendation'!W55=\"\",0,'Measure Recommendation'!W55)))","v":false},{"$f":"IF(Instructions!$F$4=\"Investigation\",IF('Measure Recommendation'!Y31=\"\",\"\",'Measure Recommendation'!Y31),IF(Instructions!$F$4=\"Verification\",IF('Measure Recommendation'!AA55=\"\",\"\",'Measure Recommendation'!AA55)))","v":false},null,{"$f":"IF(Instructions!$F$4=\"Investigation\",\"\",IF(AND(Instructions!$F$4=\"Verification\",$B26=\"Yes\"),IF('Measure Recommendation'!Y55=\"\",\"\",'Measure Recommendation'!Y55),\"\"))","v":""},{"$f":"IF(Instructions!$F$4=\"Investigation\",\"\",IF(AND(Instructions!$F$4=\"Verification\",$B26=\"Yes\"),IF('Measure Recommendation'!Z55=\"\",\"\",'Measure Recommendation'!Z55),\"\"))","v":""},{"$f":"IF(Instructions!$F$4=\"Investigation\",\"\",IF(AND(Instructions!$F$4=\"Verification\",$B26=\"Yes\"),IF('Measure Recommendation'!AB55=\"\",\"\",'Measure Recommendation'!AB55),\"\"))","v":""},{"$f":"IF(Instructions!$F$4=\"Investigation\",IF('Measure Recommendation'!C31=\"\",\"\",'Measure Recommendation'!C31),IF(AND(Instructions!$F$4=\"Verification\",$B26=\"Yes\"),IF('Measure Recommendation'!C55=\"\",\"\",'Measure Recommendation'!C55),\"\"))","v":""},null,{"$f":"IF(Instructions!$F$4=\"Investigation\",IF('Measure Recommendation'!AE31=\"\",0,'Measure Recommendation'!AE31),IF(AND(Instructions!$F$4=\"Verification\",$B26=\"Yes\"),IF('Measure Recommendation'!AE55=\"\",0,'Measure Recommendation'!AE55),\"\"))","v":""},{"$f":"IF(Instructions!$F$4=\"Investigation\",IF('Measure Recommendation'!AF31=\"\",0,'Measure Recommendation'!AF31),IF(AND(Instructions!$F$4=\"Verification\",$B26=\"Yes\"),IF('Measure Recommendation'!AF55=\"\",0,'Measure Recommendation'!AF55),\"\"))","v":""},{"$f":"IF(Instructions!$F$4=\"Investigation\",IF('Measure Recommendation'!AG31=\"\",0,'Measure Recommendation'!AG31),IF(AND(Instructions!$F$4=\"Verification\",$B26=\"Yes\"),IF('Measure Recommendation'!AG55=\"\",0,'Measure Recommendation'!AG55),\"\"))","v":""},{"$f":"IF(Instructions!$F$4=\"Investigation\",IF('Measure Recommendation'!AH31=\"\",0,'Measure Recommendation'!AH31),IF(AND(Instructions!$F$4=\"Verification\",$B26=\"Yes\"),IF('Measure Recommendation'!AH55=\"\",0,'Measure Recommendation'!AH55),\"\"))","v":""}]
[{"$f":"IF(Instructions!$F$4=\"Investigation\",IF('Measure Recommendation'!A32=\"\",0,'Measure Recommendation'!A32),IF(Instructions!$F$4=\"Verification\",IF('Measure Recommendation'!A56=\"\",0,'Measure Recommendation'!A56)))","v":false},{"$f":"IF(Instructions!$F$4=\"Investigation\",IF('Measure Recommendation'!X32=\"\",\"\",'Measure Recommendation'!X32),IF(AND(Instructions!$F$4=\"Verification\",'Measure Recommendation'!C56=MAX('Measure Recommendation'!$C$41:$C$60)),IF('Measure Recommendation'!X56=\"\",\"\",'Measure Recommendation'!X56),\"\"))","v":""},16,{"$f":"IF(Instructions!$F$4=\"Investigation\",IF('Measure Recommendation'!E32=\"\",\"\",'Measure Recommendation'!E32),IF(Instructions!$F$4=\"Verification\",IF('Measure Recommendation'!E56=\"\",\"\",'Measure Recommendation'!E56)))","v":false},{"$f":"IF(Instructions!$F$4=\"Investigation\",IF('Measure Recommendation'!F32=\"\",\"\",'Measure Recommendation'!F32),IF(Instructions!$F$4=\"Verification\",IF('Measure Recommendation'!F56=\"\",\"\",'Measure Recommendation'!F56)))","v":false},{"$f":"IF(Instructions!$F$4=\"Investigation\",IF('Measure Recommendation'!H32=\"\",\"\",'Measure Recommendation'!H32),IF(Instructions!$F$4=\"Verification\",IF('Measure Recommendation'!H56=\"\",\"\",'Measure Recommendation'!H56)))","v":false},{"$f":"IF(Instructions!$F$4=\"Investigation\",IF('Measure Recommendation'!I32=\"\",\"\",'Measure Recommendation'!I32),IF(Instructions!$F$4=\"Verification\",IF('Measure Recommendation'!I56=\"\",\"\",'Measure Recommendation'!I56)))","v":false},{"$f":"IF(Instructions!$F$4=\"Investigation\",IF('Measure Recommendation'!J32=\"\",\"\",'Measure Recommendation'!J32),IF(Instructions!$F$4=\"Verification\",IF('Measure Recommendation'!J56=\"\",\"\",'Measure Recommendation'!J56)))","v":false},{"$f":"IF(Instructions!$F$4=\"Investigation\",IF('Measure Recommendation'!K32=\"\",0,'Measure Recommendation'!K32),IF(Instructions!$F$4=\"Verification\",IF('Measure Recommendation'!K56=\"\",0,'Measure Recommendation'!K56)))","v":false},{"$f":"IF(Instructions!$F$4=\"Investigation\",IF('Measure Recommendation'!L32=\"\",0,'Measure Recommendation'!L32),IF(Instructions!$F$4=\"Verification\",IF('Measure Recommendation'!L56=\"\",0,'Measure Recommendation'!L56)))","v":false},{"$f":"IF(Instructions!$F$4=\"Investigation\",IF('Measure Recommendation'!M32=\"\",0,'Measure Recommendation'!M32),IF(Instructions!$F$4=\"Verification\",IF('Measure Recommendation'!M56=\"\",0,'Measure Recommendation'!M56)))","v":false},{"$f":"IF(Instructions!$F$4=\"Investigation\",IF('Measure Recommendation'!N32=\"\",0,'Measure Recommendation'!N32),IF(Instructions!$F$4=\"Verification\",IF('Measure Recommendation'!N56=\"\",0,'Measure Recommendation'!N56)))","v":false},{"$f":"IF(Instructions!$F$4=\"Investigation\",IF('Measure Recommendation'!O32=\"\",0,'Measure Recommendation'!O32),IF(Instructions!$F$4=\"Verification\",IF('Measure Recommendation'!O56=\"\",0,'Measure Recommendation'!O56)))","v":false},{"$f":"IF(Instructions!$F$4=\"Investigation\",IF('Measure Recommendation'!P32=\"\",0,'Measure Recommendation'!P32),IF(Instructions!$F$4=\"Verification\",IF('Measure Recommendation'!P56=\"\",0,'Measure Recommendation'!P56)))","v":false},{"$f":"IF(Instructions!$F$4=\"Investigation\",IF('Measure Recommendation'!R32=\"\",0,'Measure Recommendation'!R32),IF(Instructions!$F$4=\"Verification\",IF('Measure Recommendation'!R56=\"\",0,'Measure Recommendation'!R56)))","v":false},{"$f":"IF(Instructions!$F$4=\"Investigation\",IF('Measure Recommendation'!Q32=\"\",0,'Measure Recommendation'!Q32),IF(Instructions!$F$4=\"Verification\",IF('Measure Recommendation'!Q56=\"\",0,'Measure Recommendation'!Q56)))","v":false},{"$f":"IF(Instructions!$F$4=\"Investigation\",IF('Measure Recommendation'!S32=\"\",0,'Measure Recommendation'!S32),IF(Instructions!$F$4=\"Verification\",IF('Measure Recommendation'!S56=\"\",0,'Measure Recommendation'!S56)))","v":false},{"$f":"IF(Instructions!$F$4=\"Investigation\",IF('Measure Recommendation'!U32=\"\",0,'Measure Recommendation'!U32),IF(Instructions!$F$4=\"Verification\",IF('Measure Recommendation'!U56=\"\",0,'Measure Recommendation'!U56)))","v":false},{"$f":"IF(Instructions!$F$4=\"Investigation\",IF('Measure Recommendation'!T32=\"\",0,'Measure Recommendation'!T32),IF(Instructions!$F$4=\"Verification\",IF('Measure Recommendation'!T56=\"\",0,'Measure Recommendation'!T56)))","v":false},{"$f":"IF(Instructions!$F$4=\"Investigation\",IF('Measure Recommendation'!V32=\"\",0,'Measure Recommendation'!V32),IF(Instructions!$F$4=\"Verification\",IF('Measure Recommendation'!V56=\"\",0,'Measure Recommendation'!V56)))","v":false},{"$f":"IF(Instructions!$F$4=\"Investigation\",IF('Measure Recommendation'!W32=\"\",0,'Measure Recommendation'!W32),IF(Instructions!$F$4=\"Verification\",IF('Measure Recommendation'!W56=\"\",0,'Measure Recommendation'!W56)))","v":false},{"$f":"IF(Instructions!$F$4=\"Investigation\",IF('Measure Recommendation'!Y32=\"\",\"\",'Measure Recommendation'!Y32),IF(Instructions!$F$4=\"Verification\",IF('Measure Recommendation'!AA56=\"\",\"\",'Measure Recommendation'!AA56)))","v":false},null,{"$f":"IF(Instructions!$F$4=\"Investigation\",\"\",IF(AND(Instructions!$F$4=\"Verification\",$B27=\"Yes\"),IF('Measure Recommendation'!Y56=\"\",\"\",'Measure Recommendation'!Y56),\"\"))","v":""},{"$f":"IF(Instructions!$F$4=\"Investigation\",\"\",IF(AND(Instructions!$F$4=\"Verification\",$B27=\"Yes\"),IF('Measure Recommendation'!Z56=\"\",\"\",'Measure Recommendation'!Z56),\"\"))","v":""},{"$f":"IF(Instructions!$F$4=\"Investigation\",\"\",IF(AND(Instructions!$F$4=\"Verification\",$B27=\"Yes\"),IF('Measure Recommendation'!AB56=\"\",\"\",'Measure Recommendation'!AB56),\"\"))","v":""},{"$f":"IF(Instructions!$F$4=\"Investigation\",IF('Measure Recommendation'!C32=\"\",\"\",'Measure Recommendation'!C32),IF(AND(Instructions!$F$4=\"Verification\",$B27=\"Yes\"),IF('Measure Recommendation'!C56=\"\",\"\",'Measure Recommendation'!C56),\"\"))","v":""},null,{"$f":"IF(Instructions!$F$4=\"Investigation\",IF('Measure Recommendation'!AE32=\"\",0,'Measure Recommendation'!AE32),IF(AND(Instructions!$F$4=\"Verification\",$B27=\"Yes\"),IF('Measure Recommendation'!AE56=\"\",0,'Measure Recommendation'!AE56),\"\"))","v":""},{"$f":"IF(Instructions!$F$4=\"Investigation\",IF('Measure Recommendation'!AF32=\"\",0,'Measure Recommendation'!AF32),IF(AND(Instructions!$F$4=\"Verification\",$B27=\"Yes\"),IF('Measure Recommendation'!AF56=\"\",0,'Measure Recommendation'!AF56),\"\"))","v":""},{"$f":"IF(Instructions!$F$4=\"Investigation\",IF('Measure Recommendation'!AG32=\"\",0,'Measure Recommendation'!AG32),IF(AND(Instructions!$F$4=\"Verification\",$B27=\"Yes\"),IF('Measure Recommendation'!AG56=\"\",0,'Measure Recommendation'!AG56),\"\"))","v":""},{"$f":"IF(Instructions!$F$4=\"Investigation\",IF('Measure Recommendation'!AH32=\"\",0,'Measure Recommendation'!AH32),IF(AND(Instructions!$F$4=\"Verification\",$B27=\"Yes\"),IF('Measure Recommendation'!AH56=\"\",0,'Measure Recommendation'!AH56),\"\"))","v":""}]
[{"$f":"IF(Instructions!$F$4=\"Investigation\",IF('Measure Recommendation'!A33=\"\",0,'Measure Recommendation'!A33),IF(Instructions!$F$4=\"Verification\",IF('Measure Recommendation'!A57=\"\",0,'Measure Recommendation'!A57)))","v":false},{"$f":"IF(Instructions!$F$4=\"Investigation\",IF('Measure Recommendation'!X33=\"\",\"\",'Measure Recommendation'!X33),IF(AND(Instructions!$F$4=\"Verification\",'Measure Recommendation'!C57=MAX('Measure Recommendation'!$C$41:$C$60)),IF('Measure Recommendation'!X57=\"\",\"\",'Measure Recommendation'!X57),\"\"))","v":""},17,{"$f":"IF(Instructions!$F$4=\"Investigation\",IF('Measure Recommendation'!E33=\"\",\"\",'Measure Recommendation'!E33),IF(Instructions!$F$4=\"Verification\",IF('Measure Recommendation'!E57=\"\",\"\",'Measure Recommendation'!E57)))","v":false},{"$f":"IF(Instructions!$F$4=\"Investigation\",IF('Measure Recommendation'!F33=\"\",\"\",'Measure Recommendation'!F33),IF(Instructions!$F$4=\"Verification\",IF('Measure Recommendation'!F57=\"\",\"\",'Measure Recommendation'!F57)))","v":false},{"$f":"IF(Instructions!$F$4=\"Investigation\",IF('Measure Recommendation'!H33=\"\",\"\",'Measure Recommendation'!H33),IF(Instructions!$F$4=\"Verification\",IF('Measure Recommendation'!H57=\"\",\"\",'Measure Recommendation'!H57)))","v":false},{"$f":"IF(Instructions!$F$4=\"Investigation\",IF('Measure Recommendation'!I33=\"\",\"\",'Measure Recommendation'!I33),IF(Instructions!$F$4=\"Verification\",IF('Measure Recommendation'!I57=\"\",\"\",'Measure Recommendation'!I57)))","v":false},{"$f":"IF(Instructions!$F$4=\"Investigation\",IF('Measure Recommendation'!J33=\"\",\"\",'Measure Recommendation'!J33),IF(Instructions!$F$4=\"Verification\",IF('Measure Recommendation'!J57=\"\",\"\",'Measure Recommendation'!J57)))","v":false},{"$f":"IF(Instructions!$F$4=\"Investigation\",IF('Measure Recommendation'!K33=\"\",0,'Measure Recommendation'!K33),IF(Instructions!$F$4=\"Verification\",IF('Measure Recommendation'!K57=\"\",0,'Measure Recommendation'!K57)))","v":false},{"$f":"IF(Instructions!$F$4=\"Investigation\",IF('Measure Recommendation'!L33=\"\",0,'Measure Recommendation'!L33),IF(Instructions!$F$4=\"Verification\",IF('Measure Recommendation'!L57=\"\",0,'Measure Recommendation'!L57)))","v":false},{"$f":"IF(Instructions!$F$4=\"Investigation\",IF('Measure Recommendation'!M33=\"\",0,'Measure Recommendation'!M33),IF(Instructions!$F$4=\"Verification\",IF('Measure Recommendation'!M57=\"\",0,'Measure Recommendation'!M57)))","v":false},{"$f":"IF(Instructions!$F$4=\"Investigation\",IF('Measure Recommendation'!N33=\"\",0,'Measure Recommendation'!N33),IF(Instructions!$F$4=\"Verification\",IF('Measure Recommendation'!N57=\"\",0,'Measure Recommendation'!N57)))","v":false},{"$f":"IF(Instructions!$F$4=\"Investigation\",IF('Measure Recommendation'!O33=\"\",0,'Measure Recommendation'!O33),IF(Instructions!$F$4=\"Verification\",IF('Measure Recommendation'!O57=\"\",0,'Measure Recommendation'!O57)))","v":false},{"$f":"IF(Instructions!$F$4=\"Investigation\",IF('Measure Recommendation'!P33=\"\",0,'Measure Recommendation'!P33),IF(Instructions!$F$4=\"Verification\",IF('Measure Recommendation'!P57=\"\",0,'Measure Recommendation'!P57)))","v":false},{"$f":"IF(Instructions!$F$4=\"Investigation\",IF('Measure Recommendation'!R33=\"\",0,'Measure Recommendation'!R33),IF(Instructions!$F$4=\"Verification\",IF('Measure Recommendation'!R57=\"\",0,'Measure Recommendation'!R57)))","v":false},{"$f":"IF(Instructions!$F$4=\"Investigation\",IF('Measure Recommendation'!Q33=\"\",0,'Measure Recommendation'!Q33),IF(Instructions!$F$4=\"Verification\",IF('Measure Recommendation'!Q57=\"\",0,'Measure Recommendation'!Q57)))","v":false},{"$f":"IF(Instructions!$F$4=\"Investigation\",IF('Measure Recommendation'!S33=\"\",0,'Measure Recommendation'!S33),IF(Instructions!$F$4=\"Verification\",IF('Measure Recommendation'!S57=\"\",0,'Measure Recommendation'!S57)))","v":false},{"$f":"IF(Instructions!$F$4=\"Investigation\",IF('Measure Recommendation'!U33=\"\",0,'Measure Recommendation'!U33),IF(Instructions!$F$4=\"Verification\",IF('Measure Recommendation'!U57=\"\",0,'Measure Recommendation'!U57)))","v":false},{"$f":"IF(Instructions!$F$4=\"Investigation\",IF('Measure Recommendation'!T33=\"\",0,'Measure Recommendation'!T33),IF(Instructions!$F$4=\"Verification\",IF('Measure Recommendation'!T57=\"\",0,'Measure Recommendation'!T57)))","v":false},{"$f":"IF(Instructions!$F$4=\"Investigation\",IF('Measure Recommendation'!V33=\"\",0,'Measure Recommendation'!V33),IF(Instructions!$F$4=\"Verification\",IF('Measure Recommendation'!V57=\"\",0,'Measure Recommendation'!V57)))","v":false},{"$f":"IF(Instructions!$F$4=\"Investigation\",IF('Measure Recommendation'!W33=\"\",0,'Measure Recommendation'!W33),IF(Instructions!$F$4=\"Verification\",IF('Measure Recommendation'!W57=\"\",0,'Measure Recommendation'!W57)))","v":false},{"$f":"IF(Instructions!$F$4=\"Investigation\",IF('Measure Recommendation'!Y33=\"\",\"\",'Measure Recommendation'!Y33),IF(Instructions!$F$4=\"Verification\",IF('Measure Recommendation'!AA57=\"\",\"\",'Measure Recommendation'!AA57)))","v":false},null,{"$f":"IF(Instructions!$F$4=\"Investigation\",\"\",IF(AND(Instructions!$F$4=\"Verification\",$B28=\"Yes\"),IF('Measure Recommendation'!Y57=\"\",\"\",'Measure Recommendation'!Y57),\"\"))","v":""},{"$f":"IF(Instructions!$F$4=\"Investigation\",\"\",IF(AND(Instructions!$F$4=\"Verification\",$B28=\"Yes\"),IF('Measure Recommendation'!Z57=\"\",\"\",'Measure Recommendation'!Z57),\"\"))","v":""},{"$f":"IF(Instructions!$F$4=\"Investigation\",\"\",IF(AND(Instructions!$F$4=\"Verification\",$B28=\"Yes\"),IF('Measure Recommendation'!AB57=\"\",\"\",'Measure Recommendation'!AB57),\"\"))","v":""},{"$f":"IF(Instructions!$F$4=\"Investigation\",IF('Measure Recommendation'!C33=\"\",\"\",'Measure Recommendation'!C33),IF(AND(Instructions!$F$4=\"Verification\",$B28=\"Yes\"),IF('Measure Recommendation'!C57=\"\",\"\",'Measure Recommendation'!C57),\"\"))","v":""},null,{"$f":"IF(Instructions!$F$4=\"Investigation\",IF('Measure Recommendation'!AE33=\"\",0,'Measure Recommendation'!AE33),IF(AND(Instructions!$F$4=\"Verification\",$B28=\"Yes\"),IF('Measure Recommendation'!AE57=\"\",0,'Measure Recommendation'!AE57),\"\"))","v":""},{"$f":"IF(Instructions!$F$4=\"Investigation\",IF('Measure Recommendation'!AF33=\"\",0,'Measure Recommendation'!AF33),IF(AND(Instructions!$F$4=\"Verification\",$B28=\"Yes\"),IF('Measure Recommendation'!AF57=\"\",0,'Measure Recommendation'!AF57),\"\"))","v":""},{"$f":"IF(Instructions!$F$4=\"Investigation\",IF('Measure Recommendation'!AG33=\"\",0,'Measure Recommendation'!AG33),IF(AND(Instructions!$F$4=\"Verification\",$B28=\"Yes\"),IF('Measure Recommendation'!AG57=\"\",0,'Measure Recommendation'!AG57),\"\"))","v":""},{"$f":"IF(Instructions!$F$4=\"Investigation\",IF('Measure Recommendation'!AH33=\"\",0,'Measure Recommendation'!AH33),IF(AND(Instructions!$F$4=\"Verification\",$B28=\"Yes\"),IF('Measure Recommendation'!AH57=\"\",0,'Measure Recommendation'!AH57),\"\"))","v":""}]
[{"$f":"IF(Instructions!$F$4=\"Investigation\",IF('Measure Recommendation'!A34=\"\",0,'Measure Recommendation'!A34),IF(Instructions!$F$4=\"Verification\",IF('Measure Recommendation'!A58=\"\",0,'Measure Recommendation'!A58)))","v":false},{"$f":"IF(Instructions!$F$4=\"Investigation\",IF('Measure Recommendation'!X34=\"\",\"\",'Measure Recommendation'!X34),IF(AND(Instructions!$F$4=\"Verification\",'Measure Recommendation'!C58=MAX('Measure Recommendation'!$C$41:$C$60)),IF('Measure Recommendation'!X58=\"\",\"\",'Measure Recommendation'!X58),\"\"))","v":""},18,{"$f":"IF(Instructions!$F$4=\"Investigation\",IF('Measure Recommendation'!E34=\"\",\"\",'Measure Recommendation'!E34),IF(Instructions!$F$4=\"Verification\",IF('Measure Recommendation'!E58=\"\",\"\",'Measure Recommendation'!E58)))","v":false},{"$f":"IF(Instructions!$F$4=\"Investigation\",IF('Measure Recommendation'!F34=\"\",\"\",'Measure Recommendation'!F34),IF(Instructions!$F$4=\"Verification\",IF('Measure Recommendation'!F58=\"\",\"\",'Measure Recommendation'!F58)))","v":false},{"$f":"IF(Instructions!$F$4=\"Investigation\",IF('Measure Recommendation'!H34=\"\",\"\",'Measure Recommendation'!H34),IF(Instructions!$F$4=\"Verification\",IF('Measure Recommendation'!H58=\"\",\"\",'Measure Recommendation'!H58)))","v":false},{"$f":"IF(Instructions!$F$4=\"Investigation\",IF('Measure Recommendation'!I34=\"\",\"\",'Measure Recommendation'!I34),IF(Instructions!$F$4=\"Verification\",IF('Measure Recommendation'!I58=\"\",\"\",'Measure Recommendation'!I58)))","v":false},{"$f":"IF(Instructions!$F$4=\"Investigation\",IF('Measure Recommendation'!J34=\"\",\"\",'Measure Recommendation'!J34),IF(Instructions!$F$4=\"Verification\",IF('Measure Recommendation'!J58=\"\",\"\",'Measure Recommendation'!J58)))","v":false},{"$f":"IF(Instructions!$F$4=\"Investigation\",IF('Measure Recommendation'!K34=\"\",0,'Measure Recommendation'!K34),IF(Instructions!$F$4=\"Verification\",IF('Measure Recommendation'!K58=\"\",0,'Measure Recommendation'!K58)))","v":false},{"$f":"IF(Instructions!$F$4=\"Investigation\",IF('Measure Recommendation'!L34=\"\",0,'Measure Recommendation'!L34),IF(Instructions!$F$4=\"Verification\",IF('Measure Recommendation'!L58=\"\",0,'Measure Recommendation'!L58)))","v":false},{"$f":"IF(Instructions!$F$4=\"Investigation\",IF('Measure Recommendation'!M34=\"\",0,'Measure Recommendation'!M34),IF(Instructions!$F$4=\"Verification\",IF('Measure Recommendation'!M58=\"\",0,'Measure Recommendation'!M58)))","v":false},{"$f":"IF(Instructions!$F$4=\"Investigation\",IF('Measure Recommendation'!N34=\"\",0,'Measure Recommendation'!N34),IF(Instructions!$F$4=\"Verification\",IF('Measure Recommendation'!N58=\"\",0,'Measure Recommendation'!N58)))","v":false},{"$f":"IF(Instructions!$F$4=\"Investigation\",IF('Measure Recommendation'!O34=\"\",0,'Measure Recommendation'!O34),IF(Instructions!$F$4=\"Verification\",IF('Measure Recommendation'!O58=\"\",0,'Measure Recommendation'!O58)))","v":false},{"$f":"IF(Instructions!$F$4=\"Investigation\",IF('Measure Recommendation'!P34=\"\",0,'Measure Recommendation'!P34),IF(Instructions!$F$4=\"Verification\",IF('Measure Recommendation'!P58=\"\",0,'Measure Recommendation'!P58)))","v":false},{"$f":"IF(Instructions!$F$4=\"Investigation\",IF('Measure Recommendation'!R34=\"\",0,'Measure Recommendation'!R34),IF(Instructions!$F$4=\"Verification\",IF('Measure Recommendation'!R58=\"\",0,'Measure Recommendation'!R58)))","v":false},{"$f":"IF(Instructions!$F$4=\"Investigation\",IF('Measure Recommendation'!Q34=\"\",0,'Measure Recommendation'!Q34),IF(Instructions!$F$4=\"Verification\",IF('Measure Recommendation'!Q58=\"\",0,'Measure Recommendation'!Q58)))","v":false},{"$f":"IF(Instructions!$F$4=\"Investigation\",IF('Measure Recommendation'!S34=\"\",0,'Measure Recommendation'!S34),IF(Instructions!$F$4=\"Verification\",IF('Measure Recommendation'!S58=\"\",0,'Measure Recommendation'!S58)))","v":false},{"$f":"IF(Instructions!$F$4=\"Investigation\",IF('Measure Recommendation'!U34=\"\",0,'Measure Recommendation'!U34),IF(Instructions!$F$4=\"Verification\",IF('Measure Recommendation'!U58=\"\",0,'Measure Recommendation'!U58)))","v":false},{"$f":"IF(Instructions!$F$4=\"Investigation\",IF('Measure Recommendation'!T34=\"\",0,'Measure Recommendation'!T34),IF(Instructions!$F$4=\"Verification\",IF('Measure Recommendation'!T58=\"\",0,'Measure Recommendation'!T58)))","v":false},{"$f":"IF(Instructions!$F$4=\"Investigation\",IF('Measure Recommendation'!V34=\"\",0,'Measure Recommendation'!V34),IF(Instructions!$F$4=\"Verification\",IF('Measure Recommendation'!V58=\"\",0,'Measure Recommendation'!V58)))","v":false},{"$f":"IF(Instructions!$F$4=\"Investigation\",IF('Measure Recommendation'!W34=\"\",0,'Measure Recommendation'!W34),IF(Instructions!$F$4=\"Verification\",IF('Measure Recommendation'!W58=\"\",0,'Measure Recommendation'!W58)))","v":false},{"$f":"IF(Instructions!$F$4=\"Investigation\",IF('Measure Recommendation'!Y34=\"\",\"\",'Measure Recommendation'!Y34),IF(Instructions!$F$4=\"Verification\",IF('Measure Recommendation'!AA58=\"\",\"\",'Measure Recommendation'!AA58)))","v":false},null,{"$f":"IF(Instructions!$F$4=\"Investigation\",\"\",IF(AND(Instructions!$F$4=\"Verification\",$B29=\"Yes\"),IF('Measure Recommendation'!Y58=\"\",\"\",'Measure Recommendation'!Y58),\"\"))","v":""},{"$f":"IF(Instructions!$F$4=\"Investigation\",\"\",IF(AND(Instructions!$F$4=\"Verification\",$B29=\"Yes\"),IF('Measure Recommendation'!Z58=\"\",\"\",'Measure Recommendation'!Z58),\"\"))","v":""},{"$f":"IF(Instructions!$F$4=\"Investigation\",\"\",IF(AND(Instructions!$F$4=\"Verification\",$B29=\"Yes\"),IF('Measure Recommendation'!AB58=\"\",\"\",'Measure Recommendation'!AB58),\"\"))","v":""},{"$f":"IF(Instructions!$F$4=\"Investigation\",IF('Measure Recommendation'!C34=\"\",\"\",'Measure Recommendation'!C34),IF(AND(Instructions!$F$4=\"Verification\",$B29=\"Yes\"),IF('Measure Recommendation'!C58=\"\",\"\",'Measure Recommendation'!C58),\"\"))","v":""},null,{"$f":"IF(Instructions!$F$4=\"Investigation\",IF('Measure Recommendation'!AE34=\"\",0,'Measure Recommendation'!AE34),IF(AND(Instructions!$F$4=\"Verification\",$B29=\"Yes\"),IF('Measure Recommendation'!AE58=\"\",0,'Measure Recommendation'!AE58),\"\"))","v":""},{"$f":"IF(Instructions!$F$4=\"Investigation\",IF('Measure Recommendation'!AF34=\"\",0,'Measure Recommendation'!AF34),IF(AND(Instructions!$F$4=\"Verification\",$B29=\"Yes\"),IF('Measure Recommendation'!AF58=\"\",0,'Measure Recommendation'!AF58),\"\"))","v":""},{"$f":"IF(Instructions!$F$4=\"Investigation\",IF('Measure Recommendation'!AG34=\"\",0,'Measure Recommendation'!AG34),IF(AND(Instructions!$F$4=\"Verification\",$B29=\"Yes\"),IF('Measure Recommendation'!AG58=\"\",0,'Measure Recommendation'!AG58),\"\"))","v":""},{"$f":"IF(Instructions!$F$4=\"Investigation\",IF('Measure Recommendation'!AH34=\"\",0,'Measure Recommendation'!AH34),IF(AND(Instructions!$F$4=\"Verification\",$B29=\"Yes\"),IF('Measure Recommendation'!AH58=\"\",0,'Measure Recommendation'!AH58),\"\"))","v":""}]
[{"$f":"IF(Instructions!$F$4=\"Investigation\",IF('Measure Recommendation'!A35=\"\",0,'Measure Recommendation'!A35),IF(Instructions!$F$4=\"Verification\",IF('Measure Recommendation'!A59=\"\",0,'Measure Recommendation'!A59)))","v":false},{"$f":"IF(Instructions!$F$4=\"Investigation\",IF('Measure Recommendation'!X35=\"\",\"\",'Measure Recommendation'!X35),IF(AND(Instructions!$F$4=\"Verification\",'Measure Recommendation'!C59=MAX('Measure Recommendation'!$C$41:$C$60)),IF('Measure Recommendation'!X59=\"\",\"\",'Measure Recommendation'!X59),\"\"))","v":""},19,{"$f":"IF(Instructions!$F$4=\"Investigation\",IF('Measure Recommendation'!E35=\"\",\"\",'Measure Recommendation'!E35),IF(Instructions!$F$4=\"Verification\",IF('Measure Recommendation'!E59=\"\",\"\",'Measure Recommendation'!E59)))","v":false},{"$f":"IF(Instructions!$F$4=\"Investigation\",IF('Measure Recommendation'!F35=\"\",\"\",'Measure Recommendation'!F35),IF(Instructions!$F$4=\"Verification\",IF('Measure Recommendation'!F59=\"\",\"\",'Measure Recommendation'!F59)))","v":false},{"$f":"IF(Instructions!$F$4=\"Investigation\",IF('Measure Recommendation'!H35=\"\",\"\",'Measure Recommendation'!H35),IF(Instructions!$F$4=\"Verification\",IF('Measure Recommendation'!H59=\"\",\"\",'Measure Recommendation'!H59)))","v":false},{"$f":"IF(Instructions!$F$4=\"Investigation\",IF('Measure Recommendation'!I35=\"\",\"\",'Measure Recommendation'!I35),IF(Instructions!$F$4=\"Verification\",IF('Measure Recommendation'!I59=\"\",\"\",'Measure Recommendation'!I59)))","v":false},{"$f":"IF(Instructions!$F$4=\"Investigation\",IF('Measure Recommendation'!J35=\"\",\"\",'Measure Recommendation'!J35),IF(Instructions!$F$4=\"Verification\",IF('Measure Recommendation'!J59=\"\",\"\",'Measure Recommendation'!J59)))","v":false},{"$f":"IF(Instructions!$F$4=\"Investigation\",IF('Measure Recommendation'!K35=\"\",0,'Measure Recommendation'!K35),IF(Instructions!$F$4=\"Verification\",IF('Measure Recommendation'!K59=\"\",0,'Measure Recommendation'!K59)))","v":false},{"$f":"IF(Instructions!$F$4=\"Investigation\",IF('Measure Recommendation'!L35=\"\",0,'Measure Recommendation'!L35),IF(Instructions!$F$4=\"Verification\",IF('Measure Recommendation'!L59=\"\",0,'Measure Recommendation'!L59)))","v":false},{"$f":"IF(Instructions!$F$4=\"Investigation\",IF('Measure Recommendation'!M35=\"\",0,'Measure Recommendation'!M35),IF(Instructions!$F$4=\"Verification\",IF('Measure Recommendation'!M59=\"\",0,'Measure Recommendation'!M59)))","v":false},{"$f":"IF(Instructions!$F$4=\"Investigation\",IF('Measure Recommendation'!N35=\"\",0,'Measure Recommendation'!N35),IF(Instructions!$F$4=\"Verification\",IF('Measure Recommendation'!N59=\"\",0,'Measure Recommendation'!N59)))","v":false},{"$f":"IF(Instructions!$F$4=\"Investigation\",IF('Measure Recommendation'!O35=\"\",0,'Measure Recommendation'!O35),IF(Instructions!$F$4=\"Verification\",IF('Measure Recommendation'!O59=\"\",0,'Measure Recommendation'!O59)))","v":false},{"$f":"IF(Instructions!$F$4=\"Investigation\",IF('Measure Recommendation'!P35=\"\",0,'Measure Recommendation'!P35),IF(Instructions!$F$4=\"Verification\",IF('Measure Recommendation'!P59=\"\",0,'Measure Recommendation'!P59)))","v":false},{"$f":"IF(Instructions!$F$4=\"Investigation\",IF('Measure Recommendation'!R35=\"\",0,'Measure Recommendation'!R35),IF(Instructions!$F$4=\"Verification\",IF('Measure Recommendation'!R59=\"\",0,'Measure Recommendation'!R59)))","v":false},{"$f":"IF(Instructions!$F$4=\"Investigation\",IF('Measure Recommendation'!Q35=\"\",0,'Measure Recommendation'!Q35),IF(Instructions!$F$4=\"Verification\",IF('Measure Recommendation'!Q59=\"\",0,'Measure Recommendation'!Q59)))","v":false},{"$f":"IF(Instructions!$F$4=\"Investigation\",IF('Measure Recommendation'!S35=\"\",0,'Measure Recommendation'!S35),IF(Instructions!$F$4=\"Verification\",IF('Measure Recommendation'!S59=\"\",0,'Measure Recommendation'!S59)))","v":false},{"$f":"IF(Instructions!$F$4=\"Investigation\",IF('Measure Recommendation'!U35=\"\",0,'Measure Recommendation'!U35),IF(Instructions!$F$4=\"Verification\",IF('Measure Recommendation'!U59=\"\",0,'Measure Recommendation'!U59)))","v":false},{"$f":"IF(Instructions!$F$4=\"Investigation\",IF('Measure Recommendation'!T35=\"\",0,'Measure Recommendation'!T35),IF(Instructions!$F$4=\"Verification\",IF('Measure Recommendation'!T59=\"\",0,'Measure Recommendation'!T59)))","v":false},{"$f":"IF(Instructions!$F$4=\"Investigation\",IF('Measure Recommendation'!V35=\"\",0,'Measure Recommendation'!V35),IF(Instructions!$F$4=\"Verification\",IF('Measure Recommendation'!V59=\"\",0,'Measure Recommendation'!V59)))","v":false},{"$f":"IF(Instructions!$F$4=\"Investigation\",IF('Measure Recommendation'!W35=\"\",0,'Measure Recommendation'!W35),IF(Instructions!$F$4=\"Verification\",IF('Measure Recommendation'!W59=\"\",0,'Measure Recommendation'!W59)))","v":false},{"$f":"IF(Instructions!$F$4=\"Investigation\",IF('Measure Recommendation'!Y35=\"\",\"\",'Measure Recommendation'!Y35),IF(Instructions!$F$4=\"Verification\",IF('Measure Recommendation'!AA59=\"\",\"\",'Measure Recommendation'!AA59)))","v":false},null,{"$f":"IF(Instructions!$F$4=\"Investigation\",\"\",IF(AND(Instructions!$F$4=\"Verification\",$B30=\"Yes\"),IF('Measure Recommendation'!Y59=\"\",\"\",'Measure Recommendation'!Y59),\"\"))","v":""},{"$f":"IF(Instructions!$F$4=\"Investigation\",\"\",IF(AND(Instructions!$F$4=\"Verification\",$B30=\"Yes\"),IF('Measure Recommendation'!Z59=\"\",\"\",'Measure Recommendation'!Z59),\"\"))","v":""},{"$f":"IF(Instructions!$F$4=\"Investigation\",\"\",IF(AND(Instructions!$F$4=\"Verification\",$B30=\"Yes\"),IF('Measure Recommendation'!AB59=\"\",\"\",'Measure Recommendation'!AB59),\"\"))","v":""},{"$f":"IF(Instructions!$F$4=\"Investigation\",IF('Measure Recommendation'!C35=\"\",\"\",'Measure Recommendation'!C35),IF(AND(Instructions!$F$4=\"Verification\",$B30=\"Yes\"),IF('Measure Recommendation'!C59=\"\",\"\",'Measure Recommendation'!C59),\"\"))","v":""},null,{"$f":"IF(Instructions!$F$4=\"Investigation\",IF('Measure Recommendation'!AE35=\"\",0,'Measure Recommendation'!AE35),IF(AND(Instructions!$F$4=\"Verification\",$B30=\"Yes\"),IF('Measure Recommendation'!AE59=\"\",0,'Measure Recommendation'!AE59),\"\"))","v":""},{"$f":"IF(Instructions!$F$4=\"Investigation\",IF('Measure Recommendation'!AF35=\"\",0,'Measure Recommendation'!AF35),IF(AND(Instructions!$F$4=\"Verification\",$B30=\"Yes\"),IF('Measure Recommendation'!AF59=\"\",0,'Measure Recommendation'!AF59),\"\"))","v":""},{"$f":"IF(Instructions!$F$4=\"Investigation\",IF('Measure Recommendation'!AG35=\"\",0,'Measure Recommendation'!AG35),IF(AND(Instructions!$F$4=\"Verification\",$B30=\"Yes\"),IF('Measure Recommendation'!AG59=\"\",0,'Measure Recommendation'!AG59),\"\"))","v":""},{"$f":"IF(Instructions!$F$4=\"Investigation\",IF('Measure Recommendation'!AH35=\"\",0,'Measure Recommendation'!AH35),IF(AND(Instructions!$F$4=\"Verification\",$B30=\"Yes\"),IF('Measure Recommendation'!AH59=\"\",0,'Measure Recommendation'!AH59),\"\"))","v":""}]
[{"$f":"IF(Instructions!$F$4=\"Investigation\",IF('Measure Recommendation'!A36=\"\",0,'Measure Recommendation'!A36),IF(Instructions!$F$4=\"Verification\",IF('Measure Recommendation'!A60=\"\",0,'Measure Recommendation'!A60)))","v":false},{"$f":"IF(Instructions!$F$4=\"Investigation\",IF('Measure Recommendation'!X36=\"\",\"\",'Measure Recommendation'!X36),IF(AND(Instructions!$F$4=\"Verification\",'Measure Recommendation'!C60=MAX('Measure Recommendation'!$C$41:$C$60)),IF('Measure Recommendation'!X60=\"\",\"\",'Measure Recommendation'!X60),\"\"))","v":""},20,{"$f":"IF(Instructions!$F$4=\"Investigation\",IF('Measure Recommendation'!E36=\"\",\"\",'Measure Recommendation'!E36),IF(Instructions!$F$4=\"Verification\",IF('Measure Recommendation'!E60=\"\",\"\",'Measure Recommendation'!E60)))","v":false},{"$f":"IF(Instructions!$F$4=\"Investigation\",IF('Measure Recommendation'!F36=\"\",\"\",'Measure Recommendation'!F36),IF(Instructions!$F$4=\"Verification\",IF('Measure Recommendation'!F60=\"\",\"\",'Measure Recommendation'!F60)))","v":false},{"$f":"IF(Instructions!$F$4=\"Investigation\",IF('Measure Recommendation'!H36=\"\",\"\",'Measure Recommendation'!H36),IF(Instructions!$F$4=\"Verification\",IF('Measure Recommendation'!H60=\"\",\"\",'Measure Recommendation'!H60)))","v":false},{"$f":"IF(Instructions!$F$4=\"Investigation\",IF('Measure Recommendation'!I36=\"\",\"\",'Measure Recommendation'!I36),IF(Instructions!$F$4=\"Verification\",IF('Measure Recommendation'!I60=\"\",\"\",'Measure Recommendation'!I60)))","v":false},{"$f":"IF(Instructions!$F$4=\"Investigation\",IF('Measure Recommendation'!J36=\"\",\"\",'Measure Recommendation'!J36),IF(Instructions!$F$4=\"Verification\",IF('Measure Recommendation'!J60=\"\",\"\",'Measure Recommendation'!J60)))","v":false},{"$f":"IF(Instructions!$F$4=\"Investigation\",IF('Measure Recommendation'!K36=\"\",0,'Measure Recommendation'!K36),IF(Instructions!$F$4=\"Verification\",IF('Measure Recommendation'!K60=\"\",0,'Measure Recommendation'!K60)))","v":false},{"$f":"IF(Instructions!$F$4=\"Investigation\",IF('Measure Recommendation'!L36=\"\",0,'Measure Recommendation'!L36),IF(Instructions!$F$4=\"Verification\",IF('Measure Recommendation'!L60=\"\",0,'Measure Recommendation'!L60)))","v":false},{"$f":"IF(Instructions!$F$4=\"Investigation\",IF('Measure Recommendation'!M36=\"\",0,'Measure Recommendation'!M36),IF(Instructions!$F$4=\"Verification\",IF('Measure Recommendation'!M60=\"\",0,'Measure Recommendation'!M60)))","v":false},{"$f":"IF(Instructions!$F$4=\"Investigation\",IF('Measure Recommendation'!N36=\"\",0,'Measure Recommendation'!N36),IF(Instructions!$F$4=\"Verification\",IF('Measure Recommendation'!N60=\"\",0,'Measure Recommendation'!N60)))","v":false},{"$f":"IF(Instructions!$F$4=\"Investigation\",IF('Measure Recommendation'!O36=\"\",0,'Measure Recommendation'!O36),IF(Instructions!$F$4=\"Verification\",IF('Measure Recommendation'!O60=\"\",0,'Measure Recommendation'!O60)))","v":false},{"$f":"IF(Instructions!$F$4=\"Investigation\",IF('Measure Recommendation'!P36=\"\",0,'Measure Recommendation'!P36),IF(Instructions!$F$4=\"Verification\",IF('Measure Recommendation'!P60=\"\",0,'Measure Recommendation'!P60)))","v":false},{"$f":"IF(Instructions!$F$4=\"Investigation\",IF('Measure Recommendation'!R36=\"\",0,'Measure Recommendation'!R36),IF(Instructions!$F$4=\"Verification\",IF('Measure Recommendation'!R60=\"\",0,'Measure Recommendation'!R60)))","v":false},{"$f":"IF(Instructions!$F$4=\"Investigation\",IF('Measure Recommendation'!Q36=\"\",0,'Measure Recommendation'!Q36),IF(Instructions!$F$4=\"Verification\",IF('Measure Recommendation'!Q60=\"\",0,'Measure Recommendation'!Q60)))","v":false},{"$f":"IF(Instructions!$F$4=\"Investigation\",IF('Measure Recommendation'!S36=\"\",0,'Measure Recommendation'!S36),IF(Instructions!$F$4=\"Verification\",IF('Measure Recommendation'!S60=\"\",0,'Measure Recommendation'!S60)))","v":false},{"$f":"IF(Instructions!$F$4=\"Investigation\",IF('Measure Recommendation'!U36=\"\",0,'Measure Recommendation'!U36),IF(Instructions!$F$4=\"Verification\",IF('Measure Recommendation'!U60=\"\",0,'Measure Recommendation'!U60)))","v":false},{"$f":"IF(Instructions!$F$4=\"Investigation\",IF('Measure Recommendation'!T36=\"\",0,'Measure Recommendation'!T36),IF(Instructions!$F$4=\"Verification\",IF('Measure Recommendation'!T60=\"\",0,'Measure Recommendation'!T60)))","v":false},{"$f":"IF(Instructions!$F$4=\"Investigation\",IF('Measure Recommendation'!V36=\"\",0,'Measure Recommendation'!V36),IF(Instructions!$F$4=\"Verification\",IF('Measure Recommendation'!V60=\"\",0,'Measure Recommendation'!V60)))","v":false},{"$f":"IF(Instructions!$F$4=\"Investigation\",IF('Measure Recommendation'!W36=\"\",0,'Measure Recommendation'!W36),IF(Instructions!$F$4=\"Verification\",IF('Measure Recommendation'!W60=\"\",0,'Measure Recommendation'!W60)))","v":false},{"$f":"IF(Instructions!$F$4=\"Investigation\",IF('Measure Recommendation'!Y36=\"\",\"\",'Measure Recommendation'!Y36),IF(Instructions!$F$4=\"Verification\",IF('Measure Recommendation'!AA60=\"\",\"\",'Measure Recommendation'!AA60)))","v":false},null,{"$f":"IF(Instructions!$F$4=\"Investigation\",\"\",IF(AND(Instructions!$F$4=\"Verification\",$B31=\"Yes\"),IF('Measure Recommendation'!Y60=\"\",\"\",'Measure Recommendation'!Y60),\"\"))","v":""},{"$f":"IF(Instructions!$F$4=\"Investigation\",\"\",IF(AND(Instructions!$F$4=\"Verification\",$B31=\"Yes\"),IF('Measure Recommendation'!Z60=\"\",\"\",'Measure Recommendation'!Z60),\"\"))","v":""},{"$f":"IF(Instructions!$F$4=\"Investigation\",\"\",IF(AND(Instructions!$F$4=\"Verification\",$B31=\"Yes\"),IF('Measure Recommendation'!AB60=\"\",\"\",'Measure Recommendation'!AB60),\"\"))","v":""},{"$f":"IF(Instructions!$F$4=\"Investigation\",IF('Measure Recommendation'!C36=\"\",\"\",'Measure Recommendation'!C36),IF(AND(Instructions!$F$4=\"Verification\",$B31=\"Yes\"),IF('Measure Recommendation'!C60=\"\",\"\",'Measure Recommendation'!C60),\"\"))","v":""},null,{"$f":"IF(Instructions!$F$4=\"Investigation\",IF('Measure Recommendation'!AE36=\"\",0,'Measure Recommendation'!AE36),IF(AND(Instructions!$F$4=\"Verification\",$B31=\"Yes\"),IF('Measure Recommendation'!AE60=\"\",0,'Measure Recommendation'!AE60),\"\"))","v":""},{"$f":"IF(Instructions!$F$4=\"Investigation\",IF('Measure Recommendation'!AF36=\"\",0,'Measure Recommendation'!AF36),IF(AND(Instructions!$F$4=\"Verification\",$B31=\"Yes\"),IF('Measure Recommendation'!AF60=\"\",0,'Measure Recommendation'!AF60),\"\"))","v":""},{"$f":"IF(Instructions!$F$4=\"Investigation\",IF('Measure Recommendation'!AG36=\"\",0,'Measure Recommendation'!AG36),IF(AND(Instructions!$F$4=\"Verification\",$B31=\"Yes\"),IF('Measure Recommendation'!AG60=\"\",0,'Measure Recommendation'!AG60),\"\"))","v":""},{"$f":"IF(Instructions!$F$4=\"Investigation\",IF('Measure Recommendation'!AH36=\"\",0,'Measure Recommendation'!AH36),IF(AND(Instructions!$F$4=\"Verification\",$B31=\"Yes\"),IF('Measure Recommendation'!AH60=\"\",0,'Measure Recommendation'!AH60),\"\"))","v":""}]

{"sheet":"BenefitsMBCx_Not Used","index":5,"n_rows":48,"n_cols":13,"rows_kept":48,"cut":false,"hidden":true,"merged":[[6,0,9,14],[31,0,31,7],[33,0,33,7],[1,0,1,10],[1,11,1,14],[2,0,2,10],[2,12,2,14],[4,0,5,14],[27,0,28,9],[12,0,12,14],[14,0,14,9],[14,11,15,14],[15,0,18,9],[17,11,19,14],[20,0,20,8],[21,0,21,8],[41,11,41,14],[46,0,46,14],[47,0,47,14],[22,0,22,8],[24,0,25,9],[26,0,26,9],[26,11,26,14],[37,0,37,14]]}
[]
[{"$f":"IF(Instructions!F4=\"Investigation\",\"Investigation Report\",\"Verification Report\")","v":"Verification Report"},null,null,null,null,null,null,null,null,null,null,{"$f":"TODAY()","v":"2025-05-06"}]
[{"$f":"DataPhaseValid!G5","v":""},null,null,null,null,null,null,null,null,null,null,null,{"$f":"DataPhaseValid!G7&\" | Bundle #\"&IF(Instructions!F4=\"Investigation\", MAX('Measure Recommendation'!C17:C36),IF(Instructions!F4=\"Verification\",MAX('Measure Recommendation'!C41:C60),\"\"))","v":" | Bundle #"}]
[]
[{"$f":"DataPhaseValid!G12","v":""}]
[]
[{"$f":"DataPhaseValid!G36","v":""}]
[]
[]
[]
[]
[]
[{"$f":"DataPhaseValid!G25","v":""}]
[]
["Financial Benefit",null,null,null,null,null,null,null,null,null,null,{"$f":"DataPhaseValid!G19","v":""}]
[]
[]
[null,null,null,null,null,null,null,null,null,null,null,"Percent of Implementation Cost Covered by ComEd Energy Efficiency Program Incentives:"]
[]
[]
["Cost of All Recommended ECMs",null,null,null,null,null,null,null,null,{"$f":"IF(Instructions!F4=\"Investigation\",'Measure Recommendation'!$V$37,'Measure Recommendation'!$V$61)","v":0}]
["Incentives from ComEd Energy Efficiency Program",null,null,null,null,null,null,null,null,{"$f":"IF(Instructions!F4=\"Investigation\",MIN('Measure Recommendation'!$AP$38,'Measure Recommendation'!$AO$38),MIN('Measure Recommendation'!$AY$38,'Measure Recommendation'!$AZ$38))","v":0}]
["Final Project Cost",null,null,null,null,null,null,null,null,{"$f":"J21-J22","v":0}]
[]
[{"$f":"DataPhaseValid!G35","v":""}]
[]
["Annual Energy Benefit",null,null,null,null,null,null,null,null,null,null,"Payback with Incentives:"]
["The table below shows your estimated annual energy cost savings and energy savings after implementing all recommended ECMs. "]
[]
[]
[null,null,null,null,null,null,null,null,"kWh",{"$f":"IF('Measure Recommendation'!$F$6=\"Yes\",\"Therms\",\"\")","v":""}]
[{"$f":"DataPhaseValid!G14& \" Annual Energy Savings\"","v":" Annual Energy Savings"},null,null,null,null,null,null,null,{"$f":"IF(AND(Instructions!F4=\"Investigation\",'Measure Recommendation'!$F$6=\"Yes\"),'Measure Recommendation'!$AM$38,'Measure Recommendation'!$AW$38)","v":0},{"$f":"IF(J31<>\"Therms\",\"\",IF(AND(Instructions!G4=\"Investigation\",'Measure Recommendation'!$F$6=\"Yes\"),'Measure Recommendation'!$AN$38,'Measure Recommendation'!$AX$38))","v":""}]
[]
[{"$f":"DataPhaseValid!G14 &\" Annual Energy Cost Savings\"","v":" Annual Energy Cost Savings"},null,null,null,null,null,null,null,{"$f":"IF(Instructions!F5=\"Investigation\",'Measure Recommendation'!$AP$38,'Measure Recommendation'!$AZ$38)","v":0},{"$f":"IF(J31<>\"Therms\",\"\",IF(AND(Instructions!G6=\"Investigation\",'Measure Recommendation'!$F$6=\"Yes\"),('Measure Recommendation'!O37+'Measure Recommendation'!U37),('Measure Recommendation'!O61+'Measure Recommendation'!U61)))","v":""}]
[]
[]
[]
["Project Timeline"]
[]
[]
[]
[]
[]
[]
[]
[]
["Contact Us"]
["ComEd Energy Efficiency Program\nCall us at 855.433.2700 or visit us at ComEd.com/BizIncentives to learn more."]

{"sheet":"App","index":6,"n_rows":37,"n_cols":15,"rows_kept":37,"cut":false,"hidden":true,"merged":[[2,0,2,4],[34,14,34,15],[2,14,2,15],[36,0,36,2],[36,14,36,15],[4,14,4,15],[24,2,24,11],[25,2,25,11],[26,2,26,11],[6,0,6,2],[21,2,21,11],[22,2,22,11],[23,2,23,11],[7,2,7,11],[8,2,8,11],[9,2,9,11],[19,14,19,15],[10,2,10,11],[11,2,11,11],[22,14,22,15],[20,2,20,11],[12,2,12,11],[12,14,12,15],[20,14,20,15],[21,14,21,15],[13,2,13,11],[14,2,14,11],[15,2,15,11],[16,2,16,11],[17,2,17,11],[18,2,18,11],[19,2,19,11],[30,0,30,2],[28,0,28,2],[32,0,32,2],[23,14,23,15],[30,14,30,15],[32,14,32,15],[28,14,28,15],[24,14,24,15],[25,14,25,15],[26,14,26,15],[27,14,27,15],[0,14,0,15],[15,14,15,15],[16,14,16,15],[17,14,17,15],[18,14,18,15],[7,14,7,15],[8,14,8,15],[9,14,9,15],[10,14,10,15],[11,14,11,15],[14,14,14,15],[13,14,13,15]]}
[null,null,null,null,null,null,null,null,null,null,null,null,null,null,"Page"]
[]
["Energy Conservation Measure Form ",null,null,null,null,null,null,null,null,null,null,null,null,null,3]
[]
["Project Contacts",null,null,null,null,null,null,null,null,null,null,null,null,null,{"$f":"$O$3+IF(DataPhaseValid!$O$4=\"RecElecGas\",RecElecGas!$A$1,IF(DataPhaseValid!$O$4=\"RecElecGasDist\",RecElecGasDist!$A$1,IF(DataPhaseValid!$O$4=\"RecElec\",RecElec!$A$1)))","v":3}]
[]
["Measure Details"]
[null,{"$f":"IF(C8=\"\",\"\",\"ECM #1\")","v":""},{"$f":"DataPhaseValid!G116","v":""},null,null,null,null,null,null,null,null,null,null,null,{"$f":"IF(C8=\"\",O5,O5+1)","v":3}]
[null,{"$f":"IF(C9=\"\",\"\",\"ECM #2\")","v":""},{"$f":"DataPhaseValid!G117","v":""},null,null,null,null,null,null,null,null,null,null,null,{"$f":"IF(C9=\"\",O8,O8+MeasDet1!$A$3)","v":3}]
[null,{"$f":"IF(C10=\"\",\"\",\"ECM #3\")","v":""},{"$f":"DataPhaseValid!G118","v":""},null,null,null,null,null,null,null,null,null,null,null,{"$f":"IF(C10=\"\",O9,O9+MeasDet2!$A$3)","v":3}]
[null,{"$f":"IF(C11=\"\",\"\",\"ECM #4\")","v":""},{"$f":"DataPhaseValid!G119","v":""},null,null,null,null,null,null,null,null,null,null,null,{"$f":"IF(C11=\"\",O10,O10+MeasDet3!$A$3)","v":3}]
[null,{"$f":"IF(C12=\"\",\"\",\"ECM #5\")","v":""},{"$f":"DataPhaseValid!G120","v":""},null,null,null,null,null,null,null,null,null,null,null,{"$f":"IF(C12=\"\",O11,O11+MeasDet4!$A$3)","v":3}]
[null,{"$f":"IF(C13=\"\",\"\",\"ECM #6\")","v":""},{"$f":"DataPhaseValid!G121","v":""},null,null,null,null,null,null,null,null,null,null,null,{"$f":"IF(C13=\"\",O12,O12+MeasDet5!$A$3)","v":3}]
[null,{"$f":"IF(C14=\"\",\"\",\"ECM #7\")","v":""},{"$f":"DataPhaseValid!G122","v":""},null,null,null,null,null,null,null,null,null,null,null,{"$f":"IF(C14=\"\",O13,O13+MeasDet6!$A$3)","v":3}]
[null,{"$f":"IF(C15=\"\",\"\",\"ECM #8\")","v":""},{"$f":"DataPhaseValid!G123","v":""},null,null,null,null,null,null,null,null,null,null,null,{"$f":"IF(C15=\"\",O14,O14+MeasDet7!$A$3)","v":3}]
[null,{"$f":"IF(C16=\"\",\"\",\"ECM #9\")","v":""},{"$f":"DataPhaseValid!G124","v":""},null,null,null,null,null,null,null,null,null,null,null,{"$f":"IF(C16=\"\",O15,O15+MeasDet8!$A$3)","v":3}]
[null,{"$f":"IF(C17=\"\",\"\",\"ECM #10\")","v":""},{"$f":"DataPhaseValid!G125","v":""},null,null,null,null,null,null,null,null,null,null,null,{"$f":"IF(C17=\"\",O16,O16+MeasDet9!$A$3)","v":3}]
[null,{"$f":"IF(C18=\"\",\"\",\"ECM #11\")","v":""},{"$f":"DataPhaseValid!G126","v":""},null,null,null,null,null,null,null,null,null,null,null,{"$f":"IF(C18=\"\",O17,O17+MeasDet10!$A$3)","v":3}]
[null,{"$f":"IF(C19=\"\",\"\",\"ECM #12\")","v":""},{"$f":"DataPhaseValid!G127","v":""},null,null,null,null,null,null,null,null,null,null,null,{"$f":"IF(C19=\"\",O18,O18+MeasDet11!$A$3)","v":3}]
[null,{"$f":"IF(C20=\"\",\"\",\"ECM #13\")","v":""},{"$f":"DataPhaseValid!G128","v":""},null,null,null,null,null,null,null,null,null,null,null,{"$f":"IF(C20=\"\",O19,O19+MeasDet12!$A$3)","v":3}]
[null,{"$f":"IF(C21=\"\",\"\",\"ECM #14\")","v":""},{"$f":"DataPhaseValid!G129","v":""},null,null,null,null,null,null,null,null,null,null,null,{"$f":"IF(C21=\"\",O20,O20+MeasDet13!$A$3)","v":3}]
[null,{"$f":"IF(C22=\"\",\"\",\"ECM #15\")","v":""},{"$f":"DataPhaseValid!G130","v":""},null,null,null,null,null,null,null,null,null,null,null,{"$f":"IF(C22=\"\",O21,O21+MeasDet14!$A$3)","v":3}]
[null,{"$f":"IF(C23=\"\",\"\",\"ECM #16\")","v":""},{"$f":"DataPhaseValid!G131","v":""},null,null,null,null,null,null,null,null,null,null,null,{"$f":"IF(C23=\"\",O22,O22+MeasDet15!$A$3)","v":3}]
[null,{"$f":"IF(C24=\"\",\"\",\"ECM #17\")","v":""},{"$f":"DataPhaseValid!G132","v":""},null,null,null,null,null,null,null,null,null,null,null,{"$f":"IF(C24=\"\",O23,O23+MeasDet16!$A$3)","v":3}]
[null,{"$f":"IF(C25=\"\",\"\",\"ECM #18\")","v":""},{"$f":"DataPhaseValid!G133","v":""},null,null,null,null,null,null,null,null,null,null,null,{"$f":"IF(C25=\"\",O24,O24+MeasDet17!$A$3)","v":3}]
[null,{"$f":"IF(C26=\"\",\"\",\"ECM #19\")","v":""},{"$f":"DataPhaseValid!G134","v":""},null,null,null,null,null,null,null,null,null,null,null,{"$f":"IF(C26=\"\",O25,O25+MeasDet18!$A$3)","v":3}]
[null,{"$f":"IF(C27=\"\",\"\",\"ECM #20\")","v":""},{"$f":"DataPhaseValid!G135","v":""},null,null,null,null,null,null,null,null,null,null,null,{"$f":"IF(C27=\"\",O26,O26+MeasDet18!$A$3)","v":3}]
[]
["Additional Opportunities",null,null,null,null,null,null,null,null,null,null,null,null,null,{"$f":"MAX(IF(C8=\"\",O5,O8+MeasDet1!$A$3),IF(C9=\"\",0,O9+MeasDet2!$A$3),IF(C10=\"\",0,O10+MeasDet3!$A$3),IF(C11=\"\",0,O11+MeasDet4!$A$3),IF(C12=\"\",0,O12+MeasDet5!$A$3),IF(C13=\"\",0,O13+MeasDet6!$A$3),IF(C14=\"\",0,O14+MeasDet7!$A$3),IF(C15=\"\",0,O15+MeasDet8!$A$3),IF(C16=\"\",0,O16+MeasDet9!$A$3),IF(C17=\"\",0,O17+MeasDet10!$A$3),IF(C18=\"\",0,O18+MeasDet11!$A$3),IF(C19=\"\",0,O19+MeasDet12!$A$3),IF(C20=\"\",0,O20+MeasDet13!$A$3),IF(C21=\"\",0,O21+MeasDet14!$A$3),IF(C22=\"\",0,O22+MeasDet15!$A$3),IF(223=\"\",0,O23+MeasDet16!$A$3),IF(C24=\"\",0,O24+MeasDet17!$A$3),IF(C25=\"\",0,O25+MeasDet18!$A$3),IF(C26=\"\",0,O26+MeasDet19!$A$3),IF(C27=\"\",0,O27+MeasDet20!$A$3))","v":6}]
[]
["Facility Description",null,null,null,null,null,null,null,null,null,null,null,null,null,{"$f":"O29+1","v":7}]
[]
["Equipment List",null,null,null,null,null,null,null,null,null,null,null,null,null,{"$f":"O31+FacDesc!$B$2","v":9}]
[]
["Building Operator Certification",null,null,null,null,null,null,null,null,null,null,null,null,null,{"$f":"O33+EquipList!A1","v":10}]
[]
[{"$f":"IF(DataPhaseValid!$G$95=\"IssueLog\",\"Issue Log\",\" \")","v":"Issue Log"},null,null,null,null,null,null,null,null,null,null,null,null,null,{"$f":"IF(A37=\"Issue Log\",O35+1,\" \")","v":11}]

{"sheet":"DataPhaseValid","index":7,"n_rows":194,"n_cols":38,"rows_kept":194,"cut":false,"hidden":true,"merged":[[158,1,158,6],[148,1,148,6],[144,1,144,6],[1,1,1,6],[37,1,37,6],[99,1,99,6],[135,1,135,6]]}
[]
[null,"Benefits",null,null,null,null,null,null,"Standard Measure Type","Measure_Type","Measure_Name",null,"Measure Reccomendation Sort",null,"Hide/Unhide",null,"PC List",null,null,null,null,null,null,null,null,"Facility Type",null,"Dropdown List",null,"Gas Utility Contact"]
[null,"#","INV","VER","MBCx INV","MBCx VER","Actual",null,"Air_Distribution","Air_Distribution","Balance Airside",null,"Ascending - ComEd Peak Demand Savings \n(kW)",null,{"$f":"G67","v":""},null,"Name","Title","Address","City","State","Zip","Phone","Email",null,"Bank",null,"Yes",null,"Utility","Name","Tile","Address","City","State","Zip","Phone","Email"]
[null,1,{"$f":"'Contact & Facility Information'!$B$6","v":0},{"$f":"'Contact & Facility Information'!$B$6","v":0},null,null,{"$f":"IF(Instructions!$F$4=\"Investigation\",C4,IF(Instructions!$F$4=\"Verification\",D4,\"\"))","v":""},null,"Chilled_Water_System","Air_Distribution","CO-Based Ventilation Control",null,"Ascending - Electrical Energy Savings (kWh/year)",null,{"$f":"G68","v":""},null,"Abdul Hadi Ayoub","Project Coordinator ","400 N Michigan Ave, Suite 600","Chicago","IL",60611,6303207964,"aayoub@resource-innovations.com",null,"Data Center",null,"No",null,"Nicor Gas","Edward Kriz","Program Manager","-","-","-","-","630-388-2061","ekriz@southernco.com"]
[null,2,{"$f":"CONCATENATE('Contact & Facility Information'!$C$6,\", \",'Contact & Facility Information'!$E$6,\", \",'Contact & Facility Information'!$F$6,\", \",'Contact & Facility Information'!$G$6)","v":", , , "},{"$f":"CONCATENATE('Contact & Facility Information'!$C$6,\", \",'Contact & Facility Information'!$E$6,\", \",'Contact & Facility Information'!$F$6,\", \",'Contact & Facility Information'!$G$6)","v":", , , "},null,null,{"$f":"IF(Instructions!$F$4=\"Investigation\",C5,IF(Instructions!$F$4=\"Verification\",D5,\"\"))","v":""},null,"Compressed_Air","Air_Distribution","Demand Control Ventilation",null,"Ascending - Electrical Cost Savings \n($/year)",null,{"$f":"G69","v":""},null,"Andrew Samuels",{"$f":"R4","v":"Project Coordinator "},{"$f":"S4","v":"400 N Michigan Ave, Suite 600"},{"$f":"T4","v":"Chicago"},"IL",60611,6304808138,"asamuels@resource-innovations.com",null,"Education - College/University",null,{"$f":"\"\"","v":""},null,"Peoples Gas","Please update manually","Please update manually","-","-","-","-","Please update manually","Please update manually"]
[null,3,{"$f":"'Contact & Facility Information'!B12","v":0},{"$f":"'Contact & Facility Information'!B12","v":0},null,null,{"$f":"IF(Instructions!$F$4=\"Investigation\",C6,IF(Instructions!$F$4=\"Verification\",D6,\"\"))","v":""},null,"Cooling_Tower_Optimization","Air_Distribution","Reduce/Reset Duct Static Pressure",null,"Ascending - Natural Gas Energy Savings (therms/year)",null,"",null,"Anna Walker",{"$f":"R5","v":"Project Coordinator "},{"$f":"S5","v":"400 N Michigan Ave, Suite 600"},{"$f":"T5","v":"Chicago"},{"$f":"U5","v":"IL"},{"$f":"V5","v":60611},6302259298,"awalker@resource-innovations.com",null,"Education - Primary/Secondary",null,null,null,"North Shore Gas","Please update manually","Please update manually","-","-","-","-","Please update manually","Please update manually"]
[null,4,{"$f":"IF(AND(Instructions!$F$5=1,Instructions!$F$3=\"RCx Flex\"),\"Project ID #\"&Instructions!$H$12,\"Project ID #\"&Instructions!$H$12&\", \"&\"Bundle #\"&'Measure Recommendation'!$AM$12)","v":"Project ID #, Bundle #0"},{"$f":"IF(AND(Instructions!$F$5=1,Instructions!$F$3=\"RCx Flex\"),\"Project ID #\"&Instructions!$H$12,\"Project ID #\"&Instructions!$H$12&\", \"&\"Bundle #\"&'Measure Recommendation'!$AM$12)","v":"Project ID #, Bundle #0"},null,null,{"$f":"IF(Instructions!$F$4=\"Investigation\",C7,IF(Instructions!$F$4=\"Verification\",D7,\"\"))","v":""},null,"Domestic_Hot_Water","Air_Distribution","Economizer",null,"Ascending - Natural Gas Cost Savings \n($/year)",null,"",null,"Cathy DeJesus","Project Coordinator ","400 N Michigan Ave, Suite 600","Chicago","IL",60611,6303207962,"cdejesus@resource-innovations.com",null,"Food Service/Restaurant"]
[null,5,"Retro-Commissioning Flex provides a fully-funded study of your building’s existing energy consuming systems and incentives for implementing energy conservation measures (ECMs). A Retro-Commissioning investigation was performed by the energy efficiency service provider, ","Retro-Commissioning Flex offering provides a fully-funded study of your building’s existing energy-using systems and incentives for implementing energy conservation measures (ECMs). A Retro-Commissioning verification was performed by the energy efficiency service provider, ","Monitoring Based Commissioning (MBCx) provides a fully-funded study of your commercial building’s existing energy-using systems and incentives for implementing energy conservation measures (ECMs). A Retro-Commissioning investigation was performed by the energy efficiency service provider, ","Monitoring Based Commissioning (MBCx) provides a fully-funded study of your commercial building’s existing energy-using systems and incentives for implementing energy conservation measures (ECMs). Verification was performed by the energy efficiency service provider, ",{"$f":"IF(Instructions!$F$3=\"MBCx\",IF(Instructions!$F$4=\"Investigation\",E8,IF(Instructions!$F$4=\"Verification\",F8,\"\")),IF(Instructions!$F$3=\"RCx Flex\",IF(Instructions!$F$4=\"Investigation\",C8,IF(Instructions!$F$4=\"Verification\",D8,\"\")),\"\"))","v":""},null,"General","Air_Distribution","Eliminate Unnecessary Fans",null,"Ascending - District Chilled Water Energy Savings \n(ton-hrs/year)",null,{"$f":"G72","v":""},null,"Ebin Daniel","Project Coordinator ","400 N Michigan Ave, Suite 600","Chicago","IL",60611,6308121648,"edaniel@resource-innovations.com",null,"Grocery",null,"Distressed Communities"]
[null,6,", during which they met with facility operators, reviewed historical energy usage data and investigated existing facility operations, systems, equipment and associated controls. This report outlines the ECMs identified during the study, including annual cost savings and estimated implementation costs. We hope it is a valuable tool as you choose what improvements are right for your business at this time.",", to confirm the status and results of all ECMs implemented. This report outlines the ECMs identified and implemented during the study, including annual cost savings and implementation costs. We hope it was a valuable tool as you chose what improvements were right for your business.",{"$f":"C9","v":", during which they met with facility operators, reviewed historical energy usage data and investigated existing facility operations, systems, equipment and associated controls. This report outlines the ECMs identified during the study, including annual cost savings and estimated implementation costs. We hope it is a valuable tool as you choose what improvements are right for your business at this time."},{"$f":"D9","v":", to confirm the status and results of all ECMs implemented. This report outlines the ECMs identified and implemented during the study, including annual cost savings and implementation costs. We hope it was a valuable tool as you chose what improvements were right for your business."},{"$f":"IF(Instructions!$F$3=\"MBCx\",IF(Instructions!$F$4=\"Investigation\",E9,IF(Instructions!$F$4=\"Verification\",F9,\"\")),IF(Instructions!$F$3=\"RCx Flex\",IF(Instructions!$F$4=\"Investigation\",C9,IF(Instructions!$F$4=\"Verification\",D9,\"\")),\"\"))","v":""},null,"Heating_System","Air_Distribution","Fix Preheat Controls",null,"Ascending - District Chilled Water Equivalent Electric Energy Savings \n(kWh/year)",null,{"$f":"IF(G73<>\"\",G73,IF(AND(G73=\"\",LEFT(O8,4)=\"Meas\"),$G$92,IF(O8=$G$92,$G$93,IF(O8=$G$93,$G$94,IF(O8=$G$94,$G$95,\"\")))))","v":""},null,"Raj Raghavan","Project Coordinator ","400 N Michigan Ave, Suite 600","Chicago","IL",60611,3128348384,"rraghavan@resource-innovations.com",null,"Health Care (Inpatient)",null,60608]
[null,7,{"$f":"C8&'Contact & Facility Information'!B12&C9","v":"Retro-Commissioning Flex provides a fully-funded study of your building’s existing energy consuming systems and incentives for implementing energy conservation measures (ECMs). A Retro-Commissioning investigation was performed by the energy efficiency service provider, , during which they met with facility operators, reviewed historical energy usage data and investigated existing facility operations, systems, equipment and associated controls. This report outlines the ECMs identified during the study, including annual cost savings and estimated implementation costs. We hope it is a valuable tool as you choose what improvements are right for your business at this time."},{"$f":"D8&'Contact & Facility Information'!B12&D9","v":"Retro-Commissioning Flex offering provides a fully-funded study of your building’s existing energy-using systems and incentives for implementing energy conservation measures (ECMs). A Retro-Commissioning verification was performed by the energy efficiency service provider, , to confirm the status and results of all ECMs implemented. This report outlines the ECMs identified and implemented during the study, including annual cost savings and implementation costs. We hope it was a valuable tool as you chose what improvements were right for your business."},{"$f":"E8&'Contact & Facility Information'!B12&E9","v":"Monitoring Based Commissioning (MBCx) provides a fully-funded study of your commercial building’s existing energy-using systems and incentives for implementing energy conservation measures (ECMs). A Retro-Commissioning investigation was performed by the energy efficiency service provider, , during which they met with facility operators, reviewed historical energy usage data and investigated existing facility operations, systems, equipment and associated controls. This report outlines the ECMs identified during the study, including annual cost savings and estimated implementation costs. We hope it is a valuable tool as you choose what improvements are right for your business at this time."},{"$f":"F8&'Contact & Facility Information'!B12&F9","v":"Monitoring Based Commissioning (MBCx) provides a fully-funded study of your commercial building’s existing energy-using systems and incentives for implementing energy conservation measures (ECMs). Verification was performed by the energy efficiency service provider, , to confirm the status and results of all ECMs implemented. This report outlines the ECMs identified and implemented during the study, including annual cost savings and implementation costs. We hope it was a valuable tool as you chose what improvements were right for your business."},{"$f":"IF(Instructions!$F$3=\"MBCx\",IF(Instructions!$F$4=\"Investigation\",E10,IF(Instructions!$F$4=\"Verification\",F10,\"\")),IF(Instructions!$F$3=\"RCx Flex\",IF(Instructions!$F$4=\"Investigation\",C10,IF(Instructions!$F$4=\"Verification\",D10,\"\")),\"\"))","v":""},null,"Lighting","Air_Distribution","Install Efficient Filters",null,"Ascending - District Chilled Water Cost Savings \n($/year)",null,{"$f":"IF(G74<>\"\",G74,IF(AND(G74=\"\",LEFT(O9,4)=\"Meas\"),$G$92,IF(O9=$G$92,$G$93,IF(O9=$G$93,$G$94,IF(O9=$G$94,$G$95,\"\")))))","v":""},null,"Rick Sensenbrenner","Project Coordinator ","400 N Michigan Ave, Suite 600","Chicago","IL",60611,6309843292,"rsensenbrenner@resource-innovations.com",null,"Health Care (Outpatient)",null,60609]
[null,8,null,null,null,null,{"$f":"IF(Instructions!$F$4=\"Investigation\",C11,IF(Instructions!$F$4=\"Verification\",D11,\"\"))","v":""},null,"Pump_Optimization","Air_Distribution","Optimize Minimum OA CFM",null,"Ascending - District Steam Energy Savings (MMBTU/yr)",null,"",null,"Paniz Hosseini","Project Coordinator ","400 N Michigan Ave, Suite 600","Chicago","IL",60611,3177204737,"phosseini@resource-innovations.com",null,"Industrial",null,60612]
[null,9,{"$f":"C10","v":"Retro-Commissioning Flex provides a fully-funded study of your building’s existing energy consuming systems and incentives for implementing energy conservation measures (ECMs). A Retro-Commissioning investigation was performed by the energy efficiency service provider, , during which they met with facility operators, reviewed historical energy usage data and investigated existing facility operations, systems, equipment and associated controls. This report outlines the ECMs identified during the study, including annual cost savings and estimated implementation costs. We hope it is a valuable tool as you choose what improvements are right for your business at this time."},{"$f":"D10","v":"Retro-Commissioning Flex offering provides a fully-funded study of your building’s existing energy-using systems and incentives for implementing energy conservation measures (ECMs). A Retro-Commissioning verification was performed by the energy efficiency service provider, , to confirm the status and results of all ECMs implemented. This report outlines the ECMs identified and implemented during the study, including annual cost savings and implementation costs. We hope it was a valuable tool as you chose what improvements were right for your business."},{"$f":"E10","v":"Monitoring Based Commissioning (MBCx) provides a fully-funded study of your commercial building’s existing energy-using systems and incentives for implementing energy conservation measures (ECMs). A Retro-Commissioning investigation was performed by the energy efficiency service provider, , during which they met with facility operators, reviewed historical energy usage data and investigated existing facility operations, systems, equipment and associated controls. This report outlines the ECMs identified during the study, including annual cost savings and estimated implementation costs. We hope it is a valuable tool as you choose what improvements are right for your business at this time."},{"$f":"F10","v":"Monitoring Based Commissioning (MBCx) provides a fully-funded study of your commercial building’s existing energy-using systems and incentives for implementing energy conservation measures (ECMs). Verification was performed by the energy efficiency service provider, , to confirm the status and results of all ECMs implemented. This report outlines the ECMs identified and implemented during the study, including annual cost savings and implementation costs. We hope it was a valuable tool as you chose what improvements were right for your business."},{"$f":"IF(Instructions!$F$3=\"MBCx\",IF(Instructions!$F$4=\"Investigation\",E12,IF(Instructions!$F$4=\"Verification\",F12,\"\")),IF(Instructions!$F$3=\"RCx Flex\",IF(Instructions!$F$4=\"Investigation\",C12,IF(Instructions!$F$4=\"Verification\",D12,\"\")),\"\"))","v":""},null,"Refrigeration","Air_Distribution","Optimize DAT/MAT Control",null,"Ascending - District Steam Equivalent Natural Gas Energy Savings \n(therms/year)",null,"",null,null,null,null,null,null,null,null,null,null,"Lodging",null,60615]
[null,10,"identified","verified",null,null,{"$f":"IF(Instructions!$F$4=\"Investigation\",C13,IF(Instructions!$F$4=\"Verification\",D13,\"\"))","v":""},null,"Scheduling","Air_Distribution","Optimize Supply Fan Performance",null,"Ascending - District Steam Cost Savings \n($/year)",null,"",null,null,null,0,0,0,0,null,null,null,"Mercantile (Enclosed and Strip Malls)",null,60616]
[null,11,"Identified","Verified",null,null,{"$f":"IF(Instructions!$F$4=\"Investigation\",C14,IF(Instructions!$F$4=\"Verification\",D14,\"\"))","v":""},null,null,"Air_Distribution","Other Air Distribution",null,"Ascending - Measure Incremental Implementation Cost\n($)",null,"",null,null,null,0,0,0,0,null,null,null,"Mercantile (Retail Other Than Mall)",null,60617]
[null,12,{"$f":"'Measure Recommendation'!L37+'Measure Recommendation'!Q37","v":0},{"$f":"'Measure Recommendation'!L61+'Measure Recommendation'!Q61","v":0},null,null,{"$f":"IF(Instructions!$F$4=\"Investigation\",C15,IF(Instructions!$F$4=\"Verification\",D15,\"\"))","v":""},null,null,"Air_Distribution","Reduce SA and Ventilation Air",null,"Ascending - Simple Payback (Years)",null,"",null,null,null,null,null,null,null,null,null,null,"Multi-family",null,60619]
[null,13,{"$f":"IF('Measure Recommendation'!$F$6=\"Yes\",'Measure Recommendation'!N37+'Measure Recommendation'!T37,'Measure Recommendation'!L37+'Measure Recommendation'!Q37)","v":0},{"$f":"IF('Measure Recommendation'!$F$6=\"Yes\",'Measure Recommendation'!N61+'Measure Recommendation'!T61,'Measure Recommendation'!L61+'Measure Recommendation'!Q61)","v":0},null,null,{"$f":"IF(Instructions!$F$4=\"Investigation\",C16,IF(Instructions!$F$4=\"Verification\",D16,\"\"))","v":""},null,null,"Air_Distribution","Repair Air Leaks",null,"Descending - ComEd Peak Demand Savings \n(kW)",null,"",null,null,null,null,null,null,null,null,null,null,"Nursing Home",null,60620]
[null,15,{"$f":"'Measure Recommendation'!M37+'Measure Recommendation'!R37","v":0},{"$f":"'Measure Recommendation'!M61+'Measure Recommendation'!R61","v":0},null,null,{"$f":"IF(Instructions!$F$4=\"Investigation\",C17,IF(Instructions!$F$4=\"Verification\",D17,\"\"))","v":""},null,null,"Air_Distribution","Repair/Replace Dampers",null,"Descending - Electrical Energy Savings (kWh/year)",null,"",null,null,null,null,null,null,null,null,null,null,"Office",null,60621]
[null,16,{"$f":"'Measure Recommendation'!O37+'Measure Recommendation'!U37","v":0},{"$f":"'Measure Recommendation'!O61+'Measure Recommendation'!U61","v":0},null,null,{"$f":"IF(Instructions!$F$4=\"Investigation\",C18,IF(Instructions!$F$4=\"Verification\",D18,\"\"))","v":""},null,null,"Air_Distribution","Reset MAT",null,"Descending - Electrical Cost Savings \n($/year)",null,"",null,null,null,null,null,null,null,null,null,null,"Other",null,60623]
[null,17,"RCx study value fully funded \nby ComEd","RCx study value fully funded \nby ComEd","MBCx study value fully funded \nby ComEd","MBCx study value fully funded \nby ComEd",{"$f":"IF(Instructions!$F$3=\"MBCx\",IF(Instructions!$F$4=\"Investigation\",E19,IF(Instructions!$F$4=\"Verification\",F19,\"\")),IF(Instructions!$F$3=\"RCx Flex\",IF(Instructions!$F$4=\"Investigation\",C19,IF(Instructions!$F$4=\"Verification\",D19,\"\")),\"\"))","v":""},null,null,"Air_Distribution","Shut Off Preheat",null,"Descending - Natural Gas Energy Savings (therms/year)",null,"",null,null,null,null,null,null,null,null,null,null,"Public Assembly",null,60624]
[null,18,{"$f":"\"\"","v":""},{"$f":"\"\"","v":""},null,null,null,null,null,"Air_Distribution","Supply Air Temperature Reset",null,"Descending - Natural Gas Cost Savings \n($/year)",null,"",null,null,null,null,null,null,null,null,null,null,"Public Order and Safety",null,60626]
[null,19,{"$f":"'Measure Recommendation'!V37","v":0},{"$f":"'Measure Recommendation'!V61","v":0},null,null,{"$f":"IF(Instructions!$F$4=\"Investigation\",C21,IF(Instructions!$F$4=\"Verification\",D21,\"\"))","v":""},null,null,"Air_Distribution","Utilize VFDs for Fans",null,"Descending - District Chilled Water Energy Savings \n(ton-hrs/year)",null,"",null,null,null,null,null,null,null,null,null,null,"Religious Worship",null,60628]
[null,20,{"$f":"IF(OR('Measure Recommendation'!$BA$43=\"Immediate\",'Measure Recommendation'!$BA$43<=0.1),\n    \"Immediate\",\n    IF(ROUND('Measure Recommendation'!$BA$43,1)=1,\n       ROUND('Measure Recommendation'!$BA$43,1)&\" year\",\n       ROUND('Measure Recommendation'!$BA$43,1)&\" years\"))","v":{"$error":"#DIV/0!"}},{"$f":"IF(OR('Measure Recommendation'!$BE$43=\"Immediate\",'Measure Recommendation'!$BE$43<=0.1),\n    \"Immediate\",\n    IF(ROUND('Measure Recommendation'!$BE$43,1)=1,\n       ROUND('Measure Recommendation'!$BE$43,1)&\" year\",\n       ROUND('Measure Recommendation'!$BE$43,1)&\" years\"))","v":{"$error":"#DIV/0!"}},null,null,{"$f":"IF(Instructions!$F$4=\"Investigation\",C22,IF(Instructions!$F$4=\"Verification\",D22,\"\"))","v":""},null,null,"Chilled_Water_System","Balance Waterside",null,"Descending - District Chilled Water Equivalent Electric Energy Savings \n(kWh/year)",null,"",null,null,null,null,null,null,null,null,null,null,"Service/Small Business",null,60629]
[null,21,{"$f":"DOLLAR(ROUND((C18/12),0),0)&\"\n per month\"","v":"$0\n per month"},{"$f":"DOLLAR(ROUND((D18/12),0),0)&\"\n per month\"","v":"$0\n per month"},null,null,{"$f":"IF(Instructions!$F$4=\"Investigation\",C23,IF(Instructions!$F$4=\"Verification\",D23,\"\"))","v":""},null,null,"Chilled_Water_System","Chilled Water Temperature Reset",null,"Descending - District Chilled Water Cost Savings \n($/year)",null,"",null,null,null,null,null,null,null,null,null,null,"Sportsplex/Ice Rink",null,60632]
[null,22,"Quoted Implementation Cost","Invoiced Implementation Cost",null,null,{"$f":"IF(Instructions!$F$4=\"Investigation\",C24,IF(Instructions!$F$4=\"Verification\",D24,\"\"))","v":""},null,null,"Chilled_Water_System","Isolate Chillers",null,"Descending - District Steam Energy Savings (MMBTU/yr)",null,"",null,null,null,null,null,null,null,null,null,null,"Warehouse and Storage",null,60633]
[null,23,{"$f":"\"Investigation Phase Estimates for All Identified ECMs\"","v":"Investigation Phase Estimates for All Identified ECMs"},{"$f":"\"Verification Phase Results for All Verified ECMs\"","v":"Verification Phase Results for All Verified ECMs"},null,null,{"$f":"IF(Instructions!$F$4=\"Investigation\",C25,IF(Instructions!$F$4=\"Verification\",D25,\"\"))","v":""},null,null,"Chilled_Water_System","Optimize CRAC Sequencing",null,"Descending - District Steam Equivalent Natural Gas Energy Savings \n(therms/year)",null,"",null,null,null,null,null,null,null,null,null,null,null,null,60636]
[null,24,{"$f":"'Measure Recommendation'!$V$37","v":0},{"$f":"'Measure Recommendation'!$V$61","v":0},null,null,{"$f":"IF(Instructions!$F$4=\"Investigation\",C26,IF(Instructions!$F$4=\"Verification\",D26,\"\"))","v":""},null,null,"Chilled_Water_System","Optimize Free Cooling HX",null,"Descending - District Steam Cost Savings \n($/year)",null,"",null,null,null,null,null,null,null,null,null,null,null,null,60637]
[null,25,{"$f":"-SUMIF('Measure Recommendation'!$AL$17:$AL$37,\"<=\"&'Measure Recommendation'!$AL$41,'Measure Recommendation'!$AT$17:$AT$37)","v":0},{"$f":"-SUMIF('Measure Recommendation'!$AV$17:$AV$37,\"<=\"&'Measure Recommendation'!$AL$41,'Measure Recommendation'!$BD$17:$BD$37)","v":0},{"$f":"-SUMIF('Measure Recommendation'!$AL$17:$AL$37,\"<=\"&'Measure Recommendation'!$AL$41,'Measure Recommendation'!$AT$17:$AT$37)","v":0},{"$f":"-SUMIF('Measure Recommendation'!$AV$17:$AV$37,\"<=\"&'Measure Recommendation'!$AL$41,'Measure Recommendation'!$BD$17:$BD$37)","v":0},{"$f":"IF(Instructions!$F$3=\"MBCx\",IF(Instructions!$F$4=\"Investigation\",E27,IF(Instructions!$F$4=\"Verification\",F27,\"\")),IF(Instructions!$F$3=\"RCx Flex\",IF(Instructions!$F$4=\"Investigation\",C27,IF(Instructions!$F$4=\"Verification\",D27,\"\")),\"\"))","v":""},null,null,"Chilled_Water_System","Other Chilled Water System",null,"Descending - Measure Incremental Implementation Cost\n($)",null,"",null,null,null,null,null,null,null,null,null,null,null,null,60639]
[null,26,{"$f":"'Measure Recommendation'!V37-'Measure Recommendation'!$L$8","v":0},{"$f":"'Measure Recommendation'!V61-'Measure Recommendation'!$L$8","v":0},{"$f":"'Measure Recommendation'!V37","v":0},{"$f":"'Measure Recommendation'!V61","v":0},{"$f":"IF(Instructions!$F$3=\"MBCx\",IF(Instructions!$F$4=\"Investigation\",E28,IF(Instructions!$F$4=\"Verification\",F28,\"\")),IF(Instructions!$F$3=\"RCx Flex\",IF(Instructions!$F$4=\"Investigation\",C28,IF(Instructions!$F$4=\"Verification\",D28,\"\")),\"\"))","v":""},null,null,"Compressed_Air","Improve Compressor Seq/Cntrls",null,"Descending - Simple Payback (Years)",null,{"$f":"IF(O27=G92,G93,IF(O27=G93,G94,IF(O27=G94,G95,IF(OR($O$20=G92,$O$8=G92,$O$9=G92,$O$10=G92,$O$11=G92,$O$12=G92,$O$13=G92,$O$14=G92,$O$15=G92,$O$16=G92,$O$17=G92,$O$18=G92,$O$19=G92,$O$21=G92,$O$22=G92,$O$23=G92,$O$24=G92,$O$25=G92,$O$26=G92,$O$27=G92),\"\",G92))))","v":""},null,null,null,null,null,null,null,null,null,null,null,null,60641]
[null,27,{"$f":"'Measure Recommendation'!L37*0.07","v":0},{"$f":"'Measure Recommendation'!L61*0.07","v":0},null,null,{"$f":"IF(Instructions!$F$4=\"Investigation\",C29,IF(Instructions!$F$4=\"Verification\",D29,\"\"))","v":""},null,null,"Compressed_Air","Install No-Loss Condensate Drains",null,null,null,{"$f":"IF(O28=G92,G93,IF(O28=G93,G94,IF(O28=G94,G95,IF(OR($O$20=G92,$O$8=G92,$O$9=G92,$O$10=G92,$O$11=G92,$O$12=G92,$O$13=G92,$O$14=G92,$O$15=G92,$O$16=G92,$O$17=G92,$O$18=G92,$O$19=G92,$O$21=G92,$O$22=G92,$O$23=G92,$O$24=G92,$O$25=G92,$O$26=G92,$O$27=G92),\"\",G92))))","v":""},null,null,null,null,null,null,null,null,null,null,null,null,60644]
[null,28,{"$f":"\"The cost of implementing all recommended ECMs is estimated at \"&DOLLAR('Measure Recommendation'!V37,0)&\". \"&C4&\" will receive an estimated incentive* of \"&DOLLAR('Measure Recommendation'!$AT$38,0)&\" to implement all recommended ECMs, which will reduce the implementation cost to \"&DOLLAR('Measure Recommendation'!V37-'Measure Recommendation'!$AT$38,0)&\".\"","v":"The cost of implementing all recommended ECMs is estimated at $0. 0 will receive an estimated incentive* of $0 to implement all recommended ECMs, which will reduce the implementation cost to $0."},{"$f":"\"The cost of implementing all recommended ECMs was \"&DOLLAR('Measure Recommendation'!V61,0)&\". \"&C4&\" received an incentive* of \"&DOLLAR('Measure Recommendation'!$BD$38,0)&\" to implement all recommended ECMs, which reduced the implementation cost to \"&DOLLAR('Measure Recommendation'!V61-'Measure Recommendation'!$BD$38,0)&\".\"","v":"The cost of implementing all recommended ECMs was $0. 0 received an incentive* of $0 to implement all recommended ECMs, which reduced the implementation cost to $0."},null,{"$f":"D30","v":"The cost of implementing all recommended ECMs was $0. 0 received an incentive* of $0 to implement all recommended ECMs, which reduced the implementation cost to $0."},{"$f":"IF(Instructions!$F$3=\"MBCx\",IF(Instructions!$F$4=\"Investigation\",E30,IF(Instructions!$F$4=\"Verification\",F30,\"\")),IF(Instructions!$F$3=\"RCx Flex\",IF(Instructions!$F$4=\"Investigation\",C30,IF(Instructions!$F$4=\"Verification\",D30,\"\")),\"\"))","v":""},null,null,"Compressed_Air","Lower CA Pressure Setpoint",null,null,null,{"$f":"IF(O29=G93,G94,IF(O29=G94,G95,IF(OR($O$20=G92,$O$8=G92,$O$9=G92,$O$10=G92,$O$11=G92,$O$12=G92,$O$13=G92,$O$14=G92,$O$15=G92,$O$16=G92,$O$17=G92,$O$18=G92,$O$19=G92,$O$28=G92,$O$29=G92,$O$21=G92,$O$22=G92,$O$23=G92,$O$24=G92,$O$25=G92,$O$26=G92,$O$27=G92),\"\",G92)))","v":""},null,null,null,null,null,null,null,null,null,null,null,null,60645]
[null,29,{"$f":"MIN(IF('Measure Recommendation'!$V$37=0,0,-C27/'Measure Recommendation'!$V$37),1)","v":0},{"$f":"MIN(IF('Measure Recommendation'!$V$37=0,0,-D27/'Measure Recommendation'!$V$61),1)","v":0},{"$f":"IFERROR(MIN(-E27/'Measure Recommendation'!$V$37,1),\"\")","v":""},{"$f":"IFERROR(MIN(-F27/'Measure Recommendation'!$V$61,1),\"\")","v":""},{"$f":"IF(Instructions!$F$3=\"MBCx\",IF(Instructions!$F$4=\"Investigation\",E31,IF(Instructions!$F$4=\"Verification\",F31,\"\")),IF(Instructions!$F$3=\"RCx Flex\",IF(Instructions!$F$4=\"Investigation\",C31,IF(Instructions!$F$4=\"Verification\",D31,\"\")),\"\"))","v":""},null,null,"Compressed_Air","Other Compressed Air",null,null,null,{"$f":"IF(O30=G94,G95,IF(OR($O$20=G92,$O$8=G92,$O$9=G92,$O$10=G92,$O$11=G92,$O$12=G92,$O$13=G92,$O$14=G92,$O$15=G92,$O$16=G92,$O$17=G92,$O$18=G92,$O$19=G92,$O$28=G92,$O$29=G92,$O$30=G92,$O$21=G92,$O$22=G92,$O$23=G92,$O$24=G92,$O$25=G92,$O$26=G92,$O$27=G92),\"\",G92))","v":"IssueLog"},null,null,null,null,null,null,null,null,null,null,null,null,60649]
[null,30,{"$f":"LEFT(E32,377)&D32","v":"The estimated incentive listed above is valid for 74 days from report approval. If you cannot meet the required implementation deadline, your reserved funds will be released and funds for ECM implementation will not be gauranteed. If you would like to install ECMs after the 74 day deadline has passed, you will need to request an extension by notifying your service provider. Electric incentives are estimated at $0.04/kWh verified and North Shore Gas customers are eligible for additional natural gas incentives estimated at $0.17/therm verified. Natural gas incentives are capped at $10,000. Total Incentives are capped at 100% of the implementation cost."},{"$f":"IF(Instructions!F3=\"RCx Flex\",\n   CONCATENATE(\n     \"Electric incentives are estimated at $0.04/kWh verified and North Shore Gas customers are eligible for additional natural gas incentives estimated at $0.17/therm verified. \",\n     \"Natural gas incentives are capped at $10,000. \",\n     \"Total Incentives are capped at 100% of the implementation cost.\"\n   ),\n   CONCATENATE(\n     \"Electric incentives are estimated at $0.04/kWh verified and North Shore Gas customers are eligible for additional natural gas incentives estimated at $0.17/therm verified. \",\n     \"Natural gas incentives are capped at $10,000. \",\n     \"Total Incentives are capped at 100% of the implementation cost.\"\n   )\n)","v":"Electric incentives are estimated at $0.04/kWh verified and North Shore Gas customers are eligible for additional natural gas incentives estimated at $0.17/therm verified. Natural gas incentives are capped at $10,000. Total Incentives are capped at 100% of the implementation cost."},"The estimated incentive listed above is valid for 74 days from report approval. If you cannot meet the required implementation deadline, your reserved funds will be released and funds for ECM implementation will not be gauranteed. If you would like to install ECMs after the 74 day deadline has passed, you will need to request an extension by notifying your service provider. Incentives are estimated at $0.04/kWh verified, and are capped at the total project cost.","Incentives are calculated at $0.04/kWh, and are capped at the total project cost.",{"$f":"IF(Instructions!$F$3=\"MBCx\",IF(Instructions!$F$4=\"Investigation\",E32,IF(Instructions!$F$4=\"Verification\",F32,\"\")),IF(Instructions!$F$3=\"RCx Flex\",IF(Instructions!$F$4=\"Investigation\",C32,IF(Instructions!$F$4=\"Verification\",D32,\"\")),\"\"))","v":""},null,null,"Compressed_Air","Relocate Air Inlet",null,null,null,{"$f":"IF(O31=G94,G95,IF(OR($O$20=G92,$O$8=G92,$O$9=G92,$O$10=G92,$O$11=G92,$O$12=G92,$O$13=G92,$O$14=G92,$O$15=G92,$O$16=G92,$O$17=G92,$O$18=G92,$O$19=G92,$O$28=G92,$O$29=G92,$O$30=G92,$O$21=G92,$O$22=G92,$O$23=G92,$O$24=G92,$O$25=G92,$O$26=G92,$O$27=G92),\"\",G92))","v":""},null,null,null,null,null,null,null,null,null,null,null,null,60651]
[null,31,null,null,null,null,null,null,null,"Compressed_Air","Repair Compressed Air Leaks",null,null,null,null,null,null,null,null,null,null,null,null,null,null,null,null,60653]
[null,32,{"$f":" \"*\" &C32&\"\n\n\"&  IFERROR(IF(OR(AND('Measure Recommendation'!F6=\"Yes\",'Contact & Facility Information'!C80=\"Peoples Gas\"),AND('Measure Recommendation'!F6=\"Yes\",'Contact & Facility Information'!C80=\"North Shore\")),C33,\"\"),\"\")","v":"*The estimated incentive listed above is valid for 74 days from report approval. If you cannot meet the required implementation deadline, your reserved funds will be released and funds for ECM implementation will not be gauranteed. If you would like to install ECMs after the 74 day deadline has passed, you will need to request an extension by notifying your service provider. Electric incentives are estimated at $0.04/kWh verified and North Shore Gas customers are eligible for additional natural gas incentives estimated at $0.17/therm verified. Natural gas incentives are capped at $10,000. Total Incentives are capped at 100% of the implementation cost.\n\n"},{"$f":" \"*\" &D32&\"\n\n\"& IFERROR(IF(OR(AND('Measure Recommendation'!F6=\"Yes\",'Contact & Facility Information'!C80=\"Peoples Gas\"),AND('Measure Recommendation'!F6=\"Yes\",'Contact & Facility Information'!C80=\"North Shore\")),D33,\"\"),\"\")","v":"*Electric incentives are estimated at $0.04/kWh verified and North Shore Gas customers are eligible for additional natural gas incentives estimated at $0.17/therm verified. Natural gas incentives are capped at $10,000. Total Incentives are capped at 100% of the implementation cost.\n\n"},{"$f":" \"*\" &C32&\"\n\n\"&  IFERROR(IF(OR(AND('Measure Recommendation'!F6=\"Yes\",'Contact & Facility Information'!C80=\"Peoples Gas\"),AND('Measure Recommendation'!F6=\"Yes\",'Contact & Facility Information'!C80=\"North Shore\")),C33,\"\"),\"\")","v":"*The estimated incentive listed above is valid for 74 days from report approval. If you cannot meet the required implementation deadline, your reserved funds will be released and funds for ECM implementation will not be gauranteed. If you would like to install ECMs after the 74 day deadline has passed, you will need to request an extension by notifying your service provider. Electric incentives are estimated at $0.04/kWh verified and North Shore Gas customers are eligible for additional natural gas incentives estimated at $0.17/therm verified. Natural gas incentives are capped at $10,000. Total Incentives are capped at 100% of the implementation cost.\n\n"},{"$f":"\"*\"&D32&\"\"","v":"*Electric incentives are estimated at $0.04/kWh verified and North Shore Gas customers are eligible for additional natural gas incentives estimated at $0.17/therm verified. Natural gas incentives are capped at $10,000. Total Incentives are capped at 100% of the implementation cost."},{"$f":"IF(Instructions!$F$3=\"MBCx\",IF(Instructions!$F$4=\"Investigation\",E34,IF(Instructions!$F$4=\"Verification\",F34,\"\")),IF(Instructions!$F$3=\"RCx Flex\",IF(Instructions!$F$4=\"Investigation\",C34,IF(Instructions!$F$4=\"Verification\",D34,\"\")),\"\"))","v":""},null,null,"Compressed_Air","Replace Open Blowing w/ Eng Nozzles",null,null,null,null,null,null,null,null,null,null,null,null,null,null,null,null,60659]
[null,33,"* Please refer to Energy Conservation Measure Form","* Please refer to Energy Conservation Measure Form",null,null,{"$f":"IF(Instructions!$F$4=\"Investigation\",C35,IF(Instructions!$F$4=\"Verification\",D35,\"\"))","v":""},null,null,"Cooling_Tower_Optimization","CWT Reset",null,null,null,null,null,null,null,null,null,null,null,null,null,null,null,null,60660]
[null,34,{"$f":"\"The electric cost savings from Bundle #\"&'Measure Recommendation'!AL41&\" is \"&DOLLAR('Measure Recommendation'!$AR$42,0)&\", the gas cost savings is \"&DOLLAR('Measure Recommendation'!$AS$42,0)&\". The total estimated incentives are \"&DOLLAR('Measure Recommendation'!$AU$42,0)&\".\"","v":{"$error":"#N/A"}},{"$f":"\"The electric cost savings from Bundle #\"&'Measure Recommendation'!AL41&\" is \"&DOLLAR('Measure Recommendation'!$AR$43,0)&\", the gas cost savings is \"&DOLLAR('Measure Recommendation'!$AS$43,0)&\". The total incentives paid are \"&DOLLAR('Measure Recommendation'!$AU$43,0)&\".\"","v":{"$error":"#N/A"}},null,null,{"$f":"IF(Instructions!$F$4=\"Investigation\",C36,IF(Instructions!$F$4=\"Verification\",D36,\"\"))","v":""},null,null,"Cooling_Tower_Optimization","Optimize Heat Trace"]
[null,null,null,null,null,null,null,null,null,"Cooling_Tower_Optimization","Other Cooling Tower Optimization"]
[null,"Recommendations",null,null,null,null,null,null,null,"Domestic_Hot_Water","Low Flow Faucets"]
[null,"#","INV","VER",null,null,"Actual",null,null,"Domestic_Hot_Water","Other Domestic Hot Water"]
[null,1,"Install","Verified",null,null,{"$f":"IF(Instructions!$F$4=\"Investigation\",C40,IF(Instructions!$F$4=\"Verification\",D40,\"\"))","v":""},null,null,"General","Elevator Sleepmode"]
[null,2,{"$f":"\"This page summarizes the findings of the Investigation Phase of the study and impacts of the identified ECMs. The total estimated incentive after installing all ECMs is \"&DOLLAR('Measure Recommendation'!$L$8,2)&\"*\" &\" resulting in \"&IF('Measure Recommendation'!$BA$43=\"Immediate\",\"an immediate simple payback\",\"a simple payback of \" & ROUND('Measure Recommendation'!$BA$43,1) & IF(ROUND('Measure Recommendation'!$BA$43,1)=1, \" year\", \" years\"))&\". ECMs and the associated costs, savings and economic impacts are entered and updated by \"&'Contact & Facility Information'!B12&\". As a reminder, we target an 18-month payback period. \"&'Contact & Facility Information'!B6&\" should choose which ECMs to install, then upon implementation completion, \"&C6&\" will formally check off the ECMs in the 'Installed' column and submit this form to the program for payment of incentives. Please see appendix for more information.\"","v":{"$error":"#DIV/0!"}},{"$f":"\"This page summarizes the findings at each stage of the study and impacts of the implemented and verified ECMs. The total incentive after installing and verifying the selected ECMs in this current bundle is \"&DOLLAR('Measure Recommendation'!$L$8,2)&\"* resulting in \"&IF('Measure Recommendation'!$BE$43=\"Immediate\",\n   \"an immediate simple payback\",\n   \"a simple payback of \" & ROUND('Measure Recommendation'!$BE$43,1) &\n   IF(ROUND('Measure Recommendation'!$BE$43,1)=1, \" year\", \" years\")\n)&\". ECMs and the associated costs, savings and economic impacts are entered and updated by \"&'Contact & Facility Information'!B12&\" based upon verified data.\"","v":{"$error":"#DIV/0!"}},{"$f":"\"This page summarizes the findings of the Investigation Phase of the study and impacts of the identified ECMs. The total estimated savings after installing all ECMs is \"&DOLLAR('Measure Recommendation'!$M$37+'Measure Recommendation'!$O$37+'Measure Recommendation'!$R$37+'Measure Recommendation'!$U$37,2) &\" resulting in \"&IF('Measure Recommendation'!$BA$43=\"Immediate\",\n   \"an immediate simple payback\",\n   \"a simple payback of \" & ROUND('Measure Recommendation'!$BA$43,1) &\n   IF(ROUND('Measure Recommendation'!$BA$43,1)=1, \" year\", \" years\")\n)&\". ECMs and the associated costs, savings and economic impacts are entered and updated by \"&'Contact & Facility Information'!B12&\". As a reminder, we target an 18-month payback period. \"&'Contact & Facility Information'!B6&\" should choose which ECMs to install, then upon implementation completion, \"&C6&\" will formally check off the ECMs in the 'Installed' column and submit this form to the program. Please see appendix for more information.\"","v":{"$error":"#DIV/0!"}},{"$f":"\"This page summarizes the findings at each stage of the study and impacts of the implemented and verified ECMs. The total incentive after installing and verifying the selected ECMs in this current bundle is \"&DOLLAR('Measure Recommendation'!$L$8,2)&\"* resulting in \"&IF('Measure Recommendation'!$BE$43=\"Immediate\",\n   \"an immediate simple payback\",\n   \"a simple payback of \" & ROUND('Measure Recommendation'!$BE$43,1) &\n   IF(ROUND('Measure Recommendation'!$BE$43,1)=1, \" year\", \" years\")\n)&\". ECMs and the associated costs, savings and economic impacts are entered and updated by \"&'Contact & Facility Information'!B12&\" based upon verified data.\"","v":{"$error":"#DIV/0!"}},{"$f":"IF(Instructions!$F$3=\"MBCx\",IF(Instructions!$F$4=\"Investigation\",E41,IF(Instructions!$F$4=\"Verification\",F41,\"\")),IF(Instructions!$F$3=\"RCx Flex\",IF(Instructions!$F$4=\"Investigation\",C41,IF(Instructions!$F$4=\"Verification\",D41,\"\")),\"\"))","v":""},null,null,"General","Optimize Electric Heating Controls"]
[null,3,{"$f":"IF(COUNTA('Additional Measure Information'!B8:B17)=0,\"\",'Contact & Facility Information'!B12&\" also identified \"&COUNTA('Additional Measure Information'!B8:B17)&\" additional energy-saving \"&IF(COUNTA('Additional Measure Information'!B8:B17)=1,\"opportunity\",\"opportunities\")&\" for other ComEd incentive programs. Please see appendix for more information.\")","v":""},{"$f":"C42","v":""},null,null,{"$f":"IF(Instructions!$F$4=\"Investigation\",C42,IF(Instructions!$F$4=\"Verification\",D42,\"\"))","v":""},null,null,"General","Optimize Generator Heater Control"]
[null,4,"Selected","Implemented",null,null,{"$f":"IF(Instructions!$F$4=\"Investigation\",C43,IF(Instructions!$F$4=\"Verification\",D43,\"\"))","v":""},null,null,"General","Optimize Snowmelt System"]
[null,5,"Investigation","Verification",null,null,{"$f":"IF(Instructions!$F$4=\"Investigation\",C44,IF(Instructions!$F$4=\"Verification\",D44,\"\"))","v":""},null,null,"General","Other General"]
[null,6,{"$f":"COUNTA('Additional Measure Information'!$B$8:$D$17)","v":0},{"$f":"COUNTA('Additional Measure Information'!$B$8:$D$17)","v":0},null,null,{"$f":"IF(Instructions!$F$4=\"Investigation\",C45,IF(Instructions!$F$4=\"Verification\",D45,\"\"))","v":""},null,null,"General","Reduce Simultaneous Heat and Cool"]
[null,7,{"$f":"C32","v":"The estimated incentive listed above is valid for 74 days from report approval. If you cannot meet the required implementation deadline, your reserved funds will be released and funds for ECM implementation will not be gauranteed. If you would like to install ECMs after the 74 day deadline has passed, you will need to request an extension by notifying your service provider. Electric incentives are estimated at $0.04/kWh verified and North Shore Gas customers are eligible for additional natural gas incentives estimated at $0.17/therm verified. Natural gas incentives are capped at $10,000. Total Incentives are capped at 100% of the implementation cost."},{"$f":"D32","v":"Electric incentives are estimated at $0.04/kWh verified and North Shore Gas customers are eligible for additional natural gas incentives estimated at $0.17/therm verified. Natural gas incentives are capped at $10,000. Total Incentives are capped at 100% of the implementation cost."},null,{"$f":"F34","v":"*Electric incentives are estimated at $0.04/kWh verified and North Shore Gas customers are eligible for additional natural gas incentives estimated at $0.17/therm verified. Natural gas incentives are capped at $10,000. Total Incentives are capped at 100% of the implementation cost."},{"$f":"IF(Instructions!$F$3=\"MBCx\",IF(Instructions!$F$4=\"Investigation\",\"\",IF(Instructions!$F$4=\"Verification\",F46,\"\")),IF(Instructions!$F$3=\"RCx Flex\",IF(Instructions!$F$4=\"Investigation\",C46,IF(Instructions!$F$4=\"Verification\",D46,\"\")),\"\"))","v":""},null,null,"Heating_System","Boiler Tune-Up"]
[null,8,{"$f":"IF('Measure Recommendation'!I17=\"\",\"\",\"#\"&'Measure Recommendation'!D17&\": \"&'Measure Recommendation'!I17)","v":""},{"$f":"IF('Measure Recommendation'!I41=\"\",\"\",\"#\"&'Measure Recommendation'!D41&\": \"&'Measure Recommendation'!I41)","v":""},null,null,{"$f":"IF(Instructions!$F$4=\"Investigation\",C47,IF(Instructions!$F$4=\"Verification\",D47,\"\"))","v":""},null,null,"Heating_System","Improve Cntrl/Replace/Repair Valve"]
[null,9,{"$f":"IF('Measure Recommendation'!I18=\"\",\"\",\"#\"&'Measure Recommendation'!D18&\": \"&'Measure Recommendation'!I18)","v":""},{"$f":"IF('Measure Recommendation'!I42=\"\",\"\",\"#\"&'Measure Recommendation'!D42&\": \"&'Measure Recommendation'!I42)","v":""},null,null,{"$f":"IF(Instructions!$F$4=\"Investigation\",C48,IF(Instructions!$F$4=\"Verification\",D48,\"\"))","v":""},null,null,"Heating_System","Optimize Boiler Sequencing"]
[null,10,{"$f":"IF('Measure Recommendation'!I19=\"\",\"\",\"#\"&'Measure Recommendation'!D19&\": \"&'Measure Recommendation'!I19)","v":""},{"$f":"IF('Measure Recommendation'!I43=\"\",\"\",\"#\"&'Measure Recommendation'!D43&\": \"&'Measure Recommendation'!I43)","v":""},null,null,{"$f":"IF(Instructions!$F$4=\"Investigation\",C49,IF(Instructions!$F$4=\"Verification\",D49,\"\"))","v":""},null,null,"Heating_System","Other Heating System"]
[null,11,{"$f":"IF('Measure Recommendation'!I20=\"\",\"\",\"#\"&'Measure Recommendation'!D20&\": \"&'Measure Recommendation'!I20)","v":""},{"$f":"IF('Measure Recommendation'!I44=\"\",\"\",\"#\"&'Measure Recommendation'!D44&\": \"&'Measure Recommendation'!I44)","v":""},null,null,{"$f":"IF(Instructions!$F$4=\"Investigation\",C50,IF(Instructions!$F$4=\"Verification\",D50,\"\"))","v":""},null,null,"Heating_System","Reduce Boiler Pressure"]
[null,12,{"$f":"IF('Measure Recommendation'!I21=\"\",\"\",\"#\"&'Measure Recommendation'!D21&\": \"&'Measure Recommendation'!I21)","v":""},{"$f":"IF('Measure Recommendation'!I45=\"\",\"\",\"#\"&'Measure Recommendation'!D45&\": \"&'Measure Recommendation'!I45)","v":""},null,null,{"$f":"IF(Instructions!$F$4=\"Investigation\",C51,IF(Instructions!$F$4=\"Verification\",D51,\"\"))","v":""},null,null,"Heating_System","Reset Hot Water"]
[null,13,{"$f":"IF('Measure Recommendation'!I22=\"\",\"\",\"#\"&'Measure Recommendation'!D22&\": \"&'Measure Recommendation'!I22)","v":""},{"$f":"IF('Measure Recommendation'!I46=\"\",\"\",\"#\"&'Measure Recommendation'!D46&\": \"&'Measure Recommendation'!I46)","v":""},null,null,{"$f":"IF(Instructions!$F$4=\"Investigation\",C52,IF(Instructions!$F$4=\"Verification\",D52,\"\"))","v":""},null,null,"Lighting","Other Lighting"]
[null,14,{"$f":"IF('Measure Recommendation'!I23=\"\",\"\",\"#\"&'Measure Recommendation'!D23&\": \"&'Measure Recommendation'!I23)","v":""},{"$f":"IF('Measure Recommendation'!I47=\"\",\"\",\"#\"&'Measure Recommendation'!D47&\": \"&'Measure Recommendation'!I47)","v":""},null,null,{"$f":"IF(Instructions!$F$4=\"Investigation\",C53,IF(Instructions!$F$4=\"Verification\",D53,\"\"))","v":""},null,null,"Lighting","Schedule Lighting"]
[null,15,{"$f":"IF('Measure Recommendation'!I24=\"\",\"\",\"#\"&'Measure Recommendation'!D24&\": \"&'Measure Recommendation'!I24)","v":""},{"$f":"IF('Measure Recommendation'!I48=\"\",\"\",\"#\"&'Measure Recommendation'!D48&\": \"&'Measure Recommendation'!I48)","v":""},null,null,{"$f":"IF(Instructions!$F$4=\"Investigation\",C54,IF(Instructions!$F$4=\"Verification\",D54,\"\"))","v":""},null,null,"Pump_Optimization","Adj Freeze Protection Seq for Pumps"]
[null,16,{"$f":"IF('Measure Recommendation'!I25=\"\",\"\",\"#\"&'Measure Recommendation'!D25&\": \"&'Measure Recommendation'!I25)","v":""},{"$f":"IF('Measure Recommendation'!I49=\"\",\"\",\"#\"&'Measure Recommendation'!D49&\": \"&'Measure Recommendation'!I49)","v":""},null,null,{"$f":"IF(Instructions!$F$4=\"Investigation\",C55,IF(Instructions!$F$4=\"Verification\",D55,\"\"))","v":""},null,null,"Pump_Optimization","Impeller Trimming"]
[null,17,{"$f":"IF('Measure Recommendation'!I26=\"\",\"\",\"#\"&'Measure Recommendation'!D26&\": \"&'Measure Recommendation'!I26)","v":""},{"$f":"IF('Measure Recommendation'!I50=\"\",\"\",\"#\"&'Measure Recommendation'!D50&\": \"&'Measure Recommendation'!I50)","v":""},null,null,{"$f":"IF(Instructions!$F$4=\"Investigation\",C56,IF(Instructions!$F$4=\"Verification\",D56,\"\"))","v":""},null,null,"Pump_Optimization","Improve CHW and HW Flow Control"]
[null,18,{"$f":"IF('Measure Recommendation'!I27=\"\",\"\",\"#\"&'Measure Recommendation'!D27&\": \"&'Measure Recommendation'!I27)","v":""},{"$f":"IF('Measure Recommendation'!I51=\"\",\"\",\"#\"&'Measure Recommendation'!D51&\": \"&'Measure Recommendation'!I51)","v":""},null,null,{"$f":"IF(Instructions!$F$4=\"Investigation\",C57,IF(Instructions!$F$4=\"Verification\",D57,\"\"))","v":""},null,null,"Pump_Optimization","Chilled Water Bypass Reduce"]
[null,19,{"$f":"IF('Measure Recommendation'!I28=\"\",\"\",\"#\"&'Measure Recommendation'!D28&\": \"&'Measure Recommendation'!I28)","v":""},{"$f":"IF('Measure Recommendation'!I52=\"\",\"\",\"#\"&'Measure Recommendation'!D52&\": \"&'Measure Recommendation'!I52)","v":""},null,null,{"$f":"IF(Instructions!$F$4=\"Investigation\",C58,IF(Instructions!$F$4=\"Verification\",D58,\"\"))","v":""},null,null,"Pump_Optimization","Reduce Flow by Increasing System ΔT"]
[null,20,{"$f":"IF('Measure Recommendation'!I29=\"\",\"\",\"#\"&'Measure Recommendation'!D29&\": \"&'Measure Recommendation'!I29)","v":""},{"$f":"IF('Measure Recommendation'!I53=\"\",\"\",\"#\"&'Measure Recommendation'!D53&\": \"&'Measure Recommendation'!I53)","v":""},null,null,{"$f":"IF(Instructions!$F$4=\"Investigation\",C59,IF(Instructions!$F$4=\"Verification\",D59,\"\"))","v":""},null,null,"Pump_Optimization","Reduce/Reset Pump Differential Setpoint"]
[null,21,{"$f":"IF('Measure Recommendation'!I30=\"\",\"\",\"#\"&'Measure Recommendation'!D30&\": \"&'Measure Recommendation'!I30)","v":""},{"$f":"IF('Measure Recommendation'!I54=\"\",\"\",\"#\"&'Measure Recommendation'!D54&\": \"&'Measure Recommendation'!I54)","v":""},null,null,{"$f":"IF(Instructions!$F$4=\"Investigation\",C60,IF(Instructions!$F$4=\"Verification\",D60,\"\"))","v":""},null,null,"Pump_Optimization","Optimize Pump Staging"]
[null,22,{"$f":"IF('Measure Recommendation'!I31=\"\",\"\",\"#\"&'Measure Recommendation'!D31&\": \"&'Measure Recommendation'!I31)","v":""},{"$f":"IF('Measure Recommendation'!I55=\"\",\"\",\"#\"&'Measure Recommendation'!D55&\": \"&'Measure Recommendation'!I55)","v":""},null,null,{"$f":"IF(Instructions!$F$4=\"Investigation\",C61,IF(Instructions!$F$4=\"Verification\",D61,\"\"))","v":""},null,null,"Pump_Optimization","Other Pump Optimization"]
[null,23,{"$f":"IF('Measure Recommendation'!I32=\"\",\"\",\"#\"&'Measure Recommendation'!D32&\": \"&'Measure Recommendation'!I32)","v":""},{"$f":"IF('Measure Recommendation'!I56=\"\",\"\",\"#\"&'Measure Recommendation'!D56&\": \"&'Measure Recommendation'!I56)","v":""},null,null,{"$f":"IF(Instructions!$F$4=\"Investigation\",C62,IF(Instructions!$F$4=\"Verification\",D62,\"\"))","v":""},null,null,"Pump_Optimization","Turn Off Redundant Pumps"]
[null,24,{"$f":"IF('Measure Recommendation'!I33=\"\",\"\",\"#\"&'Measure Recommendation'!D33&\": \"&'Measure Recommendation'!I33)","v":""},{"$f":"IF('Measure Recommendation'!I57=\"\",\"\",\"#\"&'Measure Recommendation'!D57&\": \"&'Measure Recommendation'!I57)","v":""},null,null,{"$f":"IF(Instructions!$F$4=\"Investigation\",C63,IF(Instructions!$F$4=\"Verification\",D63,\"\"))","v":""},null,null,"Pump_Optimization","Utilize VFD for Pumps"]
[null,25,{"$f":"IF('Measure Recommendation'!I34=\"\",\"\",\"#\"&'Measure Recommendation'!D34&\": \"&'Measure Recommendation'!I34)","v":""},{"$f":"IF('Measure Recommendation'!I58=\"\",\"\",\"#\"&'Measure Recommendation'!D58&\": \"&'Measure Recommendation'!I58)","v":""},null,null,{"$f":"IF(Instructions!$F$4=\"Investigation\",C64,IF(Instructions!$F$4=\"Verification\",D64,\"\"))","v":""},null,null,"Refrigeration","Anti-Sweat Heater Controls"]
[null,26,{"$f":"IF('Measure Recommendation'!I35=\"\",\"\",\"#\"&'Measure Recommendation'!D35&\": \"&'Measure Recommendation'!I35)","v":""},{"$f":"IF('Measure Recommendation'!I59=\"\",\"\",\"#\"&'Measure Recommendation'!D59&\": \"&'Measure Recommendation'!I59)","v":""},null,null,{"$f":"IF(Instructions!$F$4=\"Investigation\",C65,IF(Instructions!$F$4=\"Verification\",D65,\"\"))","v":""},null,null,"Refrigeration","EC Motors"]
[null,27,{"$f":"IF('Measure Recommendation'!I36=\"\",\"\",\"#\"&'Measure Recommendation'!D36&\": \"&'Measure Recommendation'!I36)","v":""},{"$f":"IF('Measure Recommendation'!I60=\"\",\"\",\"#\"&'Measure Recommendation'!D60&\": \"&'Measure Recommendation'!I60)","v":""},null,null,{"$f":"IF(Instructions!$F$4=\"Investigation\",C66,IF(Instructions!$F$4=\"Verification\",D66,\"\"))","v":""},null,null,"Refrigeration","Evaporator Fan Control for EC Motors"]
[null,28,"Benefits","Benefits","BenefitsMBCx","BenefitsMBCx",{"$f":"IF(Instructions!$F$3=\"MBCx\",IF(Instructions!$F$4=\"Investigation\",E67,IF(Instructions!$F$4=\"Verification\",F67,\"\")),IF(Instructions!$F$3=\"RCx Flex\",IF(Instructions!$F$4=\"Investigation\",C67,IF(Instructions!$F$4=\"Verification\",D67,\"\")),\"\"))","v":""},null,null,"Refrigeration","Evaporator Defrost Control"]
[null,29,{"$f":"IF(AND('Measure Recommendation'!F6=\"No\",'Measure Recommendation'!F8=\"No\",'Measure Recommendation'!F10=\"No\"),\"RecElec\",IF(OR('Measure Recommendation'!F8=\"Yes\",'Measure Recommendation'!F10=\"Yes\"),\"RecElecGasDist\",\"RecElecGas\"))","v":"RecElecGas"},{"$f":"IF(AND('Measure Recommendation'!F6=\"No\",'Measure Recommendation'!F8=\"No\",'Measure Recommendation'!F10=\"No\"),\"RecElec\",IF(OR('Measure Recommendation'!F8=\"Yes\",'Measure Recommendation'!F10=\"Yes\"),\"RecElecGasDist\",\"RecElecGas\"))","v":"RecElecGas"},null,null,{"$f":"IF(Instructions!$F$4=\"Investigation\",C68,IF(Instructions!$F$4=\"Verification\",D68,\"\"))","v":""},null,null,"Refrigeration","Install KE2 Therm Controllers"]
[null,30,"App","App",null,null,{"$f":"IF(Instructions!$F$4=\"Investigation\",C69,IF(Instructions!$F$4=\"Verification\",D69,\"\"))","v":""},null,null,"Refrigeration","Floating Head Pressure Control"]
[null,31,"Contacts","Contacts",null,null,{"$f":"IF(Instructions!$F$4=\"Investigation\",C70,IF(Instructions!$F$4=\"Verification\",D70,\"\"))","v":""},null,null,"Refrigeration","Other Refrigeration"]
[null,32,"BOC","BOC",null,null,{"$f":"IF(Instructions!$F$4=\"Investigation\",C71,IF(Instructions!$F$4=\"Verification\",D71,\"\"))","v":""},null,null,"Scheduling","Optimum Start for AHU"]
[null,33,{"$f":"IF('Measure Recommendation'!I17=\"\",\"\",\"MeasDet1\")","v":""},{"$f":"IF('Measure Recommendation'!I41=\"\",\"\",\"MeasDet1\")","v":""},null,null,{"$f":"IF(Instructions!$F$4=\"Investigation\",C72,IF(Instructions!$F$4=\"Verification\",D72,\"\"))","v":""},null,null,"Scheduling","Schedule AHU"]
[null,34,{"$f":"IF('Measure Recommendation'!I18=\"\",\"\",\"MeasDet2\")","v":""},{"$f":"IF('Measure Recommendation'!I42=\"\",\"\",\"MeasDet2\")","v":""},null,null,{"$f":"IF(Instructions!$F$4=\"Investigation\",C73,IF(Instructions!$F$4=\"Verification\",D73,\"\"))","v":""},null,null,"Scheduling","Schedule Boilers"]
[null,35,{"$f":"IF('Measure Recommendation'!I19=\"\",\"\",\"MeasDet3\")","v":""},{"$f":"IF('Measure Recommendation'!I43=\"\",\"\",\"MeasDet3\")","v":""},null,null,{"$f":"IF(Instructions!$F$4=\"Investigation\",C74,IF(Instructions!$F$4=\"Verification\",D74,\"\"))","v":""},null,null,"Scheduling","Schedule Chillers"]
[null,36,{"$f":"IF('Measure Recommendation'!I20=\"\",\"\",\"MeasDet4\")","v":""},{"$f":"IF('Measure Recommendation'!I44=\"\",\"\",\"MeasDet4\")","v":""},null,null,{"$f":"IF(Instructions!$F$4=\"Investigation\",C75,IF(Instructions!$F$4=\"Verification\",D75,\"\"))","v":""},null,null,"Scheduling","Schedule Fan Powered/VAV Boxes"]
[null,37,{"$f":"IF('Measure Recommendation'!I21=\"\",\"\",\"MeasDet5\")","v":""},{"$f":"IF('Measure Recommendation'!I45=\"\",\"\",\"MeasDet5\")","v":""},null,null,{"$f":"IF(Instructions!$F$4=\"Investigation\",C76,IF(Instructions!$F$4=\"Verification\",D76,\"\"))","v":""},null,null,"Scheduling","Schedule Heaters"]
[null,38,{"$f":"IF('Measure Recommendation'!I22=\"\",\"\",\"MeasDet6\")","v":""},{"$f":"IF('Measure Recommendation'!I46=\"\",\"\",\"MeasDet6\")","v":""},null,null,{"$f":"IF(Instructions!$F$4=\"Investigation\",C77,IF(Instructions!$F$4=\"Verification\",D77,\"\"))","v":""},null,null,"Scheduling","Schedule Pumps"]
[null,39,{"$f":"IF('Measure Recommendation'!I23=\"\",\"\",\"MeasDet7\")","v":""},{"$f":"IF('Measure Recommendation'!I47=\"\",\"\",\"MeasDet7\")","v":""},null,null,{"$f":"IF(Instructions!$F$4=\"Investigation\",C78,IF(Instructions!$F$4=\"Verification\",D78,\"\"))","v":""},null,null,"Scheduling","Schedule Return/Exhaust Fans"]
[null,40,{"$f":"IF('Measure Recommendation'!I24=\"\",\"\",\"MeasDet8\")","v":""},{"$f":"IF('Measure Recommendation'!I48=\"\",\"\",\"MeasDet8\")","v":""},null,null,{"$f":"IF(Instructions!$F$4=\"Investigation\",C79,IF(Instructions!$F$4=\"Verification\",D79,\"\"))","v":""},null,null,"Scheduling","Setback Space Temperature"]
[null,41,{"$f":"IF('Measure Recommendation'!I25=\"\",\"\",\"MeasDet9\")","v":""},{"$f":"IF('Measure Recommendation'!I49=\"\",\"\",\"MeasDet9\")","v":""},null,null,{"$f":"IF(Instructions!$F$4=\"Investigation\",C80,IF(Instructions!$F$4=\"Verification\",D80,\"\"))","v":""}]
[null,42,{"$f":"IF('Measure Recommendation'!I26=\"\",\"\",\"MeasDet10\")","v":""},{"$f":"IF('Measure Recommendation'!I50=\"\",\"\",\"MeasDet10\")","v":""},null,null,{"$f":"IF(Instructions!$F$4=\"Investigation\",C81,IF(Instructions!$F$4=\"Verification\",D81,\"\"))","v":""}]
[null,43,{"$f":"IF('Measure Recommendation'!I27=\"\",\"\",\"MeasDet11\")","v":""},{"$f":"IF('Measure Recommendation'!I51=\"\",\"\",\"MeasDet11\")","v":""},null,null,{"$f":"IF(Instructions!$F$4=\"Investigation\",C82,IF(Instructions!$F$4=\"Verification\",D82,\"\"))","v":""}]
[null,44,{"$f":"IF('Measure Recommendation'!I28=\"\",\"\",\"MeasDet12\")","v":""},{"$f":"IF('Measure Recommendation'!I52=\"\",\"\",\"MeasDet12\")","v":""},null,null,{"$f":"IF(Instructions!$F$4=\"Investigation\",C83,IF(Instructions!$F$4=\"Verification\",D83,\"\"))","v":""}]
[null,45,{"$f":"IF('Measure Recommendation'!I29=\"\",\"\",\"MeasDet13\")","v":""},{"$f":"IF('Measure Recommendation'!I53=\"\",\"\",\"MeasDet13\")","v":""},null,null,{"$f":"IF(Instructions!$F$4=\"Investigation\",C84,IF(Instructions!$F$4=\"Verification\",D84,\"\"))","v":""}]
[null,46,{"$f":"IF('Measure Recommendation'!I30=\"\",\"\",\"MeasDet14\")","v":""},{"$f":"IF('Measure Recommendation'!I54=\"\",\"\",\"MeasDet14\")","v":""},null,null,{"$f":"IF(Instructions!$F$4=\"Investigation\",C85,IF(Instructions!$F$4=\"Verification\",D85,\"\"))","v":""}]
[null,47,{"$f":"IF('Measure Recommendation'!I31=\"\",\"\",\"MeasDet15\")","v":""},{"$f":"IF('Measure Recommendation'!I55=\"\",\"\",\"MeasDet15\")","v":""},null,null,{"$f":"IF(Instructions!$F$4=\"Investigation\",C86,IF(Instructions!$F$4=\"Verification\",D86,\"\"))","v":""}]
[null,48,{"$f":"IF('Measure Recommendation'!I32=\"\",\"\",\"MeasDet16\")","v":""},{"$f":"IF('Measure Recommendation'!I56=\"\",\"\",\"MeasDet16\")","v":""},null,null,{"$f":"IF(Instructions!$F$4=\"Investigation\",C87,IF(Instructions!$F$4=\"Verification\",D87,\"\"))","v":""}]
[null,49,{"$f":"IF('Measure Recommendation'!I33=\"\",\"\",\"MeasDet17\")","v":""},{"$f":"IF('Measure Recommendation'!I57=\"\",\"\",\"MeasDet17\")","v":""},null,null,{"$f":"IF(Instructions!$F$4=\"Investigation\",C88,IF(Instructions!$F$4=\"Verification\",D88,\"\"))","v":""}]
[null,50,{"$f":"IF('Measure Recommendation'!I34=\"\",\"\",\"MeasDet18\")","v":""},{"$f":"IF('Measure Recommendation'!I58=\"\",\"\",\"MeasDet18\")","v":""},null,null,{"$f":"IF(Instructions!$F$4=\"Investigation\",C89,IF(Instructions!$F$4=\"Verification\",D89,\"\"))","v":""}]
[null,51,{"$f":"IF('Measure Recommendation'!I35=\"\",\"\",\"MeasDet19\")","v":""},{"$f":"IF('Measure Recommendation'!I59=\"\",\"\",\"MeasDet19\")","v":""},null,null,{"$f":"IF(Instructions!$F$4=\"Investigation\",C90,IF(Instructions!$F$4=\"Verification\",D90,\"\"))","v":""}]
[null,52,{"$f":"IF('Measure Recommendation'!I36=\"\",\"\",\"MeasDet20\")","v":""},{"$f":"IF('Measure Recommendation'!I60=\"\",\"\",\"MeasDet20\")","v":""},null,null,{"$f":"IF(Instructions!$F$4=\"Investigation\",C91,IF(Instructions!$F$4=\"Verification\",D91,\"\"))","v":""}]
[null,53,"AddOps","AddOps",null,null,{"$f":"IF(Instructions!$F$4=\"Investigation\",C92,IF(Instructions!$F$4=\"Verification\",D92,\"\"))","v":""}]
[null,54,"FacDesc","FacDesc",null,null,{"$f":"IF(Instructions!$F$4=\"Investigation\",C93,IF(Instructions!$F$4=\"Verification\",D93,\"\"))","v":""}]
[null,55,"EquipList","EquipList",null,null,{"$f":"IF(Instructions!$F$4=\"Investigation\",C94,IF(Instructions!$F$4=\"Verification\",D94,\"\"))","v":""}]
[null,56,"IssueLog","IssueLog",null,null,{"$f":"IF(AND(OR(Instructions!$F$4=\"Investigation\",Instructions!$F$4=\"Verification\"),'Issue Log'!$B$5:$E$5=\"\"),\"\",C95)","v":"IssueLog"}]
[null,57,{"$f":"IF(AND('Measure Recommendation'!$F$6=\"No\",'Measure Recommendation'!$F$8=\"No\",'Measure Recommendation'!$F$10=\"No\"),\"RecElec\",IF(OR('Measure Recommendation'!$F$8=\"Yes\",'Measure Recommendation'!$F$10=\"Yes\"),\"RecElecGasDist\",\"RecElecGas\"))","v":"RecElecGas"},{"$f":"IF(AND('Measure Recommendation'!$F$6=\"No\",'Measure Recommendation'!$F$8=\"No\",'Measure Recommendation'!$F$10=\"No\"),\"RecElec\",IF(OR('Measure Recommendation'!$F$8=\"Yes\",'Measure Recommendation'!$F$10=\"Yes\"),\"RecElecGasDist\",\"RecElecGas\"))","v":"RecElecGas"},null,null,{"$f":"IF(Instructions!$F$4=\"Investigation\",C96,IF(Instructions!$F$4=\"Verification\",D96,\"\"))","v":""}]
[null,58,"c","g",null,null,{"$f":"IF(Instructions!$F$4=\"Investigation\",C97,IF(Instructions!$F$4=\"Verification\",D97,\"\"))","v":""}]
[null,59,{"$f":"CONCATENATE(\n    'Measure Recommendation'!$AK$41,\n    'Measure Recommendation'!AL41, \"'s estimated electric energy savings is \",\n    IF('Measure Recommendation'!$AM$42=0, \"0\", TEXT('Measure Recommendation'!$AM$42, \"#,###\")), \" kWh and the gas savings is \",\n    IF('Measure Recommendation'!$AN$42=0, \"0\", TEXT('Measure Recommendation'!$AN$42, \"#,###\")), \" Therms.\",\n    \" The total annual cost savings are $\",\n    IF(SUM('Measure Recommendation'!$AR$42, 'Measure Recommendation'!$AS$42)=0, \"0\", TEXT(SUM('Measure Recommendation'!$AR$42, 'Measure Recommendation'!$AS$42), \"#,###\")), \".\"\n)","v":{"$error":"#N/A"}},{"$f":"CONCATENATE(\n    'Measure Recommendation'!$AK$41,\n    'Measure Recommendation'!AL41, \"'s verified electric energy savings is \",\n    IF('Measure Recommendation'!$AM$43=0,\"0\",TEXT('Measure Recommendation'!$AM$43,\"#,###\")), \" kWh and the verified gas savings is \",\n    IF('Measure Recommendation'!$AN$43=0,\"0\",TEXT('Measure Recommendation'!$AN$43,\"#,###\")), \" Therms.\",\n    \" The total annual cost savings are $\",\n    IF(SUM('Measure Recommendation'!$AR$43,'Measure Recommendation'!$AS$43)=0,\"0\",TEXT(SUM('Measure Recommendation'!$AR$43,'Measure Recommendation'!$AS$43),\"#,###\")), \".\"\n)","v":{"$error":"#N/A"}},{"$f":"CONCATENATE(\n    \"The estimated incentives offered by the ComEd Energy Efficiency Program for this bundle is $\",\n    IF('Measure Recommendation'!$BG$2=0, \"0\", TEXT('Measure Recommendation'!$BG$2,\"#,###\")),\n    \".\"\n)","v":{"$error":"#N/A"}},{"$f":"CONCATENATE(\n    \"The estimated incentives offered by the ComEd Energy Efficiency Program for this bundle is $\",\n    IF('Measure Recommendation'!$BG$2=0, \"0\", TEXT('Measure Recommendation'!$BG$2,\"#,###\")),\n    \".\"\n)","v":{"$error":"#N/A"}},{"$f":"IF(Instructions!$F$3=\"MBCx\",IF(Instructions!$F$4=\"Investigation\",$E$98,IF(Instructions!$F$4=\"Verification\",$F$98,\"\")),IF(Instructions!$F$3=\"RCx Flex\",IF(Instructions!$F$4=\"Investigation\",$C$98,IF(Instructions!$F$4=\"Verification\",$D$98,\"\")),\"\"))","v":""}]
[null,60]
[null,"Next Steps",null,null,null,null,null," "]
[null,"#","INV","VER",null,null,"Actual"," "]
[null,1,{"$f":"Instructions!F12","v":"00:00:00"},{"$f":"Instructions!F12","v":"00:00:00"},null,null,{"$f":"IF(Instructions!$F$4=\"Investigation\",C102,IF(Instructions!$F$4=\"Verification\",D102,\"\"))","v":""}," "]
[null,2,{"$f":"Instructions!F13","v":"00:00:00"},{"$f":"Instructions!F13","v":"00:00:00"},null,null,{"$f":"IF(Instructions!$F$4=\"Investigation\",C103,IF(Instructions!$F$4=\"Verification\",D103,\"\"))","v":""}," "]
[null,3,{"$f":"Instructions!F14","v":"00:00:00"},{"$f":"Instructions!F14","v":"00:00:00"},null,null,{"$f":"IF(Instructions!$F$4=\"Investigation\",C104,IF(Instructions!$F$4=\"Verification\",D104,\"\"))","v":""}," "]
[null,4,null,null,null,null,null," "]
[null,5,"Next Steps: Formally select ECMs for implementation by marking the \"Select to Install\" column on the Recommendations page. When complete, sign the bottom of the page and submit it to your SP.","Congratulations. Your project is complete.",null,null,{"$f":"IF(Instructions!$F$4=\"Investigation\",C106,IF(Instructions!$F$4=\"Verification\",D106,\"\"))","v":""}," "]
[null,6,{"$f":"'Contact & Facility Information'!$E$12&\", \"&'Contact & Facility Information'!$F$12&\", \"&'Contact & Facility Information'!$G$12","v":", , "},{"$f":"'Contact & Facility Information'!$E$12&\", \"&'Contact & Facility Information'!$F$12&\", \"&'Contact & Facility Information'!$G$12","v":", , "},null,null,{"$f":"IF(Instructions!$F$4=\"Investigation\",C107,IF(Instructions!$F$4=\"Verification\",D107,\"\"))","v":""}," "]
[null,7,null,null,null,null,null," "]
[null,8,null,null,null,null,null," "]
[null,9,null,null,null,null,null," "]
[null,10,null,null,null,null,null," "]
[null,11,null,null,null,null,null," "]
[null,12,null,null,null,null,null," "]
[null,"Appendix",null,null,null,null,null," "]
[null,"#","INV","VER",null,null,"Actual"," "]
[null,1,{"$f":"IF('Measure Recommendation'!I17=0,\"\",'Measure Recommendation'!I17)","v":""},{"$f":"IF('Measure Recommendation'!I41=0,\"\",'Measure Recommendation'!I41)","v":""},null,null,{"$f":"IF(Instructions!$F$4=\"Investigation\",C116,IF(Instructions!$F$4=\"Verification\",D116,\"\"))","v":""}," "]
[null,2,{"$f":"IF('Measure Recommendation'!I18=0,\"\",'Measure Recommendation'!I18)","v":""},{"$f":"IF('Measure Recommendation'!I42=0,\"\",'Measure Recommendation'!I42)","v":""},null,null,{"$f":"IF(Instructions!$F$4=\"Investigation\",C117,IF(Instructions!$F$4=\"Verification\",D117,\"\"))","v":""}]
[null,3,{"$f":"IF('Measure Recommendation'!I19=0,\"\",'Measure Recommendation'!I19)","v":""},{"$f":"IF('Measure Recommendation'!I43=0,\"\",'Measure Recommendation'!I43)","v":""},null,null,{"$f":"IF(Instructions!$F$4=\"Investigation\",C118,IF(Instructions!$F$4=\"Verification\",D118,\"\"))","v":""}]
[null,4,{"$f":"IF('Measure Recommendation'!I20=0,\"\",'Measure Recommendation'!I20)","v":""},{"$f":"IF('Measure Recommendation'!I44=0,\"\",'Measure Recommendation'!I44)","v":""},null,null,{"$f":"IF(Instructions!$F$4=\"Investigation\",C119,IF(Instructions!$F$4=\"Verification\",D119,\"\"))","v":""}]
[null,5,{"$f":"IF('Measure Recommendation'!I21=0,\"\",'Measure Recommendation'!I21)","v":""},{"$f":"IF('Measure Recommendation'!I45=0,\"\",'Measure Recommendation'!I45)","v":""},null,null,{"$f":"IF(Instructions!$F$4=\"Investigation\",C120,IF(Instructions!$F$4=\"Verification\",D120,\"\"))","v":""}]
[null,6,{"$f":"IF('Measure Recommendation'!I22=0,\"\",'Measure Recommendation'!I22)","v":""},{"$f":"IF('Measure Recommendation'!I46=0,\"\",'Measure Recommendation'!I46)","v":""},null,null,{"$f":"IF(Instructions!$F$4=\"Investigation\",C121,IF(Instructions!$F$4=\"Verification\",D121,\"\"))","v":""}]
[null,7,{"$f":"IF('Measure Recommendation'!I23=0,\"\",'Measure Recommendation'!I23)","v":""},{"$f":"IF('Measure Recommendation'!I47=0,\"\",'Measure Recommendation'!I47)","v":""},null,null,{"$f":"IF(Instructions!$F$4=\"Investigation\",C122,IF(Instructions!$F$4=\"Verification\",D122,\"\"))","v":""}]
[null,8,{"$f":"IF('Measure Recommendation'!I24=0,\"\",'Measure Recommendation'!I24)","v":""},{"$f":"IF('Measure Recommendation'!I48=0,\"\",'Measure Recommendation'!I48)","v":""},null,null,{"$f":"IF(Instructions!$F$4=\"Investigation\",C123,IF(Instructions!$F$4=\"Verification\",D123,\"\"))","v":""}]
[null,9,{"$f":"IF('Measure Recommendation'!I25=0,\"\",'Measure Recommendation'!I25)","v":""},{"$f":"IF('Measure Recommendation'!I49=0,\"\",'Measure Recommendation'!I49)","v":""},null,null,{"$f":"IF(Instructions!$F$4=\"Investigation\",C124,IF(Instructions!$F$4=\"Verification\",D124,\"\"))","v":""}]
[null,10,{"$f":"IF('Measure Recommendation'!I26=0,\"\",'Measure Recommendation'!I26)","v":""},{"$f":"IF('Measure Recommendation'!I50=0,\"\",'Measure Recommendation'!I50)","v":""},null,null,{"$f":"IF(Instructions!$F$4=\"Investigation\",C125,IF(Instructions!$F$4=\"Verification\",D125,\"\"))","v":""}]
[null,11,{"$f":"IF('Measure Recommendation'!I27=0,\"\",'Measure Recommendation'!I27)","v":""},{"$f":"IF('Measure Recommendation'!I51=0,\"\",'Measure Recommendation'!I51)","v":""},null,null,{"$f":"IF(Instructions!$F$4=\"Investigation\",C126,IF(Instructions!$F$4=\"Verification\",D126,\"\"))","v":""}]
[null,12,{"$f":"IF('Measure Recommendation'!I28=0,\"\",'Measure Recommendation'!I28)","v":""},{"$f":"IF('Measure Recommendation'!I52=0,\"\",'Measure Recommendation'!I52)","v":""},null,null,{"$f":"IF(Instructions!$F$4=\"Investigation\",C127,IF(Instructions!$F$4=\"Verification\",D127,\"\"))","v":""}]
[null,13,{"$f":"IF('Measure Recommendation'!I29=0,\"\",'Measure Recommendation'!I29)","v":""},{"$f":"IF('Measure Recommendation'!I53=0,\"\",'Measure Recommendation'!I53)","v":""},null,null,{"$f":"IF(Instructions!$F$4=\"Investigation\",C128,IF(Instructions!$F$4=\"Verification\",D128,\"\"))","v":""}]
[null,14,{"$f":"IF('Measure Recommendation'!I30=0,\"\",'Measure Recommendation'!I30)","v":""},{"$f":"IF('Measure Recommendation'!I54=0,\"\",'Measure Recommendation'!I54)","v":""},null,null,{"$f":"IF(Instructions!$F$4=\"Investigation\",C129,IF(Instructions!$F$4=\"Verification\",D129,\"\"))","v":""}]
[null,15,{"$f":"IF('Measure Recommendation'!I31=0,\"\",'Measure Recommendation'!I31)","v":""},{"$f":"IF('Measure Recommendation'!I55=0,\"\",'Measure Recommendation'!I55)","v":""},null,null,{"$f":"IF(Instructions!$F$4=\"Investigation\",C130,IF(Instructions!$F$4=\"Verification\",D130,\"\"))","v":""}]
[null,16,{"$f":"IF('Measure Recommendation'!I32=0,\"\",'Measure Recommendation'!I32)","v":""},{"$f":"IF('Measure Recommendation'!I56=0,\"\",'Measure Recommendation'!I56)","v":""},null,null,{"$f":"IF(Instructions!$F$4=\"Investigation\",C131,IF(Instructions!$F$4=\"Verification\",D131,\"\"))","v":""}]
[null,17,{"$f":"IF('Measure Recommendation'!I33=0,\"\",'Measure Recommendation'!I33)","v":""},{"$f":"IF('Measure Recommendation'!I57=0,\"\",'Measure Recommendation'!I57)","v":""},null,null,{"$f":"IF(Instructions!$F$4=\"Investigation\",C132,IF(Instructions!$F$4=\"Verification\",D132,\"\"))","v":""}]
[null,18,{"$f":"IF('Measure Recommendation'!I34=0,\"\",'Measure Recommendation'!I34)","v":""},{"$f":"IF('Measure Recommendation'!I58=0,\"\",'Measure Recommendation'!I58)","v":""},null,null,{"$f":"IF(Instructions!$F$4=\"Investigation\",C133,IF(Instructions!$F$4=\"Verification\",D133,\"\"))","v":""}]
[null,19,{"$f":"IF('Measure Recommendation'!I35=0,\"\",'Measure Recommendation'!I35)","v":""},{"$f":"IF('Measure Recommendation'!I59=0,\"\",'Measure Recommendation'!I59)","v":""},null,null,{"$f":"IF(Instructions!$F$4=\"Investigation\",C134,IF(Instructions!$F$4=\"Verification\",D134,\"\"))","v":""}]
[null,20,{"$f":"IF('Measure Recommendation'!I36=0,\"\",'Measure Recommendation'!I36)","v":""},{"$f":"IF('Measure Recommendation'!I60=0,\"\",'Measure Recommendation'!I60)","v":""},null,null,{"$f":"IF(Instructions!$F$4=\"Investigation\",C135,IF(Instructions!$F$4=\"Verification\",D135,\"\"))","v":""}]
[null,"Facility Description"]
[null,"#","INV","VER",null,null,"Actual"]
[null,1,{"$f":"IF('Measure Recommendation'!$F$6=\"No\",\"\",\"Natural Gas Account (last four digits only)\")","v":"Natural Gas Account (last four digits only)"},{"$f":"IF('Measure Recommendation'!$F$6=\"No\",\"\",\"Natural Gas Account (last four digits only)\")","v":"Natural Gas Account (last four digits only)"},null,null,{"$f":"IF(Instructions!$F$4=\"Investigation\",C138,IF(Instructions!$F$4=\"Verification\",D138,\"\"))","v":""}]
[null,2,{"$f":"IF('Measure Recommendation'!$F$6=\"No\",\"\",\"Annual Natural Gas Usage\")","v":"Annual Natural Gas Usage"},{"$f":"IF('Measure Recommendation'!$F$6=\"No\",\"\",\"Annual Natural Gas Usage\")","v":"Annual Natural Gas Usage"},null,null,{"$f":"IF(Instructions!$F$4=\"Investigation\",C139,IF(Instructions!$F$4=\"Verification\",D139,\"\"))","v":""}]
[null,3,{"$f":"FIXED('Contact & Facility Information'!$C$78,0)&\" kWh\"","v":{"$error":"#VALUE!"}},{"$f":"FIXED('Contact & Facility Information'!$C$78,0)&\" kWh\"","v":{"$error":"#VALUE!"}},null,null,{"$f":"IF(Instructions!$F$4=\"Investigation\",C140,IF(Instructions!$F$4=\"Verification\",D140,\"\"))","v":""}]
[null,4,{"$f":"FIXED('Contact & Facility Information'!$C$79,0)&\" kW\"","v":{"$error":"#VALUE!"}},{"$f":"FIXED('Contact & Facility Information'!$C$79,0)&\" kW\"","v":{"$error":"#VALUE!"}},null,null,{"$f":"IF(Instructions!$F$4=\"Investigation\",C141,IF(Instructions!$F$4=\"Verification\",D141,\"\"))","v":""}]
[null,5]
[null,6,{"$f":"IFERROR(IF(OR('Measure Recommendation'!$F$6=\"No\",'Contact & Facility Information'!$C$81=0,'Contact & Facility Information'!$C$81=\"\",'Contact & Facility Information'!$C$81=\"Please enter annual gas usage here manually\"),\"\",FIXED('Contact & Facility Information'!$C$81,0)&\" therms\"),\"\")","v":""},{"$f":"IFERROR(IF(OR('Measure Recommendation'!$F$6=\"No\",'Contact & Facility Information'!$C$81=0,'Contact & Facility Information'!$C$81=\"\",'Contact & Facility Information'!$C$81=\"Please enter annual gas usage here manually\"),\"\",FIXED('Contact & Facility Information'!$C$81,0)&\" therms\"),\"\")","v":""},null,null,{"$f":"IF(Instructions!$F$4=\"Investigation\",C143,IF(Instructions!$F$4=\"Verification\",D143,\"\"))","v":""}]
[]
[null,"Additional Opportunities"]
[null,"#","INV","VER",null,null,"Actual"]
[null,1,{"$f":"IF('Additional Measure Information'!B8=\"\", \"There were no additional opportunities identified.\", \"Recommendations for the additional identified opportunities are provided below.\")","v":"There were no additional opportunities identified."},{"$f":"IF('Additional Measure Information'!B8=\"\", \"There were no additional opportunities identified.\", \"Recommendations for the additional identified opportunities are provided below.\")","v":"There were no additional opportunities identified."},null,null,{"$f":"IF(Instructions!$F$4=\"Investigation\",C147,IF(Instructions!$F$4=\"Verification\",D147,\"\"))","v":""}]
[]
[null,"Disclaimer"]
[null,"#","INV","VER",null,null,"Actual"]
[null,1,"The intent of this investigation document is to provide analysis of the potential energy and demand savings available at the project site and present the investigated energy conservation measures (ECMs). While the calculations and findings in this report have been reviewed for technical accuracy and are believed to be reasonably accurate, the actual results may vary. As a result, ComEd, Resource Innovations, and/or ","The intent of this verification document is to summarize the final implemented energy conservation measures (ECMs) and verified savings from the project. While the findings in this report have been reviewed for technical accuracy and are believed to be reasonably accurate, the actual results may vary. As a result, ComEd, Resource Innovations, and/or ",null,null,{"$f":"IF(Instructions!$F$4=\"Investigation\",C151,IF(Instructions!$F$4=\"Verification\",D151,\"\"))","v":""}]
[null,2," are not liable if estimated energy or financial savings are not realized. All savings and cost estimates in the report are for informational purposes, and are not to be construed as a design document or as guarantees. "," are not liable if estimated energy or financial savings are not realized. All savings and cost estimates in the report are for informational purposes, and are not to be construed as a design document or as guarantees. ",null,null,{"$f":"IF(Instructions!$F$4=\"Investigation\",C152,IF(Instructions!$F$4=\"Verification\",D152,\"\"))","v":""}]
[null,3," shall independently evaluate any advice or suggestions provided in this report. In no event will ComEd, Resource Innovations, and/or "," shall independently evaluate any advice or suggestions provided in this report. In no event will ComEd, Resource Innovations, and/or ",null,null,{"$f":"IF(Instructions!$F$4=\"Investigation\",C153,IF(Instructions!$F$4=\"Verification\",D153,\"\"))","v":""}]
[null,4," be liable for the failure of the customer to achieve a specified amount of energy or demand savings, the operation of the customer’s facilities, or any incidental or consequential damages of any kind in connection with this report or the installation of ECMs. "," be liable for the failure of the customer to achieve a specified amount of energy or demand savings, the operation of the customer’s facilities, or any incidental or consequential damages of any kind in connection with this report or the installation of evaluated measures. ",null,null,{"$f":"IF(Instructions!$F$4=\"Investigation\",C154,IF(Instructions!$F$4=\"Verification\",D154,\"\"))","v":""}]
[null,null,null,null,null,null,{"$f":"IF(Instructions!$F$4=\"Investigation\",C155,IF(Instructions!$F$4=\"Verification\",D155,\"\"))","v":""}]
[null,null,null,null,null,null,{"$f":"IF(Instructions!$F$4=\"Investigation\",C156,IF(Instructions!$F$4=\"Verification\",D156,\"\"))","v":""}]
[]
[]
[null,"Measure Persistence Guide"]
[null,"#",null,null,null,null,"Actual"]
[null,1,null,"The ComEd Energy Efficiency Program Retro-Commissioning Flex offering provides a fully-funded study of your commercial building’s existing energy-using systems and incentives for implementing energy conservation measures (ECMs). Verification was performed by the energy efficiency service provider, ",null,"The ComEd Energy Efficiency Program Retro-Commissioning MBCx offering provides a fully-funded study of your commercial building’s existing energy-using systems. A RCx verification was performed by the energy efficiency service provider, ",{"$f":"IF(Instructions!F3=\"MBCx\",DataPhaseValid!F161,IF(Instructions!F3=\"RCx Flex\",DataPhaseValid!D161))","v":false}]
[null,2,null,null,null,null,", to confirm the status and results of all ECMs implemented. This document provides a reference to ECMs implemented at your facility, and serves as a guide to maintaining efficient operations going forward. Please don’t hesitate to contact "]
[null,3,null,null,null,null," or your Resource Innovations Project Coordinator for further assistance. "]
[null,4,null,null,null,null,{"$f":"G161&'Contact & Facility Information'!B12&DataPhaseValid!G162&'Contact & Facility Information'!B12&DataPhaseValid!G163","v":"FALSE, to confirm the status and results of all ECMs implemented. This document provides a reference to ECMs implemented at your facility, and serves as a guide to maintaining efficient operations going forward. Please don’t hesitate to contact  or your Resource Innovations Project Coordinator for further assistance. "}]
[null,null,null,null,null,null,{"$f":"IF(Instructions!$F$4=\"Investigation\",C165,IF(Instructions!$F$4=\"Verification\",D165,\"\"))","v":""}]
[null,null,null,null,null,null,{"$f":"IF(Instructions!$F$4=\"Investigation\",C166,IF(Instructions!$F$4=\"Verification\",D166,\"\"))","v":""}]
[]
[]
[]
[]
[]
[null,"ECM Active Season "]
[]
[null,"ECM #","Cooling","Heating","Checks ",null,null,null,"Text Joins"]
[null,{"$f":"IF('Measure Recommendation'!$I41=\"\",\"\",IF('Measure Recommendation'!$X41=\"Yes\",'Measure Recommendation'!$D41,\"\"))","v":""},{"$f":"IF('ECM1'!C$58=\"\",\"\",'ECM1'!C$58)","v":""},{"$f":"IF('ECM1'!$C$56=\"\",\"\",'ECM1'!$C$56)","v":""},{"$f":"IF(AND(C175=\"Yes\",D175=\"Yes\"),\"H&C\",IF(C175=\"Yes\",\"C\",IF(D175=\"Yes\",\"H\",\"\")))","v":""},null,"H",{"$f":"COUNTIF($E$175:$E$194,\"=\"&G175)","v":0},{"$f":"_xlfn.TEXTJOIN(\",\",TRUE,IF($E$175:$E$194=$G175,$B$175:$B$194,\"\"))","v":""}]
[null,{"$f":"IF('Measure Recommendation'!$I42=\"\",\"\",IF('Measure Recommendation'!$X42=\"Yes\",'Measure Recommendation'!$D42,\"\"))","v":""},{"$f":"IF('ECM2'!C$58=\"\",\"\",'ECM2'!C$58)","v":""},{"$f":"IF('ECM2'!$C$56=\"\",\"\",'ECM2'!$C$56)","v":""},{"$f":"IF(AND(C176=\"Yes\",D176=\"Yes\"),\"H&C\",IF(C176=\"Yes\",\"C\",IF(D176=\"Yes\",\"H\",\"\")))","v":""},null,"C",{"$f":"COUNTIF($E$175:$E$194,\"=\"&G176)","v":0},{"$f":"_xlfn.TEXTJOIN(\",\",TRUE,IF($E$175:$E$194=$G176,$B$175:$B$194,\"\"))","v":""}]
[null,{"$f":"IF('Measure Recommendation'!$I43=\"\",\"\",IF('Measure Recommendation'!$X43=\"Yes\",'Measure Recommendation'!$D43,\"\"))","v":""},{"$f":"IF('ECM3'!C$58=\"\",\"\",'ECM3'!C$58)","v":""},{"$f":"IF('ECM3'!$C$56=\"\",\"\",'ECM3'!$C$56)","v":""},"",null,"H&C",0,{"$f":"_xlfn.TEXTJOIN(\",\",TRUE,IF($E$175:$E$194=$G177,$B$175:$B$194,\"\"))","v":""}]
[null,{"$f":"IF('Measure Recommendation'!$I44=\"\",\"\",IF('Measure Recommendation'!$X44=\"Yes\",'Measure Recommendation'!$D44,\"\"))","v":""},{"$f":"IF('ECM4'!C$58=\"\",\"\",'ECM4'!C$58)","v":""},{"$f":"IF('ECM4'!$C$56=\"\",\"\",'ECM4'!$C$56)","v":""},"",null,"Total",{"$f":"SUM(H175:H177)","v":0}]
[null,{"$f":"IF('Measure Recommendation'!$I45=\"\",\"\",IF('Measure Recommendation'!$X45=\"Yes\",'Measure Recommendation'!$D45,\"\"))","v":""},{"$f":"IF('ECM5'!C$58=\"\",\"\",'ECM5'!C$58)","v":""},{"$f":"IF('ECM5'!$C$56=\"\",\"\",'ECM5'!$C$56)","v":""},""]
[null,{"$f":"IF('Measure Recommendation'!$I46=\"\",\"\",IF('Measure Recommendation'!$X46=\"Yes\",'Measure Recommendation'!$D46,\"\"))","v":""},{"$f":"IF('ECM6'!C$58=\"\",\"\",'ECM6'!C$58)","v":""},{"$f":"IF('ECM6'!$C$56=\"\",\"\",'ECM6'!$C$56)","v":""},""]
[null,{"$f":"IF('Measure Recommendation'!$I47=\"\",\"\",IF('Measure Recommendation'!$X47=\"Yes\",'Measure Recommendation'!$D47,\"\"))","v":""},{"$f":"IF('ECM7'!C$58=\"\",\"\",'ECM7'!C$58)","v":""},{"$f":"IF('ECM7'!$C$56=\"\",\"\",'ECM7'!$C$56)","v":""},""]
[null,{"$f":"IF('Measure Recommendation'!$I48=\"\",\"\",IF('Measure Recommendation'!$X48=\"Yes\",'Measure Recommendation'!$D48,\"\"))","v":""},{"$f":"IF('ECM8'!C$58=\"\",\"\",'ECM8'!C$58)","v":""},{"$f":"IF('ECM8'!$C$56=\"\",\"\",'ECM8'!$C$56)","v":""},""]
[null,{"$f":"IF('Measure Recommendation'!$I49=\"\",\"\",IF('Measure Recommendation'!$X49=\"Yes\",'Measure Recommendation'!$D49,\"\"))","v":""},{"$f":"IF('ECM9'!C$58=\"\",\"\",'ECM9'!C$58)","v":""},{"$f":"IF('ECM9'!$C$56=\"\",\"\",'ECM9'!$C$56)","v":""},""]
[null,{"$f":"IF('Measure Recommendation'!$I50=\"\",\"\",IF('Measure Recommendation'!$X50=\"Yes\",'Measure Recommendation'!$D50,\"\"))","v":""},{"$f":"IF('ECM10'!C$58=\"\",\"\",'ECM10'!C$58)","v":""},{"$f":"IF('ECM10'!$C$56=\"\",\"\",'ECM10'!$C$56)","v":""},""]
[null,{"$f":"IF('Measure Recommendation'!$I51=\"\",\"\",IF('Measure Recommendation'!$X51=\"Yes\",'Measure Recommendation'!$D51,\"\"))","v":""},{"$f":"IF('ECM11'!C$58=\"\",\"\",'ECM11'!C$58)","v":""},{"$f":"IF('ECM11'!$C$56=\"\",\"\",'ECM11'!$C$56)","v":""},""]
[null,{"$f":"IF('Measure Recommendation'!$I52=\"\",\"\",IF('Measure Recommendation'!$X52=\"Yes\",'Measure Recommendation'!$D52,\"\"))","v":""},{"$f":"IF('ECM12'!C$58=\"\",\"\",'ECM12'!C$58)","v":""},{"$f":"IF('ECM12'!$C$56=\"\",\"\",'ECM12'!$C$56)","v":""},""]
[null,{"$f":"IF('Measure Recommendation'!$I53=\"\",\"\",IF('Measure Recommendation'!$X53=\"Yes\",'Measure Recommendation'!$D53,\"\"))","v":""},{"$f":"IF('ECM13'!C$58=\"\",\"\",'ECM13'!C$58)","v":""},{"$f":"IF('ECM13'!$C$56=\"\",\"\",'ECM13'!$C$56)","v":""},""]
[null,{"$f":"IF('Measure Recommendation'!$I54=\"\",\"\",IF('Measure Recommendation'!$X54=\"Yes\",'Measure Recommendation'!$D54,\"\"))","v":""},{"$f":"IF('ECM14'!C$58=\"\",\"\",'ECM14'!C$58)","v":""},{"$f":"IF('ECM14'!$C$56=\"\",\"\",'ECM14'!$C$56)","v":""},""]
[null,{"$f":"IF('Measure Recommendation'!$I55=\"\",\"\",IF('Measure Recommendation'!$X55=\"Yes\",'Measure Recommendation'!$D55,\"\"))","v":""},{"$f":"IF('ECM15'!C$58=\"\",\"\",'ECM15'!C$58)","v":""},{"$f":"IF('ECM15'!$C$56=\"\",\"\",'ECM15'!$C$56)","v":""},""]
[null,{"$f":"IF('Measure Recommendation'!$I56=\"\",\"\",IF('Measure Recommendation'!$X56=\"Yes\",'Measure Recommendation'!$D56,\"\"))","v":""},{"$f":"IF('ECM16'!C$58=\"\",\"\",'ECM16'!C$58)","v":""},{"$f":"IF('ECM16'!$C$56=\"\",\"\",'ECM16'!$C$56)","v":""},""]
[null,{"$f":"IF('Measure Recommendation'!$I57=\"\",\"\",IF('Measure Recommendation'!$X57=\"Yes\",'Measure Recommendation'!$D57,\"\"))","v":""},{"$f":"IF('ECM17'!C$58=\"\",\"\",'ECM17'!C$58)","v":""},{"$f":"IF('ECM17'!$C$56=\"\",\"\",'ECM17'!$C$56)","v":""},""]
[null,{"$f":"IF('Measure Recommendation'!$I58=\"\",\"\",IF('Measure Recommendation'!$X58=\"Yes\",'Measure Recommendation'!$D58,\"\"))","v":""},{"$f":"IF('ECM18'!C$58=\"\",\"\",'ECM18'!C$58)","v":""},{"$f":"IF('ECM18'!$C$56=\"\",\"\",'ECM18'!$C$56)","v":""},""]
[null,{"$f":"IF('Measure Recommendation'!$I59=\"\",\"\",IF('Measure Recommendation'!$X59=\"Yes\",'Measure Recommendation'!$D59,\"\"))","v":""},{"$f":"IF('ECM19'!C$58=\"\",\"\",'ECM19'!C$58)","v":""},{"$f":"IF('ECM19'!$C$56=\"\",\"\",'ECM19'!$C$56)","v":""},""]
[null,{"$f":"IF('Measure Recommendation'!$I60=\"\",\"\",IF('Measure Recommendation'!$X60=\"Yes\",'Measure Recommendation'!$D60,\"\"))","v":""},{"$f":"IF('ECM20'!C$58=\"\",\"\",'ECM20'!C$58)","v":""},{"$f":"IF('ECM20'!$C$56=\"\",\"\",'ECM20'!$C$56)","v":""},""]

{"sheet":"Instructions","index":8,"n_rows":135,"n_cols":11,"rows_kept":135,"cut":false,"hidden":false,"merged":[[81,1,81,5],[46,1,46,2],[46,3,46,5],[49,1,49,2],[49,3,49,5],[50,1,50,2],[42,1,42,2],[42,3,42,5],[47,1,47,2],[47,3,47,5],[43,1,43,2],[43,3,43,5],[44,1,44,2],[44,3,44,5],[48,1,48,2],[48,3,48,5],[45,1,45,2],[45,3,45,5],[50,3,50,5],[51,1,51,2],[51,3,51,5],[58,1,58,2],[58,3,58,5],[76,1,76,5],[77,1,77,5],[75,1,75,5],[34,1,34,2],[34,3,34,5],[35,1,35,2],[35,3,35,5],[36,1,36,2],[36,3,36,5],[37,1,37,2],[40,1,40,2],[40,3,40,5],[37,3,37,5],[38,1,38,2],[38,3,38,5],[39,1,39,2],[39,3,39,5],[41,1,41,2],[41,3,41,5],[30,7,30,8],[30,9,30,11],[67,1,67,2],[67,3,67,5],[55,1,55,2],[55,3,55,5],[56,1,56,2],[56,3,56,5],[57,1,57,2],[57,3,57,5],[52,1,52,2],[52,3,52,5],[53,1,53,2],[53,3,53,5],[54,1,54,2],[54,3,54,5],[30,3,30,5],[30,1,30,2],[31,1,31,2],[31,3,31,5],[32,1,32,2],[32,3,32,5],[33,1,33,2],[33,3,33,5],[69,7,69,8],[69,9,69,11],[62,3,62,5],[63,1,63,2],[63,3,63,5],[65,1,65,2],[65,3,65,5],[66,1,66,2],[66,3,66,5],[94,1,94,5],[95,1,95,5],[91,1,91,5],[92,1,92,5],[93,1,93,5],[59,1,59,2],[59,3,59,5],[60,1,60,2],[60,3,60,5],[64,1,64,2],[64,3,64,5],[61,1,61,2],[61,3,61,5],[62,1,62,2],[90,1,90,5],[84,1,84,5],[82,1,82,5],[83,1,83,5],[85,1,85,5],[86,1,86,5],[87,1,87,5],[88,1,88,5],[89,1,89,5],[74,1,74,5],[3,9,4,9],[132,1,132,5],[131,1,131,5],[133,1,133,5],[126,1,126,5],[127,1,127,5],[128,1,128,5],[120,1,120,5],[121,1,121,5],[122,1,122,5],[104,1,104,5],[105,1,105,5],[106,1,106,5],[116,1,116,5],[97,1,97,5],[96,1,96,5],[102,1,102,5],[101,1,101,5],[100,1,100,5],[99,1,99,5],[98,1,98,5],[114,1,114,5],[115,1,115,5],[112,1,112,5]]}
[{"$f":"LEFT(G1,1)","v":"4"},null,null,null,null,"Current Version:",4,"Last Revised:","2025-05-05"]
[null,"Instructions"]
[null,"Step #1:","Complete all fields highlighted in GREEN",null,"Program Track",null,null,null,null,true]
[null,"Step #2:","Import utility data; See Contact & Facility Information tab",null,"Phase",null,null,null,null,"Import Existing Report: ","Please note that you can only import v2.3 and later. If you're using an older version, please contact your project co-ordinator for support. "]
[null,"Step #3:","Fill in Measure Recommendation Tab",null,"Bundle #",null,null,null,null,null,"Europa will only accept the most recent version of the report template. "]
[null,"Step #4:","Enter each ECM(s) measure description "]
[null,"Step #5:","Enter any additional opportunites or Issues identified"]
[]
[]
[]
[null,null,null,null,null,"Dates",null,"Project ID"]
[null,null,null,null,{"$f":"IF(F3=\"MBCx\",\"Integration completion date\",\"Investigation Report accepted date\")","v":"Investigation Report accepted date"}]
[null,null,null,null,{"$f":"IF(F3=\"MBCx\",\"Implementation complete date (est. 90 days from integration completion date)\",\"Implementation complete date (74 days from accepted INV Report date)\")","v":"Implementation complete date (74 days from accepted INV Report date)"}]
[null,null,null,null,"Verification Report accepted date (60 days from IMP complete date)"]
[]
[]
[]
[null,null,null,null,null,null,null,"Create ECM Form PDF Click to generate the one page ECM Form that must be completed and submitted prior to moving into the Implementation phase and again upon completion of the Implementation phase"]
[null,null,null,null,null,null,null,{"$f":"IF(AND(F4=\"Verification\",SUM('Measure Recommendation'!AJ41:AJ60)>0),\"VER Acceptance Dates not completed, please check Measure Recommendation - AB41-AB60\",\"\")","v":""}]
[]
[]
[null,null,null,null,null,null,null,"Create Report PDF Click to generate the Investigation or Verification Report; estimated time to generate report is 4 minutes."]
[]
[]
[]
[null,null,null,null,null,null,null,"Create Measure Persistence Guide PDF Click to generate the Measure Persistence Guide during the Verification phase"]
[null,null,null,null,null,null,null,{"$f":"IF(AND(F4=\"Verification\",SUM('Measure Recommendation'!AJ41:AJ60)>0),\"VER Acceptance Dates not completed, please check Measure Recommendation - AB41-AB60\",\"\")","v":""}]
[]
[null,"Standard Measure Names The standard measure names are included below in their entirety for your convenience"]
[]
[null,"Standard Measure Type",null,"Standard Measure Name",null,null,null,"Standard Measure Type",null,"Standard Measure Name"]
[null,{"$f":"DataPhaseValid!J3","v":"Air_Distribution"},null,{"$f":"DataPhaseValid!K3","v":"Balance Airside"},null,null,null,{"$f":"DataPhaseValid!J40","v":"General"},null,{"$f":"DataPhaseValid!K40","v":"Elevator Sleepmode"}]
[null,{"$f":"DataPhaseValid!J4","v":"Air_Distribution"},null,{"$f":"DataPhaseValid!K4","v":"CO-Based Ventilation Control"},null,null,null,{"$f":"DataPhaseValid!J41","v":"General"},null,{"$f":"DataPhaseValid!K41","v":"Optimize Electric Heating Controls"}]
[null,{"$f":"DataPhaseValid!J5","v":"Air_Distribution"},null,{"$f":"DataPhaseValid!K5","v":"Demand Control Ventilation"},null,null,null,{"$f":"DataPhaseValid!J42","v":"General"},null,{"$f":"DataPhaseValid!K42","v":"Optimize Generator Heater Control"}]
[null,{"$f":"DataPhaseValid!J6","v":"Air_Distribution"},null,{"$f":"DataPhaseValid!K6","v":"Reduce/Reset Duct Static Pressure"},null,null,null,{"$f":"DataPhaseValid!J43","v":"General"},null,{"$f":"DataPhaseValid!K43","v":"Optimize Snowmelt System"}]
[null,{"$f":"DataPhaseValid!J7","v":"Air_Distribution"},null,{"$f":"DataPhaseValid!K7","v":"Economizer"},null,null,null,{"$f":"DataPhaseValid!J44","v":"General"},null,{"$f":"DataPhaseValid!K44","v":"Other General"}]
[null,{"$f":"DataPhaseValid!J8","v":"Air_Distribution"},null,{"$f":"DataPhaseValid!K8","v":"Eliminate Unnecessary Fans"},null,null,null,{"$f":"DataPhaseValid!J45","v":"General"},null,{"$f":"DataPhaseValid!K45","v":"Reduce Simultaneous Heat and Cool"}]
[null,{"$f":"DataPhaseValid!J9","v":"Air_Distribution"},null,{"$f":"DataPhaseValid!K9","v":"Fix Preheat Controls"},null,null,null,{"$f":"DataPhaseValid!J46","v":"Heating_System"},null,{"$f":"DataPhaseValid!K46","v":"Boiler Tune-Up"}]
[null,{"$f":"DataPhaseValid!J10","v":"Air_Distribution"},null,{"$f":"DataPhaseValid!K10","v":"Install Efficient Filters"},null,null,null,{"$f":"DataPhaseValid!J47","v":"Heating_System"},null,{"$f":"DataPhaseValid!K47","v":"Improve Cntrl/Replace/Repair Valve"}]
[null,{"$f":"DataPhaseValid!J11","v":"Air_Distribution"},null,{"$f":"DataPhaseValid!K11","v":"Optimize Minimum OA CFM"},null,null,null,{"$f":"DataPhaseValid!J48","v":"Heating_System"},null,{"$f":"DataPhaseValid!K48","v":"Optimize Boiler Sequencing"}]
[null,{"$f":"DataPhaseValid!J12","v":"Air_Distribution"},null,{"$f":"DataPhaseValid!K12","v":"Optimize DAT/MAT Control"},null,null,null,{"$f":"DataPhaseValid!J49","v":"Heating_System"},null,{"$f":"DataPhaseValid!K49","v":"Other Heating System"}]
[null,{"$f":"DataPhaseValid!J13","v":"Air_Distribution"},null,{"$f":"DataPhaseValid!K13","v":"Optimize Supply Fan Performance"},null,null,null,{"$f":"DataPhaseValid!J50","v":"Heating_System"},null,{"$f":"DataPhaseValid!K50","v":"Reduce Boiler Pressure"}]
[null,{"$f":"DataPhaseValid!J14","v":"Air_Distribution"},null,{"$f":"DataPhaseValid!K14","v":"Other Air Distribution"},null,null,null,{"$f":"DataPhaseValid!J51","v":"Heating_System"},null,{"$f":"DataPhaseValid!K51","v":"Reset Hot Water"}]
[null,{"$f":"DataPhaseValid!J15","v":"Air_Distribution"},null,{"$f":"DataPhaseValid!K15","v":"Reduce SA and Ventilation Air"},null,null,null,{"$f":"DataPhaseValid!J52","v":"Lighting"},null,{"$f":"DataPhaseValid!K52","v":"Other Lighting"}]
[null,{"$f":"DataPhaseValid!J16","v":"Air_Distribution"},null,{"$f":"DataPhaseValid!K16","v":"Repair Air Leaks"},null,null,null,{"$f":"DataPhaseValid!J53","v":"Lighting"},null,{"$f":"DataPhaseValid!K53","v":"Schedule Lighting"}]
[null,{"$f":"DataPhaseValid!J17","v":"Air_Distribution"},null,{"$f":"DataPhaseValid!K17","v":"Repair/Replace Dampers"},null,null,null,{"$f":"DataPhaseValid!J54","v":"Pump_Optimization"},null,{"$f":"DataPhaseValid!K54","v":"Adj Freeze Protection Seq for Pumps"}]
[null,{"$f":"DataPhaseValid!J18","v":"Air_Distribution"},null,{"$f":"DataPhaseValid!K18","v":"Reset MAT"},null,null,null,{"$f":"DataPhaseValid!J55","v":"Pump_Optimization"},null,{"$f":"DataPhaseValid!K55","v":"Impeller Trimming"}]
[null,{"$f":"DataPhaseValid!J19","v":"Air_Distribution"},null,{"$f":"DataPhaseValid!K19","v":"Shut Off Preheat"},null,null,null,{"$f":"DataPhaseValid!J56","v":"Pump_Optimization"},null,{"$f":"DataPhaseValid!K56","v":"Improve CHW and HW Flow Control"}]
[null,{"$f":"DataPhaseValid!J20","v":"Air_Distribution"},null,{"$f":"DataPhaseValid!K20","v":"Supply Air Temperature Reset"},null,null,null,{"$f":"DataPhaseValid!J57","v":"Pump_Optimization"},null,{"$f":"DataPhaseValid!K57","v":"Chilled Water Bypass Reduce"}]
[null,{"$f":"DataPhaseValid!J21","v":"Air_Distribution"},null,{"$f":"DataPhaseValid!K21","v":"Utilize VFDs for Fans"},null,null,null,{"$f":"DataPhaseValid!J58","v":"Pump_Optimization"},null,{"$f":"DataPhaseValid!K58","v":"Reduce Flow by Increasing System ΔT"}]
[null,{"$f":"DataPhaseValid!J22","v":"Chilled_Water_System"},null,{"$f":"DataPhaseValid!K22","v":"Balance Waterside"},null,null,null,{"$f":"DataPhaseValid!J59","v":"Pump_Optimization"},null,{"$f":"DataPhaseValid!K59","v":"Reduce/Reset Pump Differential Setpoint"}]
[null,{"$f":"DataPhaseValid!J23","v":"Chilled_Water_System"},null,{"$f":"DataPhaseValid!K23","v":"Chilled Water Temperature Reset"},null,null,null,{"$f":"DataPhaseValid!J60","v":"Pump_Optimization"},null,{"$f":"DataPhaseValid!K60","v":"Optimize Pump Staging"}]
[null,{"$f":"DataPhaseValid!J24","v":"Chilled_Water_System"},null,{"$f":"DataPhaseValid!K24","v":"Isolate Chillers"},null,null,null,{"$f":"DataPhaseValid!J61","v":"Pump_Optimization"},null,{"$f":"DataPhaseValid!K61","v":"Other Pump Optimization"}]
[null,{"$f":"DataPhaseValid!J25","v":"Chilled_Water_System"},null,{"$f":"DataPhaseValid!K25","v":"Optimize CRAC Sequencing"},null,null,null,{"$f":"DataPhaseValid!J62","v":"Pump_Optimization"},null,{"$f":"DataPhaseValid!K62","v":"Turn Off Redundant Pumps"}]
[null,{"$f":"DataPhaseValid!J26","v":"Chilled_Water_System"},null,{"$f":"DataPhaseValid!K26","v":"Optimize Free Cooling HX"},null,null,null,{"$f":"DataPhaseValid!J63","v":"Pump_Optimization"},null,{"$f":"DataPhaseValid!K63","v":"Utilize VFD for Pumps"}]
[null,{"$f":"DataPhaseValid!J27","v":"Chilled_Water_System"},null,{"$f":"DataPhaseValid!K27","v":"Other Chilled Water System"},null,null,null,{"$f":"DataPhaseValid!J64","v":"Refrigeration"},null,{"$f":"DataPhaseValid!K64","v":"Anti-Sweat Heater Controls"}]
[null,{"$f":"DataPhaseValid!J28","v":"Compressed_Air"},null,{"$f":"DataPhaseValid!K28","v":"Improve Compressor Seq/Cntrls"},null,null,null,{"$f":"DataPhaseValid!J65","v":"Refrigeration"},null,{"$f":"DataPhaseValid!K65","v":"EC Motors"}]
[null,{"$f":"DataPhaseValid!J29","v":"Compressed_Air"},null,{"$f":"DataPhaseValid!K29","v":"Install No-Loss Condensate Drains"},null,null,null,{"$f":"DataPhaseValid!J66","v":"Refrigeration"},null,{"$f":"DataPhaseValid!K66","v":"Evaporator Fan Control for EC Motors"}]
[null,{"$f":"DataPhaseValid!J30","v":"Compressed_Air"},null,{"$f":"DataPhaseValid!K30","v":"Lower CA Pressure Setpoint"},null,null,null,{"$f":"DataPhaseValid!J67","v":"Refrigeration"},null,{"$f":"DataPhaseValid!K67","v":"Evaporator Defrost Control"}]
[null,{"$f":"DataPhaseValid!J31","v":"Compressed_Air"},null,{"$f":"DataPhaseValid!K31","v":"Other Compressed Air"},null,null,null,{"$f":"DataPhaseValid!J68","v":"Refrigeration"},null,{"$f":"DataPhaseValid!K68","v":"Install KE2 Therm Controllers"}]
[null,{"$f":"DataPhaseValid!J32","v":"Compressed_Air"},null,{"$f":"DataPhaseValid!K32","v":"Relocate Air Inlet"},null,null,null,{"$f":"DataPhaseValid!J69","v":"Refrigeration"},null,{"$f":"DataPhaseValid!K69","v":"Floating Head Pressure Control"}]
[null,{"$f":"DataPhaseValid!J33","v":"Compressed_Air"},null,{"$f":"DataPhaseValid!K33","v":"Repair Compressed Air Leaks"},null,null,null,{"$f":"DataPhaseValid!J70","v":"Refrigeration"},null,{"$f":"DataPhaseValid!K70","v":"Other Refrigeration"}]
[null,{"$f":"DataPhaseValid!J34","v":"Compressed_Air"},null,{"$f":"DataPhaseValid!K34","v":"Replace Open Blowing w/ Eng Nozzles"},null,null,null,{"$f":"DataPhaseValid!J71","v":"Scheduling"},null,{"$f":"DataPhaseValid!K71","v":"Optimum Start for AHU"}]
[null,{"$f":"DataPhaseValid!J35","v":"Cooling_Tower_Optimization"},null,{"$f":"DataPhaseValid!K35","v":"CWT Reset"},null,null,null,{"$f":"DataPhaseValid!J72","v":"Scheduling"},null,{"$f":"DataPhaseValid!K72","v":"Schedule AHU"}]
[null,{"$f":"DataPhaseValid!J36","v":"Cooling_Tower_Optimization"},null,{"$f":"DataPhaseValid!K36","v":"Optimize Heat Trace"},null,null,null,{"$f":"DataPhaseValid!J73","v":"Scheduling"},null,{"$f":"DataPhaseValid!K73","v":"Schedule Boilers"}]
[null,{"$f":"DataPhaseValid!J37","v":"Cooling_Tower_Optimization"},null,{"$f":"DataPhaseValid!K37","v":"Other Cooling Tower Optimization"},null,null,null,{"$f":"DataPhaseValid!J74","v":"Scheduling"},null,{"$f":"DataPhaseValid!K74","v":"Schedule Chillers"}]
[null,{"$f":"DataPhaseValid!J38","v":"Domestic_Hot_Water"},null,{"$f":"DataPhaseValid!K38","v":"Low Flow Faucets"},null,null,null,{"$f":"DataPhaseValid!J75","v":"Scheduling"},null,{"$f":"DataPhaseValid!K75","v":"Schedule Fan Powered/VAV Boxes"}]
[null,{"$f":"DataPhaseValid!J39","v":"Domestic_Hot_Water"},null,{"$f":"DataPhaseValid!K39","v":"Other Domestic Hot Water"},null,null,null,{"$f":"DataPhaseValid!J76","v":"Scheduling"},null,{"$f":"DataPhaseValid!K76","v":"Schedule Heaters"}]
[null,null,null,null,null,null,null,{"$f":"DataPhaseValid!J77","v":"Scheduling"},null,{"$f":"DataPhaseValid!K77","v":"Schedule Pumps"}]
[null,null,null,null,null,null,null,{"$f":"DataPhaseValid!J78","v":"Scheduling"},null,{"$f":"DataPhaseValid!K78","v":"Schedule Return/Exhaust Fans"}]
[]
[null,"Revision History"]
[]
[null,"v1.1"]
[null,"Added IMP start and complete dates in the Measure Recommendation Tab for VER Phase."]
[null,"Updated ECM Form Inputs tab to include UUIDs and added dates."]
[null,"Updated protection pw."]
[null,"Added notes about content lengths (allowed number of rows) for facility description and ECM description."]
[null,"Miscellaneous format updates"]
[]
[null,"v1.2"]
[null,"Added two buttons in Instructions - J72-J76 for PC use to hide/unhide photo uploads funtions"]
[null,"Added etrack_inputs tab for data upload purpose"]
[null,"Fixed typos and updated PC list"]
[null,"Added VER Approval Date flag in Instructions - H19-H27"]
[null,"Added auto rounding function for Measure Recommendation Tab when saving the file."]
[]
[null,"v1.3"]
[null,"Updated electric customer incentives and SP fee for new PY, and related notes"]
[null,"Updated from Resource Innovations to Resource Innovations"]
[null,"Updated importing codes"]
[null,"Updated DataPhaseValid O28"]
[null,"Adjusted number of row limits for Contact & Facility Information and ECM tabs inputs."]
[null,"Updated Photo Uploads code to include checkboxes when hiding/unhiding"]
[null,"Adjusted Utility Calcs links to match downloaded csv files"]
[]
[null,"v1.4"]
[null,"Tried to fix type mismatch error by filling out VER kW savings and emptied out. "]
[null,"Customer incentives updated to 2 cent per kWh, $10,000 incentives cap removed. 21 Flex project on a different incentives structure. "]
[null,"MBCx INT fee updated to $10,000 for 200,000-300,000 kWh target. "]
[null,"MPG is updated to be portrait, also included a few minor content updates. "]
[null,"Gas fee excluded in this template."]
[null,"Added MBCx current bundle summary."]
[]
[null,"v2.1"]
[null,"Updated the D&C plan/ECM tab"]
[null,"Adjusted the importing function to accommodate older reports (1.4 and lower) into the new tool"]
[null,"Updates all cost metrics to reflect 2023 program metrics"]
[null,"Change the ECM form table to now show district steam equivalent NG savings in the final report"]
[null,"Eliminated the Steam boiler efficiency value from the report file"]
[null,"Changes to etrack_inputs tab to accomdate text file uploads to eTrack+"]
[null,"For MBCx projects, bundle wise savings and cost summaries will be displayed on the MBCx tab"]
[null,"Added description from the additional measure information to be included in the report"]
[]
[null,"v2.2"]
[null,"Measure Recommendation Tab - Updated conditional formatting in the tables "]
[null,"Updated ComEd PM contact information; Added new PC contacts"]
[null,"Updated MPG contacts information table"]
[null,"Removed unnecessary data entry cells that were no longer being used"]
[]
[null,"v3.0"]
[null,"Greenhouse Gas Emissions Reductions are now added to Page 1 of the PDF report"]
[null,"Updated ComEd PM contact information; Added new PC contacts"]
[null,"COVID page has been replaced with BOC page. This page is added to the end of the report "]
[null,"Reordered pages in the final PDF report"]
[]
[null,"v3.1"]
[null,"Updated the Greenhouse gas metrics with a new methodology and also replaced one of the metric"]
[null,"Expanded Issue log page in the PDF to accommodate larger text "]
[null,"Added a new column in the Measure Recommendation tab that calculates the Savings as a % of Annual Electric Usage "]
[]
[null,"v4.0"]
[null,"Updated program cost metrics to match the 2025 program structure. Removed language pertaining to Peoples Gas. "]
[null,"Added new macros to aid PCs during report finalization "]
[null,"Updated macros to improve PDF printing of large texts in ECM description tabs"]

{"sheet":"Checklist","index":9,"n_rows":73,"n_cols":3,"rows_kept":73,"cut":false,"hidden":false,"merged":[[2,1,2,2]]}
[null,"Deliverables Checklist"]
[]
[null,"The following optional checklist is intended to guide you through the RCx Flex/MBCx program. Completing the steps below will help contribute to a successful project.\n\nA few suggestions before you get started...\n  - Download the most recent document versions before you begin each phase from the EESP Portal (click button to access --->)\n  - All milestone communications should be uploaded to Europa and notify your PC\n  - Upon approval of the INV and VER Reports you may invoice Resource Innovations at rcxinvoices@resource-innovations.com and copy your PC\n\nDo not hesitate to reach out to your PC with any questions.\n\n\n"]
[null,"Eligibility Check"]
[]
[null,"Application (PDF)"]
[null,null,"All fields must be completed including the customer's signature"]
[]
[null,"Investigation Deliverable"]
[]
[null,"Investigation Report (Excel)"]
[null,null,"Address all text fields highlighted in red"]
[null,null,"Leave all text fields highlighted in blue for Resource Innovations to complete"]
[null,null,"Refer to each tab's specific instructions before completing that section"]
[null,null,"Contractor pricing is required"]
[]
[null,"Calculations (Excel)"]
[null,null,"An Excel calculation file (Separate or combined) must be submitted for each ECM"]
[null,null,"ComEd peak demand savings must be calculated; If none are present enter \"0\""]
[null,null,"Verify savings/cost values are consistent across calculations files and Investigation Report"]
[]
[null,"Supporting Documents (Varies)"]
[null,null,"Include any graphs, pictures or screenshots that represent the post implementation baseline operation as applicable"]
[]
[null,"Europa"]
[null,null,"Upload all files to Europa and notify your PC"]
[]
[null,"ECMs Selected for Implementation"]
[]
[null,"ECM Form"]
[null,null,"Update ECM Status (column X under the \"Measure Recmmendation\" tab) in the Report Tool, indicating ECM selection"]
[null,null,"Email your PC the updated report file"]
[]
[null,"Implementation Complete"]
[]
[null,"Europa"]
[null,null,"Update ECM Status (column X under the \"Measure Recommendation\" tab), indicating which ECMs were implemented"]
[null,null,"Upload the updated report to Europa under Implementation Phase"]
[]
[null,"ECM Form (PDF/Image) - Optional"]
[null,null,"Send an email to your PC indicating which ECMs are complete and date of completion"]
[null,null,"Upload the updated report to Europa under Implementation Phase"]
[]
[null,"Reservation Extension Request"]
[]
[null,"Email"]
[null,null,"Send an email to your PC and state the reason for the extension in the email body"]
[null,null,"Identify a date for implementation completion"]
[]
[null,"Verification Deliverable"]
[]
[null,"Verification Report (Excel)"]
[null,null,"The same file can be used for the Verification Report as the Investigation Report (Refer to Instructions tab)"]
[null,null,"Address all text fields highlighted in red"]
[null,null,"Leave all text fields highlighted in blue for Resource Innovations to complete"]
[null,null,"Refer to each tab's specific instructions before completing that section"]
[]
[null,"Calculations (Excel)"]
[null,null,"An Excel calculation file (Separate or combined) must be submitted for each ECM"]
[null,null,"ComEd peak demand savings must be calculated; If none are present enter \"0\""]
[null,null,"Verify savings/cost values are consistent across calculations files and Investigation Report"]
[]
[null,"Incentive Request Form (PDF)"]
[null,null,"All fields must be completed including the customer's signature"]
[]
[null,"Customer Implementation Invoice(s) (Varies)"]
[null,null,"Invoice(s) for each implemented ECM containing the total cost incurred by the customer; In-house labor must be called out"]
[]
[null,"Supporting Documents (Varies)"]
[null,null,"Include any graphs, pictures or screenshots that represent the post implementation baseline operation as applicable"]
[]
[null,"Europa"]
[null,null,"Upload all files to Europa and notify your PC"]

{"sheet":"Contact & Facility Information","index":10,"n_rows":96,"n_cols":11,"rows_kept":96,"cut":false,"hidden":false,"merged":[[194,1,194,3],[194,6,194,7],[195,1,195,3],[195,6,195,7],[191,1,191,3],[191,6,191,7],[192,1,192,3],[192,6,192,7],[193,1,193,3],[193,6,193,7],[190,1,190,3],[190,6,190,7],[182,1,182,3],[182,6,182,7],[183,1,183,3],[183,6,183,7],[184,1,184,3],[184,6,184,7],[179,1,179,3],[179,6,179,7],[180,1,180,3],[180,6,180,7],[181,1,181,3],[181,6,181,7],[185,1,185,3],[185,6,185,7],[186,1,186,3],[186,6,186,7],[187,1,187,3],[187,6,187,7],[188,1,188,3],[188,6,188,7],[189,1,189,3],[189,6,189,7],[176,1,176,3],[176,6,176,7],[177,1,177,3],[177,6,177,7],[178,1,178,3],[178,6,178,7],[173,1,173,3],[173,6,173,7],[174,1,174,3],[174,6,174,7],[175,1,175,3],[175,6,175,7],[170,1,170,3],[170,6,170,7],[171,1,171,3],[171,6,171,7],[172,1,172,3],[172,6,172,7],[167,1,167,3],[167,6,167,7],[168,1,168,3],[168,6,168,7],[169,1,169,3],[169,6,169,7],[164,1,164,3],[164,6,164,7],[165,1,165,3],[165,6,165,7],[166,1,166,3],[166,6,166,7],[161,1,161,3],[161,6,161,7],[162,1,162,3],[162,6,162,7],[163,1,163,3],[163,6,163,7],[158,1,158,3],[158,6,158,7],[159,1,159,3],[159,6,159,7],[160,1,160,3],[160,6,160,7],[155,1,155,3],[155,6,155,7],[156,1,156,3],[156,6,156,7],[157,1,157,3],[157,6,157,7],[152,1,152,3],[152,6,152,7],[153,1,153,3],[153,6,153,7],[154,1,154,3],[154,6,154,7],[149,1,149,3],[149,6,149,7],[150,1,150,3],[150,6,150,7],[151,1,151,3],[151,6,151,7],[146,1,146,3],[146,6,146,7],[147,1,147,3],[147,6,147,7],[148,1,148,3],[148,6,148,7],[143,6,143,7],[144,6,144,7],[145,6,145,7],[145,1,145,3],[138,6,138,7],[139,6,139,7],[140,6,140,7],[141,6,141,7],[142,6,142,7],[123,6,123,7],[124,6,124,7],[125,6,125,7],[126,6,126,7],[127,6,127,7],[136,6,136,7],[137,6,137,7],[132,6,132,7],[133,6,133,7],[134,6,134,7],[129,6,129,7],[130,6,130,7],[118,6,118,7],[119,6,119,7],[120,6,120,7],[121,6,121,7],[122,6,122,7],[113,6,113,7],[114,6,114,7],[115,6,115,7],[117,6,117,7],[116,6,116,7],[112,1,112,3],[108,6,108,7],[109,6,109,7],[110,6,110,7],[111,6,111,7],[112,6,112,7],[107,6,107,7],[113,1,113,3],[114,1,114,3],[107,1,107,3],[108,1,108,3],[109,1,109,3],[110,1,110,3],[111,1,111,3],[115,1,115,3],[116,1,116,3],[117,1,117,3],[118,1,118,3],[119,1,119,3],[120,1,120,3],[121,1,121,3],[122,1,122,3],[123,1,123,3],[124,1,124,3],[125,1,125,3],[126,1,126,3],[127,1,127,3],[128,1,128,3],[129,1,129,3],[130,1,130,3],[135,6,135,7],[131,6,131,7],[128,6,128,7],[131,1,131,3],[132,1,132,3],[133,1,133,3],[134,1,134,3],[135,1,135,3],[96,1,96,3],[96,6,96,7],[97,6,97,7],[98,6,98,7],[99,6,99,7],[100,6,100,7],[101,6,101,7],[101,1,101,3],[102,1,102,3],[103,1,103,3],[106,6,106,7],[104,1,104,3],[105,1,105,3],[106,1,106,3],[104,6,104,7],[105,6,105,7],[102,6,102,7],[103,6,103,7],[43,5,43,6],[48,5,48,6],[49,5,49,6],[95,6,95,7],[73,4,73,5],[74,4,74,5],[84,1,84,5],[82,1,82,5],[84,7,84,9],[95,1,95,3],[87,7,87,9],[90,7,90,9],[82,7,82,9],[70,4,70,5],[54,1,54,5],[49,2,49,3],[47,2,47,3],[46,2,46,3],[48,2,48,3],[43,2,43,3],[81,1,81,5],[64,1,64,5],[82,10,82,21],[87,10,87,21],[65,7,65,9],[54,7,54,9],[62,2,62,5],[97,1,97,3],[98,1,98,3],[99,1,99,3],[100,1,100,3],[59,2,59,5],[61,2,61,5],[63,2,63,5],[60,2,60,5],[68,4,68,5],[69,4,69,5],[72,4,72,5],[77,2,77,5],[71,4,71,5],[65,1,65,5],[90,1,90,5],[87,1,87,5],[78,2,78,5],[80,2,80,5],[79,2,79,5],[136,1,136,3],[137,1,137,3],[138,1,138,3],[139,1,139,3],[142,1,142,3],[143,1,143,3],[144,1,144,3],[140,1,140,3],[141,1,141,3],[19,2,19,3],[24,2,24,3],[25,2,25,3],[30,2,30,3],[4,2,4,3],[5,2,5,3],[7,2,7,3],[6,2,6,3],[10,2,10,3],[12,2,12,3],[11,2,11,3],[13,2,13,3],[18,2,18,3],[16,2,16,3],[17,2,17,3],[6,5,6,6],[7,5,7,6],[12,5,12,6],[13,5,13,6],[18,5,18,6],[19,5,19,6],[24,5,24,6],[25,5,25,6],[30,5,30,6],[36,5,36,6],[37,5,37,6],[42,5,42,6],[23,2,23,3],[22,2,22,3],[28,2,28,3],[29,2,29,3],[35,2,35,3],[31,2,31,3],[31,5,31,6],[36,2,36,3],[37,2,37,3],[42,2,42,3],[34,2,34,3],[40,2,40,3],[41,2,41,3]]}
[]
[null,"Contact Information Enter contact information for all parties "]
[]
[null,"Customer Contact Information"]
[null,"Customer Facility Name","Facility Address",null,"City","State","Zip"]
[null,null,null,null,null,null,null,{"$f":"COUNTIF(DataPhaseValid!$AB$9:$AB$35,\"=\"&'Contact & Facility Information'!$G$6)","v":0}]
[null,"Customer Contact Name","Customer Title",null,"Customer Phone","Customer Email"]
[]
[]
[null,"Service Provider Contact Information"]
[null,"SP Company Name","Address",null,"City","State","Zip"]
[]
[null,"SP Contact Name","SP Contact Title",null,"SP Phone","SP Email"]
[]
[]
[null,"Resource Innovations Project Coordinator Contact Information"]
[null,"Firm Name","Address",null,"City","State","Zip"]
[null,"Resource Innovations",{"$f":"IFERROR(VLOOKUP(B20,DataPhaseValid!Q4:X14,3,FALSE),\"Select PC\")","v":"Select PC"},null,{"$f":"IFERROR(VLOOKUP(B20,DataPhaseValid!Q4:X14,4,FALSE),\"Select PC\")","v":"Select PC"},{"$f":"IFERROR(VLOOKUP(B20,DataPhaseValid!Q4:X14,5,FALSE),\"Select PC\")","v":"Select PC"},{"$f":"IFERROR(VLOOKUP(B20,DataPhaseValid!Q4:X14,6,FALSE),\"Select PC\")","v":"Select PC"}]
[null,"Project Coordinator (PC) Name","PC Contact Title",null,"PC Phone","PC Email"]
[null,null,{"$f":"IFERROR(VLOOKUP(B20,DataPhaseValid!Q4:X14,2,FALSE),\"Select PC\")","v":"Select PC"},null,{"$f":"IFERROR(VLOOKUP(B20,DataPhaseValid!Q4:X14,7,FALSE),\"Select PC\")","v":"Select PC"},{"$f":"IFERROR(VLOOKUP(B20,DataPhaseValid!Q4:X14,8,FALSE),\"Select PC\")","v":"Select PC"}]
[]
[null,"ComEd Program Mangaer"]
[null,"Electric Utility Name","Address",null,"City","State","Zip"]
[null,"ComEd","2011 Swift Drive",null,"Oakbrook","IL",60523]
[null,"Program Manager (PM) Name","PM Title",null,"PM Phone","PM Email"]
[null,"Emily Pauli","Sr. Energy Efficiency Program Manager",null,7792310102,"emily.pauli@comed.com"]
[]
[null,"ComEd Account Manager"]
[null,"Utility Name","Address",null,"City","State","Zip"]
[null,"ComEd","2011 Swift Drive",null,"Oakbrook","IL",60523]
[null,"Account Manager (AM) Name","AM Title",null,"AM Phone","AM Email"]
[null,null,"Corporate Account Manager"]
[]
[null,"Natural Gas Utility Program Manager (leave empty if not applicable/available)"]
[null,"Utility Name","Address",null,"City","State","Zip"]
[null,null,null,null,null,null,null,null,{"$f":"IF(OR(B36=\"\",B36=\"Peoples Gas\"),\"\",\"Please connect with your Project Co-ordinator regarding available budget for SP Fee/Customer incentives associated with gas energy savings\")","v":""}]
[null,"Program Manager (PM) Name","PM Title",null,"PM Phone","PM Email"]
[]
[]
[null,"Natural Gas Utility Account Manager  (leave empty if not applicable/available)"]
[null,"Utility Name","Address",null,"City","State","Zip"]
[]
[null,"Account Manager (AM) Name","AM Title",null,"AM Phone","AM Email"]
[]
[]
[null,"Implementation Contractor"]
[null,"Contractor Company Name","Address",null,"City","State","Zip"]
[]
[null,"Contractor Contact Name","Contractor Contact Title",null,"Contractor Phone","Contractor Email"]
[]
[]
[null,"Opening Statement from SP"]
[]
[null,"Opening Statement/Thank You Note (Selecte Yes/No to include in the PDF report)"]
[]
[]
[null,"Facility Description Enter information pertaining to the facility"]
[]
[null,"General Facility Information"]
[null,"Facility Type"]
[null,"Facility Type (Other)"]
[null,"Total Building Area (ft2)"]
[null,"Conditioned Building Area (ft2)"]
[null,"Percent Leased/Occupied"]
[null,"General Facility Description"]
[null,null,null,null,null,null,null,"Describe the building type, age, footage, occupancy, etc.\nDescribe the project scope of work, and if any areas or systems of the building are excluded from the project. "]
[]
[null,"Facility Space Type"]
[null,"Location Name","Space Type","Area (ft2)","Schedule Hours/Days of Occcupancy"]
[]
[]
[]
[]
[]
[]
[]
[null,"Energy Use Analysis",null,null,null,null,null,null,"Import Utility Data Click to import a .csv file of the utility data. Utility data can be downloaded here (Note that you must unzip the file before importing): https://www.comed.com/customer-service/rates-pricing/customer-choice/Pages/usage-data.aspx"]
[null,"Annual Electric Usage",{"$f":"IF('Utility Calcs'!$G$18=0,\"\",'Utility Calcs'!$G$18)","v":""}]
[null,"Monthly Peak Demand",{"$f":"IF('Utility Calcs'!$K$18=0,\"\",'Utility Calcs'!$K$18)","v":""}]
[null,"Natural Gas Provider",{"$f":"IF(B36=\"\", \"N/A\",B36)","v":"N/A"},null,null,null,null,null,"Clear Utility Data Click to erase previously imported utility data from the workbook"]
[null,"Annual Natural Gas Usage"]
[null,"Energy Use Description and Portfolio Manager"]
[null,null,null,null,null,null,null,"Describe the building energy use and present EPA Portfolio Manager Rating. \n\nDiscuss any unexpected results.\n\nContents to the right can be used as a template regarding Portfolio Manager.",null,null,"Portfolio Manager is an online benchmarking tool created by the U.S. Environmental Protection Agency (EPA). It provides a powerful environment for tracking energy performance and benchmarking buildings’ energy usage. A facility's historical energy consumption is normalized for several significant factors such as the building’s size, function, and geographical location. The facility is then given an Energy Performance Rating, which ranks the facility’s energy performance against that of similar facilities across the United States on a scale of 1 (worst performance) to 100 (best performance). For example, an Energy Performance Rating of 50 indicates that about half of similar facilities in the United States are less energy intensive than the rated facility, and half are more energy intensive. A facility that scores 75 or higher is eligible to receive the ENERGY STAR® label. For more information on Portfolio Manager and how it can help promote a greener environment please see: http://www.energystar.gov/index.cfm?c=evaluate_performance.bus_portfoliomanager\nCustomer Name’s Energy Performance Rating through Portfolio Manager has been determined as part of the study.\nPresent the EPA Portfolio Manager Rating. Discuss any unique or unexpected results.\n"]
[null,"Rate Analysis and Utility Usages"]
[null,null,null,null,null,null,null,"Describe the building utility account rate.\n\nDescribe the buidling annual electric and gas usage, and electric demand. \n\nDiscuss any unexpected results."]
[]
[null,"HVAC System"]
[null,null,null,null,null,null,null,"Describe the building’s systems and equipment. Describe the types of equipment installed, the system configuration (e.g., chillers in parallel on primary CHW loop, with secondary loop serving AHU coils, HW pumps, ventilation and air distribution, etc.), BAS controls and any pertinent details regarding sequence of operation and/or set points. Complete a tabular building equipment list and present it in Appendix D. Briefly discuss important sequences of operation and operating schedules. \n\nIf district chilled water or steam are used in this building, please also include a brief write-up explaining your rationale for the plant efficiency used in Measure Recommendation tab Cells F8 and F11. \n\nA few more questions are listed on the right for your reference. \n\n \n",null,null,"The following questions (if applicable) should also be addressed: \n• Does the facility use a zone temperature setup/setback strategy? \n• Is the Central supply air temperature fixed or is a reset strategy used? \n• Does central air system have pre-heat? \n• Is free cooling used, i.e. with an air or water-side economizer? \n• How is the outdoor air controlled? \n• What is the design minimum outdoor air fraction? \n• For VAV systems, is a supply static pressure reset strategy used? \n• Does system have automatic shutdown? \n• Is an optimum start strategy used? \n• Is system equipped with zone isolation devices for minimizing energy use in off-hour operation? \n• Is there exhaust air heat recovery? \n• Has the heating/cooling system always met load? If no, under what conditions has the heating/cooling system not met load? \n• Explain any free cooling that is used. Explain any HVAC equipment that is undersized/oversized. \n• What HVAC adjustments are made to unoccupied areas or spaces (e.g., turn off HVAC, adjust thermostat to minimum heating and cooling, close off diffuser)? \n• Is the facility HVAC system airflow correctly balanced? \n• Are there any problems with the humidification method (explain)? \n• Are there any problems with the dehumidification method (explain)?"]
[]
[null,"Building Automation System (BAS) & Controls"]
[null,null,null,null,null,null,null,"Include the following at a minimum:\n  - BAS make, model, and age (if BAS exists)\n  - Description of current controls (if no BAS)\n  - Systems/equipment controlled\n  - Abilities and limitations of controls\n  - Who has access to controls? What level?"]
[]
[null,"Equipment List Enter all equipment included in the scope of the project pertaining to recommended ECMs"]
[]
[null,"Equipment List"]
[null,"Equipment Description",null,null,"# Units","Size\n(Per Unit)","System Type",null,"Operating Hours","Location/Area Served\n(Not included in Report)"]

{"sheet":"Measure Recommendation","index":11,"n_rows":86,"n_cols":61,"rows_kept":86,"cut":false,"hidden":false,"merged":[[67,1,68,3],[38,1,59,1],[14,1,35,1],[53,5,53,6],[54,5,54,6],[55,5,55,6],[56,5,56,6],[31,5,31,6],[32,5,32,6],[33,5,33,6],[34,5,34,6],[35,5,35,6],[50,5,50,6],[47,5,47,6],[57,5,57,6],[49,5,49,6],[46,5,46,6],[48,5,48,6],[2,21,2,24],[61,8,61,9],[39,5,39,6],[45,5,45,6],[44,5,44,6],[42,5,42,6],[43,5,43,6],[41,5,41,6],[40,5,40,6],[14,21,14,22],[8,9,8,10],[14,10,14,12],[10,9,10,10],[11,9,11,10],[4,3,4,4],[6,3,6,4],[8,3,8,4],[15,5,15,6],[12,3,12,4],[7,3,7,4],[9,3,9,4],[11,3,11,4],[5,3,5,4],[10,3,10,4],[38,10,38,12],[38,13,38,14],[14,15,14,17],[38,15,38,17],[38,18,38,20],[14,13,14,14],[3,3,3,5],[60,8,60,9],[36,8,36,9],[51,5,51,6],[52,5,52,6],[17,5,17,6],[22,5,22,6],[23,5,23,6],[24,5,24,6],[25,5,25,6],[18,5,18,6],[19,5,19,6],[20,5,20,6],[30,5,30,6],[58,5,58,6],[59,5,59,6],[2,9,2,11],[3,9,3,10],[6,9,6,10],[7,9,7,10],[9,9,9,10],[4,9,4,10],[14,37,14,45],[14,47,14,55],[38,2,38,9],[14,2,14,9],[5,9,5,11],[37,5,37,8],[16,5,16,6],[21,5,21,6],[26,5,26,6],[27,5,27,6],[29,5,29,6],[28,5,28,6],[38,26,38,27],[38,23,38,25],[38,21,38,22],[14,18,14,20],[9,13,9,14],[12,21,12,22],[1,57,2,57],[10,21,10,22],[11,21,11,22],[9,21,9,23]]}
[null,null,null,null,null,null,null,null,null,null,null,null,null,null,null,null,null,null,null,null,null,null,null,null,null,null,null,null,null,null,{"$f":"Instructions!G1","v":4},null,null,null,null,null,null,null,null,"SP Fee","Customer Incentive"]
[null,"Measure Recommendation",null,null,null,null,null,null,null,null,null,null,null,null,null,null,null,null,null,null,null,null,null,null,null,null,null,null,null,null,null,null,null,null,null,null,null,null,null,"$/Therm","$/Therm",null,null,null,null,null,null,null,null,null,null,null,null,null,null,null,null,"Incentives for current bundle",{"$f":"IF(Instructions!$F$4=\"Investigation\",MIN('Measure Recommendation'!AO42,'Measure Recommendation'!AP42),MIN('Measure Recommendation'!AO43,'Measure Recommendation'!AP43))","v":{"$error":"#N/A"}}]
[null,null,null,null,null,null,null,null,null,"Project Target Savings",null,null,null,null,null,null,null,null,null,null,null,"2025 ComEd RCx Program Payment Rates",null,null,null,null,null,null,null,null,null,null,null,null,null,null,null,null,"Peoples Gas",0.41,0.17,"North Shore Gas"]
[null,null,null,"Utilities and Energy Costs",null,null,null,null,null,"Electric (kWh)",null,null,null,null,null,null,null,null,null,null,null,null,"Flex ($/kWh)","MBCx Elec ($/kWh)","Gas Cost Share ($)",null,null,null,null,null,null,null,null,null,null,null,null,null,"Nicor Gas",0.35,0]
[null,null,null,"Electric Energy Cost ($/kWh)",null,null,null,null,null,"Natural Gas (therms)",null,null,null,null,null,null,null,null,null,null,null,"SP INV Fee",0.06,0,0,null,null,null,null,null,null,null,null,null,null,null,null,null,null,null,null,null,null,null,null,null,null,29.3,"kWh/therm"]
[null,null,null,"Is Natural Gas Included?",null,null,null,null,null,{"$f":"\"Project Cost Analysis For Current Bundle\"","v":"Project Cost Analysis For Current Bundle"},null,null,null,null,null,null,null,null,null,null,null,"SP VER Fee",0.18,0.16,{"$f":"IF($AM$9=$AP$3,$AN$3,IF($AM$9=$AM$4,$AN$4,0))","v":0},null,null,null,null,null,null,null,null,null,null,null,null,null,null,null,null,null,null,null,null,null,null,2204.6,"pounds per MT ","Gas Savings (Therms)",{"$f":"AN38","v":0},{"$f":"AX38","v":0}]
[null,null,null,"Natural Gas Energy Cost ($/therm)",null,null,null,null,null,"Max Required IMP Commitment",null,{"$f":"IFERROR(IF(Instructions!F3=\"MBCx\",0,IF(AND(L4>0,L4<=250000),1000,IF(AND(L4>250000,L4<=500000),5000,IF(AND(L4>500000,L4<=750000),10000,IF(L4>750000,15000,\"Check Target(s)\"))))),\"Check Target(s)\")","v":"Check Target(s)"},null,null,null,null,null,null,null,null,null,"Incentive",0.04,0.04,{"$f":"IF($AM$9=$AP$3,$AO$3,IF($AM$9=$AM$4,$AO$4,0))","v":0},null,null,null,null,null,null,null,null,null,null,null,null,null,null,null,null,null,null,null,null,null,null,null,null,"Electric Savings (kWh)",{"$f":"AM38+(AY6*AV5)","v":0},{"$f":"AW38+(AZ6*AV5)","v":0}]
[null,null,null,"Is District Chilled Water Included?",null,null,null,null,null,"Customer Incentive",null,{"$f":"IFERROR(IF(Instructions!$F$4=\"Investigation\",MIN('Measure Recommendation'!AO42,'Measure Recommendation'!AP42),MIN('Measure Recommendation'!AO43,'Measure Recommendation'!AP43))+$X$13,0)","v":0},null,null,null,null,null,null,null,null,null,null,null,null,null,null,null,null,null,null,null,null,null,null,null,null,null,null,null,null,null,null,null,null,null,null,null,null,"Electric Converter",null,"INV","VER","Print Value "]
[null,null,null,"Implied Chiller Plant Efficiency (kW/ton)",null,null,null,null,null,"SP Application Fee",null,{"$f":"IFERROR(IF(Instructions!F3=\"MBCx\",IF(L4>=200000,5000,\"Check Target(s)\"),IF(L4>0, L4*0.01,\"Check Target(s)\")),\"Check Target(s)\")","v":"Check Target(s)"},null,null,null,null,null,null,null,null,null,null,null,null,null,null,null,null,null,null,null,null,null,null,null,null,null,"Gas Utility",{"$f":"IF(ISBLANK('Contact & Facility Information'!$B$36),\"\",'Contact & Facility Information'!B36)","v":""},null,null,null,null,null,null,null,null,null,0.73850000000000005,"Metric Tons of CO2",{"$f":"((AY$7*$AW$9)/$AV$6)","v":0},{"$f":"((AZ$7*$AW$9)/$AV$6)","v":0},{"$f":"IF($AM$11=\"Investigation\",AY9,AZ9)","v":0}]
[null,null,null,"Is District Steam Included?",null,null,null,null,null,{"$f":"IF(Instructions!F3=\"MBCx\",\"SP Integration Fee\",\"SP Investigation Fee\")","v":"SP Investigation Fee"},null,{"$f":"IFERROR(IF(Instructions!F3=\"MBCx\",IF(AND('Measure Recommendation'!L4<300000,'Measure Recommendation'!L4>=200000),10000,IF('Measure Recommendation'!L4>=300000,25000,\"Check Target(s)\")),\nIF(L4<=0, \"Check Target(s)\",AQ42)),\"\")","v":"Check Target(s)"},null,"Natural Gas SP  Verification Fee",null,null,null,null,null,null,null,"Additional Customer Incentives/SP Fees",null,null,null,null,null,null,null,null,null,null,null,null,null,null,null,"Program Track",{"$f":"Instructions!F3","v":0},null,null,null,null,null,null,null,null,null,1852,"Acres of Trees Planted",{"$f":"(AY$7*$AW$9/$AW$10)","v":0},{"$f":"(AZ$7*$AW$9/$AW$10)","v":0},{"$f":"IF($AM$11=\"Investigation\",AY10,AZ10)","v":0}]
[null,null,null,"District Steam Energy Cost ($/therm)",null,null,null,null,null,"SP (Electric) Verification Fee",null,{"$f":"IFERROR(IF(ISBLANK(L41),\"\",IF((AQ43+X12)<0,\"No Fee\",AQ43+X12)),\"Check Input(s)\")","v":""},null,"Amount",{"$f":"IFERROR(AV43,\"\")","v":""},null,null,null,null,null,null,"Additional Payment",null,"Amount ($)",null,null,null,null,null,null,null,null,null,null,null,null,null,"Current Phase",{"$f":"Instructions!F4","v":0},null,null,null,null,null,null,null,null,null,8628,"# Homes Powered for 1 Year",{"$f":"(AY$7/$AW$11)","v":0},{"$f":"(AZ$7/$AW$11)","v":0},{"$f":"IF($AM$11=\"Investigation\",AY11,AZ11)","v":0}]
[null,null,null,"District Chilled Water Cost ($/ton-hr)",null,null,null,null,null,"Simple Payback w/ Incentive (Yr)",null,{"$f":"IF(Instructions!$F$4=\"Investigation\",IFERROR(IF(OR($AP$42<=0,($AP$42-$L$8)<=0),\"Immediate\",($AP$42-$L$8)/(M37+O37+R37+U37)),W37),IFERROR(IF(OR($AP$43<=0,($AP$43-$L$8)<=0),\"Immediate\",($AP$43-$L$8)/(M62+O62+R62+U62)),W62))","v":""},null,null,null,null,null,null,null,null,null,"Service Provider",null,null,null,null,null,null,null,null,null,null,null,null,null,null,null,"Current Bundle",{"$f":"AK35&AL41","v":"0"},null,null,null,null,null,null,null,null,null,9899,"Cars Removed from the Road",{"$f":"(AY$7*$AW$9/$AW$12)","v":0},{"$f":"(AZ$7*$AW$9/$AW$12)","v":0},{"$f":"IF($AM$11=\"Investigation\",AY12,AZ12)","v":0}]
[null,null,null,"Steam Plant Energy Units",null,null,null,null,null,null,null,null,null,null,null,null,null,null,null,null,null,"Customer"]
[]
["Developer identifier","Investigation","Energy Conservation Measure (ECM) Description",null,null,null,null,null,null,null,"Electric",null,null,"Natural Gas",null,"District Chilled Water",null,null,"District Steam",null,null,"Cost Analysis",null,"Status","Notes",null,null,null,null,null,null,null,null,null,null,null,null,"Investigation",null,null,null,null,null,null,null,null,null,"Verification"]
[null,null,"Bundle #","ECM #","Standard Measure Type","Standard Measure Name ",null,"Standard Measure Name Modifier","Measure Description","Interaction Factor\nEx. \"1,2,4\"","ComEd Peak Demand Savings \n(kW)","Electrical Energy Savings (kWh/year)","Electrical Cost Savings \n($/year)","Natural Gas Energy Savings (therms/year)","Natural Gas Cost Savings \n($/year)","District Chilled Water Energy Savings \n(ton-hrs/year)","District Chilled Water Equivalent Electric Energy Savings \n(kWh/year)","District Chilled Water Cost Savings \n($/year)",{"$f":"\"District Steam Energy Savings \"&F13","v":"District Steam Energy Savings "},"District Steam Equivalent Natural Gas Energy Savings \n(therms/year)","District Steam Cost Savings \n($/year)","Measure Implementation Cost\n($)","Simple Payback Without Incentives (years)","Selected for Installation","Standard Calculator Used","Savings as % of Annual Electric Energy Usage",null,null,null,null,"Electrical Energy Savings (kWh/year)","Electrical Cost Savings \n($/year)","Natural Gas Energy Savings (therms/year)","Natural Gas Cost Savings \n($/year)","Bundle #",null,null,"Bundle #","Electric Energy Savings (kWh)","Gas Energy Savings (Therms)","Incentives","Cost Cap","SP Fee","Electric Cost Savings","Gas Cost Savings","Actual Incentives Paid Out",null,"Bundle #","Electric Energy Savings (kWh)","Gas Energy Savings (Therms)","Incentives","Incentives Cost Cap","SP (Electric) Fee","Electric Cost Savings","Gas Cost Savings","Actual Incentives Paid Out","SP (Gas) Fee","Bundle Approved Year",null,"Bundle # For VER","VER Approval Date"]
["58f0a7d7-b373-4170-9ac6-6cc1860756a5",null,null,1,null,null,null,null,{"$f":"IF(F17=\"\",\"\",IF(F17=\"Other\",H17,IF(H17=\"\",F17,F17&\": \"&H17)))","v":""},null,null,null,{"$f":"ROUND(IF(L17=0,0,L17*$F$5),0)","v":0},null,{"$f":"ROUND(IF(N17=0,0,N17*$F$7),0)","v":0},null,null,{"$f":"ROUND(IF(AND(P17=0,Q17=0),0,IF($F$12=0,Q17*$F$5,P17*$F$12)),0)","v":0},null,{"$f":"ROUND(IF(S17=0,0,IF(S17=\"\",0,IF($F$13=\"(MMBTU/yr)\",S17*10,IF($F$13=\"(therms/yr)\",S17,IF($F$13=\"(1000 lbs/yr)\",S17*11.3,\"select units in cell F12\"))))),0)","v":0},{"$f":"ROUND(IF(S17=0,0,T17*$F$11),0)","v":0},null,{"$f":"IFERROR(IF(I17=\"\",\"\",IF(V17/(M17+O17+R17+U17)<=0.1,\"Immediate\",ROUND(V17/(M17+O17+R17+U17),1))),0)","v":""},null,null,{"$f":"IFERROR(AE17/$AC$38,\"\")","v":""},null,"ECM1",null,null,{"$f":"L17+Q17","v":0},{"$f":"M17+R17","v":0},{"$f":"N17+T17","v":0},{"$f":"O17+U17","v":0},{"$f":"C17","v":0},null,null,1,{"$f":"SUMPRODUCT(($C$17:$C$36=AL17)*ROUND($L$17:$L$36,0))+SUMPRODUCT(($C$17:$C$36=AL17)*ROUND($Q$17:$Q$36,0))","v":0},{"$f":"SUMIF($C$17:$C$36,\"=\"&AL17,$N$17:$N$36)+SUMIF($C$17:$C$36,\"=\"&AL17,$T$17:$T$36)","v":0},{"$f":"($AM17*$X$7)+($AN17*'Measure Recommendation'!$Y$7)","v":0},{"$f":"SUMIF($C$17:$C$36,\"=\"&AL17,$V$17:$V$36)","v":0},{"$f":"IF($AM$10=\"MBCx\",0,MIN(L4,AM17)*$W$5)","v":0},{"$f":"SUMIF($C$17:$C$36,\"=\"&AL17,$M$17:$M$36)+SUMIF($C$17:$C$36,\"=\"&AL17,$R$17:$R$36)","v":0},{"$f":"SUMIF($AI$17:$AI$36,\"=\"&AL17,$AH$17:$AH$36)","v":0},{"$f":"MIN(AO17,AP17)","v":0},null,1,{"$f":"SUMPRODUCT(($C$41:$C$60=AV17)*ROUND($L$41:$L$60,0))+SUMPRODUCT(($C$41:$C$60=AV17)*ROUND($Q$41:$Q$60,0))","v":0},{"$f":"SUMIF($C$41:$C$60,\"=\"&AV17,$N$41:$N$60)+SUMIF($C$41:$C$60,\"=\"&AV17,$T$41:$T$60)","v":0},{"$f":"IFERROR(IF(BF17<2025,AW17*$BA$49+AX17*$BA$50,($AW17*$X$7)+($AX17*'Measure Recommendation'!$Y$7)),0)","v":0},{"$f":"SUMIF($C$41:$C$60,\"=\"&AV17,$V$41:$V$60)","v":0},{"$f":"IF($AM$10=\"MBCx\",(($AW17*$X$6)),(($AW17*$W$6)-(AQ17+$L$9)))","v":{"$error":"#VALUE!"}},{"$f":"SUMIF($AI$41:$AI$60,\"=\"&AV17,$AF$41:$AF$60)","v":0},{"$f":"SUMIF($AI$41:$AI$60,\"=\"&AV17,$AH$41:$AH$60)","v":0},{"$f":"MIN(AY17,AZ17)","v":0},{"$f":"IF($Y$6<0.1,0,AX17*$Y$6)","v":0},{"$f":"VLOOKUP(AV17,BH16:BI36,2,FALSE)","v":{"$error":"#N/A"}},null,{"$f":"C41","v":0},{"$f":"IF(YEAR(AB41)<2000,\"\",YEAR(AB41))","v":""}]
["9091125c-5ed1-492f-9f5e-c88b0b22be43",null,null,2,null,null,null,null,"",null,null,null,0,null,0,null,null,{"$f":"ROUND(IF(AND(P18=0,Q18=0),0,IF($F$12=0,Q18*$F$5,P18*$F$12)),0)","v":0},null,{"$f":"ROUND(IF(S18=0,0,IF(S18=\"\",0,IF($F$13=\"(MMBTU/yr)\",S18*10,IF($F$13=\"(therms/yr)\",S18,IF($F$13=\"(1000 lbs/yr)\",S18*11.3,\"select units in cell F12\"))))),0)","v":0},0,null,{"$f":"IFERROR(IF(I18=\"\",\"\",IF(V18/(M18+O18+R18+U18)<=0.1,\"Immediate\",ROUND(V18/(M18+O18+R18+U18),1))),0)","v":""},null,null,{"$f":"IFERROR(AE18/$AC$38,\"\")","v":""},null,"ECM2",null,null,{"$f":"L18+Q18","v":0},{"$f":"M18+R18","v":0},{"$f":"N18+T18","v":0},{"$f":"O18+U18","v":0},{"$f":"C18","v":0},null,null,2,{"$f":"SUMPRODUCT(($C$17:$C$36=AL18)*ROUND($L$17:$L$36,0))+SUMPRODUCT(($C$17:$C$36=AL18)*ROUND($Q$17:$Q$36,0))","v":0},{"$f":"SUMIF($C$17:$C$36,\"=\"&AL18,$N$17:$N$36)+SUMIF($C$17:$C$36,\"=\"&AL18,$T$17:$T$36)","v":0},{"$f":"($AM18*$X$7)+($AN18*'Measure Recommendation'!$Y$7)","v":0},{"$f":"SUMIF($C$17:$C$36,\"=\"&AL18,$V$17:$V$36)","v":0},{"$f":"IF($AM$17>$L$4,0,IF(SUM($AM$17:$AM$18)<$L$4,$AM$18*$W$5,IF(AM18>(L4-AM17),($L$4-$AM$17)*$W$5,AM18*W5-AQ17)))","v":0},{"$f":"SUMIF($C$17:$C$36,\"=\"&AL18,$M$17:$M$36)+SUMIF($C$17:$C$36,\"=\"&AL18,$R$17:$R$36)","v":0},{"$f":"SUMIF($AI$17:$AI$36,\"=\"&AL18,$AH$17:$AH$36)","v":0},{"$f":"MIN(AO18,AP18)","v":0},null,2,{"$f":"SUMPRODUCT(($C$41:$C$60=AV18)*ROUND($L$41:$L$60,0))+SUMPRODUCT(($C$41:$C$60=AV18)*ROUND($Q$41:$Q$60,0))","v":0},{"$f":"SUMIF($C$41:$C$60,\"=\"&AV18,$N$41:$N$60)+SUMIF($C$41:$C$60,\"=\"&AV18,$T$41:$T$60)","v":0},{"$f":"IFERROR(IF(BF18<2025,AW18*$BA$49+AX18*$BA$50,($AW18*$X$7)+($AX18*'Measure Recommendation'!$Y$7)),0)","v":0},{"$f":"SUMIF($C$41:$C$60,\"=\"&AV18,$V$41:$V$60)","v":0},{"$f":"IF($AM$10=\"MBCx\",(($AW18*$X$6)),IF(BA17>0,(AW18*$W$6),(AW18*$W$6)+BA17))","v":{"$error":"#VALUE!"}},{"$f":"SUMIF($AI$41:$AI$60,\"=\"&AV18,$AF$41:$AF$60)","v":0},{"$f":"SUMIF($AI$41:$AI$60,\"=\"&AV18,$AH$41:$AH$60)","v":0},{"$f":"MIN(AY18,AZ18)","v":0},{"$f":"IF($Y$6<0.1,0,AX18*$Y$6)","v":0},{"$f":"VLOOKUP(AV18,BH17:BI37,2,FALSE)","v":{"$error":"#N/A"}},null,{"$f":"C42","v":0},{"$f":"IF(YEAR(AB42)<2000,\"\",YEAR(AB42))","v":""}]
["f1861a34-a72f-4433-b8a4-ba83ebef5376",null,null,3,null,null,null,null,"",null,null,null,0,null,0,null,null,0,null,0,0,null,"",null,null,{"$f":"IFERROR(AE19/$AC$38,\"\")","v":""},null,"ECM3",null,null,0,0,0,0,0,null,null,3,{"$f":"SUMPRODUCT(($C$17:$C$36=AL19)*ROUND($L$17:$L$36,0))+SUMPRODUCT(($C$17:$C$36=AL19)*ROUND($Q$17:$Q$36,0))","v":0},0,{"$f":"($AM19*$X$7)+($AN19*'Measure Recommendation'!$Y$7)","v":0},0,{"$f":"IF(SUM($AM$17:$AM$18)>$L$4,0,IF(SUM($AM$17:$AM$19)<$L$4,$AM$19*$W$5,IF(AM19>(L4-(AM18+AM17)),(($L$4-($AM$17+AM18))*$W$5),(AM19*W5-(AQ18+AQ17)))))","v":0},{"$f":"SUMIF($C$17:$C$36,\"=\"&AL19,$M$17:$M$36)+SUMIF($C$17:$C$36,\"=\"&AL19,$R$17:$R$36)","v":0},0,{"$f":"MIN(AO19,AP19)","v":0},null,3,{"$f":"SUMPRODUCT(($C$41:$C$60=AV19)*ROUND($L$41:$L$60,0))+SUMPRODUCT(($C$41:$C$60=AV19)*ROUND($Q$41:$Q$60,0))","v":0},0,{"$f":"IFERROR(IF(BF19<2025,AW19*$BA$49+AX19*$BA$50,($AW19*$X$7)+($AX19*'Measure Recommendation'!$Y$7)),0)","v":0},0,{"$f":"IF($AM$10=\"MBCx\",(($AW19*$X$6)),IF(BA18>0,(AW19*$W$6),(AW19*$W$6)+BA18))","v":{"$error":"#VALUE!"}},{"$f":"SUMIF($AI$41:$AI$60,\"=\"&AV19,$AF$41:$AF$60)","v":0},0,0,0,{"$error":"#N/A"},null,0,""]
["a04118e3-f5c6-45ed-895e-84252b7f1079",null,null,4,null,null,null,null,"",null,null,null,0,null,0,null,null,0,null,0,0,null,"",null,null,"",null,"ECM4",null,null,0,0,0,0,0,null,null,4,{"$f":"SUMPRODUCT(($C$17:$C$36=AL20)*ROUND($L$17:$L$36,0))+SUMPRODUCT(($C$17:$C$36=AL20)*ROUND($Q$17:$Q$36,0))","v":0},0,{"$f":"($AM20*$X$7)+($AN20*'Measure Recommendation'!$Y$7)","v":0},0,{"$f":"IF(OR($AM$17>$L$4,SUM($AM$17:$AM$19)>$L$4),0,IF(SUM($AM$17:$AM$20)<$L$4,$AM$20*$W$5,SUM($AM$17:$AM$20)*$W$5-SUM(AM17:AM19)*$W$5))","v":0},0,0,0,null,4,{"$f":"SUMPRODUCT(($C$41:$C$60=AV20)*ROUND($L$41:$L$60,0))+SUMPRODUCT(($C$41:$C$60=AV20)*ROUND($Q$41:$Q$60,0))","v":0},0,{"$f":"IFERROR(IF(BF20<2025,AW20*$BA$49+AX20*$BA$50,($AW20*$X$7)+($AX20*'Measure Recommendation'!$Y$7)),0)","v":0},0,{"$f":"IF($AM$10=\"MBCx\",(($AW20*$X$6)),IF(BA19>0,(AW20*$W$6),(AW20*$W$6)+BA19))","v":{"$error":"#VALUE!"}},0,0,0,0,{"$error":"#N/A"},null,0,""]
["4c15a514-deca-4008-83ce-f0728b208662",null,null,5,null,null,null,null,"",null,null,null,0,null,0,null,null,0,null,0,0,null,"",null,null,"",null,"ECM5",null,null,0,0,0,0,0,null,null,5,{"$f":"SUMPRODUCT(($C$17:$C$36=AL21)*ROUND($L$17:$L$36,0))+SUMPRODUCT(($C$17:$C$36=AL21)*ROUND($Q$17:$Q$36,0))","v":0},0,{"$f":"($AM21*$X$7)+($AN21*'Measure Recommendation'!$Y$7)","v":0},0,0,0,0,0,null,5,{"$f":"SUMPRODUCT(($C$41:$C$60=AV21)*ROUND($L$41:$L$60,0))+SUMPRODUCT(($C$41:$C$60=AV21)*ROUND($Q$41:$Q$60,0))","v":0},0,{"$f":"IFERROR(IF(BF21<2025,AW21*$BA$49+AX21*$BA$50,($AW21*$X$7)+($AX21*'Measure Recommendation'!$Y$7)),0)","v":0},0,{"$f":"IF($AM$10=\"MBCx\",(($AW21*$X$6)),IF(BA20>0,(AW21*$W$6),(AW21*$W$6)+BA20))","v":{"$error":"#VALUE!"}},0,0,0,0,{"$error":"#N/A"},null,0,""]
["7937313a-d6e9-470a-97bc-52a57d60a532",null,null,6,null,null,null,null,"",null,null,null,0,null,0,null,null,0,null,0,0,null,"",null,null,"",null,"ECM6",null,null,0,0,0,0,0,null,null,6,{"$f":"SUMPRODUCT(($C$17:$C$36=AL22)*ROUND($L$17:$L$36,0))+SUMPRODUCT(($C$17:$C$36=AL22)*ROUND($Q$17:$Q$36,0))","v":0},0,{"$f":"($AM22*$X$7)+($AN22*'Measure Recommendation'!$Y$7)","v":0},0,0,0,0,0,null,6,{"$f":"SUMPRODUCT(($C$41:$C$60=AV22)*ROUND($L$41:$L$60,0))+SUMPRODUCT(($C$41:$C$60=AV22)*ROUND($Q$41:$Q$60,0))","v":0},0,{"$f":"IFERROR(IF(BF22<2025,AW22*$BA$49+AX22*$BA$50,($AW22*$X$7)+($AX22*'Measure Recommendation'!$Y$7)),0)","v":0},0,{"$f":"IF($AM$10=\"MBCx\",(($AW22*$X$6)),(($AW22*$W$6)))","v":0},0,0,0,0,{"$error":"#N/A"},null,0,""]
["a0e491a9-2f78-48fe-88cd-99e70c4ee8af",null,null,7,null,null,null,null,"",null,null,null,0,null,0,null,null,0,null,0,0,null,"",null,null,"",null,"ECM7",null,null,0,0,0,0,0,null,null,7,{"$f":"SUMPRODUCT(($C$17:$C$36=AL23)*ROUND($L$17:$L$36,0))+SUMPRODUCT(($C$17:$C$36=AL23)*ROUND($Q$17:$Q$36,0))","v":0},0,{"$f":"($AM23*$X$7)+($AN23*'Measure Recommendation'!$Y$7)","v":0},0,0,0,0,0,null,7,{"$f":"SUMPRODUCT(($C$41:$C$60=AV23)*ROUND($L$41:$L$60,0))+SUMPRODUCT(($C$41:$C$60=AV23)*ROUND($Q$41:$Q$60,0))","v":0},0,{"$f":"IFERROR(IF(BF23<2025,AW23*$BA$49+AX23*$BA$50,($AW23*$X$7)+($AX23*'Measure Recommendation'!$Y$7)),0)","v":0},0,{"$f":"IF($AM$10=\"MBCx\",(($AW23*$X$6)),(($AW23*$W$6)))","v":0},0,0,0,0,{"$error":"#N/A"},null,0,""]
["7a7c39d6-690f-4871-b76b-b424e08f6b66",null,null,8,null,null,null,null,{"$f":"IF(F24=\"\",\"\",IF(F24=\"Other\",H24,IF(H24=\"\",F24,F24&\": \"&H24)))","v":""},null,null,null,0,null,0,null,null,0,null,0,0,null,"",null,null,"",null,"ECM8",null,null,0,0,0,0,0,null,null,8,{"$f":"SUMPRODUCT(($C$17:$C$36=AL24)*ROUND($L$17:$L$36,0))+SUMPRODUCT(($C$17:$C$36=AL24)*ROUND($Q$17:$Q$36,0))","v":0},0,{"$f":"($AM24*$X$7)+($AN24*'Measure Recommendation'!$Y$7)","v":0},0,0,0,0,0,null,8,{"$f":"SUMPRODUCT(($C$41:$C$60=AV24)*ROUND($L$41:$L$60,0))+SUMPRODUCT(($C$41:$C$60=AV24)*ROUND($Q$41:$Q$60,0))","v":0},0,{"$f":"IFERROR(IF(BF24<2025,AW24*$BA$49+AX24*$BA$50,($AW24*$X$7)+($AX24*'Measure Recommendation'!$Y$7)),0)","v":0},0,0,0,0,0,0,{"$error":"#N/A"},null,0,""]
["8ff6e7e9-312a-46b6-aec5-fb68bd7603d1",null,null,9,null,null,null,null,"",null,null,null,0,null,0,null,null,0,null,0,0,null,"",null,null,{"$f":"IFERROR(AE25/$AC$38,\"\")","v":""},null,"ECM9",null,null,0,0,0,0,0,null,null,9,{"$f":"SUMPRODUCT(($C$17:$C$36=AL25)*ROUND($L$17:$L$36,0))+SUMPRODUCT(($C$17:$C$36=AL25)*ROUND($Q$17:$Q$36,0))","v":0},0,{"$f":"($AM25*$X$7)+($AN25*'Measure Recommendation'!$Y$7)","v":0},0,0,0,0,0,null,9,{"$f":"SUMPRODUCT(($C$41:$C$60=AV25)*ROUND($L$41:$L$60,0))+SUMPRODUCT(($C$41:$C$60=AV25)*ROUND($Q$41:$Q$60,0))","v":0},0,{"$f":"IFERROR(IF(BF25<2025,AW25*$BA$49+AX25*$BA$50,($AW25*$X$7)+($AX25*'Measure Recommendation'!$Y$7)),0)","v":0},0,0,0,0,0,0,{"$error":"#N/A"},null,0,""]
["87400494-8d03-4816-84da-f957b200843c",null,null,10,null,null,null,null,"",null,null,null,0,null,0,null,null,0,null,0,0,null,"",null,null,"",null,"ECM10",null,null,0,0,0,0,0,null,null,10,{"$f":"SUMPRODUCT(($C$17:$C$36=AL26)*ROUND($L$17:$L$36,0))+SUMPRODUCT(($C$17:$C$36=AL26)*ROUND($Q$17:$Q$36,0))","v":0},0,{"$f":"($AM26*$X$7)+($AN26*'Measure Recommendation'!$Y$7)","v":0},0,0,0,0,0,null,10,{"$f":"SUMPRODUCT(($C$41:$C$60=AV26)*ROUND($L$41:$L$60,0))+SUMPRODUCT(($C$41:$C$60=AV26)*ROUND($Q$41:$Q$60,0))","v":0},0,{"$f":"IFERROR(IF(BF26<2025,AW26*$BA$49+AX26*$BA$50,($AW26*$X$7)+($AX26*'Measure Recommendation'!$Y$7)),0)","v":0},0,0,0,0,0,0,{"$error":"#N/A"},null,0,""]
["a3d4ac9f-47f8-43aa-a4bb-de0a06403c88",null,null,11,null,null,null,null,"",null,null,null,0,null,0,null,null,0,null,0,0,null,"",null,null,"",null,"ECM11",null,null,0,0,0,0,0,null,null,11,{"$f":"SUMPRODUCT(($C$17:$C$36=AL27)*ROUND($L$17:$L$36,0))+SUMPRODUCT(($C$17:$C$36=AL27)*ROUND($Q$17:$Q$36,0))","v":0},0,{"$f":"($AM27*$X$7)+($AN27*'Measure Recommendation'!$Y$7)","v":0},0,0,0,0,0,null,11,{"$f":"SUMPRODUCT(($C$41:$C$60=AV27)*ROUND($L$41:$L$60,0))+SUMPRODUCT(($C$41:$C$60=AV27)*ROUND($Q$41:$Q$60,0))","v":0},0,{"$f":"IFERROR(IF(BF27<2025,AW27*$BA$49+AX27*$BA$50,($AW27*$X$7)+($AX27*'Measure Recommendation'!$Y$7)),0)","v":0},0,0,0,0,0,0,{"$error":"#N/A"},null,0,""]
["b767adca-f236-4d71-9981-033070ff4045",null,null,12,null,null,null,null,"",null,null,null,0,null,0,null,null,0,null,0,0,null,"",null,null,"",null,"ECM12",null,null,0,0,0,0,0,null,null,12,{"$f":"SUMPRODUCT(($C$17:$C$36=AL28)*ROUND($L$17:$L$36,0))+SUMPRODUCT(($C$17:$C$36=AL28)*ROUND($Q$17:$Q$36,0))","v":0},0,{"$f":"($AM28*$X$7)+($AN28*'Measure Recommendation'!$Y$7)","v":0},0,0,0,0,0,null,12,{"$f":"SUMPRODUCT(($C$41:$C$60=AV28)*ROUND($L$41:$L$60,0))+SUMPRODUCT(($C$41:$C$60=AV28)*ROUND($Q$41:$Q$60,0))","v":0},0,{"$f":"IFERROR(IF(BF28<2025,AW28*$BA$49+AX28*$BA$50,($AW28*$X$7)+($AX28*'Measure Recommendation'!$Y$7)),0)","v":0},0,0,0,0,0,0,{"$error":"#N/A"},null,0,""]
["0f486c0e-beff-4773-995b-a387a9a975c0",null,null,13,null,null,null,null,"",null,null,null,0,null,0,null,null,0,null,0,0,null,"",null,null,"",null,"ECM13",null,null,0,0,0,0,0,null,null,13,{"$f":"SUMPRODUCT(($C$17:$C$36=AL29)*ROUND($L$17:$L$36,0))+SUMPRODUCT(($C$17:$C$36=AL29)*ROUND($Q$17:$Q$36,0))","v":0},0,{"$f":"($AM29*$X$7)+($AN29*'Measure Recommendation'!$Y$7)","v":0},0,0,0,0,0,null,13,{"$f":"SUMPRODUCT(($C$41:$C$60=AV29)*ROUND($L$41:$L$60,0))+SUMPRODUCT(($C$41:$C$60=AV29)*ROUND($Q$41:$Q$60,0))","v":0},0,{"$f":"IFERROR(IF(BF29<2025,AW29*$BA$49+AX29*$BA$50,($AW29*$X$7)+($AX29*'Measure Recommendation'!$Y$7)),0)","v":0},0,0,0,0,0,0,{"$error":"#N/A"},null,0,""]
["d2e125b1-8523-413d-b365-b12f295e5357",null,null,14,null,null,null,null,{"$f":"IF(F30=\"\",\"\",IF(F30=\"Other\",H30,IF(H30=\"\",F30,F30&\": \"&H30)))","v":""},null,null,null,0,null,0,null,null,0,null,0,0,null,"",null,null,"",null,"ECM14",null,null,0,0,0,0,0,null,null,14,{"$f":"SUMPRODUCT(($C$17:$C$36=AL30)*ROUND($L$17:$L$36,0))+SUMPRODUCT(($C$17:$C$36=AL30)*ROUND($Q$17:$Q$36,0))","v":0},{"$f":"SUMIF($C$17:$C$36,\"=\"&AL30,$N$17:$N$36)+SUMIF($C$17:$C$36,\"=\"&AL30,$T$17:$T$36)","v":0},{"$f":"($AM30*$X$7)+($AN30*'Measure Recommendation'!$Y$7)","v":0},0,0,0,0,0,null,14,{"$f":"SUMPRODUCT(($C$41:$C$60=AV30)*ROUND($L$41:$L$60,0))+SUMPRODUCT(($C$41:$C$60=AV30)*ROUND($Q$41:$Q$60,0))","v":0},0,{"$f":"IFERROR(IF(BF30<2025,AW30*$BA$49+AX30*$BA$50,($AW30*$X$7)+($AX30*'Measure Recommendation'!$Y$7)),0)","v":0},0,0,0,0,0,0,{"$error":"#N/A"},null,0,""]
["cc9fb613-8191-4a54-abdb-91f2ee3581de",null,null,15,null,null,null,null,"",null,null,null,0,null,0,null,null,0,null,0,0,null,"",null,null,"",null,"ECM15",null,null,0,0,0,0,0,null,null,15,{"$f":"SUMPRODUCT(($C$17:$C$36=AL31)*ROUND($L$17:$L$36,0))+SUMPRODUCT(($C$17:$C$36=AL31)*ROUND($Q$17:$Q$36,0))","v":0},0,{"$f":"($AM31*$X$7)+($AN31*'Measure Recommendation'!$Y$7)","v":0},0,0,0,0,0,null,15,{"$f":"SUMPRODUCT(($C$41:$C$60=AV31)*ROUND($L$41:$L$60,0))+SUMPRODUCT(($C$41:$C$60=AV31)*ROUND($Q$41:$Q$60,0))","v":0},0,{"$f":"IFERROR(IF(BF31<2025,AW31*$BA$49+AX31*$BA$50,($AW31*$X$7)+($AX31*'Measure Recommendation'!$Y$7)),0)","v":0},0,0,0,0,0,0,{"$error":"#N/A"},null,0,""]
["21c94130-41e9-4a74-b591-200e01d978cb",null,null,16,null,null,null,null,"",null,null,null,0,null,0,null,null,0,null,0,0,null,"",null,null,"",null,"ECM16",null,null,0,0,0,0,0,null,null,16,{"$f":"SUMPRODUCT(($C$17:$C$36=AL32)*ROUND($L$17:$L$36,0))+SUMPRODUCT(($C$17:$C$36=AL32)*ROUND($Q$17:$Q$36,0))","v":0},0,{"$f":"($AM32*$X$7)+($AN32*'Measure Recommendation'!$Y$7)","v":0},{"$f":"SUMIF($C$17:$C$36,\"=\"&AL32,$V$17:$V$36)","v":0},0,{"$f":"SUMIF($C$17:$C$36,\"=\"&AL32,$M$17:$M$36)+SUMIF($C$17:$C$36,\"=\"&AL32,$R$17:$R$36)","v":0},{"$f":"SUMIF($AI$17:$AI$36,\"=\"&AL32,$AH$17:$AH$36)","v":0},{"$f":"MIN(AO32,AP32)","v":0},null,16,{"$f":"SUMPRODUCT(($C$41:$C$60=AV32)*ROUND($L$41:$L$60,0))+SUMPRODUCT(($C$41:$C$60=AV32)*ROUND($Q$41:$Q$60,0))","v":0},0,{"$f":"IFERROR(IF(BF32<2025,AW32*$BA$49+AX32*$BA$50,($AW32*$X$7)+($AX32*'Measure Recommendation'!$Y$7)),0)","v":0},{"$f":"SUMIF($C$41:$C$60,\"=\"&AV32,$V$41:$V$60)","v":0},0,{"$f":"SUMIF($AI$41:$AI$60,\"=\"&AV32,$AF$41:$AF$60)","v":0},{"$f":"SUMIF($AI$41:$AI$60,\"=\"&AV32,$AH$41:$AH$60)","v":0},{"$f":"MIN(AY32,AZ32)","v":0},0,{"$error":"#N/A"},null,0,""]
["cf3e1117-911d-4e50-a549-29793cbf43fc",null,null,17,null,null,null,null,"",null,null,null,0,null,0,null,null,0,null,0,0,null,"",null,null,"",null,"ECM17",null,null,0,0,0,0,0,null,null,17,{"$f":"SUMPRODUCT(($C$17:$C$36=AL33)*ROUND($L$17:$L$36,0))+SUMPRODUCT(($C$17:$C$36=AL33)*ROUND($Q$17:$Q$36,0))","v":0},{"$f":"SUMIF($C$17:$C$36,\"=\"&AL33,$N$17:$N$36)+SUMIF($C$17:$C$36,\"=\"&AL33,$T$17:$T$36)","v":0},{"$f":"($AM33*$X$7)+($AN33*'Measure Recommendation'!$Y$7)","v":0},0,0,0,0,0,null,17,{"$f":"SUMPRODUCT(($C$41:$C$60=AV33)*ROUND($L$41:$L$60,0))+SUMPRODUCT(($C$41:$C$60=AV33)*ROUND($Q$41:$Q$60,0))","v":0},0,{"$f":"IFERROR(IF(BF33<2025,AW33*$BA$49+AX33*$BA$50,($AW33*$X$7)+($AX33*'Measure Recommendation'!$Y$7)),0)","v":0},0,0,0,0,0,0,{"$error":"#N/A"},null,0,""]
["1d4e30c0-b9b6-46a3-87d1-1a2c57f49b3f",null,null,18,null,null,null,null,{"$f":"IF(F34=\"\",\"\",IF(F34=\"Other\",H34,IF(H34=\"\",F34,F34&\": \"&H34)))","v":""},null,null,null,0,null,0,null,null,0,null,0,0,null,"",null,null,"",null,"ECM18",null,null,0,0,0,0,0,null,null,18,{"$f":"SUMPRODUCT(($C$17:$C$36=AL34)*ROUND($L$17:$L$36,0))+SUMPRODUCT(($C$17:$C$36=AL34)*ROUND($Q$17:$Q$36,0))","v":0},0,{"$f":"($AM34*$X$7)+($AN34*'Measure Recommendation'!$Y$7)","v":0},0,0,0,0,0,null,18,{"$f":"SUMPRODUCT(($C$41:$C$60=AV34)*ROUND($L$41:$L$60,0))+SUMPRODUCT(($C$41:$C$60=AV34)*ROUND($Q$41:$Q$60,0))","v":0},0,{"$f":"IFERROR(IF(BF34<2025,AW34*$BA$49+AX34*$BA$50,($AW34*$X$7)+($AX34*'Measure Recommendation'!$Y$7)),0)","v":0},0,0,0,0,0,0,{"$error":"#N/A"},null,0,""]
["f196f93e-213a-49ef-a590-347d9479721d",null,null,19,null,null,null,null,"",null,null,null,0,null,0,null,null,0,null,0,0,null,"",null,null,"",null,"ECM19",null,null,0,0,0,0,0,null,null,19,{"$f":"SUMPRODUCT(($C$17:$C$36=AL35)*ROUND($L$17:$L$36,0))+SUMPRODUCT(($C$17:$C$36=AL35)*ROUND($Q$17:$Q$36,0))","v":0},0,{"$f":"($AM35*$X$7)+($AN35*'Measure Recommendation'!$Y$7)","v":0},0,0,0,0,0,null,19,{"$f":"SUMPRODUCT(($C$41:$C$60=AV35)*ROUND($L$41:$L$60,0))+SUMPRODUCT(($C$41:$C$60=AV35)*ROUND($Q$41:$Q$60,0))","v":0},0,{"$f":"IFERROR(IF(BF35<2025,AW35*$BA$49+AX35*$BA$50,($AW35*$X$7)+($AX35*'Measure Recommendation'!$Y$7)),0)","v":0},0,0,0,0,0,0,{"$error":"#N/A"},null,0,""]
["86c2c6be-0605-4f46-b317-a884e663e564",null,null,20,null,null,null,null,"",null,null,null,0,null,0,null,null,0,null,0,0,null,"",null,null,"",null,"ECM20",null,null,0,0,0,0,0,null,null,20,{"$f":"SUMPRODUCT(($C$17:$C$36=AL36)*ROUND($L$17:$L$36,0))+SUMPRODUCT(($C$17:$C$36=AL36)*ROUND($Q$17:$Q$36,0))","v":0},0,{"$f":"($AM36*$X$7)+($AN36*'Measure Recommendation'!$Y$7)","v":0},0,0,0,0,0,null,20,{"$f":"SUMPRODUCT(($C$41:$C$60=AV36)*ROUND($L$41:$L$60,0))+SUMPRODUCT(($C$41:$C$60=AV36)*ROUND($Q$41:$Q$60,0))","v":0},0,{"$f":"IFERROR(IF(BF36<2025,AW36*$BA$49+AX36*$BA$50,($AW36*$X$7)+($AX36*'Measure Recommendation'!$Y$7)),0)","v":0},0,0,0,0,0,0,{"$error":"#N/A"},null,0,""]
[null,null,null,null,null,null,null,null,"Total Identified Measures",null,{"$f":"IF(SUM(K17:K36)=0,0,SUM(K17:K36))","v":0},{"$f":"SUM(L17:L36)","v":0},{"$f":"IF(L37=0,0,L37*$F$5)","v":0},{"$f":"IF(SUM(N17:N36)=0,0,SUM(N17:N36))","v":0},{"$f":"IF(N37=0,0,N37*$F$7)","v":0},{"$f":"IF(SUM(P17:P36)=0,0,SUM(P17:P36))","v":0},{"$f":"IF(SUM(Q17:Q36)=0,0,SUM(Q17:Q36))","v":0},{"$f":"SUM(R17:R36)","v":0},{"$f":"IF(SUM(S17:S36)=0,0,SUM(S17:S36))","v":0},{"$f":"IF(SUM(T17:T36)=0,0,SUM(T17:T36))","v":0},{"$f":"IF(S37=0,0,T37*$F$11)","v":0},{"$f":"IF(SUM(V17:V36)=0,0,SUM(V17:V36))","v":0},{"$f":"IF(I17=\"\",\"\",IF(V37/(M37+O37+R37+U37)<=0.1,\"Immediate\",V37/(M37+O37+R37+U37)))","v":""},null,null,{"$f":"IFERROR((L37+Q37)/AC38,\"\")","v":""},null,null,null,null,{"$f":"IF(SUM(AE17:AE36)=0,0,SUM(AE17:AE36))","v":0},0,0,0,null,null,null,21,{"$f":"SUMPRODUCT(($C$17:$C$36=AL37)*ROUND($L$17:$L$36,0))+SUMPRODUCT(($C$17:$C$36=AL37)*ROUND($Q$17:$Q$36,0))","v":0},0,{"$f":"($AM37*$X$7)+($AN37*'Measure Recommendation'!$Y$7)","v":0},0,0,0,0,0,null,21,{"$f":"SUMPRODUCT(($C$41:$C$60=AV37)*ROUND($L$41:$L$60,0))+SUMPRODUCT(($C$41:$C$60=AV37)*ROUND($Q$41:$Q$60,0))","v":0},0,{"$f":"IFERROR(IF(BF37<2025,AW37*$BA$49+AX37*$BA$50,($AW37*$X$7)+($AX37*'Measure Recommendation'!$Y$7)),0)","v":0},0,0,0,0,0,0,{"$error":"#N/A"}]
[null,null,null,null,null,"\nCopy INV to VER Click to copy ECM data from the Investigation to Verification table\n\n\n\nErase VER Click to erase ECM data from Verification table\n",null,null,null,null,null,null,null,null,null,null,null,null,null,null,null,null,null,null,null,null,null,null,{"$f":"'Contact & Facility Information'!C78","v":""},null,null,null,null,null,null,null,null,"Total",{"$f":"SUM(AM17:AM37)","v":0},{"$f":"SUM(AN17:AN37)","v":0},0,0,0,0,0,0,null,"Total",{"$f":"SUM(AW17:AW37)","v":0},{"$f":"SUM(AX17:AX37)","v":0},0,0,{"$error":"#VALUE!"},0,0,0,0]
[null,"Verification","Energy Conservation Measure (ECM) Description",null,null,null,null,null,null,null,"Electric",null,null,"Natural Gas",null,"District Chilled Water",null,null,"District Steam",null,null,"Cost Analysis",null,"Status",null,null,"Notes"]
[null,null,"Bundle #","ECM #","Standard Measure Type","Standard Measure Name ",null,"Standard Measure Name Modifier","Measure Description","Interaction Factor\nEx. \"1,2,4\"","ComEd Peak Demand Savings \n(kW)","Electrical Energy Savings (kWh/year)","Electrical Cost Savings \n($/year)","Natural Gas Energy Savings (therms/year)","Natural Gas Cost Savings \n($/year)","District Chilled Water Energy Savings \n(ton-hrs/year)","District Chilled Water Equivalent Electric Energy Savings \n(kWh/year)","District Chilled Water Cost Savings \n($/year)",{"$f":"\"District Steam Energy Savings \"&F13","v":"District Steam Energy Savings "},"District Steam Equivalent Natural Gas Energy Savings \n(therms/year)","District Steam Cost Savings \n($/year)","Measure Implementation Cost\n($)","Simple Payback Without Incentives (years)","Verified","Implementation Start Date","Implementation End Date","Standard Calculator Used","Measure Verification Approval Date","Savings as % of Annual Electric Energy Usage",null,"Electrical Energy Savings (kWh/year)","Electrical Cost Savings \n($/year)","Natural Gas Energy Savings (therms/year)","Natural Gas Cost Savings \n($/year)","Bundle #","VER Date Flag",null,null,null,null,null,null,null,null,null,null,null,null,null,null,null,"Total Project Payback\n(Investigation)","Amount ($)",null,null,"Total Project Payback\n(Verification)","Amount ($)"]
[{"$f":"A17","v":"58f0a7d7-b373-4170-9ac6-6cc1860756a5"},null,null,1,null,null,null,null,{"$f":"IF(F41=\"\",\"\",IF(F41=\"Other\",H41,IF(H41=\"\",F41,F41&\": \"&H41)))","v":""},null,null,null,{"$f":"IFERROR(ROUND(IF(L41=0,0,L41*$F$5),0),0)","v":0},null,{"$f":"ROUND(IF(N41=0,0,N41*$F$7),0)","v":0},null,null,{"$f":"ROUND(IF(AND(P41=0,Q41=0),0,IF($F$12=0,Q41*$F$5,P41*$F$12)),0)","v":0},null,{"$f":"ROUND(IF(S41=0,0,IF(S41=\"\",0,IF($F$13=\"(MMBTU/yr)\",S41*10,IF($F$13=\"(therms/yr)\",S41,IF($F$13=\"(1000 lbs/yr)\",S41*11.3,\"select units in cell F12\"))))),0)","v":0},{"$f":"ROUND(IF(S41=0,0,T41*$F$11),0)","v":0},null,{"$f":"IFERROR(IF(I41=\"\",\"\",IF(V41/(M41+O41+R41+U41)<=0.1,\"Immediate\",ROUND(V41/(M41+O41+R41+U41),1))),0)","v":""},null,null,null,null,null,{"$f":"IFERROR(AE41/$AC$38,\"\")","v":""},"ECM1",{"$f":"L41+Q41","v":0},{"$f":"M41+R41","v":0},{"$f":"N41+T41","v":0},{"$f":"O41+U41","v":0},{"$f":"C41","v":0},{"$f":"IF(AND(X41=\"Yes\", OR(AB41=0,AB41=\"\")),1,0)","v":0},"Bundle #",{"$f":"Instructions!$F$5","v":0},"Electric Energy Savings (kWh)","Gas Energy Savings (Therms)","Incentives","Cost Cap","SP Fee","Electric Cost Savings","Gas Cost Savings","Total Cost Savings","Incentive Paid","SP (Gas) Fee",null,null,null,"Imp Cost - Incentives",{"$f":"$AP$38-$AT$38","v":0},null,null,"Imp Cost - Incentives",{"$f":"$AZ$38-$BD$38","v":0}]
["9091125c-5ed1-492f-9f5e-c88b0b22be43",null,null,2,null,null,null,null,{"$f":"IF(F42=\"\",\"\",IF(F42=\"Other\",H42,IF(H42=\"\",F42,F42&\": \"&H42)))","v":""},null,null,null,0,null,0,null,null,0,null,{"$f":"ROUND(IF(S42=0,0,IF(S42=\"\",0,IF($F$13=\"(MMBTU/yr)\",S42*10,IF($F$13=\"(therms/yr)\",S42,IF($F$13=\"(1000 lbs/yr)\",S42*11.3,\"select units in cell F12\"))))),0)","v":0},0,null,{"$f":"IFERROR(IF(I42=\"\",\"\",IF(V42/(M42+O42+R42+U42)<=0.1,\"Immediate\",ROUND(V42/(M42+O42+R42+U42),1))),0)","v":""},null,null,null,null,null,{"$f":"IFERROR(AE42/$AC$38,\"\")","v":""},"ECM2",{"$f":"L42+Q42","v":0},{"$f":"M42+R42","v":0},{"$f":"N42+T42","v":0},{"$f":"O42+U42","v":0},{"$f":"C42","v":0},{"$f":"IF(AND(X42=\"Yes\", OR(AB42=0,AB42=\"\")),1,0)","v":0},null,"Investigation",{"$f":"VLOOKUP($AL$41,$AL$17:$AP$38,2,FALSE)","v":{"$error":"#N/A"}},{"$f":"VLOOKUP($AL$41,$AL$17:$AP$38,3,FALSE)","v":{"$error":"#N/A"}},{"$f":"VLOOKUP($AL$41,$AL$17:$AP$38,4,FALSE)","v":{"$error":"#N/A"}},{"$f":"VLOOKUP($AL$41,$AL$17:$AP$38,5,FALSE)","v":{"$error":"#N/A"}},{"$f":"VLOOKUP(AL41,$AL$17:$AQ$38,6,FALSE)","v":{"$error":"#N/A"}},{"$f":"VLOOKUP($AL$41,$AL$17:$AS$38,7,FALSE)","v":{"$error":"#N/A"}},{"$f":"VLOOKUP($AL$41,$AL$17:$AS$38,8,FALSE)","v":{"$error":"#N/A"}},{"$f":"SUM(AR42,AS42)","v":{"$error":"#N/A"}},{"$f":"MIN(AO42,AP42)","v":{"$error":"#N/A"}},null,null,null,null,"Total Cost Savings",{"$f":"$AR$38+$AS$38","v":0},null,null,"Total Cost Savings",{"$f":"$BB$38+$BC$38","v":0}]
["f1861a34-a72f-4433-b8a4-ba83ebef5376",null,null,3,null,null,null,null,"",null,null,null,0,null,0,null,null,0,null,0,0,null,"",null,null,null,null,null,"","ECM3",0,0,0,0,0,0,null,"Verification",{"$f":"VLOOKUP($AL$41,$AV$17:$AZ$38,2,FALSE)","v":{"$error":"#N/A"}},{"$f":"VLOOKUP($AL$41,$AV$17:$AZ$38,3,FALSE)","v":{"$error":"#N/A"}},{"$f":"VLOOKUP($AL$41,$AV$17:$AZ$38,4,FALSE)","v":{"$error":"#N/A"}},{"$f":"VLOOKUP($AL$41,$AV$17:$AZ$38,5,FALSE)","v":{"$error":"#N/A"}},{"$f":"VLOOKUP(AL41,$AV$17:$BA$38,6,FALSE)","v":{"$error":"#N/A"}},{"$f":"VLOOKUP($AL$41,$AV$17:$BC$38,7,FALSE)","v":{"$error":"#N/A"}},{"$f":"VLOOKUP($AL$41,$AV$17:$BC$38,8,FALSE)","v":{"$error":"#N/A"}},{"$f":"SUM(AR43,AS43)","v":{"$error":"#N/A"}},{"$f":"MIN(AO43,AP43)","v":{"$error":"#N/A"}},{"$f":"VLOOKUP(AL41,$AV$17:$BE$38,10,FALSE)","v":{"$error":"#N/A"}},null,null,null,"Total Payback",{"$f":"$BA$41/$BA$42","v":{"$error":"#DIV/0!"}},"Years",null,"Total Payback",{"$f":"$BE$41/$BE$42","v":{"$error":"#DIV/0!"}},"Years"]
["a04118e3-f5c6-45ed-895e-84252b7f1079",null,null,4,null,null,null,null,"",null,null,null,0,null,0,null,null,0,null,0,0,null,"",null,null,null,null,null,"","ECM4",0,0,0,0,0,0]
["4c15a514-deca-4008-83ce-f0728b208662",null,null,5,null,null,null,null,"",null,null,null,0,null,0,null,null,0,null,0,0,null,"",null,null,null,null,null,"","ECM5",{"$f":"L45+Q45","v":0},0,0,0,0,0]
["7937313a-d6e9-470a-97bc-52a57d60a532",null,null,6,null,null,null,null,"",null,null,null,0,null,0,null,null,0,null,0,0,null,"",null,null,null,null,null,"","ECM6",0,0,0,0,0,0]
["a0e491a9-2f78-48fe-88cd-99e70c4ee8af",null,null,7,null,null,null,null,"",null,null,null,0,null,0,null,null,0,null,0,0,null,"",null,null,null,null,null,"","ECM7",0,0,0,0,0,0]
["7a7c39d6-690f-4871-b76b-b424e08f6b66",null,null,8,null,null,null,null,"",null,null,null,0,null,0,null,null,0,null,0,0,null,"",null,null,null,null,null,"","ECM8",0,0,0,0,0,0,null,null,null,null,null,null,null,null,null,null,null,null,null,null,null,"Incentive Structure Prior to 2025"]
["8ff6e7e9-312a-46b6-aec5-fb68bd7603d1",null,null,9,null,null,null,null,"",null,null,null,0,null,0,null,null,0,null,0,0,null,"",null,null,null,null,null,"","ECM9",0,0,0,0,0,0,null,null,null,null,null,null,null,null,null,null,null,null,null,null,null,"Electric",0.03,"$/kWh"]
["87400494-8d03-4816-84da-f957b200843c",null,null,10,null,null,null,null,"",null,null,null,0,null,0,null,null,0,null,0,0,null,"",null,null,null,null,null,"","ECM10",0,0,0,0,0,0,null,null,null,null,null,null,null,null,null,null,null,null,null,null,null,"Gas",{"$f":"IF(OR(AM9=\"\",AM9=\"Nicor Gas\"),0,0.15)","v":0},"$/Therm"]
["a3d4ac9f-47f8-43aa-a4bb-de0a06403c88",null,null,11,null,null,null,null,"",null,null,null,0,null,0,null,null,0,null,0,0,null,"",null,null,null,null,null,"","ECM11",0,0,0,0,0,0]
["b767adca-f236-4d71-9981-033070ff4045",null,null,12,null,null,null,null,"",null,null,null,0,null,0,null,null,0,null,0,0,null,"",null,null,null,null,null,"","ECM12",0,0,0,0,0,0]
["0f486c0e-beff-4773-995b-a387a9a975c0",null,null,13,null,null,null,null,"",null,null,null,0,null,0,null,null,0,null,0,0,null,"",null,null,null,null,null,"","ECM13",0,0,0,0,0,0]
["d2e125b1-8523-413d-b365-b12f295e5357",null,null,14,null,null,null,null,"",null,null,null,0,null,0,null,null,0,null,0,0,null,"",null,null,null,null,null,"","ECM14",0,0,0,0,0,0]
["cc9fb613-8191-4a54-abdb-91f2ee3581de",null,null,15,null,null,null,null,"",null,null,null,0,null,0,null,null,0,null,0,0,null,"",null,null,null,null,null,"","ECM15",0,0,0,0,0,0]
["21c94130-41e9-4a74-b591-200e01d978cb",null,null,16,null,null,null,null,"",null,null,null,0,null,0,null,null,0,null,0,0,null,"",null,null,null,null,null,"","ECM16",0,0,0,0,0,0]
["cf3e1117-911d-4e50-a549-29793cbf43fc",null,null,17,null,null,null,null,"",null,null,null,0,null,0,null,null,0,null,0,0,null,"",null,null,null,null,null,"","ECM17",0,0,0,0,0,0]
["1d4e30c0-b9b6-46a3-87d1-1a2c57f49b3f",null,null,18,null,null,null,null,"",null,null,null,0,null,0,null,null,0,null,0,0,null,"",null,null,null,null,null,"","ECM18",0,0,0,0,0,0]
["f196f93e-213a-49ef-a590-347d9479721d",null,null,19,null,null,null,null,"",null,null,null,0,null,0,null,null,0,null,0,0,null,"",null,null,null,null,null,"","ECM19",0,0,0,0,0,0]
["86c2c6be-0605-4f46-b317-a884e663e564",null,null,20,null,null,null,null,"",null,null,null,0,null,0,null,null,0,null,0,0,null,"",null,null,null,null,null,"","ECM20",0,0,0,0,0,0]
[null,null,{"$f":"Instructions!$F$5","v":0},null,null,null,null,null,"Total Verified - All Bundle",null,{"$f":"IF(SUM(K41:K60)=0,0,SUM(K41:K60))","v":0},{"$f":"IF(SUM(L41:L60)=0,0,SUM(L41:L60))","v":0},{"$f":"IF(L61=0,0,L61*$F$5)","v":0},{"$f":"IF(SUM(N41:N60)=0,0,SUM(N41:N60))","v":0},{"$f":"IF(N61=0,0,N61*$F$7)","v":0},{"$f":"IF(SUM(P41:P60)=0,0,SUM(P41:P60))","v":0},{"$f":"IF(SUM(Q41:Q60)=0,0,SUM(Q41:Q60))","v":0},{"$f":"IF(SUM(R41:R60)=0,0,SUM(R41:R60))","v":0},{"$f":"IF(SUM(S41:S60)=0,0,SUM(S41:S60))","v":0},{"$f":"IF(SUM(T41:T60)=0,0,SUM(T41:T60))","v":0},{"$f":"IF(S61=0,0,T61*$F$11)","v":0},{"$f":"IF(SUM(V41:V60)=0,0,SUM(V41:V60))","v":0},{"$f":"IF(I41=\"\",\"\",IF(V61/(M61+O61+R61+U61)<=0.1,\"Immediate\",ROUND(V61/(M61+O61+R61+U61),1)))","v":""},null,null,null,null,null,{"$f":"IFERROR((L61+Q61)/AC38,\"\")","v":""},null,{"$f":"IF(SUM(AE41:AE60)=0,0,SUM(AE41:AE60))","v":0},{"$f":"IF(SUM(AF41:AF60)=0,0,SUM(AF41:AF60))","v":0},{"$f":"IF(SUM(AG41:AG60)=0,0,SUM(AG41:AG60))","v":0},{"$f":"IF(SUM(AH41:AH60)=0,0,SUM(AH41:AH60))","v":0}]
[null,null,null,null,null,null,null,null,"Total Verified - Current Bundle","Total Current Bundle",{"$f":"IF(SUMIF(C41:C60,C61,K41:K60)=0,0,SUMIF(C41:C60,C61,K41:K60))","v":0},{"$f":"IF(SUMIF(C41:C60,C61,L41:L60)=0,0,SUMIF(C41:C60,C61,L41:L60))","v":0},{"$f":"IF(L62=0,0,L62*$F$5)","v":0},{"$f":"IF(SUMIF(C41:C60,C61,N41:N60)=0,0,SUMIF(C41:C60,C61,N41:N60))","v":0},{"$f":"IF(N62=0,0,N62*$F$7)","v":0},{"$f":"IF(SUMIF(C41:C60,C61,P41:P60)=0,0,SUMIF(C41:C60,C61,P41:P60))","v":0},{"$f":"IF(SUMIF($C$41:C60,$C$61,Q41:Q60)=0,0,SUMIF($C$41:C60,$C$61,Q41:Q60))","v":0},{"$f":"IF(SUMIF($C$41:D60,$C$61,R41:R60)=0,0,SUMIF($C$41:D60,$C$61,R41:R60))","v":0},{"$f":"IF(SUMIF(C41:C60,C61,S41:S60)=0,0,SUMIF(C41:C60,C61,S41:S60))","v":0},{"$f":"IF(SUMIF(C41:C60,C61,T41:T60)=0,0,SUMIF(C41:C60,C61,T41:T60))","v":0},{"$f":"IF(S62=0,0,T62*$F$11)","v":0},{"$f":"IF(SUMIF(C41:C60,C61,V41:V60)=0,0,SUMIF(C41:C60,C61,V41:V60))","v":0},{"$f":"IF(I41=\"\",\"\",IF(V62/(M62+O62+R62+U62)<=0.1,\"Immediate\",ROUND(V62/(M62+O62+R62+U62),1)))","v":""}]
[]
[]
[]
[]
[]
[null,"For PC Use"]
[]
[]
[]
[]
[]
[]
[]
[]
[null,null,null,null,""]
[null,null,null,null,""]
[null,null,null,null,""]
[null,null,null,null,""]
[null,null,null,null,""]
[null,null,null,null,""]
[null,null,null,null,""]
[null,null,null,null,""]
[null,null,null,null,""]
[null,null,null,null,""]

{"sheet":"Utility Calcs","index":12,"n_rows":34,"n_cols":12,"rows_kept":34,"cut":false,"hidden":false,"merged":[[17,1,17,4],[33,1,33,4]]}
[]
[null,"Utility Information"]
[]
[null,"Past 0-12 Months Utility Data"]
[null,"Rate","Month","Period Start Date","Period End Date","Days in Billing Period","Total kWh Usage","On-Peak kWh Usage","Off-Peak kWh Usage","Billing kW Demand","Monthly Peak Demand","Load Factor"]
[null,{"$f":"UtilityData!A39","v":0},{"$f":"UtilityData!B39","v":"00:00:00"},{"$f":"E6-F6","v":"00:00:00"},{"$f":"C6","v":"00:00:00"},{"$f":"UtilityData!C39","v":0},{"$f":"UtilityData!D39","v":0},{"$f":"UtilityData!E39","v":0},{"$f":"UtilityData!F39","v":0},{"$f":"UtilityData!G39","v":0},{"$f":"UtilityData!H39","v":0},{"$f":"G6/(J6*F6*24)","v":{"$error":"#DIV/0!"}}]
[null,{"$f":"UtilityData!A38","v":0},{"$f":"UtilityData!B38","v":"00:00:00"},"00:00:00","00:00:00",{"$f":"UtilityData!C38","v":0},{"$f":"UtilityData!D38","v":0},{"$f":"UtilityData!E38","v":0},{"$f":"UtilityData!F38","v":0},{"$f":"UtilityData!G38","v":0},{"$f":"UtilityData!H38","v":0},{"$error":"#DIV/0!"}]
[null,{"$f":"UtilityData!A37","v":0},{"$f":"UtilityData!B37","v":"00:00:00"},"00:00:00","00:00:00",{"$f":"UtilityData!C37","v":0},{"$f":"UtilityData!D37","v":0},{"$f":"UtilityData!E37","v":0},{"$f":"UtilityData!F37","v":0},{"$f":"UtilityData!G37","v":0},{"$f":"UtilityData!H37","v":0},{"$error":"#DIV/0!"}]
[null,{"$f":"UtilityData!A36","v":0},{"$f":"UtilityData!B36","v":"00:00:00"},"00:00:00","00:00:00",{"$f":"UtilityData!C36","v":0},{"$f":"UtilityData!D36","v":0},{"$f":"UtilityData!E36","v":0},{"$f":"UtilityData!F36","v":0},{"$f":"UtilityData!G36","v":0},{"$f":"UtilityData!H36","v":0},{"$error":"#DIV/0!"}]
[null,{"$f":"UtilityData!A35","v":0},{"$f":"UtilityData!B35","v":"00:00:00"},"00:00:00","00:00:00",{"$f":"UtilityData!C35","v":0},{"$f":"UtilityData!D35","v":0},{"$f":"UtilityData!E35","v":0},{"$f":"UtilityData!F35","v":0},{"$f":"UtilityData!G35","v":0},{"$f":"UtilityData!H35","v":0},{"$error":"#DIV/0!"}]
[null,{"$f":"UtilityData!A34","v":0},{"$f":"UtilityData!B34","v":"00:00:00"},"00:00:00","00:00:00",{"$f":"UtilityData!C34","v":0},{"$f":"UtilityData!D34","v":0},{"$f":"UtilityData!E34","v":0},{"$f":"UtilityData!F34","v":0},{"$f":"UtilityData!G34","v":0},{"$f":"UtilityData!H34","v":0},{"$error":"#DIV/0!"}]
[null,{"$f":"UtilityData!A33","v":0},{"$f":"UtilityData!B33","v":"00:00:00"},"00:00:00","00:00:00",{"$f":"UtilityData!C33","v":0},{"$f":"UtilityData!D33","v":0},{"$f":"UtilityData!E33","v":0},{"$f":"UtilityData!F33","v":0},{"$f":"UtilityData!G33","v":0},{"$f":"UtilityData!H33","v":0},{"$error":"#DIV/0!"}]
[null,{"$f":"UtilityData!A32","v":0},{"$f":"UtilityData!B32","v":"00:00:00"},"00:00:00","00:00:00",{"$f":"UtilityData!C32","v":0},{"$f":"UtilityData!D32","v":0},{"$f":"UtilityData!E32","v":0},{"$f":"UtilityData!F32","v":0},{"$f":"UtilityData!G32","v":0},{"$f":"UtilityData!H32","v":0},{"$error":"#DIV/0!"}]
[null,{"$f":"UtilityData!A31","v":0},{"$f":"UtilityData!B31","v":"00:00:00"},"00:00:00","00:00:00",{"$f":"UtilityData!C31","v":0},{"$f":"UtilityData!D31","v":0},{"$f":"UtilityData!E31","v":0},{"$f":"UtilityData!F31","v":0},{"$f":"UtilityData!G31","v":0},{"$f":"UtilityData!H31","v":0},{"$error":"#DIV/0!"}]
[null,{"$f":"UtilityData!A30","v":0},{"$f":"UtilityData!B30","v":"00:00:00"},"00:00:00","00:00:00",{"$f":"UtilityData!C30","v":0},{"$f":"UtilityData!D30","v":0},{"$f":"UtilityData!E30","v":0},{"$f":"UtilityData!F30","v":0},{"$f":"UtilityData!G30","v":0},{"$f":"UtilityData!H30","v":0},{"$error":"#DIV/0!"}]
[null,{"$f":"UtilityData!A29","v":0},{"$f":"UtilityData!B29","v":"00:00:00"},"00:00:00","00:00:00",{"$f":"UtilityData!C29","v":0},{"$f":"UtilityData!D29","v":0},{"$f":"UtilityData!E29","v":0},{"$f":"UtilityData!F29","v":0},{"$f":"UtilityData!G29","v":0},{"$f":"UtilityData!H29","v":0},{"$error":"#DIV/0!"}]
[null,{"$f":"UtilityData!A28","v":0},{"$f":"UtilityData!B28","v":"00:00:00"},"00:00:00","00:00:00",{"$f":"UtilityData!C28","v":0},{"$f":"UtilityData!D28","v":0},{"$f":"UtilityData!E28","v":0},{"$f":"UtilityData!F28","v":0},{"$f":"UtilityData!G28","v":0},{"$f":"UtilityData!H28","v":0},{"$error":"#DIV/0!"}]
[null,"TOTALS",null,null,null,{"$f":"SUM(F6:F17)","v":0},{"$f":"SUM(G6:G17)","v":0},{"$f":"SUM(H6:H17)","v":0},0,{"$f":"MAX(J6:J17)","v":0},{"$f":"MAX(K6:K17)","v":0},{"$f":"AVERAGE(L6:L17)","v":{"$error":"#DIV/0!"}}]
[]
[null,"Past 13-24 Months Utility Data"]
[null,"Rate","Month","Period Start Date","Period End Date","Days in Billing Period","Total kWh Usage","On-Peak kWh Usage","Off-Peak kWh Usage","Billing kW Demand","Monthly Peak Demand","Load Factor"]
[null,{"$f":"UtilityData!A51","v":0},{"$f":"UtilityData!B51","v":"00:00:00"},{"$f":"E22-F22","v":"00:00:00"},{"$f":"C22","v":"00:00:00"},{"$f":"UtilityData!C51","v":0},{"$f":"UtilityData!D51","v":0},{"$f":"UtilityData!E51","v":0},{"$f":"UtilityData!F51","v":0},{"$f":"UtilityData!G51","v":0},{"$f":"UtilityData!H51","v":0},{"$f":"G22/(J22*F22*24)","v":{"$error":"#DIV/0!"}}]
[null,{"$f":"UtilityData!A50","v":0},{"$f":"UtilityData!B50","v":"00:00:00"},"00:00:00","00:00:00",{"$f":"UtilityData!C50","v":0},{"$f":"UtilityData!D50","v":0},{"$f":"UtilityData!E50","v":0},{"$f":"UtilityData!F50","v":0},{"$f":"UtilityData!G50","v":0},{"$f":"UtilityData!H50","v":0},{"$error":"#DIV/0!"}]
[null,{"$f":"UtilityData!A49","v":0},{"$f":"UtilityData!B49","v":"00:00:00"},"00:00:00","00:00:00",{"$f":"UtilityData!C49","v":0},{"$f":"UtilityData!D49","v":0},{"$f":"UtilityData!E49","v":0},{"$f":"UtilityData!F49","v":0},{"$f":"UtilityData!G49","v":0},{"$f":"UtilityData!H49","v":0},{"$error":"#DIV/0!"}]
[null,{"$f":"UtilityData!A48","v":0},{"$f":"UtilityData!B48","v":"00:00:00"},"00:00:00","00:00:00",{"$f":"UtilityData!C48","v":0},{"$f":"UtilityData!D48","v":0},{"$f":"UtilityData!E48","v":0},{"$f":"UtilityData!F48","v":0},{"$f":"UtilityData!G48","v":0},{"$f":"UtilityData!H48","v":0},{"$error":"#DIV/0!"}]
[null,{"$f":"UtilityData!A47","v":0},{"$f":"UtilityData!B47","v":"00:00:00"},"00:00:00","00:00:00",{"$f":"UtilityData!C47","v":0},{"$f":"UtilityData!D47","v":0},{"$f":"UtilityData!E47","v":0},{"$f":"UtilityData!F47","v":0},{"$f":"UtilityData!G47","v":0},{"$f":"UtilityData!H47","v":0},{"$error":"#DIV/0!"}]
[null,{"$f":"UtilityData!A46","v":0},{"$f":"UtilityData!B46","v":"00:00:00"},"00:00:00","00:00:00",{"$f":"UtilityData!C46","v":0},{"$f":"UtilityData!D46","v":0},{"$f":"UtilityData!E46","v":0},{"$f":"UtilityData!F46","v":0},{"$f":"UtilityData!G46","v":0},{"$f":"UtilityData!H46","v":0},{"$error":"#DIV/0!"}]
[null,{"$f":"UtilityData!A45","v":0},{"$f":"UtilityData!B45","v":"00:00:00"},"00:00:00","00:00:00",{"$f":"UtilityData!C45","v":0},{"$f":"UtilityData!D45","v":0},{"$f":"UtilityData!E45","v":0},{"$f":"UtilityData!F45","v":0},{"$f":"UtilityData!G45","v":0},{"$f":"UtilityData!H45","v":0},{"$error":"#DIV/0!"}]
[null,{"$f":"UtilityData!A44","v":0},{"$f":"UtilityData!B44","v":"00:00:00"},"00:00:00","00:00:00",{"$f":"UtilityData!C44","v":0},{"$f":"UtilityData!D44","v":0},{"$f":"UtilityData!E44","v":0},{"$f":"UtilityData!F44","v":0},{"$f":"UtilityData!G44","v":0},{"$f":"UtilityData!H44","v":0},{"$error":"#DIV/0!"}]
[null,{"$f":"UtilityData!A43","v":0},{"$f":"UtilityData!B43","v":"00:00:00"},"00:00:00","00:00:00",{"$f":"UtilityData!C43","v":0},{"$f":"UtilityData!D43","v":0},{"$f":"UtilityData!E43","v":0},{"$f":"UtilityData!F43","v":0},{"$f":"UtilityData!G43","v":0},{"$f":"UtilityData!H43","v":0},{"$error":"#DIV/0!"}]
[null,{"$f":"UtilityData!A42","v":0},{"$f":"UtilityData!B42","v":"00:00:00"},"00:00:00","00:00:00",{"$f":"UtilityData!C42","v":0},{"$f":"UtilityData!D42","v":0},{"$f":"UtilityData!E42","v":0},{"$f":"UtilityData!F42","v":0},{"$f":"UtilityData!G42","v":0},{"$f":"UtilityData!H42","v":0},{"$error":"#DIV/0!"}]
[null,{"$f":"UtilityData!A41","v":0},{"$f":"UtilityData!B41","v":"00:00:00"},"00:00:00","00:00:00",{"$f":"UtilityData!C41","v":0},{"$f":"UtilityData!D41","v":0},{"$f":"UtilityData!E41","v":0},{"$f":"UtilityData!F41","v":0},{"$f":"UtilityData!G41","v":0},{"$f":"UtilityData!H41","v":0},{"$error":"#DIV/0!"}]
[null,{"$f":"UtilityData!A40","v":0},{"$f":"UtilityData!B40","v":"00:00:00"},"00:00:00","00:00:00",{"$f":"UtilityData!C40","v":0},{"$f":"UtilityData!D40","v":0},{"$f":"UtilityData!E40","v":0},{"$f":"UtilityData!F40","v":0},{"$f":"UtilityData!G40","v":0},{"$f":"UtilityData!H40","v":0},{"$error":"#DIV/0!"}]
[null,"TOTALS",null,null,null,{"$f":"SUM(F22:F33)","v":0},{"$f":"SUM(G22:G33)","v":0},{"$f":"SUM(H22:H33)","v":0},0,{"$f":"MAX(J22:J33)","v":0},{"$f":"MAX(K22:K33)","v":0},{"$f":"AVERAGE(L22:L33)","v":{"$error":"#DIV/0!"}}]

{"sheet":"RecElec","index":13,"n_rows":62,"n_cols":8,"rows_kept":62,"cut":false,"hidden":true,"merged":[[8,0,28,0],[60,0,60,7],[61,0,62,7],[29,0,50,0],[1,0,1,2],[5,2,5,3],[6,7,7,7],[6,4,7,4],[6,5,7,5],[6,0,7,0],[6,1,7,1],[6,2,7,2],[3,0,3,7],[4,0,4,7],[6,3,7,3],[6,6,7,6],[1,3,1,5]]}
[1]
[{"$f":"DataPhaseValid!$G$4&\" | \"&DataPhaseValid!$G$5","v":" | "},null,null,{"$f":"IF(Instructions!F4=\"Investigation\",\" \",\"Verification Report Approval Date: \"&TEXT(Instructions!$F$14,\"mm/dd/yyyy\"))","v":"Verification Report Approval Date: 01/00/1900"}]
[]
[{"$f":"DataPhaseValid!G41","v":""}]
[{"$f":"DataPhaseValid!G42","v":""}]
[null,null,"Electric"]
["Phase","Energy Conservation Measure (ECM) Description","Electric Energy Savings (kWh/year)","Electric Cost Savings ($/year)","ECM Installation Cost ($)","Simple Payback Without Incentives (Years)",{"$f":"IF(Instructions!F3=\"MBCx\",\"MBCx Bundle #\",\"RCx Flex Bundle #\")","v":"RCx Flex Bundle #"},{"$f":"DataPhaseValid!G43","v":""}]
[]
["Investigation",{"$f":"DataPhaseValid!C47","v":""},{"$f":"IF('Measure Recommendation'!$I17=\"\",\"\",'Measure Recommendation'!L17)","v":""},{"$f":"IF('Measure Recommendation'!$I17=\"\",\"\",'Measure Recommendation'!M17)","v":""},{"$f":"IF('Measure Recommendation'!$I17=\"\",\"\",'Measure Recommendation'!V17)","v":""},{"$f":"IF('Measure Recommendation'!$I17=\"\",\"\",'Measure Recommendation'!W17)","v":""},{"$f":"IF('Measure Recommendation'!C17>0,'Measure Recommendation'!C17,\"\")","v":""},{"$f":"IF('Measure Recommendation'!X17=\"Yes\", \"g\",\"c\")","v":"c"}]
[null,{"$f":"DataPhaseValid!C48","v":""},{"$f":"IF('Measure Recommendation'!$I18=\"\",\"\",'Measure Recommendation'!L18)","v":""},{"$f":"IF('Measure Recommendation'!$I18=\"\",\"\",'Measure Recommendation'!M18)","v":""},{"$f":"IF('Measure Recommendation'!$I18=\"\",\"\",'Measure Recommendation'!V18)","v":""},{"$f":"IF('Measure Recommendation'!$I18=\"\",\"\",'Measure Recommendation'!W18)","v":""},{"$f":"IF('Measure Recommendation'!C18>0,'Measure Recommendation'!C18,\"\")","v":""},{"$f":"IF('Measure Recommendation'!X18=\"Yes\", \"g\",\"c\")","v":"c"}]
[null,{"$f":"DataPhaseValid!C49","v":""},{"$f":"IF('Measure Recommendation'!$I19=\"\",\"\",'Measure Recommendation'!L19)","v":""},{"$f":"IF('Measure Recommendation'!$I19=\"\",\"\",'Measure Recommendation'!M19)","v":""},{"$f":"IF('Measure Recommendation'!$I19=\"\",\"\",'Measure Recommendation'!V19)","v":""},{"$f":"IF('Measure Recommendation'!$I19=\"\",\"\",'Measure Recommendation'!W19)","v":""},{"$f":"IF('Measure Recommendation'!C19>0,'Measure Recommendation'!C19,\"\")","v":""},{"$f":"IF('Measure Recommendation'!X19=\"Yes\", \"g\",\"c\")","v":"c"}]
[null,{"$f":"DataPhaseValid!C50","v":""},{"$f":"IF('Measure Recommendation'!$I20=\"\",\"\",'Measure Recommendation'!L20)","v":""},{"$f":"IF('Measure Recommendation'!$I20=\"\",\"\",'Measure Recommendation'!M20)","v":""},{"$f":"IF('Measure Recommendation'!$I20=\"\",\"\",'Measure Recommendation'!V20)","v":""},{"$f":"IF('Measure Recommendation'!$I20=\"\",\"\",'Measure Recommendation'!W20)","v":""},{"$f":"IF('Measure Recommendation'!C20>0,'Measure Recommendation'!C20,\"\")","v":""},{"$f":"IF('Measure Recommendation'!X20=\"Yes\", \"g\",\"c\")","v":"c"}]
[null,{"$f":"DataPhaseValid!C51","v":""},{"$f":"IF('Measure Recommendation'!$I21=\"\",\"\",'Measure Recommendation'!L21)","v":""},{"$f":"IF('Measure Recommendation'!$I21=\"\",\"\",'Measure Recommendation'!M21)","v":""},{"$f":"IF('Measure Recommendation'!$I21=\"\",\"\",'Measure Recommendation'!V21)","v":""},{"$f":"IF('Measure Recommendation'!$I21=\"\",\"\",'Measure Recommendation'!W21)","v":""},{"$f":"IF('Measure Recommendation'!C21>0,'Measure Recommendation'!C21,\"\")","v":""},{"$f":"IF('Measure Recommendation'!X21=\"Yes\", \"g\",\"c\")","v":"c"}]
[null,{"$f":"DataPhaseValid!C52","v":""},{"$f":"IF('Measure Recommendation'!$I22=\"\",\"\",'Measure Recommendation'!L22)","v":""},{"$f":"IF('Measure Recommendation'!$I22=\"\",\"\",'Measure Recommendation'!M22)","v":""},{"$f":"IF('Measure Recommendation'!$I22=\"\",\"\",'Measure Recommendation'!V22)","v":""},{"$f":"IF('Measure Recommendation'!$I22=\"\",\"\",'Measure Recommendation'!W22)","v":""},{"$f":"IF('Measure Recommendation'!C22>0,'Measure Recommendation'!C22,\"\")","v":""},{"$f":"IF('Measure Recommendation'!X22=\"Yes\", \"g\",\"c\")","v":"c"}]
[null,{"$f":"DataPhaseValid!C53","v":""},{"$f":"IF('Measure Recommendation'!$I23=\"\",\"\",'Measure Recommendation'!L23)","v":""},{"$f":"IF('Measure Recommendation'!$I23=\"\",\"\",'Measure Recommendation'!M23)","v":""},{"$f":"IF('Measure Recommendation'!$I23=\"\",\"\",'Measure Recommendation'!V23)","v":""},{"$f":"IF('Measure Recommendation'!$I23=\"\",\"\",'Measure Recommendation'!W23)","v":""},{"$f":"IF('Measure Recommendation'!C23>0,'Measure Recommendation'!C23,\"\")","v":""},{"$f":"IF('Measure Recommendation'!X23=\"Yes\", \"g\",\"c\")","v":"c"}]
[null,{"$f":"DataPhaseValid!C54","v":""},{"$f":"IF('Measure Recommendation'!$I24=\"\",\"\",'Measure Recommendation'!L24)","v":""},{"$f":"IF('Measure Recommendation'!$I24=\"\",\"\",'Measure Recommendation'!M24)","v":""},{"$f":"IF('Measure Recommendation'!$I24=\"\",\"\",'Measure Recommendation'!V24)","v":""},{"$f":"IF('Measure Recommendation'!$I24=\"\",\"\",'Measure Recommendation'!W24)","v":""},{"$f":"IF('Measure Recommendation'!C24>0,'Measure Recommendation'!C24,\"\")","v":""},{"$f":"IF('Measure Recommendation'!X24=\"Yes\", \"g\",\"c\")","v":"c"}]
[null,{"$f":"DataPhaseValid!C55","v":""},{"$f":"IF('Measure Recommendation'!$I25=\"\",\"\",'Measure Recommendation'!L25)","v":""},{"$f":"IF('Measure Recommendation'!$I25=\"\",\"\",'Measure Recommendation'!M25)","v":""},{"$f":"IF('Measure Recommendation'!$I25=\"\",\"\",'Measure Recommendation'!V25)","v":""},{"$f":"IF('Measure Recommendation'!$I25=\"\",\"\",'Measure Recommendation'!W25)","v":""},{"$f":"IF('Measure Recommendation'!C25>0,'Measure Recommendation'!C25,\"\")","v":""},{"$f":"IF('Measure Recommendation'!X25=\"Yes\", \"g\",\"c\")","v":"c"}]
[null,{"$f":"DataPhaseValid!C56","v":""},{"$f":"IF('Measure Recommendation'!$I26=\"\",\"\",'Measure Recommendation'!L26)","v":""},{"$f":"IF('Measure Recommendation'!$I26=\"\",\"\",'Measure Recommendation'!M26)","v":""},{"$f":"IF('Measure Recommendation'!$I26=\"\",\"\",'Measure Recommendation'!V26)","v":""},{"$f":"IF('Measure Recommendation'!$I26=\"\",\"\",'Measure Recommendation'!W26)","v":""},{"$f":"IF('Measure Recommendation'!C26>0,'Measure Recommendation'!C26,\"\")","v":""},{"$f":"IF('Measure Recommendation'!X26=\"Yes\", \"g\",\"c\")","v":"c"}]
[null,{"$f":"DataPhaseValid!C57","v":""},{"$f":"IF('Measure Recommendation'!$I27=\"\",\"\",'Measure Recommendation'!L27)","v":""},{"$f":"IF('Measure Recommendation'!$I27=\"\",\"\",'Measure Recommendation'!M27)","v":""},{"$f":"IF('Measure Recommendation'!$I27=\"\",\"\",'Measure Recommendation'!V27)","v":""},{"$f":"IF('Measure Recommendation'!$I27=\"\",\"\",'Measure Recommendation'!W27)","v":""},{"$f":"IF('Measure Recommendation'!C27>0,'Measure Recommendation'!C27,\"\")","v":""},{"$f":"IF('Measure Recommendation'!X27=\"Yes\", \"g\",\"c\")","v":"c"}]
[null,{"$f":"DataPhaseValid!C58","v":""},{"$f":"IF('Measure Recommendation'!$I28=\"\",\"\",'Measure Recommendation'!L28)","v":""},{"$f":"IF('Measure Recommendation'!$I28=\"\",\"\",'Measure Recommendation'!M28)","v":""},{"$f":"IF('Measure Recommendation'!$I28=\"\",\"\",'Measure Recommendation'!V28)","v":""},{"$f":"IF('Measure Recommendation'!$I28=\"\",\"\",'Measure Recommendation'!W28)","v":""},{"$f":"IF('Measure Recommendation'!C28>0,'Measure Recommendation'!C28,\"\")","v":""},{"$f":"IF('Measure Recommendation'!X28=\"Yes\", \"g\",\"c\")","v":"c"}]
[null,{"$f":"DataPhaseValid!C59","v":""},{"$f":"IF('Measure Recommendation'!$I29=\"\",\"\",'Measure Recommendation'!L29)","v":""},{"$f":"IF('Measure Recommendation'!$I29=\"\",\"\",'Measure Recommendation'!M29)","v":""},{"$f":"IF('Measure Recommendation'!$I29=\"\",\"\",'Measure Recommendation'!V29)","v":""},{"$f":"IF('Measure Recommendation'!$I29=\"\",\"\",'Measure Recommendation'!W29)","v":""},{"$f":"IF('Measure Recommendation'!C29>0,'Measure Recommendation'!C29,\"\")","v":""},{"$f":"IF('Measure Recommendation'!X29=\"Yes\", \"g\",\"c\")","v":"c"}]
[null,{"$f":"DataPhaseValid!C60","v":""},{"$f":"IF('Measure Recommendation'!$I30=\"\",\"\",'Measure Recommendation'!L30)","v":""},{"$f":"IF('Measure Recommendation'!$I30=\"\",\"\",'Measure Recommendation'!M30)","v":""},{"$f":"IF('Measure Recommendation'!$I30=\"\",\"\",'Measure Recommendation'!V30)","v":""},{"$f":"IF('Measure Recommendation'!$I30=\"\",\"\",'Measure Recommendation'!W30)","v":""},{"$f":"IF('Measure Recommendation'!C30>0,'Measure Recommendation'!C30,\"\")","v":""},{"$f":"IF('Measure Recommendation'!X30=\"Yes\", \"g\",\"c\")","v":"c"}]
[null,{"$f":"DataPhaseValid!C61","v":""},{"$f":"IF('Measure Recommendation'!$I31=\"\",\"\",'Measure Recommendation'!L31)","v":""},{"$f":"IF('Measure Recommendation'!$I31=\"\",\"\",'Measure Recommendation'!M31)","v":""},{"$f":"IF('Measure Recommendation'!$I31=\"\",\"\",'Measure Recommendation'!V31)","v":""},{"$f":"IF('Measure Recommendation'!$I31=\"\",\"\",'Measure Recommendation'!W31)","v":""},{"$f":"IF('Measure Recommendation'!C31>0,'Measure Recommendation'!C31,\"\")","v":""},{"$f":"IF('Measure Recommendation'!X31=\"Yes\", \"g\",\"c\")","v":"c"}]
[null,{"$f":"DataPhaseValid!C62","v":""},{"$f":"IF('Measure Recommendation'!$I32=\"\",\"\",'Measure Recommendation'!L32)","v":""},{"$f":"IF('Measure Recommendation'!$I32=\"\",\"\",'Measure Recommendation'!M32)","v":""},{"$f":"IF('Measure Recommendation'!$I32=\"\",\"\",'Measure Recommendation'!V32)","v":""},{"$f":"IF('Measure Recommendation'!$I32=\"\",\"\",'Measure Recommendation'!W32)","v":""},{"$f":"IF('Measure Recommendation'!C32>0,'Measure Recommendation'!C32,\"\")","v":""},{"$f":"IF('Measure Recommendation'!X32=\"Yes\", \"g\",\"c\")","v":"c"}]
[null,{"$f":"DataPhaseValid!C63","v":""},{"$f":"IF('Measure Recommendation'!$I33=\"\",\"\",'Measure Recommendation'!L33)","v":""},{"$f":"IF('Measure Recommendation'!$I33=\"\",\"\",'Measure Recommendation'!M33)","v":""},{"$f":"IF('Measure Recommendation'!$I33=\"\",\"\",'Measure Recommendation'!V33)","v":""},{"$f":"IF('Measure Recommendation'!$I33=\"\",\"\",'Measure Recommendation'!W33)","v":""},{"$f":"IF('Measure Recommendation'!C33>0,'Measure Recommendation'!C33,\"\")","v":""},{"$f":"IF('Measure Recommendation'!X33=\"Yes\", \"g\",\"c\")","v":"c"}]
[null,{"$f":"DataPhaseValid!C64","v":""},{"$f":"IF('Measure Recommendation'!$I34=\"\",\"\",'Measure Recommendation'!L34)","v":""},{"$f":"IF('Measure Recommendation'!$I34=\"\",\"\",'Measure Recommendation'!M34)","v":""},{"$f":"IF('Measure Recommendation'!$I34=\"\",\"\",'Measure Recommendation'!V34)","v":""},{"$f":"IF('Measure Recommendation'!$I34=\"\",\"\",'Measure Recommendation'!W34)","v":""},{"$f":"IF('Measure Recommendation'!C34>0,'Measure Recommendation'!C34,\"\")","v":""},{"$f":"IF('Measure Recommendation'!X34=\"Yes\", \"g\",\"c\")","v":"c"}]
[null,{"$f":"DataPhaseValid!C65","v":""},{"$f":"IF('Measure Recommendation'!$I35=\"\",\"\",'Measure Recommendation'!L35)","v":""},{"$f":"IF('Measure Recommendation'!$I35=\"\",\"\",'Measure Recommendation'!M35)","v":""},{"$f":"IF('Measure Recommendation'!$I35=\"\",\"\",'Measure Recommendation'!V35)","v":""},{"$f":"IF('Measure Recommendation'!$I35=\"\",\"\",'Measure Recommendation'!W35)","v":""},{"$f":"IF('Measure Recommendation'!C35>0,'Measure Recommendation'!C35,\"\")","v":""},{"$f":"IF('Measure Recommendation'!X35=\"Yes\", \"g\",\"c\")","v":"c"}]
[null,{"$f":"DataPhaseValid!C66","v":""},{"$f":"IF('Measure Recommendation'!$I36=\"\",\"\",'Measure Recommendation'!L36)","v":""},{"$f":"IF('Measure Recommendation'!$I36=\"\",\"\",'Measure Recommendation'!M36)","v":""},{"$f":"IF('Measure Recommendation'!$I36=\"\",\"\",'Measure Recommendation'!V36)","v":""},{"$f":"IF('Measure Recommendation'!$I36=\"\",\"\",'Measure Recommendation'!W36)","v":""},{"$f":"IF('Measure Recommendation'!C36>0,'Measure Recommendation'!C36,\"\")","v":""},{"$f":"IF('Measure Recommendation'!X36=\"Yes\", \"g\",\"c\")","v":"c"}]
[null,"Investigation Phase Total",{"$f":"'Measure Recommendation'!L37","v":0},{"$f":"'Measure Recommendation'!M37","v":0},{"$f":"'Measure Recommendation'!V37","v":0},{"$f":"'Measure Recommendation'!W37","v":""},"-"]
["Verification",{"$f":"DataPhaseValid!D47","v":""},{"$f":"IF('Measure Recommendation'!$I41=\"\",\"\",'Measure Recommendation'!L41)","v":""},{"$f":"IF('Measure Recommendation'!$I41=\"\",\"\",'Measure Recommendation'!M41)","v":""},{"$f":"IF('Measure Recommendation'!$I41=\"\",\"\",'Measure Recommendation'!V41)","v":""},{"$f":"IF('Measure Recommendation'!$I41=\"\",\"\",'Measure Recommendation'!W41)","v":""},{"$f":"IF('Measure Recommendation'!C41>0,'Measure Recommendation'!C41,\"\")","v":""},{"$f":"IF('Measure Recommendation'!X41=\"Yes\",\"g\",\"c\")","v":"c"}]
[null,{"$f":"DataPhaseValid!D48","v":""},{"$f":"IF('Measure Recommendation'!$I42=\"\",\"\",'Measure Recommendation'!L42)","v":""},{"$f":"IF('Measure Recommendation'!$I42=\"\",\"\",'Measure Recommendation'!M42)","v":""},{"$f":"IF('Measure Recommendation'!$I42=\"\",\"\",'Measure Recommendation'!V42)","v":""},{"$f":"IF('Measure Recommendation'!$I42=\"\",\"\",'Measure Recommendation'!W42)","v":""},{"$f":"IF('Measure Recommendation'!C42>0,'Measure Recommendation'!C42,\"\")","v":""},{"$f":"IF('Measure Recommendation'!X42=\"Yes\",\"g\",\"c\")","v":"c"}]
[null,{"$f":"DataPhaseValid!D49","v":""},{"$f":"IF('Measure Recommendation'!$I43=\"\",\"\",'Measure Recommendation'!L43)","v":""},{"$f":"IF('Measure Recommendation'!$I43=\"\",\"\",'Measure Recommendation'!M43)","v":""},{"$f":"IF('Measure Recommendation'!$I43=\"\",\"\",'Measure Recommendation'!V43)","v":""},{"$f":"IF('Measure Recommendation'!$I43=\"\",\"\",'Measure Recommendation'!W43)","v":""},{"$f":"IF('Measure Recommendation'!C43>0,'Measure Recommendation'!C43,\"\")","v":""},{"$f":"IF('Measure Recommendation'!X43=\"Yes\",\"g\",\"c\")","v":"c"}]
[null,{"$f":"DataPhaseValid!D50","v":""},{"$f":"IF('Measure Recommendation'!$I44=\"\",\"\",'Measure Recommendation'!L44)","v":""},{"$f":"IF('Measure Recommendation'!$I44=\"\",\"\",'Measure Recommendation'!M44)","v":""},{"$f":"IF('Measure Recommendation'!$I44=\"\",\"\",'Measure Recommendation'!V44)","v":""},{"$f":"IF('Measure Recommendation'!$I44=\"\",\"\",'Measure Recommendation'!W44)","v":""},{"$f":"IF('Measure Recommendation'!C44>0,'Measure Recommendation'!C44,\"\")","v":""},{"$f":"IF('Measure Recommendation'!X44=\"Yes\",\"g\",\"c\")","v":"c"}]
[null,{"$f":"DataPhaseValid!D51","v":""},{"$f":"IF('Measure Recommendation'!$I45=\"\",\"\",'Measure Recommendation'!L45)","v":""},{"$f":"IF('Measure Recommendation'!$I45=\"\",\"\",'Measure Recommendation'!M45)","v":""},{"$f":"IF('Measure Recommendation'!$I45=\"\",\"\",'Measure Recommendation'!V45)","v":""},{"$f":"IF('Measure Recommendation'!$I45=\"\",\"\",'Measure Recommendation'!W45)","v":""},{"$f":"IF('Measure Recommendation'!C45>0,'Measure Recommendation'!C45,\"\")","v":""},{"$f":"IF('Measure Recommendation'!X45=\"Yes\",\"g\",\"c\")","v":"c"}]
[null,{"$f":"DataPhaseValid!D52","v":""},{"$f":"IF('Measure Recommendation'!$I46=\"\",\"\",'Measure Recommendation'!L46)","v":""},{"$f":"IF('Measure Recommendation'!$I46=\"\",\"\",'Measure Recommendation'!M46)","v":""},{"$f":"IF('Measure Recommendation'!$I46=\"\",\"\",'Measure Recommendation'!V46)","v":""},{"$f":"IF('Measure Recommendation'!$I46=\"\",\"\",'Measure Recommendation'!W46)","v":""},{"$f":"IF('Measure Recommendation'!C46>0,'Measure Recommendation'!C46,\"\")","v":""},{"$f":"IF('Measure Recommendation'!X46=\"Yes\",\"g\",\"c\")","v":"c"}]
[null,{"$f":"DataPhaseValid!D53","v":""},{"$f":"IF('Measure Recommendation'!$I47=\"\",\"\",'Measure Recommendation'!L47)","v":""},{"$f":"IF('Measure Recommendation'!$I47=\"\",\"\",'Measure Recommendation'!M47)","v":""},{"$f":"IF('Measure Recommendation'!$I47=\"\",\"\",'Measure Recommendation'!V47)","v":""},{"$f":"IF('Measure Recommendation'!$I47=\"\",\"\",'Measure Recommendation'!W47)","v":""},{"$f":"IF('Measure Recommendation'!C47>0,'Measure Recommendation'!C47,\"\")","v":""},{"$f":"IF('Measure Recommendation'!X47=\"Yes\",\"g\",\"c\")","v":"c"}]
[null,{"$f":"DataPhaseValid!D54","v":""},{"$f":"IF('Measure Recommendation'!$I48=\"\",\"\",'Measure Recommendation'!L48)","v":""},{"$f":"IF('Measure Recommendation'!$I48=\"\",\"\",'Measure Recommendation'!M48)","v":""},{"$f":"IF('Measure Recommendation'!$I48=\"\",\"\",'Measure Recommendation'!V48)","v":""},{"$f":"IF('Measure Recommendation'!$I48=\"\",\"\",'Measure Recommendation'!W48)","v":""},{"$f":"IF('Measure Recommendation'!C48>0,'Measure Recommendation'!C48,\"\")","v":""},{"$f":"IF('Measure Recommendation'!X48=\"Yes\",\"g\",\"c\")","v":"c"}]
[null,{"$f":"DataPhaseValid!D55","v":""},{"$f":"IF('Measure Recommendation'!$I49=\"\",\"\",'Measure Recommendation'!L49)","v":""},{"$f":"IF('Measure Recommendation'!$I49=\"\",\"\",'Measure Recommendation'!M49)","v":""},{"$f":"IF('Measure Recommendation'!$I49=\"\",\"\",'Measure Recommendation'!V49)","v":""},{"$f":"IF('Measure Recommendation'!$I49=\"\",\"\",'Measure Recommendation'!W49)","v":""},{"$f":"IF('Measure Recommendation'!C49>0,'Measure Recommendation'!C49,\"\")","v":""},{"$f":"IF('Measure Recommendation'!X49=\"Yes\",\"g\",\"c\")","v":"c"}]
[null,{"$f":"DataPhaseValid!D56","v":""},{"$f":"IF('Measure Recommendation'!$I50=\"\",\"\",'Measure Recommendation'!L50)","v":""},{"$f":"IF('Measure Recommendation'!$I50=\"\",\"\",'Measure Recommendation'!M50)","v":""},{"$f":"IF('Measure Recommendation'!$I50=\"\",\"\",'Measure Recommendation'!V50)","v":""},{"$f":"IF('Measure Recommendation'!$I50=\"\",\"\",'Measure Recommendation'!W50)","v":""},{"$f":"IF('Measure Recommendation'!C50>0,'Measure Recommendation'!C50,\"\")","v":""},{"$f":"IF('Measure Recommendation'!X50=\"Yes\",\"g\",\"c\")","v":"c"}]
[null,{"$f":"DataPhaseValid!D57","v":""},{"$f":"IF('Measure Recommendation'!$I51=\"\",\"\",'Measure Recommendation'!L51)","v":""},{"$f":"IF('Measure Recommendation'!$I51=\"\",\"\",'Measure Recommendation'!M51)","v":""},{"$f":"IF('Measure Recommendation'!$I51=\"\",\"\",'Measure Recommendation'!V51)","v":""},{"$f":"IF('Measure Recommendation'!$I51=\"\",\"\",'Measure Recommendation'!W51)","v":""},{"$f":"IF('Measure Recommendation'!C51>0,'Measure Recommendation'!C51,\"\")","v":""},{"$f":"IF('Measure Recommendation'!X51=\"Yes\",\"g\",\"c\")","v":"c"}]
[null,{"$f":"DataPhaseValid!D58","v":""},{"$f":"IF('Measure Recommendation'!$I52=\"\",\"\",'Measure Recommendation'!L52)","v":""},{"$f":"IF('Measure Recommendation'!$I52=\"\",\"\",'Measure Recommendation'!M52)","v":""},{"$f":"IF('Measure Recommendation'!$I52=\"\",\"\",'Measure Recommendation'!V52)","v":""},{"$f":"IF('Measure Recommendation'!$I52=\"\",\"\",'Measure Recommendation'!W52)","v":""},{"$f":"IF('Measure Recommendation'!C52>0,'Measure Recommendation'!C52,\"\")","v":""},{"$f":"IF('Measure Recommendation'!X52=\"Yes\",\"g\",\"c\")","v":"c"}]
[null,{"$f":"DataPhaseValid!D59","v":""},{"$f":"IF('Measure Recommendation'!$I53=\"\",\"\",'Measure Recommendation'!L53)","v":""},{"$f":"IF('Measure Recommendation'!$I53=\"\",\"\",'Measure Recommendation'!M53)","v":""},{"$f":"IF('Measure Recommendation'!$I53=\"\",\"\",'Measure Recommendation'!V53)","v":""},{"$f":"IF('Measure Recommendation'!$I53=\"\",\"\",'Measure Recommendation'!W53)","v":""},{"$f":"IF('Measure Recommendation'!C53>0,'Measure Recommendation'!C53,\"\")","v":""},{"$f":"IF('Measure Recommendation'!X53=\"Yes\",\"g\",\"c\")","v":"c"}]
[null,{"$f":"DataPhaseValid!D60","v":""},{"$f":"IF('Measure Recommendation'!$I54=\"\",\"\",'Measure Recommendation'!L54)","v":""},{"$f":"IF('Measure Recommendation'!$I54=\"\",\"\",'Measure Recommendation'!M54)","v":""},{"$f":"IF('Measure Recommendation'!$I54=\"\",\"\",'Measure Recommendation'!V54)","v":""},{"$f":"IF('Measure Recommendation'!$I54=\"\",\"\",'Measure Recommendation'!W54)","v":""},{"$f":"IF('Measure Recommendation'!C54>0,'Measure Recommendation'!C54,\"\")","v":""},{"$f":"IF('Measure Recommendation'!X54=\"Yes\",\"g\",\"c\")","v":"c"}]
[null,{"$f":"DataPhaseValid!D61","v":""},{"$f":"IF('Measure Recommendation'!$I55=\"\",\"\",'Measure Recommendation'!L55)","v":""},{"$f":"IF('Measure Recommendation'!$I55=\"\",\"\",'Measure Recommendation'!M55)","v":""},{"$f":"IF('Measure Recommendation'!$I55=\"\",\"\",'Measure Recommendation'!V55)","v":""},{"$f":"IF('Measure Recommendation'!$I55=\"\",\"\",'Measure Recommendation'!W55)","v":""},{"$f":"IF('Measure Recommendation'!C55>0,'Measure Recommendation'!C55,\"\")","v":""},{"$f":"IF('Measure Recommendation'!X55=\"Yes\",\"g\",\"c\")","v":"c"}]
[null,{"$f":"DataPhaseValid!D62","v":""},{"$f":"IF('Measure Recommendation'!$I56=\"\",\"\",'Measure Recommendation'!L56)","v":""},{"$f":"IF('Measure Recommendation'!$I56=\"\",\"\",'Measure Recommendation'!M56)","v":""},{"$f":"IF('Measure Recommendation'!$I56=\"\",\"\",'Measure Recommendation'!V56)","v":""},{"$f":"IF('Measure Recommendation'!$I56=\"\",\"\",'Measure Recommendation'!W56)","v":""},{"$f":"IF('Measure Recommendation'!C56>0,'Measure Recommendation'!C56,\"\")","v":""},{"$f":"IF('Measure Recommendation'!X56=\"Yes\",\"g\",\"c\")","v":"c"}]
[null,{"$f":"DataPhaseValid!D63","v":""},{"$f":"IF('Measure Recommendation'!$I57=\"\",\"\",'Measure Recommendation'!L57)","v":""},{"$f":"IF('Measure Recommendation'!$I57=\"\",\"\",'Measure Recommendation'!M57)","v":""},{"$f":"IF('Measure Recommendation'!$I57=\"\",\"\",'Measure Recommendation'!V57)","v":""},{"$f":"IF('Measure Recommendation'!$I57=\"\",\"\",'Measure Recommendation'!W57)","v":""},{"$f":"IF('Measure Recommendation'!C57>0,'Measure Recommendation'!C57,\"\")","v":""},{"$f":"IF('Measure Recommendation'!X57=\"Yes\",\"g\",\"c\")","v":"c"}]
[null,{"$f":"DataPhaseValid!D64","v":""},{"$f":"IF('Measure Recommendation'!$I58=\"\",\"\",'Measure Recommendation'!L58)","v":""},{"$f":"IF('Measure Recommendation'!$I58=\"\",\"\",'Measure Recommendation'!M58)","v":""},{"$f":"IF('Measure Recommendation'!$I58=\"\",\"\",'Measure Recommendation'!V58)","v":""},{"$f":"IF('Measure Recommendation'!$I58=\"\",\"\",'Measure Recommendation'!W58)","v":""},{"$f":"IF('Measure Recommendation'!C58>0,'Measure Recommendation'!C58,\"\")","v":""},{"$f":"IF('Measure Recommendation'!X58=\"Yes\",\"g\",\"c\")","v":"c"}]
[null,{"$f":"DataPhaseValid!D65","v":""},{"$f":"IF('Measure Recommendation'!$I59=\"\",\"\",'Measure Recommendation'!L59)","v":""},{"$f":"IF('Measure Recommendation'!$I59=\"\",\"\",'Measure Recommendation'!M59)","v":""},{"$f":"IF('Measure Recommendation'!$I59=\"\",\"\",'Measure Recommendation'!V59)","v":""},{"$f":"IF('Measure Recommendation'!$I59=\"\",\"\",'Measure Recommendation'!W59)","v":""},{"$f":"IF('Measure Recommendation'!C59>0,'Measure Recommendation'!C59,\"\")","v":""},{"$f":"IF('Measure Recommendation'!X59=\"Yes\",\"g\",\"c\")","v":"c"}]
[null,{"$f":"DataPhaseValid!D66","v":""},{"$f":"IF('Measure Recommendation'!$I60=\"\",\"\",'Measure Recommendation'!L60)","v":""},{"$f":"IF('Measure Recommendation'!$I60=\"\",\"\",'Measure Recommendation'!M60)","v":""},{"$f":"IF('Measure Recommendation'!$I60=\"\",\"\",'Measure Recommendation'!V60)","v":""},{"$f":"IF('Measure Recommendation'!$I60=\"\",\"\",'Measure Recommendation'!W60)","v":""},{"$f":"IF('Measure Recommendation'!C60>0,'Measure Recommendation'!C60,\"\")","v":""},{"$f":"IF('Measure Recommendation'!X60=\"Yes\",\"g\",\"c\")","v":"c"}]
[null,{"$f":"IF(Instructions!F3=\"MBCx\",\"Verification Phase Total\",\"Verification Phase Total\")","v":"Verification Phase Total"},{"$f":"'Measure Recommendation'!L61","v":0},{"$f":"'Measure Recommendation'!M61","v":0},{"$f":"'Measure Recommendation'!V61","v":0},{"$f":"'Measure Recommendation'!W61","v":""},"-"]
[null,"Verification Phase Total - Current Bundle",{"$f":"'Measure Recommendation'!L62","v":0},{"$f":"'Measure Recommendation'!M62","v":0},{"$f":"'Measure Recommendation'!V62","v":0},{"$f":"'Measure Recommendation'!W62","v":""},"-"]
[]
[]
[null,{"$f":"IF(Instructions!F3=\"RCx Flex\",\"Signature:    ______________________________________\",\"\")","v":""}]
[]
[null,{"$f":"IF(Instructions!F3=\"RCx Flex\",\"Date:             ______________________________________\",\"\")","v":""}]
[]
[]
[]
[]
[{"$f":"DataPhaseValid!G46","v":""}]
[{"$f":"DataPhaseValid!G151&'Contact & Facility Information'!B12&DataPhaseValid!G152&'Contact & Facility Information'!B6&DataPhaseValid!G153&'Contact & Facility Information'!B12&DataPhaseValid!G154","v":""}]

{"sheet":"RecElecGas","index":14,"n_rows":61,"n_cols":10,"rows_kept":61,"cut":false,"hidden":true,"merged":[[60,0,61,9],[1,0,1,3],[7,0,27,0],[59,0,59,9],[3,0,3,9],[4,0,4,9],[5,2,5,3],[5,4,5,5],[28,0,49,0],[1,5,1,7]]}
[1]
[{"$f":"DataPhaseValid!$G$4&\" | \"&DataPhaseValid!$G$5","v":" | "},null,null,null,null,{"$f":"IF(Instructions!F4=\"Investigation\", \"\", \"Verification Report Approval Date: \" & TEXT(Instructions!$F$14, \"mm/dd/yyyy\"))","v":"Verification Report Approval Date: 01/00/1900"}]
[]
[{"$f":"DataPhaseValid!G41","v":""}]
[{"$f":"DataPhaseValid!G42","v":""}]
[null,null,"Electric",null,"Natural Gas"]
["Phase","Energy Conservation Measure (ECM) Description","Electric Energy Savings (kWh/yr)","Electric Cost Savings ($/yr)","Natural Gas Savings (therms/yr)","Natural Gas Cost Savings ($/yr)","ECM Installation Cost ($)","Simple Payback Without Incentives (Years)",{"$f":"IF(Instructions!F3 = \"Rcx Flex\",\"RCx Flex Bundle #\",\"MBCx Bundle #\")","v":"MBCx Bundle #"},{"$f":"DataPhaseValid!G43","v":""}]
["Investigation",{"$f":"DataPhaseValid!C47","v":""},{"$f":"IF('Measure Recommendation'!$I17=\"\",\"\",'Measure Recommendation'!L17)","v":""},{"$f":"IF('Measure Recommendation'!$I17=\"\",\"\",'Measure Recommendation'!M17)","v":""},{"$f":"IF('Measure Recommendation'!$I17=\"\",\"\",'Measure Recommendation'!N17)","v":""},{"$f":"IF('Measure Recommendation'!$I17=\"\",\"\",'Measure Recommendation'!O17)","v":""},{"$f":"IF('Measure Recommendation'!$I17=\"\",\"\",'Measure Recommendation'!V17)","v":""},{"$f":"IF('Measure Recommendation'!$I17=\"\",\"\",'Measure Recommendation'!W17)","v":""},{"$f":"IF('Measure Recommendation'!C17>0,'Measure Recommendation'!C17,\"\")","v":""},{"$f":"IF('Measure Recommendation'!X17=\"Yes\", \"g\",\"c\")","v":"c"}]
[null,{"$f":"DataPhaseValid!C48","v":""},{"$f":"IF('Measure Recommendation'!$I18=\"\",\"\",'Measure Recommendation'!L18)","v":""},{"$f":"IF('Measure Recommendation'!$I18=\"\",\"\",'Measure Recommendation'!M18)","v":""},{"$f":"IF('Measure Recommendation'!$I18=\"\",\"\",'Measure Recommendation'!N18)","v":""},{"$f":"IF('Measure Recommendation'!$I18=\"\",\"\",'Measure Recommendation'!O18)","v":""},{"$f":"IF('Measure Recommendation'!$I18=\"\",\"\",'Measure Recommendation'!V18)","v":""},{"$f":"IF('Measure Recommendation'!$I18=\"\",\"\",'Measure Recommendation'!W18)","v":""},{"$f":"IF('Measure Recommendation'!C18>0,'Measure Recommendation'!C18,\"\")","v":""},{"$f":"IF('Measure Recommendation'!X18=\"Yes\", \"g\",\"c\")","v":"c"}]
[null,{"$f":"DataPhaseValid!C49","v":""},{"$f":"IF('Measure Recommendation'!$I19=\"\",\"\",'Measure Recommendation'!L19)","v":""},{"$f":"IF('Measure Recommendation'!$I19=\"\",\"\",'Measure Recommendation'!M19)","v":""},{"$f":"IF('Measure Recommendation'!$I19=\"\",\"\",'Measure Recommendation'!N19)","v":""},{"$f":"IF('Measure Recommendation'!$I19=\"\",\"\",'Measure Recommendation'!O19)","v":""},{"$f":"IF('Measure Recommendation'!$I19=\"\",\"\",'Measure Recommendation'!V19)","v":""},{"$f":"IF('Measure Recommendation'!$I19=\"\",\"\",'Measure Recommendation'!W19)","v":""},{"$f":"IF('Measure Recommendation'!C19>0,'Measure Recommendation'!C19,\"\")","v":""},{"$f":"IF('Measure Recommendation'!X19=\"Yes\", \"g\",\"c\")","v":"c"}]
[null,{"$f":"DataPhaseValid!C50","v":""},{"$f":"IF('Measure Recommendation'!$I20=\"\",\"\",'Measure Recommendation'!L20)","v":""},{"$f":"IF('Measure Recommendation'!$I20=\"\",\"\",'Measure Recommendation'!M20)","v":""},{"$f":"IF('Measure Recommendation'!$I20=\"\",\"\",'Measure Recommendation'!N20)","v":""},{"$f":"IF('Measure Recommendation'!$I20=\"\",\"\",'Measure Recommendation'!O20)","v":""},{"$f":"IF('Measure Recommendation'!$I20=\"\",\"\",'Measure Recommendation'!V20)","v":""},{"$f":"IF('Measure Recommendation'!$I20=\"\",\"\",'Measure Recommendation'!W20)","v":""},{"$f":"IF('Measure Recommendation'!C20>0,'Measure Recommendation'!C20,\"\")","v":""},{"$f":"IF('Measure Recommendation'!X20=\"Yes\", \"g\",\"c\")","v":"c"}]
[null,{"$f":"DataPhaseValid!C51","v":""},{"$f":"IF('Measure Recommendation'!$I21=\"\",\"\",'Measure Recommendation'!L21)","v":""},{"$f":"IF('Measure Recommendation'!$I21=\"\",\"\",'Measure Recommendation'!M21)","v":""},{"$f":"IF('Measure Recommendation'!$I21=\"\",\"\",'Measure Recommendation'!N21)","v":""},{"$f":"IF('Measure Recommendation'!$I21=\"\",\"\",'Measure Recommendation'!O21)","v":""},{"$f":"IF('Measure Recommendation'!$I21=\"\",\"\",'Measure Recommendation'!V21)","v":""},{"$f":"IF('Measure Recommendation'!$I21=\"\",\"\",'Measure Recommendation'!W21)","v":""},{"$f":"IF('Measure Recommendation'!C21>0,'Measure Recommendation'!C21,\"\")","v":""},{"$f":"IF('Measure Recommendation'!X21=\"Yes\", \"g\",\"c\")","v":"c"}]
[null,{"$f":"DataPhaseValid!C52","v":""},{"$f":"IF('Measure Recommendation'!$I22=\"\",\"\",'Measure Recommendation'!L22)","v":""},{"$f":"IF('Measure Recommendation'!$I22=\"\",\"\",'Measure Recommendation'!M22)","v":""},{"$f":"IF('Measure Recommendation'!$I22=\"\",\"\",'Measure Recommendation'!N22)","v":""},{"$f":"IF('Measure Recommendation'!$I22=\"\",\"\",'Measure Recommendation'!O22)","v":""},{"$f":"IF('Measure Recommendation'!$I22=\"\",\"\",'Measure Recommendation'!V22)","v":""},{"$f":"IF('Measure Recommendation'!$I22=\"\",\"\",'Measure Recommendation'!W22)","v":""},{"$f":"IF('Measure Recommendation'!C22>0,'Measure Recommendation'!C22,\"\")","v":""},{"$f":"IF('Measure Recommendation'!X22=\"Yes\", \"g\",\"c\")","v":"c"}]
[null,{"$f":"DataPhaseValid!C53","v":""},{"$f":"IF('Measure Recommendation'!$I23=\"\",\"\",'Measure Recommendation'!L23)","v":""},{"$f":"IF('Measure Recommendation'!$I23=\"\",\"\",'Measure Recommendation'!M23)","v":""},{"$f":"IF('Measure Recommendation'!$I23=\"\",\"\",'Measure Recommendation'!N23)","v":""},{"$f":"IF('Measure Recommendation'!$I23=\"\",\"\",'Measure Recommendation'!O23)","v":""},{"$f":"IF('Measure Recommendation'!$I23=\"\",\"\",'Measure Recommendation'!V23)","v":""},{"$f":"IF('Measure Recommendation'!$I23=\"\",\"\",'Measure Recommendation'!W23)","v":""},{"$f":"IF('Measure Recommendation'!C23>0,'Measure Recommendation'!C23,\"\")","v":""},{"$f":"IF('Measure Recommendation'!X23=\"Yes\", \"g\",\"c\")","v":"c"}]
[null,{"$f":"DataPhaseValid!C54","v":""},{"$f":"IF('Measure Recommendation'!$I24=\"\",\"\",'Measure Recommendation'!L24)","v":""},{"$f":"IF('Measure Recommendation'!$I24=\"\",\"\",'Measure Recommendation'!M24)","v":""},{"$f":"IF('Measure Recommendation'!$I24=\"\",\"\",'Measure Recommendation'!N24)","v":""},{"$f":"IF('Measure Recommendation'!$I24=\"\",\"\",'Measure Recommendation'!O24)","v":""},{"$f":"IF('Measure Recommendation'!$I24=\"\",\"\",'Measure Recommendation'!V24)","v":""},{"$f":"IF('Measure Recommendation'!$I24=\"\",\"\",'Measure Recommendation'!W24)","v":""},{"$f":"IF('Measure Recommendation'!C24>0,'Measure Recommendation'!C24,\"\")","v":""},{"$f":"IF('Measure Recommendation'!X24=\"Yes\", \"g\",\"c\")","v":"c"}]
[null,{"$f":"DataPhaseValid!C55","v":""},{"$f":"IF('Measure Recommendation'!$I25=\"\",\"\",'Measure Recommendation'!L25)","v":""},{"$f":"IF('Measure Recommendation'!$I25=\"\",\"\",'Measure Recommendation'!M25)","v":""},{"$f":"IF('Measure Recommendation'!$I25=\"\",\"\",'Measure Recommendation'!N25)","v":""},{"$f":"IF('Measure Recommendation'!$I25=\"\",\"\",'Measure Recommendation'!O25)","v":""},{"$f":"IF('Measure Recommendation'!$I25=\"\",\"\",'Measure Recommendation'!V25)","v":""},{"$f":"IF('Measure Recommendation'!$I25=\"\",\"\",'Measure Recommendation'!W25)","v":""},{"$f":"IF('Measure Recommendation'!C25>0,'Measure Recommendation'!C25,\"\")","v":""},{"$f":"IF('Measure Recommendation'!X25=\"Yes\", \"g\",\"c\")","v":"c"}]
[null,{"$f":"DataPhaseValid!C56","v":""},{"$f":"IF('Measure Recommendation'!$I26=\"\",\"\",'Measure Recommendation'!L26)","v":""},{"$f":"IF('Measure Recommendation'!$I26=\"\",\"\",'Measure Recommendation'!M26)","v":""},{"$f":"IF('Measure Recommendation'!$I26=\"\",\"\",'Measure Recommendation'!N26)","v":""},{"$f":"IF('Measure Recommendation'!$I26=\"\",\"\",'Measure Recommendation'!O26)","v":""},{"$f":"IF('Measure Recommendation'!$I26=\"\",\"\",'Measure Recommendation'!V26)","v":""},{"$f":"IF('Measure Recommendation'!$I26=\"\",\"\",'Measure Recommendation'!W26)","v":""},{"$f":"IF('Measure Recommendation'!C26>0,'Measure Recommendation'!C26,\"\")","v":""},{"$f":"IF('Measure Recommendation'!X26=\"Yes\", \"g\",\"c\")","v":"c"}]
[null,{"$f":"DataPhaseValid!C57","v":""},{"$f":"IF('Measure Recommendation'!$I27=\"\",\"\",'Measure Recommendation'!L27)","v":""},{"$f":"IF('Measure Recommendation'!$I27=\"\",\"\",'Measure Recommendation'!M27)","v":""},{"$f":"IF('Measure Recommendation'!$I27=\"\",\"\",'Measure Recommendation'!N27)","v":""},{"$f":"IF('Measure Recommendation'!$I27=\"\",\"\",'Measure Recommendation'!O27)","v":""},{"$f":"IF('Measure Recommendation'!$I27=\"\",\"\",'Measure Recommendation'!V27)","v":""},{"$f":"IF('Measure Recommendation'!$I27=\"\",\"\",'Measure Recommendation'!W27)","v":""},{"$f":"IF('Measure Recommendation'!C27>0,'Measure Recommendation'!C27,\"\")","v":""},{"$f":"IF('Measure Recommendation'!X27=\"Yes\", \"g\",\"c\")","v":"c"}]
[null,{"$f":"DataPhaseValid!C58","v":""},{"$f":"IF('Measure Recommendation'!$I28=\"\",\"\",'Measure Recommendation'!L28)","v":""},{"$f":"IF('Measure Recommendation'!$I28=\"\",\"\",'Measure Recommendation'!M28)","v":""},{"$f":"IF('Measure Recommendation'!$I28=\"\",\"\",'Measure Recommendation'!N28)","v":""},{"$f":"IF('Measure Recommendation'!$I28=\"\",\"\",'Measure Recommendation'!O28)","v":""},{"$f":"IF('Measure Recommendation'!$I28=\"\",\"\",'Measure Recommendation'!V28)","v":""},{"$f":"IF('Measure Recommendation'!$I28=\"\",\"\",'Measure Recommendation'!W28)","v":""},{"$f":"IF('Measure Recommendation'!C28>0,'Measure Recommendation'!C28,\"\")","v":""},{"$f":"IF('Measure Recommendation'!X28=\"Yes\", \"g\",\"c\")","v":"c"}]
[null,{"$f":"DataPhaseValid!C59","v":""},{"$f":"IF('Measure Recommendation'!$I29=\"\",\"\",'Measure Recommendation'!L29)","v":""},{"$f":"IF('Measure Recommendation'!$I29=\"\",\"\",'Measure Recommendation'!M29)","v":""},{"$f":"IF('Measure Recommendation'!$I29=\"\",\"\",'Measure Recommendation'!N29)","v":""},{"$f":"IF('Measure Recommendation'!$I29=\"\",\"\",'Measure Recommendation'!O29)","v":""},{"$f":"IF('Measure Recommendation'!$I29=\"\",\"\",'Measure Recommendation'!V29)","v":""},{"$f":"IF('Measure Recommendation'!$I29=\"\",\"\",'Measure Recommendation'!W29)","v":""},{"$f":"IF('Measure Recommendation'!C29>0,'Measure Recommendation'!C29,\"\")","v":""},{"$f":"IF('Measure Recommendation'!X29=\"Yes\", \"g\",\"c\")","v":"c"}]
[null,{"$f":"DataPhaseValid!C60","v":""},{"$f":"IF('Measure Recommendation'!$I30=\"\",\"\",'Measure Recommendation'!L30)","v":""},{"$f":"IF('Measure Recommendation'!$I30=\"\",\"\",'Measure Recommendation'!M30)","v":""},{"$f":"IF('Measure Recommendation'!$I30=\"\",\"\",'Measure Recommendation'!N30)","v":""},{"$f":"IF('Measure Recommendation'!$I30=\"\",\"\",'Measure Recommendation'!O30)","v":""},{"$f":"IF('Measure Recommendation'!$I30=\"\",\"\",'Measure Recommendation'!V30)","v":""},{"$f":"IF('Measure Recommendation'!$I30=\"\",\"\",'Measure Recommendation'!W30)","v":""},{"$f":"IF('Measure Recommendation'!C30>0,'Measure Recommendation'!C30,\"\")","v":""},{"$f":"IF('Measure Recommendation'!X30=\"Yes\", \"g\",\"c\")","v":"c"}]
[null,{"$f":"DataPhaseValid!C61","v":""},{"$f":"IF('Measure Recommendation'!$I31=\"\",\"\",'Measure Recommendation'!L31)","v":""},{"$f":"IF('Measure Recommendation'!$I31=\"\",\"\",'Measure Recommendation'!M31)","v":""},{"$f":"IF('Measure Recommendation'!$I31=\"\",\"\",'Measure Recommendation'!N31)","v":""},{"$f":"IF('Measure Recommendation'!$I31=\"\",\"\",'Measure Recommendation'!O31)","v":""},{"$f":"IF('Measure Recommendation'!$I31=\"\",\"\",'Measure Recommendation'!V31)","v":""},{"$f":"IF('Measure Recommendation'!$I31=\"\",\"\",'Measure Recommendation'!W31)","v":""},{"$f":"IF('Measure Recommendation'!C31>0,'Measure Recommendation'!C31,\"\")","v":""},{"$f":"IF('Measure Recommendation'!X31=\"Yes\", \"g\",\"c\")","v":"c"}]
[null,{"$f":"DataPhaseValid!C62","v":""},{"$f":"IF('Measure Recommendation'!$I32=\"\",\"\",'Measure Recommendation'!L32)","v":""},{"$f":"IF('Measure Recommendation'!$I32=\"\",\"\",'Measure Recommendation'!M32)","v":""},{"$f":"IF('Measure Recommendation'!$I32=\"\",\"\",'Measure Recommendation'!N32)","v":""},{"$f":"IF('Measure Recommendation'!$I32=\"\",\"\",'Measure Recommendation'!O32)","v":""},{"$f":"IF('Measure Recommendation'!$I32=\"\",\"\",'Measure Recommendation'!V32)","v":""},{"$f":"IF('Measure Recommendation'!$I32=\"\",\"\",'Measure Recommendation'!W32)","v":""},{"$f":"IF('Measure Recommendation'!C32>0,'Measure Recommendation'!C32,\"\")","v":""},{"$f":"IF('Measure Recommendation'!X32=\"Yes\", \"g\",\"c\")","v":"c"}]
[null,{"$f":"DataPhaseValid!C63","v":""},{"$f":"IF('Measure Recommendation'!$I33=\"\",\"\",'Measure Recommendation'!L33)","v":""},{"$f":"IF('Measure Recommendation'!$I33=\"\",\"\",'Measure Recommendation'!M33)","v":""},{"$f":"IF('Measure Recommendation'!$I33=\"\",\"\",'Measure Recommendation'!N33)","v":""},{"$f":"IF('Measure Recommendation'!$I33=\"\",\"\",'Measure Recommendation'!O33)","v":""},{"$f":"IF('Measure Recommendation'!$I33=\"\",\"\",'Measure Recommendation'!V33)","v":""},{"$f":"IF('Measure Recommendation'!$I33=\"\",\"\",'Measure Recommendation'!W33)","v":""},{"$f":"IF('Measure Recommendation'!C33>0,'Measure Recommendation'!C33,\"\")","v":""},{"$f":"IF('Measure Recommendation'!X33=\"Yes\", \"g\",\"c\")","v":"c"}]
[null,{"$f":"DataPhaseValid!C64","v":""},{"$f":"IF('Measure Recommendation'!$I34=\"\",\"\",'Measure Recommendation'!L34)","v":""},{"$f":"IF('Measure Recommendation'!$I34=\"\",\"\",'Measure Recommendation'!M34)","v":""},{"$f":"IF('Measure Recommendation'!$I34=\"\",\"\",'Measure Recommendation'!N34)","v":""},{"$f":"IF('Measure Recommendation'!$I34=\"\",\"\",'Measure Recommendation'!O34)","v":""},{"$f":"IF('Measure Recommendation'!$I34=\"\",\"\",'Measure Recommendation'!V34)","v":""},{"$f":"IF('Measure Recommendation'!$I34=\"\",\"\",'Measure Recommendation'!W34)","v":""},{"$f":"IF('Measure Recommendation'!C34>0,'Measure Recommendation'!C34,\"\")","v":""},{"$f":"IF('Measure Recommendation'!X34=\"Yes\", \"g\",\"c\")","v":"c"}]
[null,{"$f":"DataPhaseValid!C65","v":""},{"$f":"IF('Measure Recommendation'!$I35=\"\",\"\",'Measure Recommendation'!L35)","v":""},{"$f":"IF('Measure Recommendation'!$I35=\"\",\"\",'Measure Recommendation'!M35)","v":""},{"$f":"IF('Measure Recommendation'!$I35=\"\",\"\",'Measure Recommendation'!N35)","v":""},{"$f":"IF('Measure Recommendation'!$I35=\"\",\"\",'Measure Recommendation'!O35)","v":""},{"$f":"IF('Measure Recommendation'!$I35=\"\",\"\",'Measure Recommendation'!V35)","v":""},{"$f":"IF('Measure Recommendation'!$I35=\"\",\"\",'Measure Recommendation'!W35)","v":""},{"$f":"IF('Measure Recommendation'!C35>0,'Measure Recommendation'!C35,\"\")","v":""},{"$f":"IF('Measure Recommendation'!X35=\"Yes\", \"g\",\"c\")","v":"c"}]
[null,{"$f":"DataPhaseValid!C66","v":""},{"$f":"IF('Measure Recommendation'!$I36=\"\",\"\",'Measure Recommendation'!L36)","v":""},{"$f":"IF('Measure Recommendation'!$I36=\"\",\"\",'Measure Recommendation'!M36)","v":""},{"$f":"IF('Measure Recommendation'!$I36=\"\",\"\",'Measure Recommendation'!N36)","v":""},{"$f":"IF('Measure Recommendation'!$I36=\"\",\"\",'Measure Recommendation'!O36)","v":""},{"$f":"IF('Measure Recommendation'!$I36=\"\",\"\",'Measure Recommendation'!V36)","v":""},{"$f":"IF('Measure Recommendation'!$I36=\"\",\"\",'Measure Recommendation'!W36)","v":""},{"$f":"IF('Measure Recommendation'!C36>0,'Measure Recommendation'!C36,\"\")","v":""},{"$f":"IF('Measure Recommendation'!X36=\"Yes\", \"g\",\"c\")","v":"c"}]
[null,"Investigation Phase Total",{"$f":"'Measure Recommendation'!L37","v":0},{"$f":"'Measure Recommendation'!M37","v":0},{"$f":"'Measure Recommendation'!N37","v":0},{"$f":"'Measure Recommendation'!O37","v":0},{"$f":"'Measure Recommendation'!V37","v":0},{"$f":"'Measure Recommendation'!W37","v":""},"-"]
["Verification",{"$f":"DataPhaseValid!D47","v":""},{"$f":"IF('Measure Recommendation'!$I41=\"\",\"\",'Measure Recommendation'!L41)","v":""},{"$f":"IF('Measure Recommendation'!$I41=\"\",\"\",'Measure Recommendation'!M41)","v":""},{"$f":"IF('Measure Recommendation'!$I41=\"\",\"\",'Measure Recommendation'!N41)","v":""},{"$f":"IF('Measure Recommendation'!$I41=\"\",\"\",'Measure Recommendation'!O41)","v":""},{"$f":"IF('Measure Recommendation'!$I41=\"\",\"\",'Measure Recommendation'!V41)","v":""},{"$f":"IF('Measure Recommendation'!$I41=\"\",\"\",'Measure Recommendation'!W41)","v":""},{"$f":"IF('Measure Recommendation'!C41>0,'Measure Recommendation'!C41,\"\")","v":""},{"$f":"IF('Measure Recommendation'!X41=\"Yes\",\"g\",\"c\")","v":"c"}]
[null,{"$f":"DataPhaseValid!D48","v":""},{"$f":"IF('Measure Recommendation'!$I42=\"\",\"\",'Measure Recommendation'!L42)","v":""},{"$f":"IF('Measure Recommendation'!$I42=\"\",\"\",'Measure Recommendation'!M42)","v":""},{"$f":"IF('Measure Recommendation'!$I42=\"\",\"\",'Measure Recommendation'!N42)","v":""},{"$f":"IF('Measure Recommendation'!$I42=\"\",\"\",'Measure Recommendation'!O42)","v":""},{"$f":"IF('Measure Recommendation'!$I42=\"\",\"\",'Measure Recommendation'!V42)","v":""},{"$f":"IF('Measure Recommendation'!$I42=\"\",\"\",'Measure Recommendation'!W42)","v":""},{"$f":"IF('Measure Recommendation'!C42>0,'Measure Recommendation'!C42,\"\")","v":""},{"$f":"IF('Measure Recommendation'!X42=\"Yes\",\"g\",\"c\")","v":"c"}]
[null,{"$f":"DataPhaseValid!D49","v":""},{"$f":"IF('Measure Recommendation'!$I43=\"\",\"\",'Measure Recommendation'!L43)","v":""},{"$f":"IF('Measure Recommendation'!$I43=\"\",\"\",'Measure Recommendation'!M43)","v":""},{"$f":"IF('Measure Recommendation'!$I43=\"\",\"\",'Measure Recommendation'!N43)","v":""},{"$f":"IF('Measure Recommendation'!$I43=\"\",\"\",'Measure Recommendation'!O43)","v":""},{"$f":"IF('Measure Recommendation'!$I43=\"\",\"\",'Measure Recommendation'!V43)","v":""},{"$f":"IF('Measure Recommendation'!$I43=\"\",\"\",'Measure Recommendation'!W43)","v":""},{"$f":"IF('Measure Recommendation'!C43>0,'Measure Recommendation'!C43,\"\")","v":""},{"$f":"IF('Measure Recommendation'!X43=\"Yes\",\"g\",\"c\")","v":"c"}]
[null,{"$f":"DataPhaseValid!D50","v":""},{"$f":"IF('Measure Recommendation'!$I44=\"\",\"\",'Measure Recommendation'!L44)","v":""},{"$f":"IF('Measure Recommendation'!$I44=\"\",\"\",'Measure Recommendation'!M44)","v":""},{"$f":"IF('Measure Recommendation'!$I44=\"\",\"\",'Measure Recommendation'!N44)","v":""},{"$f":"IF('Measure Recommendation'!$I44=\"\",\"\",'Measure Recommendation'!O44)","v":""},{"$f":"IF('Measure Recommendation'!$I44=\"\",\"\",'Measure Recommendation'!V44)","v":""},{"$f":"IF('Measure Recommendation'!$I44=\"\",\"\",'Measure Recommendation'!W44)","v":""},{"$f":"IF('Measure Recommendation'!C44>0,'Measure Recommendation'!C44,\"\")","v":""},{"$f":"IF('Measure Recommendation'!X44=\"Yes\",\"g\",\"c\")","v":"c"}]
[null,{"$f":"DataPhaseValid!D51","v":""},{"$f":"IF('Measure Recommendation'!$I45=\"\",\"\",'Measure Recommendation'!L45)","v":""},{"$f":"IF('Measure Recommendation'!$I45=\"\",\"\",'Measure Recommendation'!M45)","v":""},{"$f":"IF('Measure Recommendation'!$I45=\"\",\"\",'Measure Recommendation'!N45)","v":""},{"$f":"IF('Measure Recommendation'!$I45=\"\",\"\",'Measure Recommendation'!O45)","v":""},{"$f":"IF('Measure Recommendation'!$I45=\"\",\"\",'Measure Recommendation'!V45)","v":""},{"$f":"IF('Measure Recommendation'!$I45=\"\",\"\",'Measure Recommendation'!W45)","v":""},{"$f":"IF('Measure Recommendation'!C45>0,'Measure Recommendation'!C45,\"\")","v":""},{"$f":"IF('Measure Recommendation'!X45=\"Yes\",\"g\",\"c\")","v":"c"}]
[null,{"$f":"DataPhaseValid!D52","v":""},{"$f":"IF('Measure Recommendation'!$I46=\"\",\"\",'Measure Recommendation'!L46)","v":""},{"$f":"IF('Measure Recommendation'!$I46=\"\",\"\",'Measure Recommendation'!M46)","v":""},{"$f":"IF('Measure Recommendation'!$I46=\"\",\"\",'Measure Recommendation'!N46)","v":""},{"$f":"IF('Measure Recommendation'!$I46=\"\",\"\",'Measure Recommendation'!O46)","v":""},{"$f":"IF('Measure Recommendation'!$I46=\"\",\"\",'Measure Recommendation'!V46)","v":""},{"$f":"IF('Measure Recommendation'!$I46=\"\",\"\",'Measure Recommendation'!W46)","v":""},{"$f":"IF('Measure Recommendation'!C46>0,'Measure Recommendation'!C46,\"\")","v":""},{"$f":"IF('Measure Recommendation'!X46=\"Yes\",\"g\",\"c\")","v":"c"}]
[null,{"$f":"DataPhaseValid!D53","v":""},{"$f":"IF('Measure Recommendation'!$I47=\"\",\"\",'Measure Recommendation'!L47)","v":""},{"$f":"IF('Measure Recommendation'!$I47=\"\",\"\",'Measure Recommendation'!M47)","v":""},{"$f":"IF('Measure Recommendation'!$I47=\"\",\"\",'Measure Recommendation'!N47)","v":""},{"$f":"IF('Measure Recommendation'!$I47=\"\",\"\",'Measure Recommendation'!O47)","v":""},{"$f":"IF('Measure Recommendation'!$I47=\"\",\"\",'Measure Recommendation'!V47)","v":""},{"$f":"IF('Measure Recommendation'!$I47=\"\",\"\",'Measure Recommendation'!W47)","v":""},{"$f":"IF('Measure Recommendation'!C47>0,'Measure Recommendation'!C47,\"\")","v":""},{"$f":"IF('Measure Recommendation'!X47=\"Yes\",\"g\",\"c\")","v":"c"}]
[null,{"$f":"DataPhaseValid!D54","v":""},{"$f":"IF('Measure Recommendation'!$I48=\"\",\"\",'Measure Recommendation'!L48)","v":""},{"$f":"IF('Measure Recommendation'!$I48=\"\",\"\",'Measure Recommendation'!M48)","v":""},{"$f":"IF('Measure Recommendation'!$I48=\"\",\"\",'Measure Recommendation'!N48)","v":""},{"$f":"IF('Measure Recommendation'!$I48=\"\",\"\",'Measure Recommendation'!O48)","v":""},{"$f":"IF('Measure Recommendation'!$I48=\"\",\"\",'Measure Recommendation'!V48)","v":""},{"$f":"IF('Measure Recommendation'!$I48=\"\",\"\",'Measure Recommendation'!W48)","v":""},{"$f":"IF('Measure Recommendation'!C48>0,'Measure Recommendation'!C48,\"\")","v":""},{"$f":"IF('Measure Recommendation'!X48=\"Yes\",\"g\",\"c\")","v":"c"}]
[null,{"$f":"DataPhaseValid!D55","v":""},{"$f":"IF('Measure Recommendation'!$I49=\"\",\"\",'Measure Recommendation'!L49)","v":""},{"$f":"IF('Measure Recommendation'!$I49=\"\",\"\",'Measure Recommendation'!M49)","v":""},{"$f":"IF('Measure Recommendation'!$I49=\"\",\"\",'Measure Recommendation'!N49)","v":""},{"$f":"IF('Measure Recommendation'!$I49=\"\",\"\",'Measure Recommendation'!O49)","v":""},{"$f":"IF('Measure Recommendation'!$I49=\"\",\"\",'Measure Recommendation'!V49)","v":""},{"$f":"IF('Measure Recommendation'!$I49=\"\",\"\",'Measure Recommendation'!W49)","v":""},{"$f":"IF('Measure Recommendation'!C49>0,'Measure Recommendation'!C49,\"\")","v":""},{"$f":"IF('Measure Recommendation'!X49=\"Yes\",\"g\",\"c\")","v":"c"}]
[null,{"$f":"DataPhaseValid!D56","v":""},{"$f":"IF('Measure Recommendation'!$I50=\"\",\"\",'Measure Recommendation'!L50)","v":""},{"$f":"IF('Measure Recommendation'!$I50=\"\",\"\",'Measure Recommendation'!M50)","v":""},{"$f":"IF('Measure Recommendation'!$I50=\"\",\"\",'Measure Recommendation'!N50)","v":""},{"$f":"IF('Measure Recommendation'!$I50=\"\",\"\",'Measure Recommendation'!O50)","v":""},{"$f":"IF('Measure Recommendation'!$I50=\"\",\"\",'Measure Recommendation'!V50)","v":""},{"$f":"IF('Measure Recommendation'!$I50=\"\",\"\",'Measure Recommendation'!W50)","v":""},{"$f":"IF('Measure Recommendation'!C50>0,'Measure Recommendation'!C50,\"\")","v":""},{"$f":"IF('Measure Recommendation'!X50=\"Yes\",\"g\",\"c\")","v":"c"}]
[null,{"$f":"DataPhaseValid!D57","v":""},{"$f":"IF('Measure Recommendation'!$I51=\"\",\"\",'Measure Recommendation'!L51)","v":""},{"$f":"IF('Measure Recommendation'!$I51=\"\",\"\",'Measure Recommendation'!M51)","v":""},{"$f":"IF('Measure Recommendation'!$I51=\"\",\"\",'Measure Recommendation'!N51)","v":""},{"$f":"IF('Measure Recommendation'!$I51=\"\",\"\",'Measure Recommendation'!O51)","v":""},{"$f":"IF('Measure Recommendation'!$I51=\"\",\"\",'Measure Recommendation'!V51)","v":""},{"$f":"IF('Measure Recommendation'!$I51=\"\",\"\",'Measure Recommendation'!W51)","v":""},{"$f":"IF('Measure Recommendation'!C51>0,'Measure Recommendation'!C51,\"\")","v":""},{"$f":"IF('Measure Recommendation'!X51=\"Yes\",\"g\",\"c\")","v":"c"}]
[null,{"$f":"DataPhaseValid!D58","v":""},{"$f":"IF('Measure Recommendation'!$I52=\"\",\"\",'Measure Recommendation'!L52)","v":""},{"$f":"IF('Measure Recommendation'!$I52=\"\",\"\",'Measure Recommendation'!M52)","v":""},{"$f":"IF('Measure Recommendation'!$I52=\"\",\"\",'Measure Recommendation'!N52)","v":""},{"$f":"IF('Measure Recommendation'!$I52=\"\",\"\",'Measure Recommendation'!O52)","v":""},{"$f":"IF('Measure Recommendation'!$I52=\"\",\"\",'Measure Recommendation'!V52)","v":""},{"$f":"IF('Measure Recommendation'!$I52=\"\",\"\",'Measure Recommendation'!W52)","v":""},{"$f":"IF('Measure Recommendation'!C52>0,'Measure Recommendation'!C52,\"\")","v":""},{"$f":"IF('Measure Recommendation'!X52=\"Yes\",\"g\",\"c\")","v":"c"}]
[null,{"$f":"DataPhaseValid!D59","v":""},{"$f":"IF('Measure Recommendation'!$I53=\"\",\"\",'Measure Recommendation'!L53)","v":""},{"$f":"IF('Measure Recommendation'!$I53=\"\",\"\",'Measure Recommendation'!M53)","v":""},{"$f":"IF('Measure Recommendation'!$I53=\"\",\"\",'Measure Recommendation'!N53)","v":""},{"$f":"IF('Measure Recommendation'!$I53=\"\",\"\",'Measure Recommendation'!O53)","v":""},{"$f":"IF('Measure Recommendation'!$I53=\"\",\"\",'Measure Recommendation'!V53)","v":""},{"$f":"IF('Measure Recommendation'!$I53=\"\",\"\",'Measure Recommendation'!W53)","v":""},{"$f":"IF('Measure Recommendation'!C53>0,'Measure Recommendation'!C53,\"\")","v":""},{"$f":"IF('Measure Recommendation'!X53=\"Yes\",\"g\",\"c\")","v":"c"}]
[null,{"$f":"DataPhaseValid!D60","v":""},{"$f":"IF('Measure Recommendation'!$I54=\"\",\"\",'Measure Recommendation'!L54)","v":""},{"$f":"IF('Measure Recommendation'!$I54=\"\",\"\",'Measure Recommendation'!M54)","v":""},{"$f":"IF('Measure Recommendation'!$I54=\"\",\"\",'Measure Recommendation'!N54)","v":""},{"$f":"IF('Measure Recommendation'!$I54=\"\",\"\",'Measure Recommendation'!O54)","v":""},{"$f":"IF('Measure Recommendation'!$I54=\"\",\"\",'Measure Recommendation'!V54)","v":""},{"$f":"IF('Measure Recommendation'!$I54=\"\",\"\",'Measure Recommendation'!W54)","v":""},{"$f":"IF('Measure Recommendation'!C54>0,'Measure Recommendation'!C54,\"\")","v":""},{"$f":"IF('Measure Recommendation'!X54=\"Yes\",\"g\",\"c\")","v":"c"}]
[null,{"$f":"DataPhaseValid!D61","v":""},{"$f":"IF('Measure Recommendation'!$I55=\"\",\"\",'Measure Recommendation'!L55)","v":""},{"$f":"IF('Measure Recommendation'!$I55=\"\",\"\",'Measure Recommendation'!M55)","v":""},{"$f":"IF('Measure Recommendation'!$I55=\"\",\"\",'Measure Recommendation'!N55)","v":""},{"$f":"IF('Measure Recommendation'!$I55=\"\",\"\",'Measure Recommendation'!O55)","v":""},{"$f":"IF('Measure Recommendation'!$I55=\"\",\"\",'Measure Recommendation'!V55)","v":""},{"$f":"IF('Measure Recommendation'!$I55=\"\",\"\",'Measure Recommendation'!W55)","v":""},{"$f":"IF('Measure Recommendation'!C55>0,'Measure Recommendation'!C55,\"\")","v":""},{"$f":"IF('Measure Recommendation'!X55=\"Yes\",\"g\",\"c\")","v":"c"}]
[null,{"$f":"DataPhaseValid!D62","v":""},{"$f":"IF('Measure Recommendation'!$I56=\"\",\"\",'Measure Recommendation'!L56)","v":""},{"$f":"IF('Measure Recommendation'!$I56=\"\",\"\",'Measure Recommendation'!M56)","v":""},{"$f":"IF('Measure Recommendation'!$I56=\"\",\"\",'Measure Recommendation'!N56)","v":""},{"$f":"IF('Measure Recommendation'!$I56=\"\",\"\",'Measure Recommendation'!O56)","v":""},{"$f":"IF('Measure Recommendation'!$I56=\"\",\"\",'Measure Recommendation'!V56)","v":""},{"$f":"IF('Measure Recommendation'!$I56=\"\",\"\",'Measure Recommendation'!W56)","v":""},{"$f":"IF('Measure Recommendation'!C56>0,'Measure Recommendation'!C56,\"\")","v":""},{"$f":"IF('Measure Recommendation'!X56=\"Yes\",\"g\",\"c\")","v":"c"}]
[null,{"$f":"DataPhaseValid!D63","v":""},{"$f":"IF('Measure Recommendation'!$I57=\"\",\"\",'Measure Recommendation'!L57)","v":""},{"$f":"IF('Measure Recommendation'!$I57=\"\",\"\",'Measure Recommendation'!M57)","v":""},{"$f":"IF('Measure Recommendation'!$I57=\"\",\"\",'Measure Recommendation'!N57)","v":""},{"$f":"IF('Measure Recommendation'!$I57=\"\",\"\",'Measure Recommendation'!O57)","v":""},{"$f":"IF('Measure Recommendation'!$I57=\"\",\"\",'Measure Recommendation'!V57)","v":""},{"$f":"IF('Measure Recommendation'!$I57=\"\",\"\",'Measure Recommendation'!W57)","v":""},{"$f":"IF('Measure Recommendation'!C57>0,'Measure Recommendation'!C57,\"\")","v":""},{"$f":"IF('Measure Recommendation'!X57=\"Yes\",\"g\",\"c\")","v":"c"}]
[null,{"$f":"DataPhaseValid!D64","v":""},{"$f":"IF('Measure Recommendation'!$I58=\"\",\"\",'Measure Recommendation'!L58)","v":""},{"$f":"IF('Measure Recommendation'!$I58=\"\",\"\",'Measure Recommendation'!M58)","v":""},{"$f":"IF('Measure Recommendation'!$I58=\"\",\"\",'Measure Recommendation'!N58)","v":""},{"$f":"IF('Measure Recommendation'!$I58=\"\",\"\",'Measure Recommendation'!O58)","v":""},{"$f":"IF('Measure Recommendation'!$I58=\"\",\"\",'Measure Recommendation'!V58)","v":""},{"$f":"IF('Measure Recommendation'!$I58=\"\",\"\",'Measure Recommendation'!W58)","v":""},{"$f":"IF('Measure Recommendation'!C58>0,'Measure Recommendation'!C58,\"\")","v":""},{"$f":"IF('Measure Recommendation'!X58=\"Yes\",\"g\",\"c\")","v":"c"}]
[null,{"$f":"DataPhaseValid!D65","v":""},{"$f":"IF('Measure Recommendation'!$I59=\"\",\"\",'Measure Recommendation'!L59)","v":""},{"$f":"IF('Measure Recommendation'!$I59=\"\",\"\",'Measure Recommendation'!M59)","v":""},{"$f":"IF('Measure Recommendation'!$I59=\"\",\"\",'Measure Recommendation'!N59)","v":""},{"$f":"IF('Measure Recommendation'!$I59=\"\",\"\",'Measure Recommendation'!O59)","v":""},{"$f":"IF('Measure Recommendation'!$I59=\"\",\"\",'Measure Recommendation'!V59)","v":""},{"$f":"IF('Measure Recommendation'!$I59=\"\",\"\",'Measure Recommendation'!W59)","v":""},{"$f":"IF('Measure Recommendation'!C59>0,'Measure Recommendation'!C59,\"\")","v":""},{"$f":"IF('Measure Recommendation'!X59=\"Yes\",\"g\",\"c\")","v":"c"}]
[null,{"$f":"DataPhaseValid!D66","v":""},{"$f":"IF('Measure Recommendation'!$I60=\"\",\"\",'Measure Recommendation'!L60)","v":""},{"$f":"IF('Measure Recommendation'!$I60=\"\",\"\",'Measure Recommendation'!M60)","v":""},{"$f":"IF('Measure Recommendation'!$I60=\"\",\"\",'Measure Recommendation'!N60)","v":""},{"$f":"IF('Measure Recommendation'!$I60=\"\",\"\",'Measure Recommendation'!O60)","v":""},{"$f":"IF('Measure Recommendation'!$I60=\"\",\"\",'Measure Recommendation'!V60)","v":""},{"$f":"IF('Measure Recommendation'!$I60=\"\",\"\",'Measure Recommendation'!W60)","v":""},{"$f":"IF('Measure Recommendation'!C60>0,'Measure Recommendation'!C60,\"\")","v":""},{"$f":"IF('Measure Recommendation'!X60=\"Yes\",\"g\",\"c\")","v":"c"}]
[null,{"$f":"IF(Instructions!F3=\"MBCx\",\"Verification Phase Total\",\"Verification Phase Total\")","v":"Verification Phase Total"},{"$f":"'Measure Recommendation'!L61","v":0},{"$f":"'Measure Recommendation'!M61","v":0},{"$f":"'Measure Recommendation'!N61","v":0},{"$f":"'Measure Recommendation'!O61","v":0},{"$f":"'Measure Recommendation'!V61","v":0},{"$f":"'Measure Recommendation'!W61","v":""},"-"]
[null,"Verification Phase Total - Current Bundle",{"$f":"'Measure Recommendation'!L62","v":0},{"$f":"'Measure Recommendation'!M62","v":0},{"$f":"'Measure Recommendation'!N62","v":0},{"$f":"'Measure Recommendation'!O62","v":0},{"$f":"'Measure Recommendation'!V62","v":0},{"$f":"'Measure Recommendation'!W62","v":""},"-"]
[]
[]
[null,{"$f":"IF(Instructions!F3=\"RCx Flex\",\"Signature:    ______________________________________\",\"\")","v":""}]
[]
[null,{"$f":"IF(Instructions!F3=\"RCx Flex\",\"Date:             ______________________________________\",\"\")","v":""}]
[]
[]
[]
[]
[{"$f":"DataPhaseValid!G34","v":""}]
[{"$f":"DataPhaseValid!G151&'Contact & Facility Information'!B12&DataPhaseValid!G152&'Contact & Facility Information'!B6&DataPhaseValid!G153&'Contact & Facility Information'!B12&DataPhaseValid!G154","v":""}]

{"sheet":"RecElecGasDist","index":15,"n_rows":61,"n_cols":14,"rows_kept":61,"cut":false,"hidden":true,"merged":[[1,0,1,6],[60,0,61,13],[59,0,59,13],[3,0,3,13],[4,0,4,13],[5,8,5,9],[28,0,49,0],[7,0,27,0],[5,4,5,5],[5,6,5,7],[5,2,5,3],[1,10,1,11]]}
[2]
[{"$f":"DataPhaseValid!$G$4&\" | \"&DataPhaseValid!$G$5","v":" | "},null,null,null,null,null,null,null,null,null,{"$f":"IF(Instructions!F4=\"Investigation\", \"\", \"Verification Report Approval Date: \" & TEXT(Instructions!$F$14, \"mm/dd/yyyy\"))","v":"Verification Report Approval Date: 01/00/1900"}]
[]
[{"$f":"DataPhaseValid!G41","v":""}]
[{"$f":"DataPhaseValid!G42","v":""}]
[null,null,"Electric",null,"Natural Gas",null,"District Cooling",null,"District Heating"]
["Phase","Energy Conservation Measure (ECM) Description","Electric Energy Savings (kWh/yr)","Electric Cost Savings ($/yr)","Natural Gas Savings (therms/yr)","Natural Gas Cost Savings ($/yr)",{"$f":"'Measure Recommendation'!Q16","v":"District Chilled Water Equivalent Electric Energy Savings \n(kWh/year)"},"District Chilled Water Cost Savings \n($/year)",{"$f":"'Measure Recommendation'!T16","v":"District Steam Equivalent Natural Gas Energy Savings \n(therms/year)"},"District Steam Cost Savings  ($/yr)","ECM Installation Cost ($)","Simple Payback Without Incentives (Years)",{"$f":"IF(Instructions!F3=\"MBCx\",\"MBCx Bundle #\",\"RCx Flex Bundle #\")","v":"RCx Flex Bundle #"},{"$f":"DataPhaseValid!G43","v":""}]
["Investigation",{"$f":"DataPhaseValid!C47","v":""},{"$f":"IF('Measure Recommendation'!I17=\"\",\"\",'Measure Recommendation'!L17)","v":""},{"$f":"IF('Measure Recommendation'!I17=\"\",\"\",'Measure Recommendation'!M17)","v":""},{"$f":"IF('Measure Recommendation'!I17=\"\",\"\",'Measure Recommendation'!N17)","v":""},{"$f":"IF('Measure Recommendation'!I17=\"\",\"\",'Measure Recommendation'!O17)","v":""},{"$f":"IF('Measure Recommendation'!I17=\"\",\"\",'Measure Recommendation'!Q17)","v":""},{"$f":"IF('Measure Recommendation'!I17=\"\",\"\",'Measure Recommendation'!R17)","v":""},{"$f":"IF('Measure Recommendation'!I17=\"\",\"\",'Measure Recommendation'!T17)","v":""},{"$f":"IF('Measure Recommendation'!I17=\"\",\"\",'Measure Recommendation'!U17)","v":""},{"$f":"IF('Measure Recommendation'!I17=\"\",\"\",'Measure Recommendation'!V17)","v":""},{"$f":"IF('Measure Recommendation'!I17=\"\",\"\",'Measure Recommendation'!W17)","v":""},{"$f":"IF('Measure Recommendation'!C17>0,'Measure Recommendation'!C17,\"\")","v":""},{"$f":"IF('Measure Recommendation'!X17=\"Yes\", \"g\",\"c\")","v":"c"}]
[null,{"$f":"DataPhaseValid!C48","v":""},{"$f":"IF('Measure Recommendation'!I18=\"\",\"\",'Measure Recommendation'!L18)","v":""},{"$f":"IF('Measure Recommendation'!I18=\"\",\"\",'Measure Recommendation'!M18)","v":""},{"$f":"IF('Measure Recommendation'!I18=\"\",\"\",'Measure Recommendation'!N18)","v":""},{"$f":"IF('Measure Recommendation'!I18=\"\",\"\",'Measure Recommendation'!O18)","v":""},{"$f":"IF('Measure Recommendation'!I18=\"\",\"\",'Measure Recommendation'!Q18)","v":""},{"$f":"IF('Measure Recommendation'!I18=\"\",\"\",'Measure Recommendation'!R18)","v":""},{"$f":"IF('Measure Recommendation'!I18=\"\",\"\",'Measure Recommendation'!T18)","v":""},{"$f":"IF('Measure Recommendation'!I18=\"\",\"\",'Measure Recommendation'!U18)","v":""},{"$f":"IF('Measure Recommendation'!I18=\"\",\"\",'Measure Recommendation'!V18)","v":""},{"$f":"IF('Measure Recommendation'!I18=\"\",\"\",'Measure Recommendation'!W18)","v":""},{"$f":"IF('Measure Recommendation'!C18>0,'Measure Recommendation'!C18,\"\")","v":""},{"$f":"IF('Measure Recommendation'!X18=\"Yes\", \"g\",\"c\")","v":"c"}]
[null,{"$f":"DataPhaseValid!C49","v":""},{"$f":"IF('Measure Recommendation'!I19=\"\",\"\",'Measure Recommendation'!L19)","v":""},{"$f":"IF('Measure Recommendation'!I19=\"\",\"\",'Measure Recommendation'!M19)","v":""},{"$f":"IF('Measure Recommendation'!I19=\"\",\"\",'Measure Recommendation'!N19)","v":""},{"$f":"IF('Measure Recommendation'!I19=\"\",\"\",'Measure Recommendation'!O19)","v":""},{"$f":"IF('Measure Recommendation'!I19=\"\",\"\",'Measure Recommendation'!Q19)","v":""},{"$f":"IF('Measure Recommendation'!I19=\"\",\"\",'Measure Recommendation'!R19)","v":""},{"$f":"IF('Measure Recommendation'!I19=\"\",\"\",'Measure Recommendation'!T19)","v":""},{"$f":"IF('Measure Recommendation'!I19=\"\",\"\",'Measure Recommendation'!U19)","v":""},{"$f":"IF('Measure Recommendation'!I19=\"\",\"\",'Measure Recommendation'!V19)","v":""},{"$f":"IF('Measure Recommendation'!I19=\"\",\"\",'Measure Recommendation'!W19)","v":""},{"$f":"IF('Measure Recommendation'!C19>0,'Measure Recommendation'!C19,\"\")","v":""},{"$f":"IF('Measure Recommendation'!X19=\"Yes\", \"g\",\"c\")","v":"c"}]
[null,{"$f":"DataPhaseValid!C50","v":""},{"$f":"IF('Measure Recommendation'!I20=\"\",\"\",'Measure Recommendation'!L20)","v":""},{"$f":"IF('Measure Recommendation'!I20=\"\",\"\",'Measure Recommendation'!M20)","v":""},{"$f":"IF('Measure Recommendation'!I20=\"\",\"\",'Measure Recommendation'!N20)","v":""},{"$f":"IF('Measure Recommendation'!I20=\"\",\"\",'Measure Recommendation'!O20)","v":""},{"$f":"IF('Measure Recommendation'!I20=\"\",\"\",'Measure Recommendation'!Q20)","v":""},{"$f":"IF('Measure Recommendation'!I20=\"\",\"\",'Measure Recommendation'!R20)","v":""},{"$f":"IF('Measure Recommendation'!I20=\"\",\"\",'Measure Recommendation'!T20)","v":""},{"$f":"IF('Measure Recommendation'!I20=\"\",\"\",'Measure Recommendation'!U20)","v":""},{"$f":"IF('Measure Recommendation'!I20=\"\",\"\",'Measure Recommendation'!V20)","v":""},{"$f":"IF('Measure Recommendation'!I20=\"\",\"\",'Measure Recommendation'!W20)","v":""},{"$f":"IF('Measure Recommendation'!C20>0,'Measure Recommendation'!C20,\"\")","v":""},{"$f":"IF('Measure Recommendation'!X20=\"Yes\", \"g\",\"c\")","v":"c"}]
[null,{"$f":"DataPhaseValid!C51","v":""},{"$f":"IF('Measure Recommendation'!I21=\"\",\"\",'Measure Recommendation'!L21)","v":""},{"$f":"IF('Measure Recommendation'!I21=\"\",\"\",'Measure Recommendation'!M21)","v":""},{"$f":"IF('Measure Recommendation'!I21=\"\",\"\",'Measure Recommendation'!N21)","v":""},{"$f":"IF('Measure Recommendation'!I21=\"\",\"\",'Measure Recommendation'!O21)","v":""},{"$f":"IF('Measure Recommendation'!I21=\"\",\"\",'Measure Recommendation'!Q21)","v":""},{"$f":"IF('Measure Recommendation'!I21=\"\",\"\",'Measure Recommendation'!R21)","v":""},{"$f":"IF('Measure Recommendation'!I21=\"\",\"\",'Measure Recommendation'!T21)","v":""},{"$f":"IF('Measure Recommendation'!I21=\"\",\"\",'Measure Recommendation'!U21)","v":""},{"$f":"IF('Measure Recommendation'!I21=\"\",\"\",'Measure Recommendation'!V21)","v":""},{"$f":"IF('Measure Recommendation'!I21=\"\",\"\",'Measure Recommendation'!W21)","v":""},{"$f":"IF('Measure Recommendation'!C21>0,'Measure Recommendation'!C21,\"\")","v":""},{"$f":"IF('Measure Recommendation'!X21=\"Yes\", \"g\",\"c\")","v":"c"}]
[null,{"$f":"DataPhaseValid!C52","v":""},{"$f":"IF('Measure Recommendation'!I22=\"\",\"\",'Measure Recommendation'!L22)","v":""},{"$f":"IF('Measure Recommendation'!I22=\"\",\"\",'Measure Recommendation'!M22)","v":""},{"$f":"IF('Measure Recommendation'!I22=\"\",\"\",'Measure Recommendation'!N22)","v":""},{"$f":"IF('Measure Recommendation'!I22=\"\",\"\",'Measure Recommendation'!O22)","v":""},{"$f":"IF('Measure Recommendation'!I22=\"\",\"\",'Measure Recommendation'!Q22)","v":""},{"$f":"IF('Measure Recommendation'!I22=\"\",\"\",'Measure Recommendation'!R22)","v":""},{"$f":"IF('Measure Recommendation'!I22=\"\",\"\",'Measure Recommendation'!T22)","v":""},{"$f":"IF('Measure Recommendation'!I22=\"\",\"\",'Measure Recommendation'!U22)","v":""},{"$f":"IF('Measure Recommendation'!I22=\"\",\"\",'Measure Recommendation'!V22)","v":""},{"$f":"IF('Measure Recommendation'!I22=\"\",\"\",'Measure Recommendation'!W22)","v":""},{"$f":"IF('Measure Recommendation'!C22>0,'Measure Recommendation'!C22,\"\")","v":""},{"$f":"IF('Measure Recommendation'!X22=\"Yes\", \"g\",\"c\")","v":"c"}]
[null,{"$f":"DataPhaseValid!C53","v":""},{"$f":"IF('Measure Recommendation'!I23=\"\",\"\",'Measure Recommendation'!L23)","v":""},{"$f":"IF('Measure Recommendation'!I23=\"\",\"\",'Measure Recommendation'!M23)","v":""},{"$f":"IF('Measure Recommendation'!I23=\"\",\"\",'Measure Recommendation'!N23)","v":""},{"$f":"IF('Measure Recommendation'!I23=\"\",\"\",'Measure Recommendation'!O23)","v":""},{"$f":"IF('Measure Recommendation'!I23=\"\",\"\",'Measure Recommendation'!Q23)","v":""},{"$f":"IF('Measure Recommendation'!I23=\"\",\"\",'Measure Recommendation'!R23)","v":""},{"$f":"IF('Measure Recommendation'!I23=\"\",\"\",'Measure Recommendation'!T23)","v":""},{"$f":"IF('Measure Recommendation'!I23=\"\",\"\",'Measure Recommendation'!U23)","v":""},{"$f":"IF('Measure Recommendation'!I23=\"\",\"\",'Measure Recommendation'!V23)","v":""},{"$f":"IF('Measure Recommendation'!I23=\"\",\"\",'Measure Recommendation'!W23)","v":""},{"$f":"IF('Measure Recommendation'!C23>0,'Measure Recommendation'!C23,\"\")","v":""},{"$f":"IF('Measure Recommendation'!X23=\"Yes\", \"g\",\"c\")","v":"c"}]
[null,{"$f":"DataPhaseValid!C54","v":""},{"$f":"IF('Measure Recommendation'!I24=\"\",\"\",'Measure Recommendation'!L24)","v":""},{"$f":"IF('Measure Recommendation'!I24=\"\",\"\",'Measure Recommendation'!M24)","v":""},{"$f":"IF('Measure Recommendation'!I24=\"\",\"\",'Measure Recommendation'!N24)","v":""},{"$f":"IF('Measure Recommendation'!I24=\"\",\"\",'Measure Recommendation'!O24)","v":""},{"$f":"IF('Measure Recommendation'!I24=\"\",\"\",'Measure Recommendation'!Q24)","v":""},{"$f":"IF('Measure Recommendation'!I24=\"\",\"\",'Measure Recommendation'!R24)","v":""},{"$f":"IF('Measure Recommendation'!I24=\"\",\"\",'Measure Recommendation'!T24)","v":""},{"$f":"IF('Measure Recommendation'!I24=\"\",\"\",'Measure Recommendation'!U24)","v":""},{"$f":"IF('Measure Recommendation'!I24=\"\",\"\",'Measure Recommendation'!V24)","v":""},{"$f":"IF('Measure Recommendation'!I24=\"\",\"\",'Measure Recommendation'!W24)","v":""},{"$f":"IF('Measure Recommendation'!C24>0,'Measure Recommendation'!C24,\"\")","v":""},{"$f":"IF('Measure Recommendation'!X24=\"Yes\", \"g\",\"c\")","v":"c"}]
[null,{"$f":"DataPhaseValid!C55","v":""},{"$f":"IF('Measure Recommendation'!I25=\"\",\"\",'Measure Recommendation'!L25)","v":""},{"$f":"IF('Measure Recommendation'!I25=\"\",\"\",'Measure Recommendation'!M25)","v":""},{"$f":"IF('Measure Recommendation'!I25=\"\",\"\",'Measure Recommendation'!N25)","v":""},{"$f":"IF('Measure Recommendation'!I25=\"\",\"\",'Measure Recommendation'!O25)","v":""},{"$f":"IF('Measure Recommendation'!I25=\"\",\"\",'Measure Recommendation'!Q25)","v":""},{"$f":"IF('Measure Recommendation'!I25=\"\",\"\",'Measure Recommendation'!R25)","v":""},{"$f":"IF('Measure Recommendation'!I25=\"\",\"\",'Measure Recommendation'!T25)","v":""},{"$f":"IF('Measure Recommendation'!I25=\"\",\"\",'Measure Recommendation'!U25)","v":""},{"$f":"IF('Measure Recommendation'!I25=\"\",\"\",'Measure Recommendation'!V25)","v":""},{"$f":"IF('Measure Recommendation'!I25=\"\",\"\",'Measure Recommendation'!W25)","v":""},{"$f":"IF('Measure Recommendation'!C25>0,'Measure Recommendation'!C25,\"\")","v":""},{"$f":"IF('Measure Recommendation'!X25=\"Yes\", \"g\",\"c\")","v":"c"}]
[null,{"$f":"DataPhaseValid!C56","v":""},{"$f":"IF('Measure Recommendation'!I26=\"\",\"\",'Measure Recommendation'!L26)","v":""},{"$f":"IF('Measure Recommendation'!I26=\"\",\"\",'Measure Recommendation'!M26)","v":""},{"$f":"IF('Measure Recommendation'!I26=\"\",\"\",'Measure Recommendation'!N26)","v":""},{"$f":"IF('Measure Recommendation'!I26=\"\",\"\",'Measure Recommendation'!O26)","v":""},{"$f":"IF('Measure Recommendation'!I26=\"\",\"\",'Measure Recommendation'!Q26)","v":""},{"$f":"IF('Measure Recommendation'!I26=\"\",\"\",'Measure Recommendation'!R26)","v":""},{"$f":"IF('Measure Recommendation'!I26=\"\",\"\",'Measure Recommendation'!T26)","v":""},{"$f":"IF('Measure Recommendation'!I26=\"\",\"\",'Measure Recommendation'!U26)","v":""},{"$f":"IF('Measure Recommendation'!I26=\"\",\"\",'Measure Recommendation'!V26)","v":""},{"$f":"IF('Measure Recommendation'!I26=\"\",\"\",'Measure Recommendation'!W26)","v":""},{"$f":"IF('Measure Recommendation'!C26>0,'Measure Recommendation'!C26,\"\")","v":""},{"$f":"IF('Measure Recommendation'!X26=\"Yes\", \"g\",\"c\")","v":"c"}]
[null,{"$f":"DataPhaseValid!C57","v":""},{"$f":"IF('Measure Recommendation'!I27=\"\",\"\",'Measure Recommendation'!L27)","v":""},{"$f":"IF('Measure Recommendation'!I27=\"\",\"\",'Measure Recommendation'!M27)","v":""},{"$f":"IF('Measure Recommendation'!I27=\"\",\"\",'Measure Recommendation'!N27)","v":""},{"$f":"IF('Measure Recommendation'!I27=\"\",\"\",'Measure Recommendation'!O27)","v":""},{"$f":"IF('Measure Recommendation'!I27=\"\",\"\",'Measure Recommendation'!Q27)","v":""},{"$f":"IF('Measure Recommendation'!I27=\"\",\"\",'Measure Recommendation'!R27)","v":""},{"$f":"IF('Measure Recommendation'!I27=\"\",\"\",'Measure Recommendation'!T27)","v":""},{"$f":"IF('Measure Recommendation'!I27=\"\",\"\",'Measure Recommendation'!U27)","v":""},{"$f":"IF('Measure Recommendation'!I27=\"\",\"\",'Measure Recommendation'!V27)","v":""},{"$f":"IF('Measure Recommendation'!I27=\"\",\"\",'Measure Recommendation'!W27)","v":""},{"$f":"IF('Measure Recommendation'!C27>0,'Measure Recommendation'!C27,\"\")","v":""},{"$f":"IF('Measure Recommendation'!X27=\"Yes\", \"g\",\"c\")","v":"c"}]
[null,{"$f":"DataPhaseValid!C58","v":""},{"$f":"IF('Measure Recommendation'!I28=\"\",\"\",'Measure Recommendation'!L28)","v":""},{"$f":"IF('Measure Recommendation'!I28=\"\",\"\",'Measure Recommendation'!M28)","v":""},{"$f":"IF('Measure Recommendation'!I28=\"\",\"\",'Measure Recommendation'!N28)","v":""},{"$f":"IF('Measure Recommendation'!I28=\"\",\"\",'Measure Recommendation'!O28)","v":""},{"$f":"IF('Measure Recommendation'!I28=\"\",\"\",'Measure Recommendation'!Q28)","v":""},{"$f":"IF('Measure Recommendation'!I28=\"\",\"\",'Measure Recommendation'!R28)","v":""},{"$f":"IF('Measure Recommendation'!I28=\"\",\"\",'Measure Recommendation'!T28)","v":""},{"$f":"IF('Measure Recommendation'!I28=\"\",\"\",'Measure Recommendation'!U28)","v":""},{"$f":"IF('Measure Recommendation'!I28=\"\",\"\",'Measure Recommendation'!V28)","v":""},{"$f":"IF('Measure Recommendation'!I28=\"\",\"\",'Measure Recommendation'!W28)","v":""},{"$f":"IF('Measure Recommendation'!C28>0,'Measure Recommendation'!C28,\"\")","v":""},{"$f":"IF('Measure Recommendation'!X28=\"Yes\", \"g\",\"c\")","v":"c"}]
[null,{"$f":"DataPhaseValid!C59","v":""},{"$f":"IF('Measure Recommendation'!I29=\"\",\"\",'Measure Recommendation'!L29)","v":""},{"$f":"IF('Measure Recommendation'!I29=\"\",\"\",'Measure Recommendation'!M29)","v":""},{"$f":"IF('Measure Recommendation'!I29=\"\",\"\",'Measure Recommendation'!N29)","v":""},{"$f":"IF('Measure Recommendation'!I29=\"\",\"\",'Measure Recommendation'!O29)","v":""},{"$f":"IF('Measure Recommendation'!I29=\"\",\"\",'Measure Recommendation'!Q29)","v":""},{"$f":"IF('Measure Recommendation'!I29=\"\",\"\",'Measure Recommendation'!R29)","v":""},{"$f":"IF('Measure Recommendation'!I29=\"\",\"\",'Measure Recommendation'!T29)","v":""},{"$f":"IF('Measure Recommendation'!I29=\"\",\"\",'Measure Recommendation'!U29)","v":""},{"$f":"IF('Measure Recommendation'!I29=\"\",\"\",'Measure Recommendation'!V29)","v":""},{"$f":"IF('Measure Recommendation'!I29=\"\",\"\",'Measure Recommendation'!W29)","v":""},{"$f":"IF('Measure Recommendation'!C29>0,'Measure Recommendation'!C29,\"\")","v":""},{"$f":"IF('Measure Recommendation'!X29=\"Yes\", \"g\",\"c\")","v":"c"}]
[null,{"$f":"DataPhaseValid!C60","v":""},{"$f":"IF('Measure Recommendation'!I30=\"\",\"\",'Measure Recommendation'!L30)","v":""},{"$f":"IF('Measure Recommendation'!I30=\"\",\"\",'Measure Recommendation'!M30)","v":""},{"$f":"IF('Measure Recommendation'!I30=\"\",\"\",'Measure Recommendation'!N30)","v":""},{"$f":"IF('Measure Recommendation'!I30=\"\",\"\",'Measure Recommendation'!O30)","v":""},{"$f":"IF('Measure Recommendation'!I30=\"\",\"\",'Measure Recommendation'!Q30)","v":""},{"$f":"IF('Measure Recommendation'!I30=\"\",\"\",'Measure Recommendation'!R30)","v":""},{"$f":"IF('Measure Recommendation'!I30=\"\",\"\",'Measure Recommendation'!T30)","v":""},{"$f":"IF('Measure Recommendation'!I30=\"\",\"\",'Measure Recommendation'!U30)","v":""},{"$f":"IF('Measure Recommendation'!I30=\"\",\"\",'Measure Recommendation'!V30)","v":""},{"$f":"IF('Measure Recommendation'!I30=\"\",\"\",'Measure Recommendation'!W30)","v":""},{"$f":"IF('Measure Recommendation'!C30>0,'Measure Recommendation'!C30,\"\")","v":""},{"$f":"IF('Measure Recommendation'!X30=\"Yes\", \"g\",\"c\")","v":"c"}]
[null,{"$f":"DataPhaseValid!C61","v":""},{"$f":"IF('Measure Recommendation'!I31=\"\",\"\",'Measure Recommendation'!L31)","v":""},{"$f":"IF('Measure Recommendation'!I31=\"\",\"\",'Measure Recommendation'!M31)","v":""},{"$f":"IF('Measure Recommendation'!I31=\"\",\"\",'Measure Recommendation'!N31)","v":""},{"$f":"IF('Measure Recommendation'!I31=\"\",\"\",'Measure Recommendation'!O31)","v":""},{"$f":"IF('Measure Recommendation'!I31=\"\",\"\",'Measure Recommendation'!Q31)","v":""},{"$f":"IF('Measure Recommendation'!I31=\"\",\"\",'Measure Recommendation'!R31)","v":""},{"$f":"IF('Measure Recommendation'!I31=\"\",\"\",'Measure Recommendation'!T31)","v":""},{"$f":"IF('Measure Recommendation'!I31=\"\",\"\",'Measure Recommendation'!U31)","v":""},{"$f":"IF('Measure Recommendation'!I31=\"\",\"\",'Measure Recommendation'!V31)","v":""},{"$f":"IF('Measure Recommendation'!I31=\"\",\"\",'Measure Recommendation'!W31)","v":""},{"$f":"IF('Measure Recommendation'!C31>0,'Measure Recommendation'!C31,\"\")","v":""},{"$f":"IF('Measure Recommendation'!X31=\"Yes\", \"g\",\"c\")","v":"c"}]
[null,{"$f":"DataPhaseValid!C62","v":""},{"$f":"IF('Measure Recommendation'!I32=\"\",\"\",'Measure Recommendation'!L32)","v":""},{"$f":"IF('Measure Recommendation'!I32=\"\",\"\",'Measure Recommendation'!M32)","v":""},{"$f":"IF('Measure Recommendation'!I32=\"\",\"\",'Measure Recommendation'!N32)","v":""},{"$f":"IF('Measure Recommendation'!I32=\"\",\"\",'Measure Recommendation'!O32)","v":""},{"$f":"IF('Measure Recommendation'!I32=\"\",\"\",'Measure Recommendation'!Q32)","v":""},{"$f":"IF('Measure Recommendation'!I32=\"\",\"\",'Measure Recommendation'!R32)","v":""},{"$f":"IF('Measure Recommendation'!I32=\"\",\"\",'Measure Recommendation'!T32)","v":""},{"$f":"IF('Measure Recommendation'!I32=\"\",\"\",'Measure Recommendation'!U32)","v":""},{"$f":"IF('Measure Recommendation'!I32=\"\",\"\",'Measure Recommendation'!V32)","v":""},{"$f":"IF('Measure Recommendation'!I32=\"\",\"\",'Measure Recommendation'!W32)","v":""},{"$f":"IF('Measure Recommendation'!C32>0,'Measure Recommendation'!C32,\"\")","v":""},{"$f":"IF('Measure Recommendation'!X32=\"Yes\", \"g\",\"c\")","v":"c"}]
[null,{"$f":"DataPhaseValid!C63","v":""},{"$f":"IF('Measure Recommendation'!I33=\"\",\"\",'Measure Recommendation'!L33)","v":""},{"$f":"IF('Measure Recommendation'!I33=\"\",\"\",'Measure Recommendation'!M33)","v":""},{"$f":"IF('Measure Recommendation'!I33=\"\",\"\",'Measure Recommendation'!N33)","v":""},{"$f":"IF('Measure Recommendation'!I33=\"\",\"\",'Measure Recommendation'!O33)","v":""},{"$f":"IF('Measure Recommendation'!I33=\"\",\"\",'Measure Recommendation'!Q33)","v":""},{"$f":"IF('Measure Recommendation'!I33=\"\",\"\",'Measure Recommendation'!R33)","v":""},{"$f":"IF('Measure Recommendation'!I33=\"\",\"\",'Measure Recommendation'!T33)","v":""},{"$f":"IF('Measure Recommendation'!I33=\"\",\"\",'Measure Recommendation'!U33)","v":""},{"$f":"IF('Measure Recommendation'!I33=\"\",\"\",'Measure Recommendation'!V33)","v":""},{"$f":"IF('Measure Recommendation'!I33=\"\",\"\",'Measure Recommendation'!W33)","v":""},{"$f":"IF('Measure Recommendation'!C33>0,'Measure Recommendation'!C33,\"\")","v":""},{"$f":"IF('Measure Recommendation'!X33=\"Yes\", \"g\",\"c\")","v":"c"}]
[null,{"$f":"DataPhaseValid!C64","v":""},{"$f":"IF('Measure Recommendation'!I34=\"\",\"\",'Measure Recommendation'!L34)","v":""},{"$f":"IF('Measure Recommendation'!I34=\"\",\"\",'Measure Recommendation'!M34)","v":""},{"$f":"IF('Measure Recommendation'!I34=\"\",\"\",'Measure Recommendation'!N34)","v":""},{"$f":"IF('Measure Recommendation'!I34=\"\",\"\",'Measure Recommendation'!O34)","v":""},{"$f":"IF('Measure Recommendation'!I34=\"\",\"\",'Measure Recommendation'!Q34)","v":""},{"$f":"IF('Measure Recommendation'!I34=\"\",\"\",'Measure Recommendation'!R34)","v":""},{"$f":"IF('Measure Recommendation'!I34=\"\",\"\",'Measure Recommendation'!T34)","v":""},{"$f":"IF('Measure Recommendation'!I34=\"\",\"\",'Measure Recommendation'!U34)","v":""},{"$f":"IF('Measure Recommendation'!I34=\"\",\"\",'Measure Recommendation'!V34)","v":""},{"$f":"IF('Measure Recommendation'!I34=\"\",\"\",'Measure Recommendation'!W34)","v":""},{"$f":"IF('Measure Recommendation'!C34>0,'Measure Recommendation'!C34,\"\")","v":""},{"$f":"IF('Measure Recommendation'!X34=\"Yes\", \"g\",\"c\")","v":"c"}]
[null,{"$f":"DataPhaseValid!C65","v":""},{"$f":"IF('Measure Recommendation'!I35=\"\",\"\",'Measure Recommendation'!L35)","v":""},{"$f":"IF('Measure Recommendation'!I35=\"\",\"\",'Measure Recommendation'!M35)","v":""},{"$f":"IF('Measure Recommendation'!I35=\"\",\"\",'Measure Recommendation'!N35)","v":""},{"$f":"IF('Measure Recommendation'!I35=\"\",\"\",'Measure Recommendation'!O35)","v":""},{"$f":"IF('Measure Recommendation'!I35=\"\",\"\",'Measure Recommendation'!Q35)","v":""},{"$f":"IF('Measure Recommendation'!I35=\"\",\"\",'Measure Recommendation'!R35)","v":""},{"$f":"IF('Measure Recommendation'!I35=\"\",\"\",'Measure Recommendation'!T35)","v":""},{"$f":"IF('Measure Recommendation'!I35=\"\",\"\",'Measure Recommendation'!U35)","v":""},{"$f":"IF('Measure Recommendation'!I35=\"\",\"\",'Measure Recommendation'!V35)","v":""},{"$f":"IF('Measure Recommendation'!I35=\"\",\"\",'Measure Recommendation'!W35)","v":""},{"$f":"IF('Measure Recommendation'!C35>0,'Measure Recommendation'!C35,\"\")","v":""},{"$f":"IF('Measure Recommendation'!X35=\"Yes\", \"g\",\"c\")","v":"c"}]
[null,{"$f":"DataPhaseValid!C66","v":""},{"$f":"IF('Measure Recommendation'!I36=\"\",\"\",'Measure Recommendation'!L36)","v":""},{"$f":"IF('Measure Recommendation'!I36=\"\",\"\",'Measure Recommendation'!M36)","v":""},{"$f":"IF('Measure Recommendation'!I36=\"\",\"\",'Measure Recommendation'!N36)","v":""},{"$f":"IF('Measure Recommendation'!I36=\"\",\"\",'Measure Recommendation'!O36)","v":""},{"$f":"IF('Measure Recommendation'!I36=\"\",\"\",'Measure Recommendation'!Q36)","v":""},{"$f":"IF('Measure Recommendation'!I36=\"\",\"\",'Measure Recommendation'!R36)","v":""},{"$f":"IF('Measure Recommendation'!I36=\"\",\"\",'Measure Recommendation'!T36)","v":""},{"$f":"IF('Measure Recommendation'!I36=\"\",\"\",'Measure Recommendation'!U36)","v":""},{"$f":"IF('Measure Recommendation'!I36=\"\",\"\",'Measure Recommendation'!V36)","v":""},{"$f":"IF('Measure Recommendation'!I36=\"\",\"\",'Measure Recommendation'!W36)","v":""},{"$f":"IF('Measure Recommendation'!C36>0,'Measure Recommendation'!C36,\"\")","v":""},{"$f":"IF('Measure Recommendation'!X36=\"Yes\", \"g\",\"c\")","v":"c"}]
[null,"Investigation Phase Total",{"$f":"'Measure Recommendation'!L37","v":0},{"$f":"'Measure Recommendation'!M37","v":0},{"$f":"'Measure Recommendation'!N37","v":0},{"$f":"'Measure Recommendation'!O37","v":0},{"$f":"'Measure Recommendation'!Q37","v":0},{"$f":"'Measure Recommendation'!R37","v":0},{"$f":"'Measure Recommendation'!S37","v":0},{"$f":"'Measure Recommendation'!U37","v":0},{"$f":"'Measure Recommendation'!V37","v":0},{"$f":"'Measure Recommendation'!W37","v":""},"-"]
["Verification",{"$f":"DataPhaseValid!D47","v":""},{"$f":"IF('Measure Recommendation'!I41=\"\",\"\",'Measure Recommendation'!L41)","v":""},{"$f":"IF('Measure Recommendation'!I41=\"\",\"\",'Measure Recommendation'!M41)","v":""},{"$f":"IF('Measure Recommendation'!I41=\"\",\"\",'Measure Recommendation'!N41)","v":""},{"$f":"IF('Measure Recommendation'!I41=\"\",\"\",'Measure Recommendation'!O41)","v":""},{"$f":"IF('Measure Recommendation'!I41=\"\",\"\",'Measure Recommendation'!Q41)","v":""},{"$f":"IF('Measure Recommendation'!I41=\"\",\"\",'Measure Recommendation'!R41)","v":""},{"$f":"IF('Measure Recommendation'!I41=\"\",\"\",'Measure Recommendation'!T41)","v":""},{"$f":"IF('Measure Recommendation'!I41=\"\",\"\",'Measure Recommendation'!U41)","v":""},{"$f":"IF('Measure Recommendation'!I41=\"\",\"\",'Measure Recommendation'!V41)","v":""},{"$f":"IF('Measure Recommendation'!I41=\"\",\"\",'Measure Recommendation'!W41)","v":""},{"$f":"IF('Measure Recommendation'!C41>0,'Measure Recommendation'!C41,\"\")","v":""},{"$f":"IF('Measure Recommendation'!X41=\"Yes\",\"g\",\"c\")","v":"c"}]
[null,{"$f":"DataPhaseValid!D48","v":""},{"$f":"IF('Measure Recommendation'!I42=\"\",\"\",'Measure Recommendation'!L42)","v":""},{"$f":"IF('Measure Recommendation'!I42=\"\",\"\",'Measure Recommendation'!M42)","v":""},{"$f":"IF('Measure Recommendation'!I42=\"\",\"\",'Measure Recommendation'!N42)","v":""},{"$f":"IF('Measure Recommendation'!I42=\"\",\"\",'Measure Recommendation'!O42)","v":""},{"$f":"IF('Measure Recommendation'!I42=\"\",\"\",'Measure Recommendation'!Q42)","v":""},{"$f":"IF('Measure Recommendation'!I42=\"\",\"\",'Measure Recommendation'!R42)","v":""},{"$f":"IF('Measure Recommendation'!I42=\"\",\"\",'Measure Recommendation'!T42)","v":""},{"$f":"IF('Measure Recommendation'!I42=\"\",\"\",'Measure Recommendation'!U42)","v":""},{"$f":"IF('Measure Recommendation'!I42=\"\",\"\",'Measure Recommendation'!V42)","v":""},{"$f":"IF('Measure Recommendation'!I42=\"\",\"\",'Measure Recommendation'!W42)","v":""},{"$f":"IF('Measure Recommendation'!C42>0,'Measure Recommendation'!C42,\"\")","v":""},{"$f":"IF('Measure Recommendation'!X42=\"Yes\",\"g\",\"c\")","v":"c"}]
[null,{"$f":"DataPhaseValid!D49","v":""},{"$f":"IF('Measure Recommendation'!L43=\"\",\"\",'Measure Recommendation'!L43)","v":""},{"$f":"IF('Measure Recommendation'!L43=\"\",\"\",'Measure Recommendation'!M43)","v":""},{"$f":"IF('Measure Recommendation'!I43=\"\",\"\",'Measure Recommendation'!N43)","v":""},{"$f":"IF('Measure Recommendation'!I43=\"\",\"\",'Measure Recommendation'!O43)","v":""},{"$f":"IF('Measure Recommendation'!I43=\"\",\"\",'Measure Recommendation'!Q43)","v":""},{"$f":"IF('Measure Recommendation'!I43=\"\",\"\",'Measure Recommendation'!R43)","v":""},{"$f":"IF('Measure Recommendation'!I43=\"\",\"\",'Measure Recommendation'!T43)","v":""},{"$f":"IF('Measure Recommendation'!I43=\"\",\"\",'Measure Recommendation'!U43)","v":""},{"$f":"IF('Measure Recommendation'!I43=\"\",\"\",'Measure Recommendation'!V43)","v":""},{"$f":"IF('Measure Recommendation'!I43=\"\",\"\",'Measure Recommendation'!W43)","v":""},{"$f":"IF('Measure Recommendation'!C43>0,'Measure Recommendation'!C43,\"\")","v":""},{"$f":"IF('Measure Recommendation'!X43=\"Yes\",\"g\",\"c\")","v":"c"}]
[null,{"$f":"DataPhaseValid!D50","v":""},{"$f":"IF('Measure Recommendation'!L44=\"\",\"\",'Measure Recommendation'!L44)","v":""},{"$f":"IF('Measure Recommendation'!L44=\"\",\"\",'Measure Recommendation'!M44)","v":""},{"$f":"IF('Measure Recommendation'!I44=\"\",\"\",'Measure Recommendation'!N44)","v":""},{"$f":"IF('Measure Recommendation'!I44=\"\",\"\",'Measure Recommendation'!O44)","v":""},{"$f":"IF('Measure Recommendation'!I44=\"\",\"\",'Measure Recommendation'!Q44)","v":""},{"$f":"IF('Measure Recommendation'!I44=\"\",\"\",'Measure Recommendation'!R44)","v":""},{"$f":"IF('Measure Recommendation'!I44=\"\",\"\",'Measure Recommendation'!T44)","v":""},{"$f":"IF('Measure Recommendation'!I44=\"\",\"\",'Measure Recommendation'!U44)","v":""},{"$f":"IF('Measure Recommendation'!I44=\"\",\"\",'Measure Recommendation'!V44)","v":""},{"$f":"IF('Measure Recommendation'!I44=\"\",\"\",'Measure Recommendation'!W44)","v":""},{"$f":"IF('Measure Recommendation'!C44>0,'Measure Recommendation'!C44,\"\")","v":""},{"$f":"IF('Measure Recommendation'!X44=\"Yes\",\"g\",\"c\")","v":"c"}]
[null,{"$f":"DataPhaseValid!D51","v":""},{"$f":"IF('Measure Recommendation'!L45=\"\",\"\",'Measure Recommendation'!L45)","v":""},{"$f":"IF('Measure Recommendation'!L45=\"\",\"\",'Measure Recommendation'!M45)","v":""},{"$f":"IF('Measure Recommendation'!I45=\"\",\"\",'Measure Recommendation'!N45)","v":""},{"$f":"IF('Measure Recommendation'!I45=\"\",\"\",'Measure Recommendation'!O45)","v":""},{"$f":"IF('Measure Recommendation'!I45=\"\",\"\",'Measure Recommendation'!Q45)","v":""},{"$f":"IF('Measure Recommendation'!I45=\"\",\"\",'Measure Recommendation'!R45)","v":""},{"$f":"IF('Measure Recommendation'!I45=\"\",\"\",'Measure Recommendation'!T45)","v":""},{"$f":"IF('Measure Recommendation'!I45=\"\",\"\",'Measure Recommendation'!U45)","v":""},{"$f":"IF('Measure Recommendation'!I45=\"\",\"\",'Measure Recommendation'!V45)","v":""},{"$f":"IF('Measure Recommendation'!I45=\"\",\"\",'Measure Recommendation'!W45)","v":""},{"$f":"IF('Measure Recommendation'!C45>0,'Measure Recommendation'!C45,\"\")","v":""},{"$f":"IF('Measure Recommendation'!X45=\"Yes\",\"g\",\"c\")","v":"c"}]
[null,{"$f":"DataPhaseValid!D52","v":""},{"$f":"IF('Measure Recommendation'!L46=\"\",\"\",'Measure Recommendation'!L46)","v":""},{"$f":"IF('Measure Recommendation'!L46=\"\",\"\",'Measure Recommendation'!M46)","v":""},{"$f":"IF('Measure Recommendation'!I46=\"\",\"\",'Measure Recommendation'!N46)","v":""},{"$f":"IF('Measure Recommendation'!I46=\"\",\"\",'Measure Recommendation'!O46)","v":""},{"$f":"IF('Measure Recommendation'!I46=\"\",\"\",'Measure Recommendation'!Q46)","v":""},{"$f":"IF('Measure Recommendation'!I46=\"\",\"\",'Measure Recommendation'!R46)","v":""},{"$f":"IF('Measure Recommendation'!I46=\"\",\"\",'Measure Recommendation'!T46)","v":""},{"$f":"IF('Measure Recommendation'!I46=\"\",\"\",'Measure Recommendation'!U46)","v":""},{"$f":"IF('Measure Recommendation'!I46=\"\",\"\",'Measure Recommendation'!V46)","v":""},{"$f":"IF('Measure Recommendation'!I46=\"\",\"\",'Measure Recommendation'!W46)","v":""},{"$f":"IF('Measure Recommendation'!C46>0,'Measure Recommendation'!C46,\"\")","v":""},{"$f":"IF('Measure Recommendation'!X46=\"Yes\",\"g\",\"c\")","v":"c"}]
[null,{"$f":"DataPhaseValid!D53","v":""},{"$f":"IF('Measure Recommendation'!L47=\"\",\"\",'Measure Recommendation'!L47)","v":""},{"$f":"IF('Measure Recommendation'!L47=\"\",\"\",'Measure Recommendation'!M47)","v":""},{"$f":"IF('Measure Recommendation'!I47=\"\",\"\",'Measure Recommendation'!N47)","v":""},{"$f":"IF('Measure Recommendation'!I47=\"\",\"\",'Measure Recommendation'!O47)","v":""},{"$f":"IF('Measure Recommendation'!I47=\"\",\"\",'Measure Recommendation'!Q47)","v":""},{"$f":"IF('Measure Recommendation'!I47=\"\",\"\",'Measure Recommendation'!R47)","v":""},{"$f":"IF('Measure Recommendation'!I47=\"\",\"\",'Measure Recommendation'!T47)","v":""},{"$f":"IF('Measure Recommendation'!I47=\"\",\"\",'Measure Recommendation'!U47)","v":""},{"$f":"IF('Measure Recommendation'!I47=\"\",\"\",'Measure Recommendation'!V47)","v":""},{"$f":"IF('Measure Recommendation'!I47=\"\",\"\",'Measure Recommendation'!W47)","v":""},{"$f":"IF('Measure Recommendation'!C47>0,'Measure Recommendation'!C47,\"\")","v":""},{"$f":"IF('Measure Recommendation'!X47=\"Yes\",\"g\",\"c\")","v":"c"}]
[null,{"$f":"DataPhaseValid!D54","v":""},{"$f":"IF('Measure Recommendation'!L48=\"\",\"\",'Measure Recommendation'!L48)","v":""},{"$f":"IF('Measure Recommendation'!L48=\"\",\"\",'Measure Recommendation'!M48)","v":""},{"$f":"IF('Measure Recommendation'!I48=\"\",\"\",'Measure Recommendation'!N48)","v":""},{"$f":"IF('Measure Recommendation'!I48=\"\",\"\",'Measure Recommendation'!O48)","v":""},{"$f":"IF('Measure Recommendation'!I48=\"\",\"\",'Measure Recommendation'!Q48)","v":""},{"$f":"IF('Measure Recommendation'!I48=\"\",\"\",'Measure Recommendation'!R48)","v":""},{"$f":"IF('Measure Recommendation'!I48=\"\",\"\",'Measure Recommendation'!T48)","v":""},{"$f":"IF('Measure Recommendation'!I48=\"\",\"\",'Measure Recommendation'!U48)","v":""},{"$f":"IF('Measure Recommendation'!I48=\"\",\"\",'Measure Recommendation'!V48)","v":""},{"$f":"IF('Measure Recommendation'!I48=\"\",\"\",'Measure Recommendation'!W48)","v":""},{"$f":"IF('Measure Recommendation'!C48>0,'Measure Recommendation'!C48,\"\")","v":""},{"$f":"IF('Measure Recommendation'!X48=\"Yes\",\"g\",\"c\")","v":"c"}]
[null,{"$f":"DataPhaseValid!D55","v":""},{"$f":"IF('Measure Recommendation'!L49=\"\",\"\",'Measure Recommendation'!L49)","v":""},{"$f":"IF('Measure Recommendation'!L49=\"\",\"\",'Measure Recommendation'!M49)","v":""},{"$f":"IF('Measure Recommendation'!I49=\"\",\"\",'Measure Recommendation'!N49)","v":""},{"$f":"IF('Measure Recommendation'!I49=\"\",\"\",'Measure Recommendation'!O49)","v":""},{"$f":"IF('Measure Recommendation'!I49=\"\",\"\",'Measure Recommendation'!Q49)","v":""},{"$f":"IF('Measure Recommendation'!I49=\"\",\"\",'Measure Recommendation'!R49)","v":""},{"$f":"IF('Measure Recommendation'!I49=\"\",\"\",'Measure Recommendation'!T49)","v":""},{"$f":"IF('Measure Recommendation'!I49=\"\",\"\",'Measure Recommendation'!U49)","v":""},{"$f":"IF('Measure Recommendation'!I49=\"\",\"\",'Measure Recommendation'!V49)","v":""},{"$f":"IF('Measure Recommendation'!I49=\"\",\"\",'Measure Recommendation'!W49)","v":""},{"$f":"IF('Measure Recommendation'!C49>0,'Measure Recommendation'!C49,\"\")","v":""},{"$f":"IF('Measure Recommendation'!X49=\"Yes\",\"g\",\"c\")","v":"c"}]
[null,{"$f":"DataPhaseValid!D56","v":""},{"$f":"IF('Measure Recommendation'!L50=\"\",\"\",'Measure Recommendation'!L50)","v":""},{"$f":"IF('Measure Recommendation'!L50=\"\",\"\",'Measure Recommendation'!M50)","v":""},{"$f":"IF('Measure Recommendation'!I50=\"\",\"\",'Measure Recommendation'!N50)","v":""},{"$f":"IF('Measure Recommendation'!I50=\"\",\"\",'Measure Recommendation'!O50)","v":""},{"$f":"IF('Measure Recommendation'!I50=\"\",\"\",'Measure Recommendation'!Q50)","v":""},{"$f":"IF('Measure Recommendation'!I50=\"\",\"\",'Measure Recommendation'!R50)","v":""},{"$f":"IF('Measure Recommendation'!I50=\"\",\"\",'Measure Recommendation'!T50)","v":""},{"$f":"IF('Measure Recommendation'!I50=\"\",\"\",'Measure Recommendation'!U50)","v":""},{"$f":"IF('Measure Recommendation'!I50=\"\",\"\",'Measure Recommendation'!V50)","v":""},{"$f":"IF('Measure Recommendation'!I50=\"\",\"\",'Measure Recommendation'!W50)","v":""},{"$f":"IF('Measure Recommendation'!C50>0,'Measure Recommendation'!C50,\"\")","v":""},{"$f":"IF('Measure Recommendation'!X50=\"Yes\",\"g\",\"c\")","v":"c"}]
[null,{"$f":"DataPhaseValid!D57","v":""},{"$f":"IF('Measure Recommendation'!L51=\"\",\"\",'Measure Recommendation'!L51)","v":""},{"$f":"IF('Measure Recommendation'!L51=\"\",\"\",'Measure Recommendation'!M51)","v":""},{"$f":"IF('Measure Recommendation'!I51=\"\",\"\",'Measure Recommendation'!N51)","v":""},{"$f":"IF('Measure Recommendation'!I51=\"\",\"\",'Measure Recommendation'!O51)","v":""},{"$f":"IF('Measure Recommendation'!I51=\"\",\"\",'Measure Recommendation'!Q51)","v":""},{"$f":"IF('Measure Recommendation'!I51=\"\",\"\",'Measure Recommendation'!R51)","v":""},{"$f":"IF('Measure Recommendation'!I51=\"\",\"\",'Measure Recommendation'!T51)","v":""},{"$f":"IF('Measure Recommendation'!I51=\"\",\"\",'Measure Recommendation'!U51)","v":""},{"$f":"IF('Measure Recommendation'!I51=\"\",\"\",'Measure Recommendation'!V51)","v":""},{"$f":"IF('Measure Recommendation'!I51=\"\",\"\",'Measure Recommendation'!W51)","v":""},{"$f":"IF('Measure Recommendation'!C51>0,'Measure Recommendation'!C51,\"\")","v":""},{"$f":"IF('Measure Recommendation'!X51=\"Yes\",\"g\",\"c\")","v":"c"}]
[null,{"$f":"DataPhaseValid!D58","v":""},{"$f":"IF('Measure Recommendation'!L52=\"\",\"\",'Measure Recommendation'!L52)","v":""},{"$f":"IF('Measure Recommendation'!L52=\"\",\"\",'Measure Recommendation'!M52)","v":""},{"$f":"IF('Measure Recommendation'!I52=\"\",\"\",'Measure Recommendation'!N52)","v":""},{"$f":"IF('Measure Recommendation'!I52=\"\",\"\",'Measure Recommendation'!O52)","v":""},{"$f":"IF('Measure Recommendation'!I52=\"\",\"\",'Measure Recommendation'!Q52)","v":""},{"$f":"IF('Measure Recommendation'!I52=\"\",\"\",'Measure Recommendation'!R52)","v":""},{"$f":"IF('Measure Recommendation'!I52=\"\",\"\",'Measure Recommendation'!T52)","v":""},{"$f":"IF('Measure Recommendation'!I52=\"\",\"\",'Measure Recommendation'!U52)","v":""},{"$f":"IF('Measure Recommendation'!I52=\"\",\"\",'Measure Recommendation'!V52)","v":""},{"$f":"IF('Measure Recommendation'!I52=\"\",\"\",'Measure Recommendation'!W52)","v":""},{"$f":"IF('Measure Recommendation'!C52>0,'Measure Recommendation'!C52,\"\")","v":""},{"$f":"IF('Measure Recommendation'!X52=\"Yes\",\"g\",\"c\")","v":"c"}]
[null,{"$f":"DataPhaseValid!D59","v":""},{"$f":"IF('Measure Recommendation'!L53=\"\",\"\",'Measure Recommendation'!L53)","v":""},{"$f":"IF('Measure Recommendation'!L53=\"\",\"\",'Measure Recommendation'!M53)","v":""},{"$f":"IF('Measure Recommendation'!I53=\"\",\"\",'Measure Recommendation'!N53)","v":""},{"$f":"IF('Measure Recommendation'!I53=\"\",\"\",'Measure Recommendation'!O53)","v":""},{"$f":"IF('Measure Recommendation'!I53=\"\",\"\",'Measure Recommendation'!Q53)","v":""},{"$f":"IF('Measure Recommendation'!I53=\"\",\"\",'Measure Recommendation'!R53)","v":""},{"$f":"IF('Measure Recommendation'!I53=\"\",\"\",'Measure Recommendation'!T53)","v":""},{"$f":"IF('Measure Recommendation'!I53=\"\",\"\",'Measure Recommendation'!U53)","v":""},{"$f":"IF('Measure Recommendation'!I53=\"\",\"\",'Measure Recommendation'!V53)","v":""},{"$f":"IF('Measure Recommendation'!I53=\"\",\"\",'Measure Recommendation'!W53)","v":""},{"$f":"IF('Measure Recommendation'!C53>0,'Measure Recommendation'!C53,\"\")","v":""},{"$f":"IF('Measure Recommendation'!X53=\"Yes\",\"g\",\"c\")","v":"c"}]
[null,{"$f":"DataPhaseValid!D60","v":""},{"$f":"IF('Measure Recommendation'!L54=\"\",\"\",'Measure Recommendation'!L54)","v":""},{"$f":"IF('Measure Recommendation'!L54=\"\",\"\",'Measure Recommendation'!M54)","v":""},{"$f":"IF('Measure Recommendation'!I54=\"\",\"\",'Measure Recommendation'!N54)","v":""},{"$f":"IF('Measure Recommendation'!I54=\"\",\"\",'Measure Recommendation'!O54)","v":""},{"$f":"IF('Measure Recommendation'!I54=\"\",\"\",'Measure Recommendation'!Q54)","v":""},{"$f":"IF('Measure Recommendation'!I54=\"\",\"\",'Measure Recommendation'!R54)","v":""},{"$f":"IF('Measure Recommendation'!I54=\"\",\"\",'Measure Recommendation'!T54)","v":""},{"$f":"IF('Measure Recommendation'!I54=\"\",\"\",'Measure Recommendation'!U54)","v":""},{"$f":"IF('Measure Recommendation'!I54=\"\",\"\",'Measure Recommendation'!V54)","v":""},{"$f":"IF('Measure Recommendation'!I54=\"\",\"\",'Measure Recommendation'!W54)","v":""},{"$f":"IF('Measure Recommendation'!C54>0,'Measure Recommendation'!C54,\"\")","v":""},{"$f":"IF('Measure Recommendation'!X54=\"Yes\",\"g\",\"c\")","v":"c"}]
[null,{"$f":"DataPhaseValid!D61","v":""},{"$f":"IF('Measure Recommendation'!L55=\"\",\"\",'Measure Recommendation'!L55)","v":""},{"$f":"IF('Measure Recommendation'!L55=\"\",\"\",'Measure Recommendation'!M55)","v":""},{"$f":"IF('Measure Recommendation'!I55=\"\",\"\",'Measure Recommendation'!N55)","v":""},{"$f":"IF('Measure Recommendation'!I55=\"\",\"\",'Measure Recommendation'!O55)","v":""},{"$f":"IF('Measure Recommendation'!I55=\"\",\"\",'Measure Recommendation'!Q55)","v":""},{"$f":"IF('Measure Recommendation'!I55=\"\",\"\",'Measure Recommendation'!R55)","v":""},{"$f":"IF('Measure Recommendation'!I55=\"\",\"\",'Measure Recommendation'!T55)","v":""},{"$f":"IF('Measure Recommendation'!I55=\"\",\"\",'Measure Recommendation'!U55)","v":""},{"$f":"IF('Measure Recommendation'!I55=\"\",\"\",'Measure Recommendation'!V55)","v":""},{"$f":"IF('Measure Recommendation'!I55=\"\",\"\",'Measure Recommendation'!W55)","v":""},{"$f":"IF('Measure Recommendation'!C55>0,'Measure Recommendation'!C55,\"\")","v":""},{"$f":"IF('Measure Recommendation'!X55=\"Yes\",\"g\",\"c\")","v":"c"}]
[null,{"$f":"DataPhaseValid!D62","v":""},{"$f":"IF('Measure Recommendation'!L56=\"\",\"\",'Measure Recommendation'!L56)","v":""},{"$f":"IF('Measure Recommendation'!L56=\"\",\"\",'Measure Recommendation'!M56)","v":""},{"$f":"IF('Measure Recommendation'!I56=\"\",\"\",'Measure Recommendation'!N56)","v":""},{"$f":"IF('Measure Recommendation'!I56=\"\",\"\",'Measure Recommendation'!O56)","v":""},{"$f":"IF('Measure Recommendation'!I56=\"\",\"\",'Measure Recommendation'!Q56)","v":""},{"$f":"IF('Measure Recommendation'!I56=\"\",\"\",'Measure Recommendation'!R56)","v":""},{"$f":"IF('Measure Recommendation'!I56=\"\",\"\",'Measure Recommendation'!T56)","v":""},{"$f":"IF('Measure Recommendation'!I56=\"\",\"\",'Measure Recommendation'!U56)","v":""},{"$f":"IF('Measure Recommendation'!I56=\"\",\"\",'Measure Recommendation'!V56)","v":""},{"$f":"IF('Measure Recommendation'!I56=\"\",\"\",'Measure Recommendation'!W56)","v":""},{"$f":"IF('Measure Recommendation'!C56>0,'Measure Recommendation'!C56,\"\")","v":""},{"$f":"IF('Measure Recommendation'!X56=\"Yes\",\"g\",\"c\")","v":"c"}]
[null,{"$f":"DataPhaseValid!D63","v":""},{"$f":"IF('Measure Recommendation'!L57=\"\",\"\",'Measure Recommendation'!L57)","v":""},{"$f":"IF('Measure Recommendation'!L57=\"\",\"\",'Measure Recommendation'!M57)","v":""},{"$f":"IF('Measure Recommendation'!I57=\"\",\"\",'Measure Recommendation'!N57)","v":""},{"$f":"IF('Measure Recommendation'!I57=\"\",\"\",'Measure Recommendation'!O57)","v":""},{"$f":"IF('Measure Recommendation'!I57=\"\",\"\",'Measure Recommendation'!Q57)","v":""},{"$f":"IF('Measure Recommendation'!I57=\"\",\"\",'Measure Recommendation'!R57)","v":""},{"$f":"IF('Measure Recommendation'!I57=\"\",\"\",'Measure Recommendation'!T57)","v":""},{"$f":"IF('Measure Recommendation'!I57=\"\",\"\",'Measure Recommendation'!U57)","v":""},{"$f":"IF('Measure Recommendation'!I57=\"\",\"\",'Measure Recommendation'!V57)","v":""},{"$f":"IF('Measure Recommendation'!I57=\"\",\"\",'Measure Recommendation'!W57)","v":""},{"$f":"IF('Measure Recommendation'!C57>0,'Measure Recommendation'!C57,\"\")","v":""},{"$f":"IF('Measure Recommendation'!X57=\"Yes\",\"g\",\"c\")","v":"c"}]
[null,{"$f":"DataPhaseValid!D64","v":""},{"$f":"IF('Measure Recommendation'!L58=\"\",\"\",'Measure Recommendation'!L58)","v":""},{"$f":"IF('Measure Recommendation'!L58=\"\",\"\",'Measure Recommendation'!M58)","v":""},{"$f":"IF('Measure Recommendation'!I58=\"\",\"\",'Measure Recommendation'!N58)","v":""},{"$f":"IF('Measure Recommendation'!I58=\"\",\"\",'Measure Recommendation'!O58)","v":""},{"$f":"IF('Measure Recommendation'!I58=\"\",\"\",'Measure Recommendation'!Q58)","v":""},{"$f":"IF('Measure Recommendation'!I58=\"\",\"\",'Measure Recommendation'!R58)","v":""},{"$f":"IF('Measure Recommendation'!I58=\"\",\"\",'Measure Recommendation'!T58)","v":""},{"$f":"IF('Measure Recommendation'!I58=\"\",\"\",'Measure Recommendation'!U58)","v":""},{"$f":"IF('Measure Recommendation'!I58=\"\",\"\",'Measure Recommendation'!V58)","v":""},{"$f":"IF('Measure Recommendation'!I58=\"\",\"\",'Measure Recommendation'!W58)","v":""},{"$f":"IF('Measure Recommendation'!C58>0,'Measure Recommendation'!C58,\"\")","v":""},{"$f":"IF('Measure Recommendation'!X58=\"Yes\",\"g\",\"c\")","v":"c"}]
[null,{"$f":"DataPhaseValid!D65","v":""},{"$f":"IF('Measure Recommendation'!L59=\"\",\"\",'Measure Recommendation'!L59)","v":""},{"$f":"IF('Measure Recommendation'!L59=\"\",\"\",'Measure Recommendation'!M59)","v":""},{"$f":"IF('Measure Recommendation'!I59=\"\",\"\",'Measure Recommendation'!N59)","v":""},{"$f":"IF('Measure Recommendation'!I59=\"\",\"\",'Measure Recommendation'!O59)","v":""},{"$f":"IF('Measure Recommendation'!I59=\"\",\"\",'Measure Recommendation'!Q59)","v":""},{"$f":"IF('Measure Recommendation'!I59=\"\",\"\",'Measure Recommendation'!R59)","v":""},{"$f":"IF('Measure Recommendation'!I59=\"\",\"\",'Measure Recommendation'!T59)","v":""},{"$f":"IF('Measure Recommendation'!I59=\"\",\"\",'Measure Recommendation'!U59)","v":""},{"$f":"IF('Measure Recommendation'!I59=\"\",\"\",'Measure Recommendation'!V59)","v":""},{"$f":"IF('Measure Recommendation'!I59=\"\",\"\",'Measure Recommendation'!W59)","v":""},{"$f":"IF('Measure Recommendation'!C59>0,'Measure Recommendation'!C59,\"\")","v":""},{"$f":"IF('Measure Recommendation'!X59=\"Yes\",\"g\",\"c\")","v":"c"}]
[null,{"$f":"DataPhaseValid!D66","v":""},{"$f":"IF('Measure Recommendation'!L60=\"\",\"\",'Measure Recommendation'!L60)","v":""},{"$f":"IF('Measure Recommendation'!L60=\"\",\"\",'Measure Recommendation'!M60)","v":""},{"$f":"IF('Measure Recommendation'!I60=\"\",\"\",'Measure Recommendation'!N60)","v":""},{"$f":"IF('Measure Recommendation'!I60=\"\",\"\",'Measure Recommendation'!O60)","v":""},{"$f":"IF('Measure Recommendation'!I60=\"\",\"\",'Measure Recommendation'!Q60)","v":""},{"$f":"IF('Measure Recommendation'!I60=\"\",\"\",'Measure Recommendation'!R60)","v":""},{"$f":"IF('Measure Recommendation'!I60=\"\",\"\",'Measure Recommendation'!T60)","v":""},{"$f":"IF('Measure Recommendation'!I60=\"\",\"\",'Measure Recommendation'!U60)","v":""},{"$f":"IF('Measure Recommendation'!I60=\"\",\"\",'Measure Recommendation'!V60)","v":""},{"$f":"IF('Measure Recommendation'!I60=\"\",\"\",'Measure Recommendation'!W60)","v":""},{"$f":"IF('Measure Recommendation'!C60>0,'Measure Recommendation'!C60,\"\")","v":""},{"$f":"IF('Measure Recommendation'!X60=\"Yes\",\"g\",\"c\")","v":"c"}]
[null,{"$f":"IF(Instructions!F3=\"MBCx\",\"Verification Phase Total\",\"Verification Phase Total\")","v":"Verification Phase Total"},{"$f":"'Measure Recommendation'!L61","v":0},{"$f":"'Measure Recommendation'!M61","v":0},{"$f":"'Measure Recommendation'!N61","v":0},{"$f":"'Measure Recommendation'!O61","v":0},{"$f":"'Measure Recommendation'!Q61","v":0},{"$f":"'Measure Recommendation'!R61","v":0},{"$f":"'Measure Recommendation'!S61","v":0},{"$f":"'Measure Recommendation'!U61","v":0},{"$f":"'Measure Recommendation'!V61","v":0},{"$f":"'Measure Recommendation'!W61","v":""},"-"]
[null,"Verification Phase Total - Current Bundle",{"$f":"'Measure Recommendation'!L62","v":0},{"$f":"'Measure Recommendation'!M62","v":0},{"$f":"'Measure Recommendation'!N62","v":0},{"$f":"'Measure Recommendation'!O62","v":0},{"$f":"'Measure Recommendation'!Q62","v":0},{"$f":"'Measure Recommendation'!R62","v":0},{"$f":"'Measure Recommendation'!S62","v":0},{"$f":"'Measure Recommendation'!U62","v":0},{"$f":"'Measure Recommendation'!V62","v":0},{"$f":"'Measure Recommendation'!W62","v":""},"-"]
[]
[]
[null,{"$f":"IF(Instructions!F3=\"RCx Flex\",\"Signature:    ______________________________________\",\"\")","v":""}]
[]
[null,{"$f":"IF(Instructions!F3=\"RCx Flex\",\"Date:             ______________________________________\",\"\")","v":""}]
[]
[]
[]
[]
[{"$f":"DataPhaseValid!G46","v":""}]
[{"$f":"DataPhaseValid!G151&'Contact & Facility Information'!B12&DataPhaseValid!G152&'Contact & Facility Information'!B6&DataPhaseValid!G153&'Contact & Facility Information'!B12&DataPhaseValid!G154","v":""}]

{"sheet":"RecElec2","index":16,"n_rows":61,"n_cols":8,"rows_kept":61,"cut":false,"hidden":true,"merged":[[1,0,1,2],[8,0,28,0],[59,0,59,7],[60,0,61,7],[2,0,2,2],[4,0,4,7],[5,0,5,7],[6,2,6,3],[29,0,50,0],[2,3,2,5]]}
["Energy Conservation Measure Form"]
[{"$f":"DataPhaseValid!$G$7","v":""}]
[{"$f":"DataPhaseValid!$G$4&\" | \"&DataPhaseValid!$G$5","v":" | "},null,null,{"$f":"IF(Instructions!F4=\"Investigation\", \"\", \"Verification Report Approval Date: \" & TEXT(Instructions!$F$14, \"mm/dd/yyyy\"))","v":"Verification Report Approval Date: 01/00/1900"}]
[]
[{"$f":"DataPhaseValid!G41","v":""}]
[{"$f":"DataPhaseValid!G42","v":""}]
[null,null,"Electric"]
["Phase","Energy Conservation Measure (ECM) Description","Electric Energy Savings (kWh/year)","Electric Cost Savings ($/year)","ECM Installation Cost ($)","Simple Payback Without Incentives (Years)",{"$f":"IF(Instructions!F3=\"RCx Flex\",\"RCx Flex Bundle #\",\"MBCx Bundle #\")","v":"MBCx Bundle #"},{"$f":"DataPhaseValid!G43","v":""}]
["Investigation",{"$f":"DataPhaseValid!C47","v":""},{"$f":"IF('Measure Recommendation'!$I17=\"\",\"\",'Measure Recommendation'!L17)","v":""},{"$f":"IF('Measure Recommendation'!$I17=\"\",\"\",'Measure Recommendation'!M17)","v":""},{"$f":"IF('Measure Recommendation'!$I17=\"\",\"\",'Measure Recommendation'!V17)","v":""},{"$f":"IF('Measure Recommendation'!$I17=\"\",\"\",'Measure Recommendation'!W17)","v":""},{"$f":"IF('Measure Recommendation'!C17>0,'Measure Recommendation'!C17,\"\")","v":""},{"$f":"IF('Measure Recommendation'!X17=\"Yes\", \"g\",\"c\")","v":"c"}]
[null,{"$f":"DataPhaseValid!C48","v":""},{"$f":"IF('Measure Recommendation'!$I18=\"\",\"\",'Measure Recommendation'!L18)","v":""},{"$f":"IF('Measure Recommendation'!$I18=\"\",\"\",'Measure Recommendation'!M18)","v":""},{"$f":"IF('Measure Recommendation'!$I18=\"\",\"\",'Measure Recommendation'!V18)","v":""},{"$f":"IF('Measure Recommendation'!$I18=\"\",\"\",'Measure Recommendation'!W18)","v":""},{"$f":"IF('Measure Recommendation'!C18>0,'Measure Recommendation'!C18,\"\")","v":""},{"$f":"IF('Measure Recommendation'!X18=\"Yes\", \"g\",\"c\")","v":"c"}]
[null,{"$f":"DataPhaseValid!C49","v":""},{"$f":"IF('Measure Recommendation'!$I19=\"\",\"\",'Measure Recommendation'!L19)","v":""},{"$f":"IF('Measure Recommendation'!$I19=\"\",\"\",'Measure Recommendation'!M19)","v":""},{"$f":"IF('Measure Recommendation'!$I19=\"\",\"\",'Measure Recommendation'!V19)","v":""},{"$f":"IF('Measure Recommendation'!$I19=\"\",\"\",'Measure Recommendation'!W19)","v":""},{"$f":"IF('Measure Recommendation'!C19>0,'Measure Recommendation'!C19,\"\")","v":""},{"$f":"IF('Measure Recommendation'!X19=\"Yes\", \"g\",\"c\")","v":"c"}]
[null,{"$f":"DataPhaseValid!C50","v":""},{"$f":"IF('Measure Recommendation'!$I20=\"\",\"\",'Measure Recommendation'!L20)","v":""},{"$f":"IF('Measure Recommendation'!$I20=\"\",\"\",'Measure Recommendation'!M20)","v":""},{"$f":"IF('Measure Recommendation'!$I20=\"\",\"\",'Measure Recommendation'!V20)","v":""},{"$f":"IF('Measure Recommendation'!$I20=\"\",\"\",'Measure Recommendation'!W20)","v":""},{"$f":"IF('Measure Recommendation'!C20>0,'Measure Recommendation'!C20,\"\")","v":""},{"$f":"IF('Measure Recommendation'!X20=\"Yes\", \"g\",\"c\")","v":"c"}]
[null,{"$f":"DataPhaseValid!C51","v":""},{"$f":"IF('Measure Recommendation'!$I21=\"\",\"\",'Measure Recommendation'!L21)","v":""},{"$f":"IF('Measure Recommendation'!$I21=\"\",\"\",'Measure Recommendation'!M21)","v":""},{"$f":"IF('Measure Recommendation'!$I21=\"\",\"\",'Measure Recommendation'!V21)","v":""},{"$f":"IF('Measure Recommendation'!$I21=\"\",\"\",'Measure Recommendation'!W21)","v":""},{"$f":"IF('Measure Recommendation'!C21>0,'Measure Recommendation'!C21,\"\")","v":""},{"$f":"IF('Measure Recommendation'!X21=\"Yes\", \"g\",\"c\")","v":"c"}]
[null,{"$f":"DataPhaseValid!C52","v":""},{"$f":"IF('Measure Recommendation'!$I22=\"\",\"\",'Measure Recommendation'!L22)","v":""},{"$f":"IF('Measure Recommendation'!$I22=\"\",\"\",'Measure Recommendation'!M22)","v":""},{"$f":"IF('Measure Recommendation'!$I22=\"\",\"\",'Measure Recommendation'!V22)","v":""},{"$f":"IF('Measure Recommendation'!$I22=\"\",\"\",'Measure Recommendation'!W22)","v":""},{"$f":"IF('Measure Recommendation'!C22>0,'Measure Recommendation'!C22,\"\")","v":""},{"$f":"IF('Measure Recommendation'!X22=\"Yes\", \"g\",\"c\")","v":"c"}]
[null,{"$f":"DataPhaseValid!C53","v":""},{"$f":"IF('Measure Recommendation'!$I23=\"\",\"\",'Measure Recommendation'!L23)","v":""},{"$f":"IF('Measure Recommendation'!$I23=\"\",\"\",'Measure Recommendation'!M23)","v":""},{"$f":"IF('Measure Recommendation'!$I23=\"\",\"\",'Measure Recommendation'!V23)","v":""},{"$f":"IF('Measure Recommendation'!$I23=\"\",\"\",'Measure Recommendation'!W23)","v":""},{"$f":"IF('Measure Recommendation'!C23>0,'Measure Recommendation'!C23,\"\")","v":""},{"$f":"IF('Measure Recommendation'!X23=\"Yes\", \"g\",\"c\")","v":"c"}]
[null,{"$f":"DataPhaseValid!C54","v":""},{"$f":"IF('Measure Recommendation'!$I24=\"\",\"\",'Measure Recommendation'!L24)","v":""},{"$f":"IF('Measure Recommendation'!$I24=\"\",\"\",'Measure Recommendation'!M24)","v":""},{"$f":"IF('Measure Recommendation'!$I24=\"\",\"\",'Measure Recommendation'!V24)","v":""},{"$f":"IF('Measure Recommendation'!$I24=\"\",\"\",'Measure Recommendation'!W24)","v":""},{"$f":"IF('Measure Recommendation'!C24>0,'Measure Recommendation'!C24,\"\")","v":""},{"$f":"IF('Measure Recommendation'!X24=\"Yes\", \"g\",\"c\")","v":"c"}]
[null,{"$f":"DataPhaseValid!C55","v":""},{"$f":"IF('Measure Recommendation'!$I25=\"\",\"\",'Measure Recommendation'!L25)","v":""},{"$f":"IF('Measure Recommendation'!$I25=\"\",\"\",'Measure Recommendation'!M25)","v":""},{"$f":"IF('Measure Recommendation'!$I25=\"\",\"\",'Measure Recommendation'!V25)","v":""},{"$f":"IF('Measure Recommendation'!$I25=\"\",\"\",'Measure Recommendation'!W25)","v":""},{"$f":"IF('Measure Recommendation'!C25>0,'Measure Recommendation'!C25,\"\")","v":""},{"$f":"IF('Measure Recommendation'!X25=\"Yes\", \"g\",\"c\")","v":"c"}]
[null,{"$f":"DataPhaseValid!C56","v":""},{"$f":"IF('Measure Recommendation'!$I26=\"\",\"\",'Measure Recommendation'!L26)","v":""},{"$f":"IF('Measure Recommendation'!$I26=\"\",\"\",'Measure Recommendation'!M26)","v":""},{"$f":"IF('Measure Recommendation'!$I26=\"\",\"\",'Measure Recommendation'!V26)","v":""},{"$f":"IF('Measure Recommendation'!$I26=\"\",\"\",'Measure Recommendation'!W26)","v":""},{"$f":"IF('Measure Recommendation'!C26>0,'Measure Recommendation'!C26,\"\")","v":""},{"$f":"IF('Measure Recommendation'!X26=\"Yes\", \"g\",\"c\")","v":"c"}]
[null,{"$f":"DataPhaseValid!C57","v":""},{"$f":"IF('Measure Recommendation'!$I27=\"\",\"\",'Measure Recommendation'!L27)","v":""},{"$f":"IF('Measure Recommendation'!$I27=\"\",\"\",'Measure Recommendation'!M27)","v":""},{"$f":"IF('Measure Recommendation'!$I27=\"\",\"\",'Measure Recommendation'!V27)","v":""},{"$f":"IF('Measure Recommendation'!$I27=\"\",\"\",'Measure Recommendation'!W27)","v":""},{"$f":"IF('Measure Recommendation'!C27>0,'Measure Recommendation'!C27,\"\")","v":""},{"$f":"IF('Measure Recommendation'!X27=\"Yes\", \"g\",\"c\")","v":"c"}]
[null,{"$f":"DataPhaseValid!C58","v":""},{"$f":"IF('Measure Recommendation'!$I28=\"\",\"\",'Measure Recommendation'!L28)","v":""},{"$f":"IF('Measure Recommendation'!$I28=\"\",\"\",'Measure Recommendation'!M28)","v":""},{"$f":"IF('Measure Recommendation'!$I28=\"\",\"\",'Measure Recommendation'!V28)","v":""},{"$f":"IF('Measure Recommendation'!$I28=\"\",\"\",'Measure Recommendation'!W28)","v":""},{"$f":"IF('Measure Recommendation'!C28>0,'Measure Recommendation'!C28,\"\")","v":""},{"$f":"IF('Measure Recommendation'!X28=\"Yes\", \"g\",\"c\")","v":"c"}]
[null,{"$f":"DataPhaseValid!C59","v":""},{"$f":"IF('Measure Recommendation'!$I29=\"\",\"\",'Measure Recommendation'!L29)","v":""},{"$f":"IF('Measure Recommendation'!$I29=\"\",\"\",'Measure Recommendation'!M29)","v":""},{"$f":"IF('Measure Recommendation'!$I29=\"\",\"\",'Measure Recommendation'!V29)","v":""},{"$f":"IF('Measure Recommendation'!$I29=\"\",\"\",'Measure Recommendation'!W29)","v":""},{"$f":"IF('Measure Recommendation'!C29>0,'Measure Recommendation'!C29,\"\")","v":""},{"$f":"IF('Measure Recommendation'!X29=\"Yes\", \"g\",\"c\")","v":"c"}]
[null,{"$f":"DataPhaseValid!C60","v":""},{"$f":"IF('Measure Recommendation'!$I30=\"\",\"\",'Measure Recommendation'!L30)","v":""},{"$f":"IF('Measure Recommendation'!$I30=\"\",\"\",'Measure Recommendation'!M30)","v":""},{"$f":"IF('Measure Recommendation'!$I30=\"\",\"\",'Measure Recommendation'!V30)","v":""},{"$f":"IF('Measure Recommendation'!$I30=\"\",\"\",'Measure Recommendation'!W30)","v":""},{"$f":"IF('Measure Recommendation'!C30>0,'Measure Recommendation'!C30,\"\")","v":""},{"$f":"IF('Measure Recommendation'!X30=\"Yes\", \"g\",\"c\")","v":"c"}]
[null,{"$f":"DataPhaseValid!C61","v":""},{"$f":"IF('Measure Recommendation'!$I31=\"\",\"\",'Measure Recommendation'!L31)","v":""},{"$f":"IF('Measure Recommendation'!$I31=\"\",\"\",'Measure Recommendation'!M31)","v":""},{"$f":"IF('Measure Recommendation'!$I31=\"\",\"\",'Measure Recommendation'!V31)","v":""},{"$f":"IF('Measure Recommendation'!$I31=\"\",\"\",'Measure Recommendation'!W31)","v":""},{"$f":"IF('Measure Recommendation'!C31>0,'Measure Recommendation'!C31,\"\")","v":""},{"$f":"IF('Measure Recommendation'!X31=\"Yes\", \"g\",\"c\")","v":"c"}]
[null,{"$f":"DataPhaseValid!C62","v":""},{"$f":"IF('Measure Recommendation'!$I32=\"\",\"\",'Measure Recommendation'!L32)","v":""},{"$f":"IF('Measure Recommendation'!$I32=\"\",\"\",'Measure Recommendation'!M32)","v":""},{"$f":"IF('Measure Recommendation'!$I32=\"\",\"\",'Measure Recommendation'!V32)","v":""},{"$f":"IF('Measure Recommendation'!$I32=\"\",\"\",'Measure Recommendation'!W32)","v":""},{"$f":"IF('Measure Recommendation'!C32>0,'Measure Recommendation'!C32,\"\")","v":""},{"$f":"IF('Measure Recommendation'!X32=\"Yes\", \"g\",\"c\")","v":"c"}]
[null,{"$f":"DataPhaseValid!C63","v":""},{"$f":"IF('Measure Recommendation'!$I33=\"\",\"\",'Measure Recommendation'!L33)","v":""},{"$f":"IF('Measure Recommendation'!$I33=\"\",\"\",'Measure Recommendation'!M33)","v":""},{"$f":"IF('Measure Recommendation'!$I33=\"\",\"\",'Measure Recommendation'!V33)","v":""},{"$f":"IF('Measure Recommendation'!$I33=\"\",\"\",'Measure Recommendation'!W33)","v":""},{"$f":"IF('Measure Recommendation'!C33>0,'Measure Recommendation'!C33,\"\")","v":""},{"$f":"IF('Measure Recommendation'!X33=\"Yes\", \"g\",\"c\")","v":"c"}]
[null,{"$f":"DataPhaseValid!C64","v":""},{"$f":"IF('Measure Recommendation'!$I34=\"\",\"\",'Measure Recommendation'!L34)","v":""},{"$f":"IF('Measure Recommendation'!$I34=\"\",\"\",'Measure Recommendation'!M34)","v":""},{"$f":"IF('Measure Recommendation'!$I34=\"\",\"\",'Measure Recommendation'!V34)","v":""},{"$f":"IF('Measure Recommendation'!$I34=\"\",\"\",'Measure Recommendation'!W34)","v":""},{"$f":"IF('Measure Recommendation'!C34>0,'Measure Recommendation'!C34,\"\")","v":""},{"$f":"IF('Measure Recommendation'!X34=\"Yes\", \"g\",\"c\")","v":"c"}]
[null,{"$f":"DataPhaseValid!C65","v":""},{"$f":"IF('Measure Recommendation'!$I35=\"\",\"\",'Measure Recommendation'!L35)","v":""},{"$f":"IF('Measure Recommendation'!$I35=\"\",\"\",'Measure Recommendation'!M35)","v":""},{"$f":"IF('Measure Recommendation'!$I35=\"\",\"\",'Measure Recommendation'!V35)","v":""},{"$f":"IF('Measure Recommendation'!$I35=\"\",\"\",'Measure Recommendation'!W35)","v":""},{"$f":"IF('Measure Recommendation'!C35>0,'Measure Recommendation'!C35,\"\")","v":""},{"$f":"IF('Measure Recommendation'!X35=\"Yes\", \"g\",\"c\")","v":"c"}]
[null,{"$f":"DataPhaseValid!C66","v":""},{"$f":"IF('Measure Recommendation'!$I36=\"\",\"\",'Measure Recommendation'!L36)","v":""},{"$f":"IF('Measure Recommendation'!$I36=\"\",\"\",'Measure Recommendation'!M36)","v":""},{"$f":"IF('Measure Recommendation'!$I36=\"\",\"\",'Measure Recommendation'!V36)","v":""},{"$f":"IF('Measure Recommendation'!$I36=\"\",\"\",'Measure Recommendation'!W36)","v":""},{"$f":"IF('Measure Recommendation'!C36>0,'Measure Recommendation'!C36,\"\")","v":""},{"$f":"IF('Measure Recommendation'!X36=\"Yes\", \"g\",\"c\")","v":"c"}]
[null,"Investigation Phase Total",{"$f":"'Measure Recommendation'!L37","v":0},{"$f":"'Measure Recommendation'!M37","v":0},{"$f":"'Measure Recommendation'!V37","v":0},{"$f":"'Measure Recommendation'!W37","v":""},"-"]
["Verification",{"$f":"DataPhaseValid!D47","v":""},{"$f":"IF('Measure Recommendation'!$I41=\"\",\"\",'Measure Recommendation'!L41)","v":""},{"$f":"IF('Measure Recommendation'!$I41=\"\",\"\",'Measure Recommendation'!M41)","v":""},{"$f":"IF('Measure Recommendation'!$I41=\"\",\"\",'Measure Recommendation'!V41)","v":""},{"$f":"IF('Measure Recommendation'!$I41=\"\",\"\",'Measure Recommendation'!W41)","v":""},{"$f":"IF('Measure Recommendation'!C41>0,'Measure Recommendation'!C41,\"\")","v":""},{"$f":"IF('Measure Recommendation'!X41=\"Yes\",\"g\",\"c\")","v":"c"}]
[null,{"$f":"DataPhaseValid!D48","v":""},{"$f":"IF('Measure Recommendation'!$I42=\"\",\"\",'Measure Recommendation'!L42)","v":""},{"$f":"IF('Measure Recommendation'!$I42=\"\",\"\",'Measure Recommendation'!M42)","v":""},{"$f":"IF('Measure Recommendation'!$I42=\"\",\"\",'Measure Recommendation'!V42)","v":""},{"$f":"IF('Measure Recommendation'!$I42=\"\",\"\",'Measure Recommendation'!W42)","v":""},{"$f":"IF('Measure Recommendation'!C42>0,'Measure Recommendation'!C42,\"\")","v":""},{"$f":"IF('Measure Recommendation'!X42=\"Yes\",\"g\",\"c\")","v":"c"}]
[null,{"$f":"DataPhaseValid!D49","v":""},{"$f":"IF('Measure Recommendation'!$I43=\"\",\"\",'Measure Recommendation'!L43)","v":""},{"$f":"IF('Measure Recommendation'!$I43=\"\",\"\",'Measure Recommendation'!M43)","v":""},{"$f":"IF('Measure Recommendation'!$I43=\"\",\"\",'Measure Recommendation'!V43)","v":""},{"$f":"IF('Measure Recommendation'!$I43=\"\",\"\",'Measure Recommendation'!W43)","v":""},{"$f":"IF('Measure Recommendation'!C43>0,'Measure Recommendation'!C43,\"\")","v":""},{"$f":"IF('Measure Recommendation'!X43=\"Yes\",\"g\",\"c\")","v":"c"}]
[null,{"$f":"DataPhaseValid!D50","v":""},{"$f":"IF('Measure Recommendation'!$I44=\"\",\"\",'Measure Recommendation'!L44)","v":""},{"$f":"IF('Measure Recommendation'!$I44=\"\",\"\",'Measure Recommendation'!M44)","v":""},{"$f":"IF('Measure Recommendation'!$I44=\"\",\"\",'Measure Recommendation'!V44)","v":""},{"$f":"IF('Measure Recommendation'!$I44=\"\",\"\",'Measure Recommendation'!W44)","v":""},{"$f":"IF('Measure Recommendation'!C44>0,'Measure Recommendation'!C44,\"\")","v":""},{"$f":"IF('Measure Recommendation'!X44=\"Yes\",\"g\",\"c\")","v":"c"}]
[null,{"$f":"DataPhaseValid!D51","v":""},{"$f":"IF('Measure Recommendation'!$I45=\"\",\"\",'Measure Recommendation'!L45)","v":""},{"$f":"IF('Measure Recommendation'!$I45=\"\",\"\",'Measure Recommendation'!M45)","v":""},{"$f":"IF('Measure Recommendation'!$I45=\"\",\"\",'Measure Recommendation'!V45)","v":""},{"$f":"IF('Measure Recommendation'!$I45=\"\",\"\",'Measure Recommendation'!W45)","v":""},{"$f":"IF('Measure Recommendation'!C45>0,'Measure Recommendation'!C45,\"\")","v":""},{"$f":"IF('Measure Recommendation'!X45=\"Yes\",\"g\",\"c\")","v":"c"}]
[null,{"$f":"DataPhaseValid!D52","v":""},{"$f":"IF('Measure Recommendation'!$I46=\"\",\"\",'Measure Recommendation'!L46)","v":""},{"$f":"IF('Measure Recommendation'!$I46=\"\",\"\",'Measure Recommendation'!M46)","v":""},{"$f":"IF('Measure Recommendation'!$I46=\"\",\"\",'Measure Recommendation'!V46)","v":""},{"$f":"IF('Measure Recommendation'!$I46=\"\",\"\",'Measure Recommendation'!W46)","v":""},{"$f":"IF('Measure Recommendation'!C46>0,'Measure Recommendation'!C46,\"\")","v":""},{"$f":"IF('Measure Recommendation'!X46=\"Yes\",\"g\",\"c\")","v":"c"}]
[null,{"$f":"DataPhaseValid!D53","v":""},{"$f":"IF('Measure Recommendation'!$I47=\"\",\"\",'Measure Recommendation'!L47)","v":""},{"$f":"IF('Measure Recommendation'!$I47=\"\",\"\",'Measure Recommendation'!M47)","v":""},{"$f":"IF('Measure Recommendation'!$I47=\"\",\"\",'Measure Recommendation'!V47)","v":""},{"$f":"IF('Measure Recommendation'!$I47=\"\",\"\",'Measure Recommendation'!W47)","v":""},{"$f":"IF('Measure Recommendation'!C47>0,'Measure Recommendation'!C47,\"\")","v":""},{"$f":"IF('Measure Recommendation'!X47=\"Yes\",\"g\",\"c\")","v":"c"}]
[null,{"$f":"DataPhaseValid!D54","v":""},{"$f":"IF('Measure Recommendation'!$I48=\"\",\"\",'Measure Recommendation'!L48)","v":""},{"$f":"IF('Measure Recommendation'!$I48=\"\",\"\",'Measure Recommendation'!M48)","v":""},{"$f":"IF('Measure Recommendation'!$I48=\"\",\"\",'Measure Recommendation'!V48)","v":""},{"$f":"IF('Measure Recommendation'!$I48=\"\",\"\",'Measure Recommendation'!W48)","v":""},{"$f":"IF('Measure Recommendation'!C48>0,'Measure Recommendation'!C48,\"\")","v":""},{"$f":"IF('Measure Recommendation'!X48=\"Yes\",\"g\",\"c\")","v":"c"}]
[null,{"$f":"DataPhaseValid!D55","v":""},{"$f":"IF('Measure Recommendation'!$I49=\"\",\"\",'Measure Recommendation'!L49)","v":""},{"$f":"IF('Measure Recommendation'!$I49=\"\",\"\",'Measure Recommendation'!M49)","v":""},{"$f":"IF('Measure Recommendation'!$I49=\"\",\"\",'Measure Recommendation'!V49)","v":""},{"$f":"IF('Measure Recommendation'!$I49=\"\",\"\",'Measure Recommendation'!W49)","v":""},{"$f":"IF('Measure Recommendation'!C49>0,'Measure Recommendation'!C49,\"\")","v":""},{"$f":"IF('Measure Recommendation'!X49=\"Yes\",\"g\",\"c\")","v":"c"}]
[null,{"$f":"DataPhaseValid!D56","v":""},{"$f":"IF('Measure Recommendation'!$I50=\"\",\"\",'Measure Recommendation'!L50)","v":""},{"$f":"IF('Measure Recommendation'!$I50=\"\",\"\",'Measure Recommendation'!M50)","v":""},{"$f":"IF('Measure Recommendation'!$I50=\"\",\"\",'Measure Recommendation'!V50)","v":""},{"$f":"IF('Measure Recommendation'!$I50=\"\",\"\",'Measure Recommendation'!W50)","v":""},{"$f":"IF('Measure Recommendation'!C50>0,'Measure Recommendation'!C50,\"\")","v":""},{"$f":"IF('Measure Recommendation'!X50=\"Yes\",\"g\",\"c\")","v":"c"}]
[null,{"$f":"DataPhaseValid!D57","v":""},{"$f":"IF('Measure Recommendation'!$I51=\"\",\"\",'Measure Recommendation'!L51)","v":""},{"$f":"IF('Measure Recommendation'!$I51=\"\",\"\",'Measure Recommendation'!M51)","v":""},{"$f":"IF('Measure Recommendation'!$I51=\"\",\"\",'Measure Recommendation'!V51)","v":""},{"$f":"IF('Measure Recommendation'!$I51=\"\",\"\",'Measure Recommendation'!W51)","v":""},{"$f":"IF('Measure Recommendation'!C51>0,'Measure Recommendation'!C51,\"\")","v":""},{"$f":"IF('Measure Recommendation'!X51=\"Yes\",\"g\",\"c\")","v":"c"}]
[null,{"$f":"DataPhaseValid!D58","v":""},{"$f":"IF('Measure Recommendation'!$I52=\"\",\"\",'Measure Recommendation'!L52)","v":""},{"$f":"IF('Measure Recommendation'!$I52=\"\",\"\",'Measure Recommendation'!M52)","v":""},{"$f":"IF('Measure Recommendation'!$I52=\"\",\"\",'Measure Recommendation'!V52)","v":""},{"$f":"IF('Measure Recommendation'!$I52=\"\",\"\",'Measure Recommendation'!W52)","v":""},{"$f":"IF('Measure Recommendation'!C52>0,'Measure Recommendation'!C52,\"\")","v":""},{"$f":"IF('Measure Recommendation'!X52=\"Yes\",\"g\",\"c\")","v":"c"}]
[null,{"$f":"DataPhaseValid!D59","v":""},{"$f":"IF('Measure Recommendation'!$I53=\"\",\"\",'Measure Recommendation'!L53)","v":""},{"$f":"IF('Measure Recommendation'!$I53=\"\",\"\",'Measure Recommendation'!M53)","v":""},{"$f":"IF('Measure Recommendation'!$I53=\"\",\"\",'Measure Recommendation'!V53)","v":""},{"$f":"IF('Measure Recommendation'!$I53=\"\",\"\",'Measure Recommendation'!W53)","v":""},{"$f":"IF('Measure Recommendation'!C53>0,'Measure Recommendation'!C53,\"\")","v":""},{"$f":"IF('Measure Recommendation'!X53=\"Yes\",\"g\",\"c\")","v":"c"}]
[null,{"$f":"DataPhaseValid!D60","v":""},{"$f":"IF('Measure Recommendation'!$I54=\"\",\"\",'Measure Recommendation'!L54)","v":""},{"$f":"IF('Measure Recommendation'!$I54=\"\",\"\",'Measure Recommendation'!M54)","v":""},{"$f":"IF('Measure Recommendation'!$I54=\"\",\"\",'Measure Recommendation'!V54)","v":""},{"$f":"IF('Measure Recommendation'!$I54=\"\",\"\",'Measure Recommendation'!W54)","v":""},{"$f":"IF('Measure Recommendation'!C54>0,'Measure Recommendation'!C54,\"\")","v":""},{"$f":"IF('Measure Recommendation'!X54=\"Yes\",\"g\",\"c\")","v":"c"}]
[null,{"$f":"DataPhaseValid!D61","v":""},{"$f":"IF('Measure Recommendation'!$I55=\"\",\"\",'Measure Recommendation'!L55)","v":""},{"$f":"IF('Measure Recommendation'!$I55=\"\",\"\",'Measure Recommendation'!M55)","v":""},{"$f":"IF('Measure Recommendation'!$I55=\"\",\"\",'Measure Recommendation'!V55)","v":""},{"$f":"IF('Measure Recommendation'!$I55=\"\",\"\",'Measure Recommendation'!W55)","v":""},{"$f":"IF('Measure Recommendation'!C55>0,'Measure Recommendation'!C55,\"\")","v":""},{"$f":"IF('Measure Recommendation'!X55=\"Yes\",\"g\",\"c\")","v":"c"}]
[null,{"$f":"DataPhaseValid!D62","v":""},{"$f":"IF('Measure Recommendation'!$I56=\"\",\"\",'Measure Recommendation'!L56)","v":""},{"$f":"IF('Measure Recommendation'!$I56=\"\",\"\",'Measure Recommendation'!M56)","v":""},{"$f":"IF('Measure Recommendation'!$I56=\"\",\"\",'Measure Recommendation'!V56)","v":""},{"$f":"IF('Measure Recommendation'!$I56=\"\",\"\",'Measure Recommendation'!W56)","v":""},{"$f":"IF('Measure Recommendation'!C56>0,'Measure Recommendation'!C56,\"\")","v":""},{"$f":"IF('Measure Recommendation'!X56=\"Yes\",\"g\",\"c\")","v":"c"}]
[null,{"$f":"DataPhaseValid!D63","v":""},{"$f":"IF('Measure Recommendation'!$I57=\"\",\"\",'Measure Recommendation'!L57)","v":""},{"$f":"IF('Measure Recommendation'!$I57=\"\",\"\",'Measure Recommendation'!M57)","v":""},{"$f":"IF('Measure Recommendation'!$I57=\"\",\"\",'Measure Recommendation'!V57)","v":""},{"$f":"IF('Measure Recommendation'!$I57=\"\",\"\",'Measure Recommendation'!W57)","v":""},{"$f":"IF('Measure Recommendation'!C57>0,'Measure Recommendation'!C57,\"\")","v":""},{"$f":"IF('Measure Recommendation'!X57=\"Yes\",\"g\",\"c\")","v":"c"}]
[null,{"$f":"DataPhaseValid!D64","v":""},{"$f":"IF('Measure Recommendation'!$I58=\"\",\"\",'Measure Recommendation'!L58)","v":""},{"$f":"IF('Measure Recommendation'!$I58=\"\",\"\",'Measure Recommendation'!M58)","v":""},{"$f":"IF('Measure Recommendation'!$I58=\"\",\"\",'Measure Recommendation'!V58)","v":""},{"$f":"IF('Measure Recommendation'!$I58=\"\",\"\",'Measure Recommendation'!W58)","v":""},{"$f":"IF('Measure Recommendation'!C58>0,'Measure Recommendation'!C58,\"\")","v":""},{"$f":"IF('Measure Recommendation'!X58=\"Yes\",\"g\",\"c\")","v":"c"}]
[null,{"$f":"DataPhaseValid!D65","v":""},{"$f":"IF('Measure Recommendation'!$I59=\"\",\"\",'Measure Recommendation'!L59)","v":""},{"$f":"IF('Measure Recommendation'!$I59=\"\",\"\",'Measure Recommendation'!M59)","v":""},{"$f":"IF('Measure Recommendation'!$I59=\"\",\"\",'Measure Recommendation'!V59)","v":""},{"$f":"IF('Measure Recommendation'!$I59=\"\",\"\",'Measure Recommendation'!W59)","v":""},{"$f":"IF('Measure Recommendation'!C59>0,'Measure Recommendation'!C59,\"\")","v":""},{"$f":"IF('Measure Recommendation'!X59=\"Yes\",\"g\",\"c\")","v":"c"}]
[null,{"$f":"DataPhaseValid!D66","v":""},{"$f":"IF('Measure Recommendation'!$I60=\"\",\"\",'Measure Recommendation'!L60)","v":""},{"$f":"IF('Measure Recommendation'!$I60=\"\",\"\",'Measure Recommendation'!M60)","v":""},{"$f":"IF('Measure Recommendation'!$I60=\"\",\"\",'Measure Recommendation'!V60)","v":""},{"$f":"IF('Measure Recommendation'!$I60=\"\",\"\",'Measure Recommendation'!W60)","v":""},{"$f":"IF('Measure Recommendation'!C60>0,'Measure Recommendation'!C60,\"\")","v":""},{"$f":"IF('Measure Recommendation'!X60=\"Yes\",\"g\",\"c\")","v":"c"}]
[null,{"$f":"IF(Instructions!F3=\"MBCx\",\"Verification Phase Total - All Bundle\",\"Verification Phase Total\")","v":"Verification Phase Total"},{"$f":"'Measure Recommendation'!L61","v":0},{"$f":"'Measure Recommendation'!M61","v":0},{"$f":"'Measure Recommendation'!V61","v":0},{"$f":"'Measure Recommendation'!W61","v":""},"-"]
[null,"Verification Phase Total - Current Bundle",{"$f":"'Measure Recommendation'!L62","v":0},{"$f":"'Measure Recommendation'!M62","v":0},{"$f":"'Measure Recommendation'!V62","v":0},{"$f":"'Measure Recommendation'!W62","v":""},"-"]
[]
[]
[null,"Signature:    ______________________________________"]
[]
[null,"Date:             ______________________________________"]
[]
[]
[]
[{"$f":"DataPhaseValid!G46","v":""}]
[{"$f":"DataPhaseValid!G151&'Contact & Facility Information'!B12&DataPhaseValid!G152&'Contact & Facility Information'!B6&DataPhaseValid!G153&'Contact & Facility Information'!B12&DataPhaseValid!G154","v":""}]

{"sheet":"RecElecGas2","index":17,"n_rows":60,"n_cols":10,"rows_kept":60,"cut":false,"hidden":true,"merged":[[59,0,60,9],[0,0,0,9],[8,0,28,0],[58,0,58,9],[1,0,1,3],[4,0,4,9],[5,0,5,9],[6,2,6,3],[6,4,6,5],[2,0,2,2],[29,0,50,0],[2,4,2,7]]}
["Energy Conservation Measure Form"]
[{"$f":"DataPhaseValid!G7","v":""}]
[{"$f":"DataPhaseValid!$G$4&\" | \"&DataPhaseValid!$G$5","v":" | "},null,null,null,{"$f":"IF(Instructions!F4=\"Investigation\", \"\", \"Verification Report Approval Date: \" & TEXT(Instructions!$F$14, \"mm/dd/yyyy\"))","v":"Verification Report Approval Date: 01/00/1900"}]
[]
[{"$f":"DataPhaseValid!G41","v":""}]
[{"$f":"DataPhaseValid!G42","v":""}]
[null,null,"Electric",null,"Natural Gas"]
["Phase","Energy Conservation Measure (ECM) Description","Electric Energy Savings (kWh/yr)","Electric Cost Savings ($/yr)","Natural Gas Savings (therms/yr)","Natural Gas Cost Savings ($/yr)","ECM Installation Cost ($)","Simple Payback Without Incentives (Years)",{"$f":"IF(Instructions!F3=\"MBCx\",\"MBCx Bundle #\",\"RCx Flex Bundle #\")","v":"RCx Flex Bundle #"},{"$f":"DataPhaseValid!G43","v":""}]
["Investigation",{"$f":"DataPhaseValid!C47","v":""},{"$f":"IF('Measure Recommendation'!$I17=\"\",\"\",'Measure Recommendation'!L17)","v":""},{"$f":"IF('Measure Recommendation'!$I17=\"\",\"\",'Measure Recommendation'!M17)","v":""},{"$f":"IF('Measure Recommendation'!$I17=\"\",\"\",'Measure Recommendation'!N17)","v":""},{"$f":"IF('Measure Recommendation'!$I17=\"\",\"\",'Measure Recommendation'!O17)","v":""},{"$f":"IF('Measure Recommendation'!$I17=\"\",\"\",'Measure Recommendation'!V17)","v":""},{"$f":"IF('Measure Recommendation'!$I17=\"\",\"\",'Measure Recommendation'!W17)","v":""},{"$f":"IF('Measure Recommendation'!C17>0,'Measure Recommendation'!C17,\"\")","v":""},{"$f":"IF('Measure Recommendation'!X17=\"Yes\", \"g\",\"c\")","v":"c"}]
[null,{"$f":"DataPhaseValid!C48","v":""},{"$f":"IF('Measure Recommendation'!$I18=\"\",\"\",'Measure Recommendation'!L18)","v":""},{"$f":"IF('Measure Recommendation'!$I18=\"\",\"\",'Measure Recommendation'!M18)","v":""},{"$f":"IF('Measure Recommendation'!$I18=\"\",\"\",'Measure Recommendation'!N18)","v":""},{"$f":"IF('Measure Recommendation'!$I18=\"\",\"\",'Measure Recommendation'!O18)","v":""},{"$f":"IF('Measure Recommendation'!$I18=\"\",\"\",'Measure Recommendation'!V18)","v":""},{"$f":"IF('Measure Recommendation'!$I18=\"\",\"\",'Measure Recommendation'!W18)","v":""},{"$f":"IF('Measure Recommendation'!C18>0,'Measure Recommendation'!C18,\"\")","v":""},{"$f":"IF('Measure Recommendation'!X18=\"Yes\", \"g\",\"c\")","v":"c"}]
[null,{"$f":"DataPhaseValid!C49","v":""},{"$f":"IF('Measure Recommendation'!$I19=\"\",\"\",'Measure Recommendation'!L19)","v":""},{"$f":"IF('Measure Recommendation'!$I19=\"\",\"\",'Measure Recommendation'!M19)","v":""},{"$f":"IF('Measure Recommendation'!$I19=\"\",\"\",'Measure Recommendation'!N19)","v":""},{"$f":"IF('Measure Recommendation'!$I19=\"\",\"\",'Measure Recommendation'!O19)","v":""},{"$f":"IF('Measure Recommendation'!$I19=\"\",\"\",'Measure Recommendation'!V19)","v":""},{"$f":"IF('Measure Recommendation'!$I19=\"\",\"\",'Measure Recommendation'!W19)","v":""},{"$f":"IF('Measure Recommendation'!C19>0,'Measure Recommendation'!C19,\"\")","v":""},{"$f":"IF('Measure Recommendation'!X19=\"Yes\", \"g\",\"c\")","v":"c"}]
[null,{"$f":"DataPhaseValid!C50","v":""},{"$f":"IF('Measure Recommendation'!$I20=\"\",\"\",'Measure Recommendation'!L20)","v":""},{"$f":"IF('Measure Recommendation'!$I20=\"\",\"\",'Measure Recommendation'!M20)","v":""},{"$f":"IF('Measure Recommendation'!$I20=\"\",\"\",'Measure Recommendation'!N20)","v":""},{"$f":"IF('Measure Recommendation'!$I20=\"\",\"\",'Measure Recommendation'!O20)","v":""},{"$f":"IF('Measure Recommendation'!$I20=\"\",\"\",'Measure Recommendation'!V20)","v":""},{"$f":"IF('Measure Recommendation'!$I20=\"\",\"\",'Measure Recommendation'!W20)","v":""},{"$f":"IF('Measure Recommendation'!C20>0,'Measure Recommendation'!C20,\"\")","v":""},{"$f":"IF('Measure Recommendation'!X20=\"Yes\", \"g\",\"c\")","v":"c"}]
[null,{"$f":"DataPhaseValid!C51","v":""},{"$f":"IF('Measure Recommendation'!$I21=\"\",\"\",'Measure Recommendation'!L21)","v":""},{"$f":"IF('Measure Recommendation'!$I21=\"\",\"\",'Measure Recommendation'!M21)","v":""},{"$f":"IF('Measure Recommendation'!$I21=\"\",\"\",'Measure Recommendation'!N21)","v":""},{"$f":"IF('Measure Recommendation'!$I21=\"\",\"\",'Measure Recommendation'!O21)","v":""},{"$f":"IF('Measure Recommendation'!$I21=\"\",\"\",'Measure Recommendation'!V21)","v":""},{"$f":"IF('Measure Recommendation'!$I21=\"\",\"\",'Measure Recommendation'!W21)","v":""},{"$f":"IF('Measure Recommendation'!C21>0,'Measure Recommendation'!C21,\"\")","v":""},{"$f":"IF('Measure Recommendation'!X21=\"Yes\", \"g\",\"c\")","v":"c"}]
[null,{"$f":"DataPhaseValid!C52","v":""},{"$f":"IF('Measure Recommendation'!$I22=\"\",\"\",'Measure Recommendation'!L22)","v":""},{"$f":"IF('Measure Recommendation'!$I22=\"\",\"\",'Measure Recommendation'!M22)","v":""},{"$f":"IF('Measure Recommendation'!$I22=\"\",\"\",'Measure Recommendation'!N22)","v":""},{"$f":"IF('Measure Recommendation'!$I22=\"\",\"\",'Measure Recommendation'!O22)","v":""},{"$f":"IF('Measure Recommendation'!$I22=\"\",\"\",'Measure Recommendation'!V22)","v":""},{"$f":"IF('Measure Recommendation'!$I22=\"\",\"\",'Measure Recommendation'!W22)","v":""},{"$f":"IF('Measure Recommendation'!C22>0,'Measure Recommendation'!C22,\"\")","v":""},{"$f":"IF('Measure Recommendation'!X22=\"Yes\", \"g\",\"c\")","v":"c"}]
[null,{"$f":"DataPhaseValid!C53","v":""},{"$f":"IF('Measure Recommendation'!$I23=\"\",\"\",'Measure Recommendation'!L23)","v":""},{"$f":"IF('Measure Recommendation'!$I23=\"\",\"\",'Measure Recommendation'!M23)","v":""},{"$f":"IF('Measure Recommendation'!$I23=\"\",\"\",'Measure Recommendation'!N23)","v":""},{"$f":"IF('Measure Recommendation'!$I23=\"\",\"\",'Measure Recommendation'!O23)","v":""},{"$f":"IF('Measure Recommendation'!$I23=\"\",\"\",'Measure Recommendation'!V23)","v":""},{"$f":"IF('Measure Recommendation'!$I23=\"\",\"\",'Measure Recommendation'!W23)","v":""},{"$f":"IF('Measure Recommendation'!C23>0,'Measure Recommendation'!C23,\"\")","v":""},{"$f":"IF('Measure Recommendation'!X23=\"Yes\", \"g\",\"c\")","v":"c"}]
[null,{"$f":"DataPhaseValid!C54","v":""},{"$f":"IF('Measure Recommendation'!$I24=\"\",\"\",'Measure Recommendation'!L24)","v":""},{"$f":"IF('Measure Recommendation'!$I24=\"\",\"\",'Measure Recommendation'!M24)","v":""},{"$f":"IF('Measure Recommendation'!$I24=\"\",\"\",'Measure Recommendation'!N24)","v":""},{"$f":"IF('Measure Recommendation'!$I24=\"\",\"\",'Measure Recommendation'!O24)","v":""},{"$f":"IF('Measure Recommendation'!$I24=\"\",\"\",'Measure Recommendation'!V24)","v":""},{"$f":"IF('Measure Recommendation'!$I24=\"\",\"\",'Measure Recommendation'!W24)","v":""},{"$f":"IF('Measure Recommendation'!C24>0,'Measure Recommendation'!C24,\"\")","v":""},{"$f":"IF('Measure Recommendation'!X24=\"Yes\", \"g\",\"c\")","v":"c"}]
[null,{"$f":"DataPhaseValid!C55","v":""},{"$f":"IF('Measure Recommendation'!$I25=\"\",\"\",'Measure Recommendation'!L25)","v":""},{"$f":"IF('Measure Recommendation'!$I25=\"\",\"\",'Measure Recommendation'!M25)","v":""},{"$f":"IF('Measure Recommendation'!$I25=\"\",\"\",'Measure Recommendation'!N25)","v":""},{"$f":"IF('Measure Recommendation'!$I25=\"\",\"\",'Measure Recommendation'!O25)","v":""},{"$f":"IF('Measure Recommendation'!$I25=\"\",\"\",'Measure Recommendation'!V25)","v":""},{"$f":"IF('Measure Recommendation'!$I25=\"\",\"\",'Measure Recommendation'!W25)","v":""},{"$f":"IF('Measure Recommendation'!C25>0,'Measure Recommendation'!C25,\"\")","v":""},{"$f":"IF('Measure Recommendation'!X25=\"Yes\", \"g\",\"c\")","v":"c"}]
[null,{"$f":"DataPhaseValid!C56","v":""},{"$f":"IF('Measure Recommendation'!$I26=\"\",\"\",'Measure Recommendation'!L26)","v":""},{"$f":"IF('Measure Recommendation'!$I26=\"\",\"\",'Measure Recommendation'!M26)","v":""},{"$f":"IF('Measure Recommendation'!$I26=\"\",\"\",'Measure Recommendation'!N26)","v":""},{"$f":"IF('Measure Recommendation'!$I26=\"\",\"\",'Measure Recommendation'!O26)","v":""},{"$f":"IF('Measure Recommendation'!$I26=\"\",\"\",'Measure Recommendation'!V26)","v":""},{"$f":"IF('Measure Recommendation'!$I26=\"\",\"\",'Measure Recommendation'!W26)","v":""},{"$f":"IF('Measure Recommendation'!C26>0,'Measure Recommendation'!C26,\"\")","v":""},{"$f":"IF('Measure Recommendation'!X26=\"Yes\", \"g\",\"c\")","v":"c"}]
[null,{"$f":"DataPhaseValid!C57","v":""},{"$f":"IF('Measure Recommendation'!$I27=\"\",\"\",'Measure Recommendation'!L27)","v":""},{"$f":"IF('Measure Recommendation'!$I27=\"\",\"\",'Measure Recommendation'!M27)","v":""},{"$f":"IF('Measure Recommendation'!$I27=\"\",\"\",'Measure Recommendation'!N27)","v":""},{"$f":"IF('Measure Recommendation'!$I27=\"\",\"\",'Measure Recommendation'!O27)","v":""},{"$f":"IF('Measure Recommendation'!$I27=\"\",\"\",'Measure Recommendation'!V27)","v":""},{"$f":"IF('Measure Recommendation'!$I27=\"\",\"\",'Measure Recommendation'!W27)","v":""},{"$f":"IF('Measure Recommendation'!C27>0,'Measure Recommendation'!C27,\"\")","v":""},{"$f":"IF('Measure Recommendation'!X27=\"Yes\", \"g\",\"c\")","v":"c"}]
[null,{"$f":"DataPhaseValid!C58","v":""},{"$f":"IF('Measure Recommendation'!$I28=\"\",\"\",'Measure Recommendation'!L28)","v":""},{"$f":"IF('Measure Recommendation'!$I28=\"\",\"\",'Measure Recommendation'!M28)","v":""},{"$f":"IF('Measure Recommendation'!$I28=\"\",\"\",'Measure Recommendation'!N28)","v":""},{"$f":"IF('Measure Recommendation'!$I28=\"\",\"\",'Measure Recommendation'!O28)","v":""},{"$f":"IF('Measure Recommendation'!$I28=\"\",\"\",'Measure Recommendation'!V28)","v":""},{"$f":"IF('Measure Recommendation'!$I28=\"\",\"\",'Measure Recommendation'!W28)","v":""},{"$f":"IF('Measure Recommendation'!C28>0,'Measure Recommendation'!C28,\"\")","v":""},{"$f":"IF('Measure Recommendation'!X28=\"Yes\", \"g\",\"c\")","v":"c"}]
[null,{"$f":"DataPhaseValid!C59","v":""},{"$f":"IF('Measure Recommendation'!$I29=\"\",\"\",'Measure Recommendation'!L29)","v":""},{"$f":"IF('Measure Recommendation'!$I29=\"\",\"\",'Measure Recommendation'!M29)","v":""},{"$f":"IF('Measure Recommendation'!$I29=\"\",\"\",'Measure Recommendation'!N29)","v":""},{"$f":"IF('Measure Recommendation'!$I29=\"\",\"\",'Measure Recommendation'!O29)","v":""},{"$f":"IF('Measure Recommendation'!$I29=\"\",\"\",'Measure Recommendation'!V29)","v":""},{"$f":"IF('Measure Recommendation'!$I29=\"\",\"\",'Measure Recommendation'!W29)","v":""},{"$f":"IF('Measure Recommendation'!C29>0,'Measure Recommendation'!C29,\"\")","v":""},{"$f":"IF('Measure Recommendation'!X29=\"Yes\", \"g\",\"c\")","v":"c"}]
[null,{"$f":"DataPhaseValid!C60","v":""},{"$f":"IF('Measure Recommendation'!$I30=\"\",\"\",'Measure Recommendation'!L30)","v":""},{"$f":"IF('Measure Recommendation'!$I30=\"\",\"\",'Measure Recommendation'!M30)","v":""},{"$f":"IF('Measure Recommendation'!$I30=\"\",\"\",'Measure Recommendation'!N30)","v":""},{"$f":"IF('Measure Recommendation'!$I30=\"\",\"\",'Measure Recommendation'!O30)","v":""},{"$f":"IF('Measure Recommendation'!$I30=\"\",\"\",'Measure Recommendation'!V30)","v":""},{"$f":"IF('Measure Recommendation'!$I30=\"\",\"\",'Measure Recommendation'!W30)","v":""},{"$f":"IF('Measure Recommendation'!C30>0,'Measure Recommendation'!C30,\"\")","v":""},{"$f":"IF('Measure Recommendation'!X30=\"Yes\", \"g\",\"c\")","v":"c"}]
[null,{"$f":"DataPhaseValid!C61","v":""},{"$f":"IF('Measure Recommendation'!$I31=\"\",\"\",'Measure Recommendation'!L31)","v":""},{"$f":"IF('Measure Recommendation'!$I31=\"\",\"\",'Measure Recommendation'!M31)","v":""},{"$f":"IF('Measure Recommendation'!$I31=\"\",\"\",'Measure Recommendation'!N31)","v":""},{"$f":"IF('Measure Recommendation'!$I31=\"\",\"\",'Measure Recommendation'!O31)","v":""},{"$f":"IF('Measure Recommendation'!$I31=\"\",\"\",'Measure Recommendation'!V31)","v":""},{"$f":"IF('Measure Recommendation'!$I31=\"\",\"\",'Measure Recommendation'!W31)","v":""},{"$f":"IF('Measure Recommendation'!C31>0,'Measure Recommendation'!C31,\"\")","v":""},{"$f":"IF('Measure Recommendation'!X31=\"Yes\", \"g\",\"c\")","v":"c"}]
[null,{"$f":"DataPhaseValid!C62","v":""},{"$f":"IF('Measure Recommendation'!$I32=\"\",\"\",'Measure Recommendation'!L32)","v":""},{"$f":"IF('Measure Recommendation'!$I32=\"\",\"\",'Measure Recommendation'!M32)","v":""},{"$f":"IF('Measure Recommendation'!$I32=\"\",\"\",'Measure Recommendation'!N32)","v":""},{"$f":"IF('Measure Recommendation'!$I32=\"\",\"\",'Measure Recommendation'!O32)","v":""},{"$f":"IF('Measure Recommendation'!$I32=\"\",\"\",'Measure Recommendation'!V32)","v":""},{"$f":"IF('Measure Recommendation'!$I32=\"\",\"\",'Measure Recommendation'!W32)","v":""},{"$f":"IF('Measure Recommendation'!C32>0,'Measure Recommendation'!C32,\"\")","v":""},{"$f":"IF('Measure Recommendation'!X32=\"Yes\", \"g\",\"c\")","v":"c"}]
[null,{"$f":"DataPhaseValid!C63","v":""},{"$f":"IF('Measure Recommendation'!$I33=\"\",\"\",'Measure Recommendation'!L33)","v":""},{"$f":"IF('Measure Recommendation'!$I33=\"\",\"\",'Measure Recommendation'!M33)","v":""},{"$f":"IF('Measure Recommendation'!$I33=\"\",\"\",'Measure Recommendation'!N33)","v":""},{"$f":"IF('Measure Recommendation'!$I33=\"\",\"\",'Measure Recommendation'!O33)","v":""},{"$f":"IF('Measure Recommendation'!$I33=\"\",\"\",'Measure Recommendation'!V33)","v":""},{"$f":"IF('Measure Recommendation'!$I33=\"\",\"\",'Measure Recommendation'!W33)","v":""},{"$f":"IF('Measure Recommendation'!C33>0,'Measure Recommendation'!C33,\"\")","v":""},{"$f":"IF('Measure Recommendation'!X33=\"Yes\", \"g\",\"c\")","v":"c"}]
[null,{"$f":"DataPhaseValid!C64","v":""},{"$f":"IF('Measure Recommendation'!$I34=\"\",\"\",'Measure Recommendation'!L34)","v":""},{"$f":"IF('Measure Recommendation'!$I34=\"\",\"\",'Measure Recommendation'!M34)","v":""},{"$f":"IF('Measure Recommendation'!$I34=\"\",\"\",'Measure Recommendation'!N34)","v":""},{"$f":"IF('Measure Recommendation'!$I34=\"\",\"\",'Measure Recommendation'!O34)","v":""},{"$f":"IF('Measure Recommendation'!$I34=\"\",\"\",'Measure Recommendation'!V34)","v":""},{"$f":"IF('Measure Recommendation'!$I34=\"\",\"\",'Measure Recommendation'!W34)","v":""},{"$f":"IF('Measure Recommendation'!C34>0,'Measure Recommendation'!C34,\"\")","v":""},{"$f":"IF('Measure Recommendation'!X34=\"Yes\", \"g\",\"c\")","v":"c"}]
[null,{"$f":"DataPhaseValid!C65","v":""},{"$f":"IF('Measure Recommendation'!$I35=\"\",\"\",'Measure Recommendation'!L35)","v":""},{"$f":"IF('Measure Recommendation'!$I35=\"\",\"\",'Measure Recommendation'!M35)","v":""},{"$f":"IF('Measure Recommendation'!$I35=\"\",\"\",'Measure Recommendation'!N35)","v":""},{"$f":"IF('Measure Recommendation'!$I35=\"\",\"\",'Measure Recommendation'!O35)","v":""},{"$f":"IF('Measure Recommendation'!$I35=\"\",\"\",'Measure Recommendation'!V35)","v":""},{"$f":"IF('Measure Recommendation'!$I35=\"\",\"\",'Measure Recommendation'!W35)","v":""},{"$f":"IF('Measure Recommendation'!C35>0,'Measure Recommendation'!C35,\"\")","v":""},{"$f":"IF('Measure Recommendation'!X35=\"Yes\", \"g\",\"c\")","v":"c"}]
[null,{"$f":"DataPhaseValid!C66","v":""},{"$f":"IF('Measure Recommendation'!$I36=\"\",\"\",'Measure Recommendation'!L36)","v":""},{"$f":"IF('Measure Recommendation'!$I36=\"\",\"\",'Measure Recommendation'!M36)","v":""},{"$f":"IF('Measure Recommendation'!$I36=\"\",\"\",'Measure Recommendation'!N36)","v":""},{"$f":"IF('Measure Recommendation'!$I36=\"\",\"\",'Measure Recommendation'!O36)","v":""},{"$f":"IF('Measure Recommendation'!$I36=\"\",\"\",'Measure Recommendation'!V36)","v":""},{"$f":"IF('Measure Recommendation'!$I36=\"\",\"\",'Measure Recommendation'!W36)","v":""},{"$f":"IF('Measure Recommendation'!C36>0,'Measure Recommendation'!C36,\"\")","v":""},{"$f":"IF('Measure Recommendation'!X36=\"Yes\", \"g\",\"c\")","v":"c"}]
[null,"Investigation Phase Total",{"$f":"'Measure Recommendation'!L37","v":0},{"$f":"'Measure Recommendation'!M37","v":0},{"$f":"'Measure Recommendation'!N37","v":0},{"$f":"'Measure Recommendation'!O37","v":0},{"$f":"'Measure Recommendation'!V37","v":0},{"$f":"'Measure Recommendation'!W37","v":""},"-"]
["Verification",{"$f":"DataPhaseValid!D47","v":""},{"$f":"IF('Measure Recommendation'!$I41=\"\",\"\",'Measure Recommendation'!L41)","v":""},{"$f":"IF('Measure Recommendation'!$I41=\"\",\"\",'Measure Recommendation'!M41)","v":""},{"$f":"IF('Measure Recommendation'!$I41=\"\",\"\",'Measure Recommendation'!N41)","v":""},{"$f":"IF('Measure Recommendation'!$I41=\"\",\"\",'Measure Recommendation'!O41)","v":""},{"$f":"IF('Measure Recommendation'!$I41=\"\",\"\",'Measure Recommendation'!V41)","v":""},{"$f":"IF('Measure Recommendation'!$I41=\"\",\"\",'Measure Recommendation'!W41)","v":""},{"$f":"IF('Measure Recommendation'!C41>0,'Measure Recommendation'!C41,\"\")","v":""},{"$f":"IF('Measure Recommendation'!X41=\"Yes\",\"g\",\"c\")","v":"c"}]
[null,{"$f":"DataPhaseValid!D48","v":""},{"$f":"IF('Measure Recommendation'!$I42=\"\",\"\",'Measure Recommendation'!L42)","v":""},{"$f":"IF('Measure Recommendation'!$I42=\"\",\"\",'Measure Recommendation'!M42)","v":""},{"$f":"IF('Measure Recommendation'!$I42=\"\",\"\",'Measure Recommendation'!N42)","v":""},{"$f":"IF('Measure Recommendation'!$I42=\"\",\"\",'Measure Recommendation'!O42)","v":""},{"$f":"IF('Measure Recommendation'!$I42=\"\",\"\",'Measure Recommendation'!V42)","v":""},{"$f":"IF('Measure Recommendation'!$I42=\"\",\"\",'Measure Recommendation'!W42)","v":""},{"$f":"IF('Measure Recommendation'!C42>0,'Measure Recommendation'!C42,\"\")","v":""},{"$f":"IF('Measure Recommendation'!X42=\"Yes\",\"g\",\"c\")","v":"c"}]
[null,{"$f":"DataPhaseValid!D49","v":""},{"$f":"IF('Measure Recommendation'!$I43=\"\",\"\",'Measure Recommendation'!L43)","v":""},{"$f":"IF('Measure Recommendation'!$I43=\"\",\"\",'Measure Recommendation'!M43)","v":""},{"$f":"IF('Measure Recommendation'!$I43=\"\",\"\",'Measure Recommendation'!N43)","v":""},{"$f":"IF('Measure Recommendation'!$I43=\"\",\"\",'Measure Recommendation'!O43)","v":""},{"$f":"IF('Measure Recommendation'!$I43=\"\",\"\",'Measure Recommendation'!V43)","v":""},{"$f":"IF('Measure Recommendation'!$I43=\"\",\"\",'Measure Recommendation'!W43)","v":""},{"$f":"IF('Measure Recommendation'!C43>0,'Measure Recommendation'!C43,\"\")","v":""},{"$f":"IF('Measure Recommendation'!X43=\"Yes\",\"g\",\"c\")","v":"c"}]
[null,{"$f":"DataPhaseValid!D50","v":""},{"$f":"IF('Measure Recommendation'!$I44=\"\",\"\",'Measure Recommendation'!L44)","v":""},{"$f":"IF('Measure Recommendation'!$I44=\"\",\"\",'Measure Recommendation'!M44)","v":""},{"$f":"IF('Measure Recommendation'!$I44=\"\",\"\",'Measure Recommendation'!N44)","v":""},{"$f":"IF('Measure Recommendation'!$I44=\"\",\"\",'Measure Recommendation'!O44)","v":""},{"$f":"IF('Measure Recommendation'!$I44=\"\",\"\",'Measure Recommendation'!V44)","v":""},{"$f":"IF('Measure Recommendation'!$I44=\"\",\"\",'Measure Recommendation'!W44)","v":""},{"$f":"IF('Measure Recommendation'!C44>0,'Measure Recommendation'!C44,\"\")","v":""},{"$f":"IF('Measure Recommendation'!X44=\"Yes\",\"g\",\"c\")","v":"c"}]
[null,{"$f":"DataPhaseValid!D51","v":""},{"$f":"IF('Measure Recommendation'!$I45=\"\",\"\",'Measure Recommendation'!L45)","v":""},{"$f":"IF('Measure Recommendation'!$I45=\"\",\"\",'Measure Recommendation'!M45)","v":""},{"$f":"IF('Measure Recommendation'!$I45=\"\",\"\",'Measure Recommendation'!N45)","v":""},{"$f":"IF('Measure Recommendation'!$I45=\"\",\"\",'Measure Recommendation'!O45)","v":""},{"$f":"IF('Measure Recommendation'!$I45=\"\",\"\",'Measure Recommendation'!V45)","v":""},{"$f":"IF('Measure Recommendation'!$I45=\"\",\"\",'Measure Recommendation'!W45)","v":""},{"$f":"IF('Measure Recommendation'!C45>0,'Measure Recommendation'!C45,\"\")","v":""},{"$f":"IF('Measure Recommendation'!X45=\"Yes\",\"g\",\"c\")","v":"c"}]
[null,{"$f":"DataPhaseValid!D52","v":""},{"$f":"IF('Measure Recommendation'!$I46=\"\",\"\",'Measure Recommendation'!L46)","v":""},{"$f":"IF('Measure Recommendation'!$I46=\"\",\"\",'Measure Recommendation'!M46)","v":""},{"$f":"IF('Measure Recommendation'!$I46=\"\",\"\",'Measure Recommendation'!N46)","v":""},{"$f":"IF('Measure Recommendation'!$I46=\"\",\"\",'Measure Recommendation'!O46)","v":""},{"$f":"IF('Measure Recommendation'!$I46=\"\",\"\",'Measure Recommendation'!V46)","v":""},{"$f":"IF('Measure Recommendation'!$I46=\"\",\"\",'Measure Recommendation'!W46)","v":""},{"$f":"IF('Measure Recommendation'!C46>0,'Measure Recommendation'!C46,\"\")","v":""},{"$f":"IF('Measure Recommendation'!X46=\"Yes\",\"g\",\"c\")","v":"c"}]
[null,{"$f":"DataPhaseValid!D53","v":""},{"$f":"IF('Measure Recommendation'!$I47=\"\",\"\",'Measure Recommendation'!L47)","v":""},{"$f":"IF('Measure Recommendation'!$I47=\"\",\"\",'Measure Recommendation'!M47)","v":""},{"$f":"IF('Measure Recommendation'!$I47=\"\",\"\",'Measure Recommendation'!N47)","v":""},{"$f":"IF('Measure Recommendation'!$I47=\"\",\"\",'Measure Recommendation'!O47)","v":""},{"$f":"IF('Measure Recommendation'!$I47=\"\",\"\",'Measure Recommendation'!V47)","v":""},{"$f":"IF('Measure Recommendation'!$I47=\"\",\"\",'Measure Recommendation'!W47)","v":""},{"$f":"IF('Measure Recommendation'!C47>0,'Measure Recommendation'!C47,\"\")","v":""},{"$f":"IF('Measure Recommendation'!X47=\"Yes\",\"g\",\"c\")","v":"c"}]
[null,{"$f":"DataPhaseValid!D54","v":""},{"$f":"IF('Measure Recommendation'!$I48=\"\",\"\",'Measure Recommendation'!L48)","v":""},{"$f":"IF('Measure Recommendation'!$I48=\"\",\"\",'Measure Recommendation'!M48)","v":""},{"$f":"IF('Measure Recommendation'!$I48=\"\",\"\",'Measure Recommendation'!N48)","v":""},{"$f":"IF('Measure Recommendation'!$I48=\"\",\"\",'Measure Recommendation'!O48)","v":""},{"$f":"IF('Measure Recommendation'!$I48=\"\",\"\",'Measure Recommendation'!V48)","v":""},{"$f":"IF('Measure Recommendation'!$I48=\"\",\"\",'Measure Recommendation'!W48)","v":""},{"$f":"IF('Measure Recommendation'!C48>0,'Measure Recommendation'!C48,\"\")","v":""},{"$f":"IF('Measure Recommendation'!X48=\"Yes\",\"g\",\"c\")","v":"c"}]
[null,{"$f":"DataPhaseValid!D55","v":""},{"$f":"IF('Measure Recommendation'!$I49=\"\",\"\",'Measure Recommendation'!L49)","v":""},{"$f":"IF('Measure Recommendation'!$I49=\"\",\"\",'Measure Recommendation'!M49)","v":""},{"$f":"IF('Measure Recommendation'!$I49=\"\",\"\",'Measure Recommendation'!N49)","v":""},{"$f":"IF('Measure Recommendation'!$I49=\"\",\"\",'Measure Recommendation'!O49)","v":""},{"$f":"IF('Measure Recommendation'!$I49=\"\",\"\",'Measure Recommendation'!V49)","v":""},{"$f":"IF('Measure Recommendation'!$I49=\"\",\"\",'Measure Recommendation'!W49)","v":""},{"$f":"IF('Measure Recommendation'!C49>0,'Measure Recommendation'!C49,\"\")","v":""},{"$f":"IF('Measure Recommendation'!X49=\"Yes\",\"g\",\"c\")","v":"c"}]
[null,{"$f":"DataPhaseValid!D56","v":""},{"$f":"IF('Measure Recommendation'!$I50=\"\",\"\",'Measure Recommendation'!L50)","v":""},{"$f":"IF('Measure Recommendation'!$I50=\"\",\"\",'Measure Recommendation'!M50)","v":""},{"$f":"IF('Measure Recommendation'!$I50=\"\",\"\",'Measure Recommendation'!N50)","v":""},{"$f":"IF('Measure Recommendation'!$I50=\"\",\"\",'Measure Recommendation'!O50)","v":""},{"$f":"IF('Measure Recommendation'!$I50=\"\",\"\",'Measure Recommendation'!V50)","v":""},{"$f":"IF('Measure Recommendation'!$I50=\"\",\"\",'Measure Recommendation'!W50)","v":""},{"$f":"IF('Measure Recommendation'!C50>0,'Measure Recommendation'!C50,\"\")","v":""},{"$f":"IF('Measure Recommendation'!X50=\"Yes\",\"g\",\"c\")","v":"c"}]
[null,{"$f":"DataPhaseValid!D57","v":""},{"$f":"IF('Measure Recommendation'!$I51=\"\",\"\",'Measure Recommendation'!L51)","v":""},{"$f":"IF('Measure Recommendation'!$I51=\"\",\"\",'Measure Recommendation'!M51)","v":""},{"$f":"IF('Measure Recommendation'!$I51=\"\",\"\",'Measure Recommendation'!N51)","v":""},{"$f":"IF('Measure Recommendation'!$I51=\"\",\"\",'Measure Recommendation'!O51)","v":""},{"$f":"IF('Measure Recommendation'!$I51=\"\",\"\",'Measure Recommendation'!V51)","v":""},{"$f":"IF('Measure Recommendation'!$I51=\"\",\"\",'Measure Recommendation'!W51)","v":""},{"$f":"IF('Measure Recommendation'!C51>0,'Measure Recommendation'!C51,\"\")","v":""},{"$f":"IF('Measure Recommendation'!X51=\"Yes\",\"g\",\"c\")","v":"c"}]
[null,{"$f":"DataPhaseValid!D58","v":""},{"$f":"IF('Measure Recommendation'!$I52=\"\",\"\",'Measure Recommendation'!L52)","v":""},{"$f":"IF('Measure Recommendation'!$I52=\"\",\"\",'Measure Recommendation'!M52)","v":""},{"$f":"IF('Measure Recommendation'!$I52=\"\",\"\",'Measure Recommendation'!N52)","v":""},{"$f":"IF('Measure Recommendation'!$I52=\"\",\"\",'Measure Recommendation'!O52)","v":""},{"$f":"IF('Measure Recommendation'!$I52=\"\",\"\",'Measure Recommendation'!V52)","v":""},{"$f":"IF('Measure Recommendation'!$I52=\"\",\"\",'Measure Recommendation'!W52)","v":""},{"$f":"IF('Measure Recommendation'!C52>0,'Measure Recommendation'!C52,\"\")","v":""},{"$f":"IF('Measure Recommendation'!X52=\"Yes\",\"g\",\"c\")","v":"c"}]
[null,{"$f":"DataPhaseValid!D59","v":""},{"$f":"IF('Measure Recommendation'!$I53=\"\",\"\",'Measure Recommendation'!L53)","v":""},{"$f":"IF('Measure Recommendation'!$I53=\"\",\"\",'Measure Recommendation'!M53)","v":""},{"$f":"IF('Measure Recommendation'!$I53=\"\",\"\",'Measure Recommendation'!N53)","v":""},{"$f":"IF('Measure Recommendation'!$I53=\"\",\"\",'Measure Recommendation'!O53)","v":""},{"$f":"IF('Measure Recommendation'!$I53=\"\",\"\",'Measure Recommendation'!V53)","v":""},{"$f":"IF('Measure Recommendation'!$I53=\"\",\"\",'Measure Recommendation'!W53)","v":""},{"$f":"IF('Measure Recommendation'!C53>0,'Measure Recommendation'!C53,\"\")","v":""},{"$f":"IF('Measure Recommendation'!X53=\"Yes\",\"g\",\"c\")","v":"c"}]
[null,{"$f":"DataPhaseValid!D60","v":""},{"$f":"IF('Measure Recommendation'!$I54=\"\",\"\",'Measure Recommendation'!L54)","v":""},{"$f":"IF('Measure Recommendation'!$I54=\"\",\"\",'Measure Recommendation'!M54)","v":""},{"$f":"IF('Measure Recommendation'!$I54=\"\",\"\",'Measure Recommendation'!N54)","v":""},{"$f":"IF('Measure Recommendation'!$I54=\"\",\"\",'Measure Recommendation'!O54)","v":""},{"$f":"IF('Measure Recommendation'!$I54=\"\",\"\",'Measure Recommendation'!V54)","v":""},{"$f":"IF('Measure Recommendation'!$I54=\"\",\"\",'Measure Recommendation'!W54)","v":""},{"$f":"IF('Measure Recommendation'!C54>0,'Measure Recommendation'!C54,\"\")","v":""},{"$f":"IF('Measure Recommendation'!X54=\"Yes\",\"g\",\"c\")","v":"c"}]
[null,{"$f":"DataPhaseValid!D61","v":""},{"$f":"IF('Measure Recommendation'!$I55=\"\",\"\",'Measure Recommendation'!L55)","v":""},{"$f":"IF('Measure Recommendation'!$I55=\"\",\"\",'Measure Recommendation'!M55)","v":""},{"$f":"IF('Measure Recommendation'!$I55=\"\",\"\",'Measure Recommendation'!N55)","v":""},{"$f":"IF('Measure Recommendation'!$I55=\"\",\"\",'Measure Recommendation'!O55)","v":""},{"$f":"IF('Measure Recommendation'!$I55=\"\",\"\",'Measure Recommendation'!V55)","v":""},{"$f":"IF('Measure Recommendation'!$I55=\"\",\"\",'Measure Recommendation'!W55)","v":""},{"$f":"IF('Measure Recommendation'!C55>0,'Measure Recommendation'!C55,\"\")","v":""},{"$f":"IF('Measure Recommendation'!X55=\"Yes\",\"g\",\"c\")","v":"c"}]
[null,{"$f":"DataPhaseValid!D62","v":""},{"$f":"IF('Measure Recommendation'!$I56=\"\",\"\",'Measure Recommendation'!L56)","v":""},{"$f":"IF('Measure Recommendation'!$I56=\"\",\"\",'Measure Recommendation'!M56)","v":""},{"$f":"IF('Measure Recommendation'!$I56=\"\",\"\",'Measure Recommendation'!N56)","v":""},{"$f":"IF('Measure Recommendation'!$I56=\"\",\"\",'Measure Recommendation'!O56)","v":""},{"$f":"IF('Measure Recommendation'!$I56=\"\",\"\",'Measure Recommendation'!V56)","v":""},{"$f":"IF('Measure Recommendation'!$I56=\"\",\"\",'Measure Recommendation'!W56)","v":""},{"$f":"IF('Measure Recommendation'!C56>0,'Measure Recommendation'!C56,\"\")","v":""},{"$f":"IF('Measure Recommendation'!X56=\"Yes\",\"g\",\"c\")","v":"c"}]
[null,{"$f":"DataPhaseValid!D63","v":""},{"$f":"IF('Measure Recommendation'!$I57=\"\",\"\",'Measure Recommendation'!L57)","v":""},{"$f":"IF('Measure Recommendation'!$I57=\"\",\"\",'Measure Recommendation'!M57)","v":""},{"$f":"IF('Measure Recommendation'!$I57=\"\",\"\",'Measure Recommendation'!N57)","v":""},{"$f":"IF('Measure Recommendation'!$I57=\"\",\"\",'Measure Recommendation'!O57)","v":""},{"$f":"IF('Measure Recommendation'!$I57=\"\",\"\",'Measure Recommendation'!V57)","v":""},{"$f":"IF('Measure Recommendation'!$I57=\"\",\"\",'Measure Recommendation'!W57)","v":""},{"$f":"IF('Measure Recommendation'!C57>0,'Measure Recommendation'!C57,\"\")","v":""},{"$f":"IF('Measure Recommendation'!X57=\"Yes\",\"g\",\"c\")","v":"c"}]
[null,{"$f":"DataPhaseValid!D64","v":""},{"$f":"IF('Measure Recommendation'!$I58=\"\",\"\",'Measure Recommendation'!L58)","v":""},{"$f":"IF('Measure Recommendation'!$I58=\"\",\"\",'Measure Recommendation'!M58)","v":""},{"$f":"IF('Measure Recommendation'!$I58=\"\",\"\",'Measure Recommendation'!N58)","v":""},{"$f":"IF('Measure Recommendation'!$I58=\"\",\"\",'Measure Recommendation'!O58)","v":""},{"$f":"IF('Measure Recommendation'!$I58=\"\",\"\",'Measure Recommendation'!V58)","v":""},{"$f":"IF('Measure Recommendation'!$I58=\"\",\"\",'Measure Recommendation'!W58)","v":""},{"$f":"IF('Measure Recommendation'!C58>0,'Measure Recommendation'!C58,\"\")","v":""},{"$f":"IF('Measure Recommendation'!X58=\"Yes\",\"g\",\"c\")","v":"c"}]
[null,{"$f":"DataPhaseValid!D65","v":""},{"$f":"IF('Measure Recommendation'!$I59=\"\",\"\",'Measure Recommendation'!L59)","v":""},{"$f":"IF('Measure Recommendation'!$I59=\"\",\"\",'Measure Recommendation'!M59)","v":""},{"$f":"IF('Measure Recommendation'!$I59=\"\",\"\",'Measure Recommendation'!N59)","v":""},{"$f":"IF('Measure Recommendation'!$I59=\"\",\"\",'Measure Recommendation'!O59)","v":""},{"$f":"IF('Measure Recommendation'!$I59=\"\",\"\",'Measure Recommendation'!V59)","v":""},{"$f":"IF('Measure Recommendation'!$I59=\"\",\"\",'Measure Recommendation'!W59)","v":""},{"$f":"IF('Measure Recommendation'!C59>0,'Measure Recommendation'!C59,\"\")","v":""},{"$f":"IF('Measure Recommendation'!X59=\"Yes\",\"g\",\"c\")","v":"c"}]
[null,{"$f":"DataPhaseValid!D66","v":""},{"$f":"IF('Measure Recommendation'!$I60=\"\",\"\",'Measure Recommendation'!L60)","v":""},{"$f":"IF('Measure Recommendation'!$I60=\"\",\"\",'Measure Recommendation'!M60)","v":""},{"$f":"IF('Measure Recommendation'!$I60=\"\",\"\",'Measure Recommendation'!N60)","v":""},{"$f":"IF('Measure Recommendation'!$I60=\"\",\"\",'Measure Recommendation'!O60)","v":""},{"$f":"IF('Measure Recommendation'!$I60=\"\",\"\",'Measure Recommendation'!V60)","v":""},{"$f":"IF('Measure Recommendation'!$I60=\"\",\"\",'Measure Recommendation'!W60)","v":""},{"$f":"IF('Measure Recommendation'!C60>0,'Measure Recommendation'!C60,\"\")","v":""},{"$f":"IF('Measure Recommendation'!X60=\"Yes\",\"g\",\"c\")","v":"c"}]
[null,{"$f":"IF(Instructions!F3=\"MBCx\",\"Verification Phase Total - All Bundle\",\"Verification Phase Total\")","v":"Verification Phase Total"},{"$f":"'Measure Recommendation'!L61","v":0},{"$f":"'Measure Recommendation'!M61","v":0},{"$f":"'Measure Recommendation'!N61","v":0},{"$f":"'Measure Recommendation'!O61","v":0},{"$f":"'Measure Recommendation'!V61","v":0},{"$f":"'Measure Recommendation'!W61","v":""},"-"]
[null,"Verification Phase Total - Current Bundle",{"$f":"'Measure Recommendation'!L62","v":0},{"$f":"'Measure Recommendation'!M62","v":0},{"$f":"'Measure Recommendation'!N62","v":0},{"$f":"'Measure Recommendation'!O62","v":0},{"$f":"'Measure Recommendation'!V62","v":0},{"$f":"'Measure Recommendation'!W62","v":""},"-"]
[]
[]
[null,"Signature:    ______________________________________"]
[]
[null,"Date:             ______________________________________"]
[]
[]
[{"$f":"DataPhaseValid!G34","v":""}]
[{"$f":"DataPhaseValid!G151&'Contact & Facility Information'!B12&DataPhaseValid!G152&'Contact & Facility Information'!B6&DataPhaseValid!G153&'Contact & Facility Information'!B12&DataPhaseValid!G154","v":""}]

{"sheet":"RecElecGasDist2","index":18,"n_rows":59,"n_cols":14,"rows_kept":59,"cut":false,"hidden":true,"merged":[[58,0,60,13],[1,0,1,6],[2,0,2,6],[57,0,57,13],[4,0,4,13],[5,0,5,13],[8,0,28,0],[6,2,6,3],[6,4,6,5],[6,6,6,7],[6,8,6,9],[29,0,50,0],[2,10,2,11]]}
["Energy Conservation Measure Form"]
[{"$f":"DataPhaseValid!$G$7","v":""}]
[{"$f":"DataPhaseValid!$G$4&\" | \"&DataPhaseValid!$G$5","v":" | "},null,null,null,null,null,null,null,null,null,{"$f":"IF(Instructions!F4=\"Investigation\", \"\", \"Verification Report Approval Date: \" & TEXT(Instructions!$F$14, \"mm/dd/yyyy\"))","v":"Verification Report Approval Date: 01/00/1900"}]
[]
[{"$f":"DataPhaseValid!G41","v":""}]
[{"$f":"DataPhaseValid!G42","v":""}]
[null,null,"Electric",null,"Natural Gas",null,"District Cooling",null,"District Heating"]
["Phase","Energy Conservation Measure (ECM) Description","Electric Energy Savings (kWh/yr)","Electric Cost Savings ($/yr)","Natural Gas Savings (therms/yr)","Natural Gas Cost Savings ($/yr)",{"$f":"'Measure Recommendation'!Q16","v":"District Chilled Water Equivalent Electric Energy Savings \n(kWh/year)"},"District Chilled Water Cost Savings \n($/year)",{"$f":"\"District Steam Energy Savings \"&'Measure Recommendation'!F13","v":"District Steam Energy Savings "},"District Steam Cost Savings  ($/yr)","ECM Installation Cost ($)","Simple Payback Without Incentives (Years)",{"$f":"IF(Instructions!F3=\"MBCx\",\"MBCx Bundle #\",\"RCx Flex Bundle #\")","v":"RCx Flex Bundle #"},{"$f":"DataPhaseValid!G43","v":""}]
["Investigation",{"$f":"DataPhaseValid!C47","v":""},{"$f":"IF('Measure Recommendation'!I17=\"\",\"\",'Measure Recommendation'!L17)","v":""},{"$f":"IF('Measure Recommendation'!I17=\"\",\"\",'Measure Recommendation'!M17)","v":""},{"$f":"IF('Measure Recommendation'!I17=\"\",\"\",'Measure Recommendation'!N17)","v":""},{"$f":"IF('Measure Recommendation'!I17=\"\",\"\",'Measure Recommendation'!O17)","v":""},{"$f":"IF('Measure Recommendation'!I17=\"\",\"\",'Measure Recommendation'!Q17)","v":""},{"$f":"IF('Measure Recommendation'!I17=\"\",\"\",'Measure Recommendation'!R17)","v":""},{"$f":"IF('Measure Recommendation'!I17=\"\",\"\",'Measure Recommendation'!S17)","v":""},{"$f":"IF('Measure Recommendation'!I17=\"\",\"\",'Measure Recommendation'!U17)","v":""},{"$f":"IF('Measure Recommendation'!I17=\"\",\"\",'Measure Recommendation'!V17)","v":""},{"$f":"IF('Measure Recommendation'!I17=\"\",\"\",'Measure Recommendation'!W17)","v":""},{"$f":"IF('Measure Recommendation'!C17>0,'Measure Recommendation'!C17,\"\")","v":""},{"$f":"IF('Measure Recommendation'!X17=\"Yes\", \"g\",\"c\")","v":"c"}]
[null,{"$f":"DataPhaseValid!C48","v":""},{"$f":"IF('Measure Recommendation'!I18=\"\",\"\",'Measure Recommendation'!L18)","v":""},{"$f":"IF('Measure Recommendation'!I18=\"\",\"\",'Measure Recommendation'!M18)","v":""},{"$f":"IF('Measure Recommendation'!I18=\"\",\"\",'Measure Recommendation'!N18)","v":""},{"$f":"IF('Measure Recommendation'!I18=\"\",\"\",'Measure Recommendation'!O18)","v":""},{"$f":"IF('Measure Recommendation'!I18=\"\",\"\",'Measure Recommendation'!Q18)","v":""},{"$f":"IF('Measure Recommendation'!I18=\"\",\"\",'Measure Recommendation'!R18)","v":""},{"$f":"IF('Measure Recommendation'!I18=\"\",\"\",'Measure Recommendation'!S18)","v":""},{"$f":"IF('Measure Recommendation'!I18=\"\",\"\",'Measure Recommendation'!U18)","v":""},{"$f":"IF('Measure Recommendation'!I18=\"\",\"\",'Measure Recommendation'!V18)","v":""},{"$f":"IF('Measure Recommendation'!I18=\"\",\"\",'Measure Recommendation'!W18)","v":""},{"$f":"IF('Measure Recommendation'!C18>0,'Measure Recommendation'!C18,\"\")","v":""},{"$f":"IF('Measure Recommendation'!X18=\"Yes\", \"g\",\"c\")","v":"c"}]
[null,{"$f":"DataPhaseValid!C49","v":""},{"$f":"IF('Measure Recommendation'!I19=\"\",\"\",'Measure Recommendation'!L19)","v":""},{"$f":"IF('Measure Recommendation'!I19=\"\",\"\",'Measure Recommendation'!M19)","v":""},{"$f":"IF('Measure Recommendation'!I19=\"\",\"\",'Measure Recommendation'!N19)","v":""},{"$f":"IF('Measure Recommendation'!I19=\"\",\"\",'Measure Recommendation'!O19)","v":""},{"$f":"IF('Measure Recommendation'!I19=\"\",\"\",'Measure Recommendation'!Q19)","v":""},{"$f":"IF('Measure Recommendation'!I19=\"\",\"\",'Measure Recommendation'!R19)","v":""},{"$f":"IF('Measure Recommendation'!I19=\"\",\"\",'Measure Recommendation'!S19)","v":""},{"$f":"IF('Measure Recommendation'!I19=\"\",\"\",'Measure Recommendation'!U19)","v":""},{"$f":"IF('Measure Recommendation'!I19=\"\",\"\",'Measure Recommendation'!V19)","v":""},{"$f":"IF('Measure Recommendation'!I19=\"\",\"\",'Measure Recommendation'!W19)","v":""},{"$f":"IF('Measure Recommendation'!C19>0,'Measure Recommendation'!C19,\"\")","v":""},{"$f":"IF('Measure Recommendation'!X19=\"Yes\", \"g\",\"c\")","v":"c"}]
[null,{"$f":"DataPhaseValid!C50","v":""},{"$f":"IF('Measure Recommendation'!I20=\"\",\"\",'Measure Recommendation'!L20)","v":""},{"$f":"IF('Measure Recommendation'!I20=\"\",\"\",'Measure Recommendation'!M20)","v":""},{"$f":"IF('Measure Recommendation'!I20=\"\",\"\",'Measure Recommendation'!N20)","v":""},{"$f":"IF('Measure Recommendation'!I20=\"\",\"\",'Measure Recommendation'!O20)","v":""},{"$f":"IF('Measure Recommendation'!I20=\"\",\"\",'Measure Recommendation'!Q20)","v":""},{"$f":"IF('Measure Recommendation'!I20=\"\",\"\",'Measure Recommendation'!R20)","v":""},{"$f":"IF('Measure Recommendation'!I20=\"\",\"\",'Measure Recommendation'!S20)","v":""},{"$f":"IF('Measure Recommendation'!I20=\"\",\"\",'Measure Recommendation'!U20)","v":""},{"$f":"IF('Measure Recommendation'!I20=\"\",\"\",'Measure Recommendation'!V20)","v":""},{"$f":"IF('Measure Recommendation'!I20=\"\",\"\",'Measure Recommendation'!W20)","v":""},{"$f":"IF('Measure Recommendation'!C20>0,'Measure Recommendation'!C20,\"\")","v":""},{"$f":"IF('Measure Recommendation'!X20=\"Yes\", \"g\",\"c\")","v":"c"}]
[null,{"$f":"DataPhaseValid!C51","v":""},{"$f":"IF('Measure Recommendation'!I21=\"\",\"\",'Measure Recommendation'!L21)","v":""},{"$f":"IF('Measure Recommendation'!I21=\"\",\"\",'Measure Recommendation'!M21)","v":""},{"$f":"IF('Measure Recommendation'!I21=\"\",\"\",'Measure Recommendation'!N21)","v":""},{"$f":"IF('Measure Recommendation'!I21=\"\",\"\",'Measure Recommendation'!O21)","v":""},{"$f":"IF('Measure Recommendation'!I21=\"\",\"\",'Measure Recommendation'!Q21)","v":""},{"$f":"IF('Measure Recommendation'!I21=\"\",\"\",'Measure Recommendation'!R21)","v":""},{"$f":"IF('Measure Recommendation'!I21=\"\",\"\",'Measure Recommendation'!S21)","v":""},{"$f":"IF('Measure Recommendation'!I21=\"\",\"\",'Measure Recommendation'!U21)","v":""},{"$f":"IF('Measure Recommendation'!I21=\"\",\"\",'Measure Recommendation'!V21)","v":""},{"$f":"IF('Measure Recommendation'!I21=\"\",\"\",'Measure Recommendation'!W21)","v":""},{"$f":"IF('Measure Recommendation'!C21>0,'Measure Recommendation'!C21,\"\")","v":""},{"$f":"IF('Measure Recommendation'!X21=\"Yes\", \"g\",\"c\")","v":"c"}]
[null,{"$f":"DataPhaseValid!C52","v":""},{"$f":"IF('Measure Recommendation'!I22=\"\",\"\",'Measure Recommendation'!L22)","v":""},{"$f":"IF('Measure Recommendation'!I22=\"\",\"\",'Measure Recommendation'!M22)","v":""},{"$f":"IF('Measure Recommendation'!I22=\"\",\"\",'Measure Recommendation'!N22)","v":""},{"$f":"IF('Measure Recommendation'!I22=\"\",\"\",'Measure Recommendation'!O22)","v":""},{"$f":"IF('Measure Recommendation'!I22=\"\",\"\",'Measure Recommendation'!Q22)","v":""},{"$f":"IF('Measure Recommendation'!I22=\"\",\"\",'Measure Recommendation'!R22)","v":""},{"$f":"IF('Measure Recommendation'!I22=\"\",\"\",'Measure Recommendation'!S22)","v":""},{"$f":"IF('Measure Recommendation'!I22=\"\",\"\",'Measure Recommendation'!U22)","v":""},{"$f":"IF('Measure Recommendation'!I22=\"\",\"\",'Measure Recommendation'!V22)","v":""},{"$f":"IF('Measure Recommendation'!I22=\"\",\"\",'Measure Recommendation'!W22)","v":""},{"$f":"IF('Measure Recommendation'!C22>0,'Measure Recommendation'!C22,\"\")","v":""},{"$f":"IF('Measure Recommendation'!X22=\"Yes\", \"g\",\"c\")","v":"c"}]
[null,{"$f":"DataPhaseValid!C53","v":""},{"$f":"IF('Measure Recommendation'!I23=\"\",\"\",'Measure Recommendation'!L23)","v":""},{"$f":"IF('Measure Recommendation'!I23=\"\",\"\",'Measure Recommendation'!M23)","v":""},{"$f":"IF('Measure Recommendation'!I23=\"\",\"\",'Measure Recommendation'!N23)","v":""},{"$f":"IF('Measure Recommendation'!I23=\"\",\"\",'Measure Recommendation'!O23)","v":""},{"$f":"IF('Measure Recommendation'!I23=\"\",\"\",'Measure Recommendation'!Q23)","v":""},{"$f":"IF('Measure Recommendation'!I23=\"\",\"\",'Measure Recommendation'!R23)","v":""},{"$f":"IF('Measure Recommendation'!I23=\"\",\"\",'Measure Recommendation'!S23)","v":""},{"$f":"IF('Measure Recommendation'!I23=\"\",\"\",'Measure Recommendation'!U23)","v":""},{"$f":"IF('Measure Recommendation'!I23=\"\",\"\",'Measure Recommendation'!V23)","v":""},{"$f":"IF('Measure Recommendation'!I23=\"\",\"\",'Measure Recommendation'!W23)","v":""},{"$f":"IF('Measure Recommendation'!C23>0,'Measure Recommendation'!C23,\"\")","v":""},{"$f":"IF('Measure Recommendation'!X23=\"Yes\", \"g\",\"c\")","v":"c"}]
[null,{"$f":"DataPhaseValid!C54","v":""},{"$f":"IF('Measure Recommendation'!I24=\"\",\"\",'Measure Recommendation'!L24)","v":""},{"$f":"IF('Measure Recommendation'!I24=\"\",\"\",'Measure Recommendation'!M24)","v":""},{"$f":"IF('Measure Recommendation'!I24=\"\",\"\",'Measure Recommendation'!N24)","v":""},{"$f":"IF('Measure Recommendation'!I24=\"\",\"\",'Measure Recommendation'!O24)","v":""},{"$f":"IF('Measure Recommendation'!I24=\"\",\"\",'Measure Recommendation'!Q24)","v":""},{"$f":"IF('Measure Recommendation'!I24=\"\",\"\",'Measure Recommendation'!R24)","v":""},{"$f":"IF('Measure Recommendation'!I24=\"\",\"\",'Measure Recommendation'!S24)","v":""},{"$f":"IF('Measure Recommendation'!I24=\"\",\"\",'Measure Recommendation'!U24)","v":""},{"$f":"IF('Measure Recommendation'!I24=\"\",\"\",'Measure Recommendation'!V24)","v":""},{"$f":"IF('Measure Recommendation'!I24=\"\",\"\",'Measure Recommendation'!W24)","v":""},{"$f":"IF('Measure Recommendation'!C24>0,'Measure Recommendation'!C24,\"\")","v":""},{"$f":"IF('Measure Recommendation'!X24=\"Yes\", \"g\",\"c\")","v":"c"}]
[null,{"$f":"DataPhaseValid!C55","v":""},{"$f":"IF('Measure Recommendation'!I25=\"\",\"\",'Measure Recommendation'!L25)","v":""},{"$f":"IF('Measure Recommendation'!I25=\"\",\"\",'Measure Recommendation'!M25)","v":""},{"$f":"IF('Measure Recommendation'!I25=\"\",\"\",'Measure Recommendation'!N25)","v":""},{"$f":"IF('Measure Recommendation'!I25=\"\",\"\",'Measure Recommendation'!O25)","v":""},{"$f":"IF('Measure Recommendation'!I25=\"\",\"\",'Measure Recommendation'!Q25)","v":""},{"$f":"IF('Measure Recommendation'!I25=\"\",\"\",'Measure Recommendation'!R25)","v":""},{"$f":"IF('Measure Recommendation'!I25=\"\",\"\",'Measure Recommendation'!S25)","v":""},{"$f":"IF('Measure Recommendation'!I25=\"\",\"\",'Measure Recommendation'!U25)","v":""},{"$f":"IF('Measure Recommendation'!I25=\"\",\"\",'Measure Recommendation'!V25)","v":""},{"$f":"IF('Measure Recommendation'!I25=\"\",\"\",'Measure Recommendation'!W25)","v":""},{"$f":"IF('Measure Recommendation'!C25>0,'Measure Recommendation'!C25,\"\")","v":""},{"$f":"IF('Measure Recommendation'!X25=\"Yes\", \"g\",\"c\")","v":"c"}]
[null,{"$f":"DataPhaseValid!C56","v":""},{"$f":"IF('Measure Recommendation'!I26=\"\",\"\",'Measure Recommendation'!L26)","v":""},{"$f":"IF('Measure Recommendation'!I26=\"\",\"\",'Measure Recommendation'!M26)","v":""},{"$f":"IF('Measure Recommendation'!I26=\"\",\"\",'Measure Recommendation'!N26)","v":""},{"$f":"IF('Measure Recommendation'!I26=\"\",\"\",'Measure Recommendation'!O26)","v":""},{"$f":"IF('Measure Recommendation'!I26=\"\",\"\",'Measure Recommendation'!Q26)","v":""},{"$f":"IF('Measure Recommendation'!I26=\"\",\"\",'Measure Recommendation'!R26)","v":""},{"$f":"IF('Measure Recommendation'!I26=\"\",\"\",'Measure Recommendation'!S26)","v":""},{"$f":"IF('Measure Recommendation'!I26=\"\",\"\",'Measure Recommendation'!U26)","v":""},{"$f":"IF('Measure Recommendation'!I26=\"\",\"\",'Measure Recommendation'!V26)","v":""},{"$f":"IF('Measure Recommendation'!I26=\"\",\"\",'Measure Recommendation'!W26)","v":""},{"$f":"IF('Measure Recommendation'!C26>0,'Measure Recommendation'!C26,\"\")","v":""},{"$f":"IF('Measure Recommendation'!X26=\"Yes\", \"g\",\"c\")","v":"c"}]
[null,{"$f":"DataPhaseValid!C57","v":""},{"$f":"IF('Measure Recommendation'!I27=\"\",\"\",'Measure Recommendation'!L27)","v":""},{"$f":"IF('Measure Recommendation'!I27=\"\",\"\",'Measure Recommendation'!M27)","v":""},{"$f":"IF('Measure Recommendation'!I27=\"\",\"\",'Measure Recommendation'!N27)","v":""},{"$f":"IF('Measure Recommendation'!I27=\"\",\"\",'Measure Recommendation'!O27)","v":""},{"$f":"IF('Measure Recommendation'!I27=\"\",\"\",'Measure Recommendation'!Q27)","v":""},{"$f":"IF('Measure Recommendation'!I27=\"\",\"\",'Measure Recommendation'!R27)","v":""},{"$f":"IF('Measure Recommendation'!I27=\"\",\"\",'Measure Recommendation'!S27)","v":""},{"$f":"IF('Measure Recommendation'!I27=\"\",\"\",'Measure Recommendation'!U27)","v":""},{"$f":"IF('Measure Recommendation'!I27=\"\",\"\",'Measure Recommendation'!V27)","v":""},{"$f":"IF('Measure Recommendation'!I27=\"\",\"\",'Measure Recommendation'!W27)","v":""},{"$f":"IF('Measure Recommendation'!C27>0,'Measure Recommendation'!C27,\"\")","v":""},{"$f":"IF('Measure Recommendation'!X27=\"Yes\", \"g\",\"c\")","v":"c"}]
[null,{"$f":"DataPhaseValid!C58","v":""},{"$f":"IF('Measure Recommendation'!I28=\"\",\"\",'Measure Recommendation'!L28)","v":""},{"$f":"IF('Measure Recommendation'!I28=\"\",\"\",'Measure Recommendation'!M28)","v":""},{"$f":"IF('Measure Recommendation'!I28=\"\",\"\",'Measure Recommendation'!N28)","v":""},{"$f":"IF('Measure Recommendation'!I28=\"\",\"\",'Measure Recommendation'!O28)","v":""},{"$f":"IF('Measure Recommendation'!I28=\"\",\"\",'Measure Recommendation'!Q28)","v":""},{"$f":"IF('Measure Recommendation'!I28=\"\",\"\",'Measure Recommendation'!R28)","v":""},{"$f":"IF('Measure Recommendation'!I28=\"\",\"\",'Measure Recommendation'!S28)","v":""},{"$f":"IF('Measure Recommendation'!I28=\"\",\"\",'Measure Recommendation'!U28)","v":""},{"$f":"IF('Measure Recommendation'!I28=\"\",\"\",'Measure Recommendation'!V28)","v":""},{"$f":"IF('Measure Recommendation'!I28=\"\",\"\",'Measure Recommendation'!W28)","v":""},{"$f":"IF('Measure Recommendation'!C28>0,'Measure Recommendation'!C28,\"\")","v":""},{"$f":"IF('Measure Recommendation'!X28=\"Yes\", \"g\",\"c\")","v":"c"}]
[null,{"$f":"DataPhaseValid!C59","v":""},{"$f":"IF('Measure Recommendation'!I29=\"\",\"\",'Measure Recommendation'!L29)","v":""},{"$f":"IF('Measure Recommendation'!I29=\"\",\"\",'Measure Recommendation'!M29)","v":""},{"$f":"IF('Measure Recommendation'!I29=\"\",\"\",'Measure Recommendation'!N29)","v":""},{"$f":"IF('Measure Recommendation'!I29=\"\",\"\",'Measure Recommendation'!O29)","v":""},{"$f":"IF('Measure Recommendation'!I29=\"\",\"\",'Measure Recommendation'!Q29)","v":""},{"$f":"IF('Measure Recommendation'!I29=\"\",\"\",'Measure Recommendation'!R29)","v":""},{"$f":"IF('Measure Recommendation'!I29=\"\",\"\",'Measure Recommendation'!S29)","v":""},{"$f":"IF('Measure Recommendation'!I29=\"\",\"\",'Measure Recommendation'!U29)","v":""},{"$f":"IF('Measure Recommendation'!I29=\"\",\"\",'Measure Recommendation'!V29)","v":""},{"$f":"IF('Measure Recommendation'!I29=\"\",\"\",'Measure Recommendation'!W29)","v":""},{"$f":"IF('Measure Recommendation'!C29>0,'Measure Recommendation'!C29,\"\")","v":""},{"$f":"IF('Measure Recommendation'!X29=\"Yes\", \"g\",\"c\")","v":"c"}]
[null,{"$f":"DataPhaseValid!C60","v":""},{"$f":"IF('Measure Recommendation'!I30=\"\",\"\",'Measure Recommendation'!L30)","v":""},{"$f":"IF('Measure Recommendation'!I30=\"\",\"\",'Measure Recommendation'!M30)","v":""},{"$f":"IF('Measure Recommendation'!I30=\"\",\"\",'Measure Recommendation'!N30)","v":""},{"$f":"IF('Measure Recommendation'!I30=\"\",\"\",'Measure Recommendation'!O30)","v":""},{"$f":"IF('Measure Recommendation'!I30=\"\",\"\",'Measure Recommendation'!Q30)","v":""},{"$f":"IF('Measure Recommendation'!I30=\"\",\"\",'Measure Recommendation'!R30)","v":""},{"$f":"IF('Measure Recommendation'!I30=\"\",\"\",'Measure Recommendation'!S30)","v":""},{"$f":"IF('Measure Recommendation'!I30=\"\",\"\",'Measure Recommendation'!U30)","v":""},{"$f":"IF('Measure Recommendation'!I30=\"\",\"\",'Measure Recommendation'!V30)","v":""},{"$f":"IF('Measure Recommendation'!I30=\"\",\"\",'Measure Recommendation'!W30)","v":""},{"$f":"IF('Measure Recommendation'!C30>0,'Measure Recommendation'!C30,\"\")","v":""},{"$f":"IF('Measure Recommendation'!X30=\"Yes\", \"g\",\"c\")","v":"c"}]
[null,{"$f":"DataPhaseValid!C61","v":""},{"$f":"IF('Measure Recommendation'!I31=\"\",\"\",'Measure Recommendation'!L31)","v":""},{"$f":"IF('Measure Recommendation'!I31=\"\",\"\",'Measure Recommendation'!M31)","v":""},{"$f":"IF('Measure Recommendation'!I31=\"\",\"\",'Measure Recommendation'!N31)","v":""},{"$f":"IF('Measure Recommendation'!I31=\"\",\"\",'Measure Recommendation'!O31)","v":""},{"$f":"IF('Measure Recommendation'!I31=\"\",\"\",'Measure Recommendation'!Q31)","v":""},{"$f":"IF('Measure Recommendation'!I31=\"\",\"\",'Measure Recommendation'!R31)","v":""},{"$f":"IF('Measure Recommendation'!I31=\"\",\"\",'Measure Recommendation'!S31)","v":""},{"$f":"IF('Measure Recommendation'!I31=\"\",\"\",'Measure Recommendation'!U31)","v":""},{"$f":"IF('Measure Recommendation'!I31=\"\",\"\",'Measure Recommendation'!V31)","v":""},{"$f":"IF('Measure Recommendation'!I31=\"\",\"\",'Measure Recommendation'!W31)","v":""},{"$f":"IF('Measure Recommendation'!C31>0,'Measure Recommendation'!C31,\"\")","v":""},{"$f":"IF('Measure Recommendation'!X31=\"Yes\", \"g\",\"c\")","v":"c"}]
[null,{"$f":"DataPhaseValid!C62","v":""},{"$f":"IF('Measure Recommendation'!I32=\"\",\"\",'Measure Recommendation'!L32)","v":""},{"$f":"IF('Measure Recommendation'!I32=\"\",\"\",'Measure Recommendation'!M32)","v":""},{"$f":"IF('Measure Recommendation'!I32=\"\",\"\",'Measure Recommendation'!N32)","v":""},{"$f":"IF('Measure Recommendation'!I32=\"\",\"\",'Measure Recommendation'!O32)","v":""},{"$f":"IF('Measure Recommendation'!I32=\"\",\"\",'Measure Recommendation'!Q32)","v":""},{"$f":"IF('Measure Recommendation'!I32=\"\",\"\",'Measure Recommendation'!R32)","v":""},{"$f":"IF('Measure Recommendation'!I32=\"\",\"\",'Measure Recommendation'!S32)","v":""},{"$f":"IF('Measure Recommendation'!I32=\"\",\"\",'Measure Recommendation'!U32)","v":""},{"$f":"IF('Measure Recommendation'!I32=\"\",\"\",'Measure Recommendation'!V32)","v":""},{"$f":"IF('Measure Recommendation'!I32=\"\",\"\",'Measure Recommendation'!W32)","v":""},{"$f":"IF('Measure Recommendation'!C32>0,'Measure Recommendation'!C32,\"\")","v":""},{"$f":"IF('Measure Recommendation'!X32=\"Yes\", \"g\",\"c\")","v":"c"}]
[null,{"$f":"DataPhaseValid!C63","v":""},{"$f":"IF('Measure Recommendation'!I33=\"\",\"\",'Measure Recommendation'!L33)","v":""},{"$f":"IF('Measure Recommendation'!I33=\"\",\"\",'Measure Recommendation'!M33)","v":""},{"$f":"IF('Measure Recommendation'!I33=\"\",\"\",'Measure Recommendation'!N33)","v":""},{"$f":"IF('Measure Recommendation'!I33=\"\",\"\",'Measure Recommendation'!O33)","v":""},{"$f":"IF('Measure Recommendation'!I33=\"\",\"\",'Measure Recommendation'!Q33)","v":""},{"$f":"IF('Measure Recommendation'!I33=\"\",\"\",'Measure Recommendation'!R33)","v":""},{"$f":"IF('Measure Recommendation'!I33=\"\",\"\",'Measure Recommendation'!S33)","v":""},{"$f":"IF('Measure Recommendation'!I33=\"\",\"\",'Measure Recommendation'!U33)","v":""},{"$f":"IF('Measure Recommendation'!I33=\"\",\"\",'Measure Recommendation'!V33)","v":""},{"$f":"IF('Measure Recommendation'!I33=\"\",\"\",'Measure Recommendation'!W33)","v":""},{"$f":"IF('Measure Recommendation'!C33>0,'Measure Recommendation'!C33,\"\")","v":""},{"$f":"IF('Measure Recommendation'!X33=\"Yes\", \"g\",\"c\")","v":"c"}]
[null,{"$f":"DataPhaseValid!C64","v":""},{"$f":"IF('Measure Recommendation'!I34=\"\",\"\",'Measure Recommendation'!L34)","v":""},{"$f":"IF('Measure Recommendation'!I34=\"\",\"\",'Measure Recommendation'!M34)","v":""},{"$f":"IF('Measure Recommendation'!I34=\"\",\"\",'Measure Recommendation'!N34)","v":""},{"$f":"IF('Measure Recommendation'!I34=\"\",\"\",'Measure Recommendation'!O34)","v":""},{"$f":"IF('Measure Recommendation'!I34=\"\",\"\",'Measure Recommendation'!Q34)","v":""},{"$f":"IF('Measure Recommendation'!I34=\"\",\"\",'Measure Recommendation'!R34)","v":""},{"$f":"IF('Measure Recommendation'!I34=\"\",\"\",'Measure Recommendation'!S34)","v":""},{"$f":"IF('Measure Recommendation'!I34=\"\",\"\",'Measure Recommendation'!U34)","v":""},{"$f":"IF('Measure Recommendation'!I34=\"\",\"\",'Measure Recommendation'!V34)","v":""},{"$f":"IF('Measure Recommendation'!I34=\"\",\"\",'Measure Recommendation'!W34)","v":""},{"$f":"IF('Measure Recommendation'!C34>0,'Measure Recommendation'!C34,\"\")","v":""},{"$f":"IF('Measure Recommendation'!X34=\"Yes\", \"g\",\"c\")","v":"c"}]
[null,{"$f":"DataPhaseValid!C65","v":""},{"$f":"IF('Measure Recommendation'!I35=\"\",\"\",'Measure Recommendation'!L35)","v":""},{"$f":"IF('Measure Recommendation'!I35=\"\",\"\",'Measure Recommendation'!M35)","v":""},{"$f":"IF('Measure Recommendation'!I35=\"\",\"\",'Measure Recommendation'!N35)","v":""},{"$f":"IF('Measure Recommendation'!I35=\"\",\"\",'Measure Recommendation'!O35)","v":""},{"$f":"IF('Measure Recommendation'!I35=\"\",\"\",'Measure Recommendation'!Q35)","v":""},{"$f":"IF('Measure Recommendation'!I35=\"\",\"\",'Measure Recommendation'!R35)","v":""},{"$f":"IF('Measure Recommendation'!I35=\"\",\"\",'Measure Recommendation'!S35)","v":""},{"$f":"IF('Measure Recommendation'!I35=\"\",\"\",'Measure Recommendation'!U35)","v":""},{"$f":"IF('Measure Recommendation'!I35=\"\",\"\",'Measure Recommendation'!V35)","v":""},{"$f":"IF('Measure Recommendation'!I35=\"\",\"\",'Measure Recommendation'!W35)","v":""},{"$f":"IF('Measure Recommendation'!C35>0,'Measure Recommendation'!C35,\"\")","v":""},{"$f":"IF('Measure Recommendation'!X35=\"Yes\", \"g\",\"c\")","v":"c"}]
[null,{"$f":"DataPhaseValid!C66","v":""},{"$f":"IF('Measure Recommendation'!I36=\"\",\"\",'Measure Recommendation'!L36)","v":""},{"$f":"IF('Measure Recommendation'!I36=\"\",\"\",'Measure Recommendation'!M36)","v":""},{"$f":"IF('Measure Recommendation'!I36=\"\",\"\",'Measure Recommendation'!N36)","v":""},{"$f":"IF('Measure Recommendation'!I36=\"\",\"\",'Measure Recommendation'!O36)","v":""},{"$f":"IF('Measure Recommendation'!I36=\"\",\"\",'Measure Recommendation'!Q36)","v":""},{"$f":"IF('Measure Recommendation'!I36=\"\",\"\",'Measure Recommendation'!R36)","v":""},{"$f":"IF('Measure Recommendation'!I36=\"\",\"\",'Measure Recommendation'!S36)","v":""},{"$f":"IF('Measure Recommendation'!I36=\"\",\"\",'Measure Recommendation'!U36)","v":""},{"$f":"IF('Measure Recommendation'!I36=\"\",\"\",'Measure Recommendation'!V36)","v":""},{"$f":"IF('Measure Recommendation'!I36=\"\",\"\",'Measure Recommendation'!W36)","v":""},{"$f":"IF('Measure Recommendation'!C36>0,'Measure Recommendation'!C36,\"\")","v":""},{"$f":"IF('Measure Recommendation'!X36=\"Yes\", \"g\",\"c\")","v":"c"}]
[null,"Investigation Phase Total",{"$f":"'Measure Recommendation'!L37","v":0},{"$f":"'Measure Recommendation'!M37","v":0},{"$f":"'Measure Recommendation'!N37","v":0},{"$f":"'Measure Recommendation'!O37","v":0},{"$f":"'Measure Recommendation'!Q37","v":0},{"$f":"'Measure Recommendation'!R37","v":0},{"$f":"'Measure Recommendation'!S37","v":0},{"$f":"'Measure Recommendation'!U37","v":0},{"$f":"'Measure Recommendation'!V37","v":0},{"$f":"'Measure Recommendation'!W37","v":""},"-"]
["Verification",{"$f":"DataPhaseValid!D47","v":""},{"$f":"IF('Measure Recommendation'!I41=\"\",\"\",'Measure Recommendation'!L41)","v":""},{"$f":"IF('Measure Recommendation'!I41=\"\",\"\",'Measure Recommendation'!M41)","v":""},{"$f":"IF('Measure Recommendation'!I41=\"\",\"\",'Measure Recommendation'!N41)","v":""},{"$f":"IF('Measure Recommendation'!I41=\"\",\"\",'Measure Recommendation'!O41)","v":""},{"$f":"IF('Measure Recommendation'!I41=\"\",\"\",'Measure Recommendation'!Q41)","v":""},{"$f":"IF('Measure Recommendation'!I41=\"\",\"\",'Measure Recommendation'!R41)","v":""},{"$f":"IF('Measure Recommendation'!I41=\"\",\"\",'Measure Recommendation'!S41)","v":""},{"$f":"IF('Measure Recommendation'!I41=\"\",\"\",'Measure Recommendation'!U41)","v":""},{"$f":"IF('Measure Recommendation'!I41=\"\",\"\",'Measure Recommendation'!V41)","v":""},{"$f":"IF('Measure Recommendation'!I41=\"\",\"\",'Measure Recommendation'!W41)","v":""},{"$f":"IF('Measure Recommendation'!C41>0,'Measure Recommendation'!C41,\"\")","v":""},{"$f":"IF('Measure Recommendation'!X41=\"Yes\",\"g\",\"c\")","v":"c"}]
[null,{"$f":"DataPhaseValid!D48","v":""},{"$f":"IF('Measure Recommendation'!I42=\"\",\"\",'Measure Recommendation'!L42)","v":""},{"$f":"IF('Measure Recommendation'!I42=\"\",\"\",'Measure Recommendation'!M42)","v":""},{"$f":"IF('Measure Recommendation'!I42=\"\",\"\",'Measure Recommendation'!N42)","v":""},{"$f":"IF('Measure Recommendation'!I42=\"\",\"\",'Measure Recommendation'!O42)","v":""},{"$f":"IF('Measure Recommendation'!I42=\"\",\"\",'Measure Recommendation'!Q42)","v":""},{"$f":"IF('Measure Recommendation'!I42=\"\",\"\",'Measure Recommendation'!R42)","v":""},{"$f":"IF('Measure Recommendation'!I42=\"\",\"\",'Measure Recommendation'!S42)","v":""},{"$f":"IF('Measure Recommendation'!I42=\"\",\"\",'Measure Recommendation'!U42)","v":""},{"$f":"IF('Measure Recommendation'!I42=\"\",\"\",'Measure Recommendation'!V42)","v":""},{"$f":"IF('Measure Recommendation'!I42=\"\",\"\",'Measure Recommendation'!W42)","v":""},{"$f":"IF('Measure Recommendation'!C42>0,'Measure Recommendation'!C42,\"\")","v":""},{"$f":"IF('Measure Recommendation'!X42=\"Yes\",\"g\",\"c\")","v":"c"}]
[null,{"$f":"DataPhaseValid!D49","v":""},{"$f":"IF('Measure Recommendation'!I43=\"\",\"\",'Measure Recommendation'!L43)","v":""},{"$f":"IF('Measure Recommendation'!I43=\"\",\"\",'Measure Recommendation'!M43)","v":""},{"$f":"IF('Measure Recommendation'!I43=\"\",\"\",'Measure Recommendation'!N43)","v":""},{"$f":"IF('Measure Recommendation'!I43=\"\",\"\",'Measure Recommendation'!O43)","v":""},{"$f":"IF('Measure Recommendation'!I43=\"\",\"\",'Measure Recommendation'!Q43)","v":""},{"$f":"IF('Measure Recommendation'!I43=\"\",\"\",'Measure Recommendation'!R43)","v":""},{"$f":"IF('Measure Recommendation'!I43=\"\",\"\",'Measure Recommendation'!S43)","v":""},{"$f":"IF('Measure Recommendation'!I43=\"\",\"\",'Measure Recommendation'!U43)","v":""},{"$f":"IF('Measure Recommendation'!I43=\"\",\"\",'Measure Recommendation'!V43)","v":""},{"$f":"IF('Measure Recommendation'!I43=\"\",\"\",'Measure Recommendation'!W43)","v":""},{"$f":"IF('Measure Recommendation'!C43>0,'Measure Recommendation'!C43,\"\")","v":""},{"$f":"IF('Measure Recommendation'!X43=\"Yes\",\"g\",\"c\")","v":"c"}]
[null,{"$f":"DataPhaseValid!D50","v":""},{"$f":"IF('Measure Recommendation'!I44=\"\",\"\",'Measure Recommendation'!L44)","v":""},{"$f":"IF('Measure Recommendation'!I44=\"\",\"\",'Measure Recommendation'!M44)","v":""},{"$f":"IF('Measure Recommendation'!I44=\"\",\"\",'Measure Recommendation'!N44)","v":""},{"$f":"IF('Measure Recommendation'!I44=\"\",\"\",'Measure Recommendation'!O44)","v":""},{"$f":"IF('Measure Recommendation'!I44=\"\",\"\",'Measure Recommendation'!Q44)","v":""},{"$f":"IF('Measure Recommendation'!I44=\"\",\"\",'Measure Recommendation'!R44)","v":""},{"$f":"IF('Measure Recommendation'!I44=\"\",\"\",'Measure Recommendation'!S44)","v":""},{"$f":"IF('Measure Recommendation'!I44=\"\",\"\",'Measure Recommendation'!U44)","v":""},{"$f":"IF('Measure Recommendation'!I44=\"\",\"\",'Measure Recommendation'!V44)","v":""},{"$f":"IF('Measure Recommendation'!I44=\"\",\"\",'Measure Recommendation'!W44)","v":""},{"$f":"IF('Measure Recommendation'!C44>0,'Measure Recommendation'!C44,\"\")","v":""},{"$f":"IF('Measure Recommendation'!X44=\"Yes\",\"g\",\"c\")","v":"c"}]
[null,{"$f":"DataPhaseValid!D51","v":""},{"$f":"IF('Measure Recommendation'!I45=\"\",\"\",'Measure Recommendation'!L45)","v":""},{"$f":"IF('Measure Recommendation'!I45=\"\",\"\",'Measure Recommendation'!M45)","v":""},{"$f":"IF('Measure Recommendation'!I45=\"\",\"\",'Measure Recommendation'!N45)","v":""},{"$f":"IF('Measure Recommendation'!I45=\"\",\"\",'Measure Recommendation'!O45)","v":""},{"$f":"IF('Measure Recommendation'!I45=\"\",\"\",'Measure Recommendation'!Q45)","v":""},{"$f":"IF('Measure Recommendation'!I45=\"\",\"\",'Measure Recommendation'!R45)","v":""},{"$f":"IF('Measure Recommendation'!I45=\"\",\"\",'Measure Recommendation'!S45)","v":""},{"$f":"IF('Measure Recommendation'!I45=\"\",\"\",'Measure Recommendation'!U45)","v":""},{"$f":"IF('Measure Recommendation'!I45=\"\",\"\",'Measure Recommendation'!V45)","v":""},{"$f":"IF('Measure Recommendation'!I45=\"\",\"\",'Measure Recommendation'!W45)","v":""},{"$f":"IF('Measure Recommendation'!C45>0,'Measure Recommendation'!C45,\"\")","v":""},{"$f":"IF('Measure Recommendation'!X45=\"Yes\",\"g\",\"c\")","v":"c"}]
[null,{"$f":"DataPhaseValid!D52","v":""},{"$f":"IF('Measure Recommendation'!I46=\"\",\"\",'Measure Recommendation'!L46)","v":""},{"$f":"IF('Measure Recommendation'!I46=\"\",\"\",'Measure Recommendation'!M46)","v":""},{"$f":"IF('Measure Recommendation'!I46=\"\",\"\",'Measure Recommendation'!N46)","v":""},{"$f":"IF('Measure Recommendation'!I46=\"\",\"\",'Measure Recommendation'!O46)","v":""},{"$f":"IF('Measure Recommendation'!I46=\"\",\"\",'Measure Recommendation'!Q46)","v":""},{"$f":"IF('Measure Recommendation'!I46=\"\",\"\",'Measure Recommendation'!R46)","v":""},{"$f":"IF('Measure Recommendation'!I46=\"\",\"\",'Measure Recommendation'!S46)","v":""},{"$f":"IF('Measure Recommendation'!I46=\"\",\"\",'Measure Recommendation'!U46)","v":""},{"$f":"IF('Measure Recommendation'!I46=\"\",\"\",'Measure Recommendation'!V46)","v":""},{"$f":"IF('Measure Recommendation'!I46=\"\",\"\",'Measure Recommendation'!W46)","v":""},{"$f":"IF('Measure Recommendation'!C46>0,'Measure Recommendation'!C46,\"\")","v":""},{"$f":"IF('Measure Recommendation'!X46=\"Yes\",\"g\",\"c\")","v":"c"}]
[null,{"$f":"DataPhaseValid!D53","v":""},{"$f":"IF('Measure Recommendation'!I47=\"\",\"\",'Measure Recommendation'!L47)","v":""},{"$f":"IF('Measure Recommendation'!I47=\"\",\"\",'Measure Recommendation'!M47)","v":""},{"$f":"IF('Measure Recommendation'!I47=\"\",\"\",'Measure Recommendation'!N47)","v":""},{"$f":"IF('Measure Recommendation'!I47=\"\",\"\",'Measure Recommendation'!O47)","v":""},{"$f":"IF('Measure Recommendation'!I47=\"\",\"\",'Measure Recommendation'!Q47)","v":""},{"$f":"IF('Measure Recommendation'!I47=\"\",\"\",'Measure Recommendation'!R47)","v":""},{"$f":"IF('Measure Recommendation'!I47=\"\",\"\",'Measure Recommendation'!S47)","v":""},{"$f":"IF('Measure Recommendation'!I47=\"\",\"\",'Measure Recommendation'!U47)","v":""},{"$f":"IF('Measure Recommendation'!I47=\"\",\"\",'Measure Recommendation'!V47)","v":""},{"$f":"IF('Measure Recommendation'!I47=\"\",\"\",'Measure Recommendation'!W47)","v":""},{"$f":"IF('Measure Recommendation'!C47>0,'Measure Recommendation'!C47,\"\")","v":""},{"$f":"IF('Measure Recommendation'!X47=\"Yes\",\"g\",\"c\")","v":"c"}]
[null,{"$f":"DataPhaseValid!D54","v":""},{"$f":"IF('Measure Recommendation'!I48=\"\",\"\",'Measure Recommendation'!L48)","v":""},{"$f":"IF('Measure Recommendation'!I48=\"\",\"\",'Measure Recommendation'!M48)","v":""},{"$f":"IF('Measure Recommendation'!I48=\"\",\"\",'Measure Recommendation'!N48)","v":""},{"$f":"IF('Measure Recommendation'!I48=\"\",\"\",'Measure Recommendation'!O48)","v":""},{"$f":"IF('Measure Recommendation'!I48=\"\",\"\",'Measure Recommendation'!Q48)","v":""},{"$f":"IF('Measure Recommendation'!I48=\"\",\"\",'Measure Recommendation'!R48)","v":""},{"$f":"IF('Measure Recommendation'!I48=\"\",\"\",'Measure Recommendation'!S48)","v":""},{"$f":"IF('Measure Recommendation'!I48=\"\",\"\",'Measure Recommendation'!U48)","v":""},{"$f":"IF('Measure Recommendation'!I48=\"\",\"\",'Measure Recommendation'!V48)","v":""},{"$f":"IF('Measure Recommendation'!I48=\"\",\"\",'Measure Recommendation'!W48)","v":""},{"$f":"IF('Measure Recommendation'!C48>0,'Measure Recommendation'!C48,\"\")","v":""},{"$f":"IF('Measure Recommendation'!X48=\"Yes\",\"g\",\"c\")","v":"c"}]
[null,{"$f":"DataPhaseValid!D55","v":""},{"$f":"IF('Measure Recommendation'!I49=\"\",\"\",'Measure Recommendation'!L49)","v":""},{"$f":"IF('Measure Recommendation'!I49=\"\",\"\",'Measure Recommendation'!M49)","v":""},{"$f":"IF('Measure Recommendation'!I49=\"\",\"\",'Measure Recommendation'!N49)","v":""},{"$f":"IF('Measure Recommendation'!I49=\"\",\"\",'Measure Recommendation'!O49)","v":""},{"$f":"IF('Measure Recommendation'!I49=\"\",\"\",'Measure Recommendation'!Q49)","v":""},{"$f":"IF('Measure Recommendation'!I49=\"\",\"\",'Measure Recommendation'!R49)","v":""},{"$f":"IF('Measure Recommendation'!I49=\"\",\"\",'Measure Recommendation'!S49)","v":""},{"$f":"IF('Measure Recommendation'!I49=\"\",\"\",'Measure Recommendation'!U49)","v":""},{"$f":"IF('Measure Recommendation'!I49=\"\",\"\",'Measure Recommendation'!V49)","v":""},{"$f":"IF('Measure Recommendation'!I49=\"\",\"\",'Measure Recommendation'!W49)","v":""},{"$f":"IF('Measure Recommendation'!C49>0,'Measure Recommendation'!C49,\"\")","v":""},{"$f":"IF('Measure Recommendation'!X49=\"Yes\",\"g\",\"c\")","v":"c"}]
[null,{"$f":"DataPhaseValid!D56","v":""},{"$f":"IF('Measure Recommendation'!I50=\"\",\"\",'Measure Recommendation'!L50)","v":""},{"$f":"IF('Measure Recommendation'!I50=\"\",\"\",'Measure Recommendation'!M50)","v":""},{"$f":"IF('Measure Recommendation'!I50=\"\",\"\",'Measure Recommendation'!N50)","v":""},{"$f":"IF('Measure Recommendation'!I50=\"\",\"\",'Measure Recommendation'!O50)","v":""},{"$f":"IF('Measure Recommendation'!I50=\"\",\"\",'Measure Recommendation'!Q50)","v":""},{"$f":"IF('Measure Recommendation'!I50=\"\",\"\",'Measure Recommendation'!R50)","v":""},{"$f":"IF('Measure Recommendation'!I50=\"\",\"\",'Measure Recommendation'!S50)","v":""},{"$f":"IF('Measure Recommendation'!I50=\"\",\"\",'Measure Recommendation'!U50)","v":""},{"$f":"IF('Measure Recommendation'!I50=\"\",\"\",'Measure Recommendation'!V50)","v":""},{"$f":"IF('Measure Recommendation'!I50=\"\",\"\",'Measure Recommendation'!W50)","v":""},{"$f":"IF('Measure Recommendation'!C50>0,'Measure Recommendation'!C50,\"\")","v":""},{"$f":"IF('Measure Recommendation'!X50=\"Yes\",\"g\",\"c\")","v":"c"}]
[null,{"$f":"DataPhaseValid!D57","v":""},{"$f":"IF('Measure Recommendation'!I51=\"\",\"\",'Measure Recommendation'!L51)","v":""},{"$f":"IF('Measure Recommendation'!I51=\"\",\"\",'Measure Recommendation'!M51)","v":""},{"$f":"IF('Measure Recommendation'!I51=\"\",\"\",'Measure Recommendation'!N51)","v":""},{"$f":"IF('Measure Recommendation'!I51=\"\",\"\",'Measure Recommendation'!O51)","v":""},{"$f":"IF('Measure Recommendation'!I51=\"\",\"\",'Measure Recommendation'!Q51)","v":""},{"$f":"IF('Measure Recommendation'!I51=\"\",\"\",'Measure Recommendation'!R51)","v":""},{"$f":"IF('Measure Recommendation'!I51=\"\",\"\",'Measure Recommendation'!S51)","v":""},{"$f":"IF('Measure Recommendation'!I51=\"\",\"\",'Measure Recommendation'!U51)","v":""},{"$f":"IF('Measure Recommendation'!I51=\"\",\"\",'Measure Recommendation'!V51)","v":""},{"$f":"IF('Measure Recommendation'!I51=\"\",\"\",'Measure Recommendation'!W51)","v":""},{"$f":"IF('Measure Recommendation'!C51>0,'Measure Recommendation'!C51,\"\")","v":""},{"$f":"IF('Measure Recommendation'!X51=\"Yes\",\"g\",\"c\")","v":"c"}]
[null,{"$f":"DataPhaseValid!D58","v":""},{"$f":"IF('Measure Recommendation'!I52=\"\",\"\",'Measure Recommendation'!L52)","v":""},{"$f":"IF('Measure Recommendation'!I52=\"\",\"\",'Measure Recommendation'!M52)","v":""},{"$f":"IF('Measure Recommendation'!I52=\"\",\"\",'Measure Recommendation'!N52)","v":""},{"$f":"IF('Measure Recommendation'!I52=\"\",\"\",'Measure Recommendation'!O52)","v":""},{"$f":"IF('Measure Recommendation'!I52=\"\",\"\",'Measure Recommendation'!Q52)","v":""},{"$f":"IF('Measure Recommendation'!I52=\"\",\"\",'Measure Recommendation'!R52)","v":""},{"$f":"IF('Measure Recommendation'!I52=\"\",\"\",'Measure Recommendation'!S52)","v":""},{"$f":"IF('Measure Recommendation'!I52=\"\",\"\",'Measure Recommendation'!U52)","v":""},{"$f":"IF('Measure Recommendation'!I52=\"\",\"\",'Measure Recommendation'!V52)","v":""},{"$f":"IF('Measure Recommendation'!I52=\"\",\"\",'Measure Recommendation'!W52)","v":""},{"$f":"IF('Measure Recommendation'!C52>0,'Measure Recommendation'!C52,\"\")","v":""},{"$f":"IF('Measure Recommendation'!X52=\"Yes\",\"g\",\"c\")","v":"c"}]
[null,{"$f":"DataPhaseValid!D59","v":""},{"$f":"IF('Measure Recommendation'!I53=\"\",\"\",'Measure Recommendation'!L53)","v":""},{"$f":"IF('Measure Recommendation'!I53=\"\",\"\",'Measure Recommendation'!M53)","v":""},{"$f":"IF('Measure Recommendation'!I53=\"\",\"\",'Measure Recommendation'!N53)","v":""},{"$f":"IF('Measure Recommendation'!I53=\"\",\"\",'Measure Recommendation'!O53)","v":""},{"$f":"IF('Measure Recommendation'!I53=\"\",\"\",'Measure Recommendation'!Q53)","v":""},{"$f":"IF('Measure Recommendation'!I53=\"\",\"\",'Measure Recommendation'!R53)","v":""},{"$f":"IF('Measure Recommendation'!I53=\"\",\"\",'Measure Recommendation'!S53)","v":""},{"$f":"IF('Measure Recommendation'!I53=\"\",\"\",'Measure Recommendation'!U53)","v":""},{"$f":"IF('Measure Recommendation'!I53=\"\",\"\",'Measure Recommendation'!V53)","v":""},{"$f":"IF('Measure Recommendation'!I53=\"\",\"\",'Measure Recommendation'!W53)","v":""},{"$f":"IF('Measure Recommendation'!C53>0,'Measure Recommendation'!C53,\"\")","v":""},{"$f":"IF('Measure Recommendation'!X53=\"Yes\",\"g\",\"c\")","v":"c"}]
[null,{"$f":"DataPhaseValid!D60","v":""},{"$f":"IF('Measure Recommendation'!I54=\"\",\"\",'Measure Recommendation'!L54)","v":""},{"$f":"IF('Measure Recommendation'!I54=\"\",\"\",'Measure Recommendation'!M54)","v":""},{"$f":"IF('Measure Recommendation'!I54=\"\",\"\",'Measure Recommendation'!N54)","v":""},{"$f":"IF('Measure Recommendation'!I54=\"\",\"\",'Measure Recommendation'!O54)","v":""},{"$f":"IF('Measure Recommendation'!I54=\"\",\"\",'Measure Recommendation'!Q54)","v":""},{"$f":"IF('Measure Recommendation'!I54=\"\",\"\",'Measure Recommendation'!R54)","v":""},{"$f":"IF('Measure Recommendation'!I54=\"\",\"\",'Measure Recommendation'!S54)","v":""},{"$f":"IF('Measure Recommendation'!I54=\"\",\"\",'Measure Recommendation'!U54)","v":""},{"$f":"IF('Measure Recommendation'!I54=\"\",\"\",'Measure Recommendation'!V54)","v":""},{"$f":"IF('Measure Recommendation'!I54=\"\",\"\",'Measure Recommendation'!W54)","v":""},{"$f":"IF('Measure Recommendation'!C54>0,'Measure Recommendation'!C54,\"\")","v":""},{"$f":"IF('Measure Recommendation'!X54=\"Yes\",\"g\",\"c\")","v":"c"}]
[null,{"$f":"DataPhaseValid!D61","v":""},{"$f":"IF('Measure Recommendation'!I55=\"\",\"\",'Measure Recommendation'!L55)","v":""},{"$f":"IF('Measure Recommendation'!I55=\"\",\"\",'Measure Recommendation'!M55)","v":""},{"$f":"IF('Measure Recommendation'!I55=\"\",\"\",'Measure Recommendation'!N55)","v":""},{"$f":"IF('Measure Recommendation'!I55=\"\",\"\",'Measure Recommendation'!O55)","v":""},{"$f":"IF('Measure Recommendation'!I55=\"\",\"\",'Measure Recommendation'!Q55)","v":""},{"$f":"IF('Measure Recommendation'!I55=\"\",\"\",'Measure Recommendation'!R55)","v":""},{"$f":"IF('Measure Recommendation'!I55=\"\",\"\",'Measure Recommendation'!S55)","v":""},{"$f":"IF('Measure Recommendation'!I55=\"\",\"\",'Measure Recommendation'!U55)","v":""},{"$f":"IF('Measure Recommendation'!I55=\"\",\"\",'Measure Recommendation'!V55)","v":""},{"$f":"IF('Measure Recommendation'!I55=\"\",\"\",'Measure Recommendation'!W55)","v":""},{"$f":"IF('Measure Recommendation'!C55>0,'Measure Recommendation'!C55,\"\")","v":""},{"$f":"IF('Measure Recommendation'!X55=\"Yes\",\"g\",\"c\")","v":"c"}]
[null,{"$f":"DataPhaseValid!D62","v":""},{"$f":"IF('Measure Recommendation'!I56=\"\",\"\",'Measure Recommendation'!L56)","v":""},{"$f":"IF('Measure Recommendation'!I56=\"\",\"\",'Measure Recommendation'!M56)","v":""},{"$f":"IF('Measure Recommendation'!I56=\"\",\"\",'Measure Recommendation'!N56)","v":""},{"$f":"IF('Measure Recommendation'!I56=\"\",\"\",'Measure Recommendation'!O56)","v":""},{"$f":"IF('Measure Recommendation'!I56=\"\",\"\",'Measure Recommendation'!Q56)","v":""},{"$f":"IF('Measure Recommendation'!I56=\"\",\"\",'Measure Recommendation'!R56)","v":""},{"$f":"IF('Measure Recommendation'!I56=\"\",\"\",'Measure Recommendation'!S56)","v":""},{"$f":"IF('Measure Recommendation'!I56=\"\",\"\",'Measure Recommendation'!U56)","v":""},{"$f":"IF('Measure Recommendation'!I56=\"\",\"\",'Measure Recommendation'!V56)","v":""},{"$f":"IF('Measure Recommendation'!I56=\"\",\"\",'Measure Recommendation'!W56)","v":""},{"$f":"IF('Measure Recommendation'!C56>0,'Measure Recommendation'!C56,\"\")","v":""},{"$f":"IF('Measure Recommendation'!X56=\"Yes\",\"g\",\"c\")","v":"c"}]
[null,{"$f":"DataPhaseValid!D63","v":""},{"$f":"IF('Measure Recommendation'!I57=\"\",\"\",'Measure Recommendation'!L57)","v":""},{"$f":"IF('Measure Recommendation'!I57=\"\",\"\",'Measure Recommendation'!M57)","v":""},{"$f":"IF('Measure Recommendation'!I57=\"\",\"\",'Measure Recommendation'!N57)","v":""},{"$f":"IF('Measure Recommendation'!I57=\"\",\"\",'Measure Recommendation'!O57)","v":""},{"$f":"IF('Measure Recommendation'!I57=\"\",\"\",'Measure Recommendation'!Q57)","v":""},{"$f":"IF('Measure Recommendation'!I57=\"\",\"\",'Measure Recommendation'!R57)","v":""},{"$f":"IF('Measure Recommendation'!I57=\"\",\"\",'Measure Recommendation'!S57)","v":""},{"$f":"IF('Measure Recommendation'!I57=\"\",\"\",'Measure Recommendation'!U57)","v":""},{"$f":"IF('Measure Recommendation'!I57=\"\",\"\",'Measure Recommendation'!V57)","v":""},{"$f":"IF('Measure Recommendation'!I57=\"\",\"\",'Measure Recommendation'!W57)","v":""},{"$f":"IF('Measure Recommendation'!C57>0,'Measure Recommendation'!C57,\"\")","v":""},{"$f":"IF('Measure Recommendation'!X57=\"Yes\",\"g\",\"c\")","v":"c"}]
[null,{"$f":"DataPhaseValid!D64","v":""},{"$f":"IF('Measure Recommendation'!I58=\"\",\"\",'Measure Recommendation'!L58)","v":""},{"$f":"IF('Measure Recommendation'!I58=\"\",\"\",'Measure Recommendation'!M58)","v":""},{"$f":"IF('Measure Recommendation'!I58=\"\",\"\",'Measure Recommendation'!N58)","v":""},{"$f":"IF('Measure Recommendation'!I58=\"\",\"\",'Measure Recommendation'!O58)","v":""},{"$f":"IF('Measure Recommendation'!I58=\"\",\"\",'Measure Recommendation'!Q58)","v":""},{"$f":"IF('Measure Recommendation'!I58=\"\",\"\",'Measure Recommendation'!R58)","v":""},{"$f":"IF('Measure Recommendation'!I58=\"\",\"\",'Measure Recommendation'!S58)","v":""},{"$f":"IF('Measure Recommendation'!I58=\"\",\"\",'Measure Recommendation'!U58)","v":""},{"$f":"IF('Measure Recommendation'!I58=\"\",\"\",'Measure Recommendation'!V58)","v":""},{"$f":"IF('Measure Recommendation'!I58=\"\",\"\",'Measure Recommendation'!W58)","v":""},{"$f":"IF('Measure Recommendation'!C58>0,'Measure Recommendation'!C58,\"\")","v":""},{"$f":"IF('Measure Recommendation'!X58=\"Yes\",\"g\",\"c\")","v":"c"}]
[null,{"$f":"DataPhaseValid!D65","v":""},{"$f":"IF('Measure Recommendation'!I59=\"\",\"\",'Measure Recommendation'!L59)","v":""},{"$f":"IF('Measure Recommendation'!I59=\"\",\"\",'Measure Recommendation'!M59)","v":""},{"$f":"IF('Measure Recommendation'!I59=\"\",\"\",'Measure Recommendation'!N59)","v":""},{"$f":"IF('Measure Recommendation'!I59=\"\",\"\",'Measure Recommendation'!O59)","v":""},{"$f":"IF('Measure Recommendation'!I59=\"\",\"\",'Measure Recommendation'!Q59)","v":""},{"$f":"IF('Measure Recommendation'!I59=\"\",\"\",'Measure Recommendation'!R59)","v":""},{"$f":"IF('Measure Recommendation'!I59=\"\",\"\",'Measure Recommendation'!S59)","v":""},{"$f":"IF('Measure Recommendation'!I59=\"\",\"\",'Measure Recommendation'!U59)","v":""},{"$f":"IF('Measure Recommendation'!I59=\"\",\"\",'Measure Recommendation'!V59)","v":""},{"$f":"IF('Measure Recommendation'!I59=\"\",\"\",'Measure Recommendation'!W59)","v":""},{"$f":"IF('Measure Recommendation'!C59>0,'Measure Recommendation'!C59,\"\")","v":""},{"$f":"IF('Measure Recommendation'!X59=\"Yes\",\"g\",\"c\")","v":"c"}]
[null,{"$f":"DataPhaseValid!D66","v":""},{"$f":"IF('Measure Recommendation'!I60=\"\",\"\",'Measure Recommendation'!L60)","v":""},{"$f":"IF('Measure Recommendation'!I60=\"\",\"\",'Measure Recommendation'!M60)","v":""},{"$f":"IF('Measure Recommendation'!I60=\"\",\"\",'Measure Recommendation'!N60)","v":""},{"$f":"IF('Measure Recommendation'!I60=\"\",\"\",'Measure Recommendation'!O60)","v":""},{"$f":"IF('Measure Recommendation'!I60=\"\",\"\",'Measure Recommendation'!Q60)","v":""},{"$f":"IF('Measure Recommendation'!I60=\"\",\"\",'Measure Recommendation'!R60)","v":""},{"$f":"IF('Measure Recommendation'!I60=\"\",\"\",'Measure Recommendation'!S60)","v":""},{"$f":"IF('Measure Recommendation'!I60=\"\",\"\",'Measure Recommendation'!U60)","v":""},{"$f":"IF('Measure Recommendation'!I60=\"\",\"\",'Measure Recommendation'!V60)","v":""},{"$f":"IF('Measure Recommendation'!I60=\"\",\"\",'Measure Recommendation'!W60)","v":""},{"$f":"IF('Measure Recommendation'!C60>0,'Measure Recommendation'!C60,\"\")","v":""},{"$f":"IF('Measure Recommendation'!X60=\"Yes\",\"g\",\"c\")","v":"c"}]
[null,{"$f":"IF(Instructions!F3=\"MBCx\",\"Verification Phase Total - All Bundle\",\"Verification Phase Total\")","v":"Verification Phase Total"},{"$f":"'Measure Recommendation'!L61","v":0},{"$f":"'Measure Recommendation'!M61","v":0},{"$f":"'Measure Recommendation'!N61","v":0},{"$f":"'Measure Recommendation'!O61","v":0},{"$f":"'Measure Recommendation'!Q61","v":0},{"$f":"'Measure Recommendation'!R61","v":0},{"$f":"'Measure Recommendation'!S61","v":0},{"$f":"'Measure Recommendation'!U61","v":0},{"$f":"'Measure Recommendation'!V61","v":0},{"$f":"'Measure Recommendation'!W61","v":""},"-"]
[null,"Verification Phase Total - Current Bundle",{"$f":"'Measure Recommendation'!L62","v":0},{"$f":"'Measure Recommendation'!M62","v":0},{"$f":"'Measure Recommendation'!N62","v":0},{"$f":"'Measure Recommendation'!O62","v":0},{"$f":"'Measure Recommendation'!Q62","v":0},{"$f":"'Measure Recommendation'!R62","v":0},{"$f":"'Measure Recommendation'!S62","v":0},{"$f":"'Measure Recommendation'!U62","v":0},{"$f":"'Measure Recommendation'!V62","v":0},{"$f":"'Measure Recommendation'!W62","v":""},"-"]
[]
[null,"Signature:    ______________________________________"]
[]
[null,"Date:             ______________________________________"]
[]
[]
[{"$f":"DataPhaseValid!G46","v":""}]
[{"$f":"DataPhaseValid!G151&'Contact & Facility Information'!B12&DataPhaseValid!G152&\" \"&'Contact & Facility Information'!B6&DataPhaseValid!G153&'Contact & Facility Information'!B12&DataPhaseValid!G154","v":" "}]

{"sheet":"Contacts","index":19,"n_rows":40,"n_cols":7,"rows_kept":40,"cut":false,"hidden":true,"merged":[]}
[]
[null,"Owner / Owner Representative"]
[null,{"$f":"IF('Contact & Facility Information'!B8=\"\",\"\",'Contact & Facility Information'!B8)","v":""}]
[null,{"$f":"IF(B3=\"\",\"\",'Contact & Facility Information'!C8)","v":""}]
[null,{"$f":"IF(B3=\"\",\"\",'Contact & Facility Information'!C6)","v":""}]
[null,{"$f":"IF(B3=\"\",\"\",'Contact & Facility Information'!E6&\", \"&'Contact & Facility Information'!F6&\" \"&'Contact & Facility Information'!G6)","v":""}]
[null,{"$f":"IF(B3=\"\",\"\",'Contact & Facility Information'!E8)","v":""}]
[null,{"$f":"IF(B3=\"\",\"\",'Contact & Facility Information'!F8)","v":""}]
[]
[null,"ComEd"]
[null,{"$f":"IF('Contact & Facility Information'!B26=\"\",\"\",'Contact & Facility Information'!B26)","v":"Emily Pauli"},null,null,null,null,{"$f":"IF('Contact & Facility Information'!B32=\"\",\"\",'Contact & Facility Information'!B32)","v":""}]
[null,{"$f":"IF(B11=\"\",\"\",'Contact & Facility Information'!C26)","v":"Sr. Energy Efficiency Program Manager"},null,null,null,null,{"$f":"IF(G11=\"\",\"\",'Contact & Facility Information'!C32)","v":""}]
[null,{"$f":"IF(B12=\"\",\"\",'Contact & Facility Information'!C24)","v":"2011 Swift Drive"},null,null,null,null,{"$f":"IF(G12=\"\",\"\",'Contact & Facility Information'!C30)","v":""}]
[null,{"$f":"IF(B12=\"\",\"\",'Contact & Facility Information'!E24&\", \"&'Contact & Facility Information'!F24&\" \"&'Contact & Facility Information'!G24)","v":"Oakbrook, IL 60523"},null,null,null,null,{"$f":"IF(G12=\"\",\"\",'Contact & Facility Information'!E30&\", \"&'Contact & Facility Information'!F30&\" \"&'Contact & Facility Information'!G30)","v":""}]
[null,{"$f":"IF(B14=\"\",\"\",'Contact & Facility Information'!E26)","v":7792310102},null,null,null,null,{"$f":"IF(G14=\"\",\"\",'Contact & Facility Information'!E32)","v":""}]
[null,{"$f":"IF(B15=\"\",\"\",'Contact & Facility Information'!F26)","v":"emily.pauli@comed.com"},null,null,null,null,{"$f":"IF(G15=\"\",\"\",'Contact & Facility Information'!F32)","v":""}]
[]
[null,{"$f":"\"Natural Gas Utility - \" & 'Contact & Facility Information'!B36","v":"Natural Gas Utility - "}]
[null,{"$f":"IF('Contact & Facility Information'!B38=\"\",\"\",'Contact & Facility Information'!B38)","v":""},null,null,null,null,{"$f":"IF('Contact & Facility Information'!B44=\"\",\"\",'Contact & Facility Information'!B44)","v":""}]
[null,{"$f":"IF(B19=\"\",\"\",'Contact & Facility Information'!C38)","v":""},null,null,null,null,{"$f":"IF(G19=\"\",\"\",'Contact & Facility Information'!C44)","v":""}]
[null,{"$f":"IF(B20=\"\",\"\",'Contact & Facility Information'!C36)","v":""},null,null,null,null,{"$f":"IF(G20=\"\",\"\",'Contact & Facility Information'!C42)","v":""}]
[null,{"$f":"IF(B20=\"\",\"\",'Contact & Facility Information'!E36&\", \"&'Contact & Facility Information'!F36&\" \"&'Contact & Facility Information'!G36)","v":""},null,null,null,null,{"$f":"IF(G20=\"\",\"\",'Contact & Facility Information'!E42&\", \"&'Contact & Facility Information'!F42&\" \"&'Contact & Facility Information'!G42)","v":""}]
[null,{"$f":"IF(B22=\"\",\"\",'Contact & Facility Information'!E38)","v":""},null,null,null,null,{"$f":"IF(G22=\"\",\"\",'Contact & Facility Information'!E44)","v":""}]
[null,{"$f":"IF(B23=\"\",\"\",'Contact & Facility Information'!F38)","v":""},null,null,null,null,{"$f":"IF(G23=\"\",\"\",'Contact & Facility Information'!F44)","v":""}]
[]
[null,"Resource Innovations"]
[null,{"$f":"IF('Contact & Facility Information'!B20=\"\",\"\",'Contact & Facility Information'!B20)","v":""}]
[null,{"$f":"IF(B27=\"\",\"\",'Contact & Facility Information'!C20)","v":""}]
[null,{"$f":"IF(B28=\"\",\"\",'Contact & Facility Information'!C18)","v":""}]
[null,{"$f":"IF(B28=\"\",\"\",'Contact & Facility Information'!E18&\", \"&'Contact & Facility Information'!F18&\" \"&'Contact & Facility Information'!G18)","v":""}]
[null,{"$f":"IF(B28=\"\",\"\",'Contact & Facility Information'!E20)","v":""}]
[null,{"$f":"IF(B31=\"\",\"\",'Contact & Facility Information'!F20)","v":""}]
[]
[null,"Service Provider"]
[null,{"$f":"IF('Contact & Facility Information'!B14=\"\",\"\",'Contact & Facility Information'!B14)","v":""}]
[null,{"$f":"IF(B35=\"\",\"\",'Contact & Facility Information'!C14)","v":""}]
[null,{"$f":"IF(B35=\"\",\"\",'Contact & Facility Information'!C12)","v":""}]
[null,{"$f":"IF(B37=\"\",\"\",'Contact & Facility Information'!E12&\", \"&'Contact & Facility Information'!F12&\" \"&'Contact & Facility Information'!G12)","v":""}]
[null,{"$f":"IF(B38=\"\",\"\",'Contact & Facility Information'!E14)","v":""}]
[null,{"$f":"IF(B39=\"\",\"\",'Contact & Facility Information'!F14)","v":""}]

{"sheet":"Additional Measure Information","index":20,"n_rows":41,"n_cols":7,"rows_kept":41,"cut":false,"hidden":false,"merged":[[39,1,40,1],[37,1,38,1],[29,1,30,1],[7,1,7,4],[8,1,8,4],[9,1,9,4],[10,1,10,4],[33,1,34,1],[35,1,36,1],[25,1,26,1],[27,1,28,1],[31,1,32,1],[21,1,22,1],[23,1,24,1],[11,1,11,4],[12,1,12,4],[27,4,27,6],[21,4,21,6],[16,1,16,4],[22,4,22,6],[6,1,6,4],[23,4,23,6],[24,4,24,6],[13,1,13,4],[14,1,14,4],[15,1,15,4],[25,4,25,6],[26,4,26,6],[38,4,38,6],[39,4,39,6],[40,4,40,6],[33,4,33,6],[34,4,34,6],[35,4,35,6],[36,4,36,6],[37,4,37,6],[28,4,28,6],[29,4,29,6],[30,4,30,6],[31,4,31,6],[32,4,32,6]]}
[]
[null,"Additional Opportunities Include identified opportunities that are capital in nature, in need of further investigation, have unknown feasibility or are maintenance related"]
[]
[null,"Would you like to include any additional opportunities in the Report?"]
[]
[null,"Additional Opportunities"]
[null,"Additional Opportunities",null,null,null,"Recommendation","Description"]
[]
[]
[]
[]
[]
[]
[]
[]
[]
[]
[]
[null,"Top 10 Measures Provide an explanation why any of the Top 10 Measures were not recommended. Leave blank if the measure was recommended. (Not included in Report)."]
[]
[null,"Top 10 Measures"]
[null,1,"Recommended","Description","Scheduling Equipment: AHUs, Fans, Pumps, Electrical Heat, VAV/FPBs, Lighting"]
[null,null,null,"Explanation"]
[null,2,"Recommended","Description","Economizer and Outdoor Air Control"]
[null,null,null,"Explanation"]
[null,3,"Recommended","Description","Duct Static Pressure Reset"]
[null,null,null,"Explanation"]
[null,4,"Recommended","Description","Chilled Water Temperature Reset"]
[null,null,null,"Explanation"]
[null,5,"Recommended","Description","Supply Air Temperature Reset (Heating Season)"]
[null,null,null,"Explanation"]
[null,6,"Recommended","Description","Reduce Ventilation"]
[null,null,null,"Explanation"]
[null,7,"Recommended","Description","Condenser Water Temperature Reset"]
[null,null,null,"Explanation"]
[null,8,"Recommended","Description","Setback Space Temperature"]
[null,null,null,"Explanation"]
[null,9,"Recommended","Description","Reduce Simultaneous Heating and Cooling"]
[null,null,null,"Explanation"]
[null,10,"Recommended","Description","Reduce Pump Differential Setpoint"]
[null,null,null,"Explanation"]

{"sheet":"Issue Log","index":21,"n_rows":4,"n_cols":6,"rows_kept":4,"cut":false,"hidden":false,"merged":[[8,1,8,4],[3,1,3,4],[4,1,4,4],[5,1,5,4],[6,1,6,4],[7,1,7,4],[9,1,9,4],[10,1,10,4],[11,1,11,4],[12,1,12,4],[13,1,13,4]]}
[]
[null,"Issue Log List any issues that were encountered"]
[]
[null,"Identified Issue",null,null,null,"Description"]

{"sheet":"ECM1","index":22,"n_rows":57,"n_cols":5,"rows_kept":57,"cut":false,"hidden":false,"merged":[[47,1,57,1],[34,1,46,1],[3,1,33,1]]}
[]
[null,{"$f":"\"ECM #1 \"&DataPhaseValid!G116","v":"ECM #1 "}]
[]
[null,"Investigation","Measure Description"]
[null,null,"Enter text here."]
[null,null,"Existing Operation & Control Sequences"]
[null,null," - Equipment affected and areas served:"]
[null,null,"Enter text here."]
[null,null," - Baseline system operation and sequences of operation, setpoints:"]
[null,null,"Enter text here."]
[null,null,"Investigation Approach, Findings and Data Acquisition"]
[null,null," - Summary of initial investigation and functional testing:"]
[null,null,"Enter text here.",null,"Describe plan for investigation of ECM. "]
[null,null," - Parameters trended:"]
[null,null,"Enter text here.",null,"Including date(s) of trending for temperature, amperage, etc. Follow the RCx M&V Guidelines."]
[null,null," - Parameters functionally tested:"]
[null,null,"Enter text here.",null,"Including date(s) of testing for damper operation, etc."]
[null,null," - Supporting graphs/screenshots – baseline-1:\n\n\n\n\nInput graph/screenshot description below:"]
[null,null,"Enter text here.",null,"Insert a graph which is critical; Not every graph included in the calculation file must be in the D&C Plan, select graphs of interest to the customer."]
[null,null," - Supporting graphs/screenshots – baseline-2:\n\n\n\n\nInput graph/screenshot description below:"]
[null,null,"Enter text here.",null,"Insert a graph which is critical; Not every graph included in the calculation file must be in the D&C Plan, select graphs of interest to the customer."]
[null,null,"Proposed System Operation and Control Sequences - Scope of Work "]
[null,null," - Proposed sequences of operation and setpoints:"]
[null,null,"Enter text here."]
[null,null," - Integration with existing controllers: "]
[null,null,"Enter text here.",null,"Only applies to MBCx projects, list N/A for other projects."]
[null,null," - Equipment and personnel required for implementation:"]
[null,null,"Enter text here.",null,"State if electrician, controls contractor, in-house labor, etc. is required"]
[null,null,"Calculation Methodology"]
[null,null,"Enter text here.",null,"Summarize calculation methodology for customer's and Resource Innovations’s reference. Provide Resource Innovations with a Microsoft Excel spreadsheet for review separately. Follow the RCx M&V guidelines."]
[null,null,"Measure Cost Details"]
[null,null,"Enter text here.",null,"State source for measure cost. A vendor quote is required during the investigation phase for any external labor. For in-house labor, estimate labor rates and required time and material.\n\n"]
[null,null,"Verification Planning"]
[null,null,"Enter text here.",null,"Proposed verification test or procedure. Note parameters which will be trended (temperature, amperage, etc.) and the trend interval if different from above. Follow the RCx M&V Guidelines."]
[null,"Verification","Verification Testing and Findings"]
[null,null," - Parameters trended:"]
[null,null,"To be completed during Verification Phase.",null,"Including date(s) of trending for temperature, amperage, etc. Follow the RCx M&V Guidelines."]
[null,null," - Parameters functionally tested:"]
[null,null,"To be completed during Verification Phase.",null,"Including date(s) of testing for damper operation, etc."]
[null,null," - Summary of verification testing:"]
[null,null,"To be completed during Verification Phase.",null,"I.e. how was ECM verified? and include any changes from the recommended scope of work, and functional testing."]
[null,null," - Modification to savings calculation:"]
[null,null,"To be completed during Verification Phase."]
[null,null," - Supporting graphs/screenshots (post implementation):\n\n\n\n\nInput graph/screenshot description below:"]
[null,null,"To be completed during Verification phase.",null,"Insert a graph which is critical; Not every graph included in the calculation file must be in the D&C Plan, select graphs of interest to the customer."]
[null,null," - Supporting graphs/screenshots (post implementation):\n\n\n\n\nInput graph/screenshot description below:"]
[null,null,"To be completed during Verification phase.",null,"Insert a graph which is critical; Not every graph included in the calculation file must be in the D&C Plan, select graphs of interest to the customer."]
[null,"Measure Persistence Guideline","Equipment Affected and Areas Served"]
[null,null,{"$f":"C8","v":"Enter text here."},null,"This section is for Measure Persistence Guide"]
[null,null,"Measure Description"]
[null,null,{"$f":"C5","v":"Enter text here."},null,"This section is for Measure Persistence Guide"]
[null,null,"Implemented Sequences of Operation and Set Points: "]
[null,null,"To be completed during Verification Phase.",null,"This section is for Measure Persistence Guide. Please refer to C24 for proposed sequences of operation and set points, and update accordingly implemented/verified sequences and set points."]
[null,null,"ECM Active Season"]
[null,null,"Heating Season:"]
[]
[null,null,"Cooling Season:"]

{"sheet":"ECM2","index":23,"n_rows":57,"n_cols":5,"rows_kept":57,"cut":false,"hidden":false,"merged":[[47,1,57,1],[3,1,33,1],[34,1,46,1]]}
[]
[null,{"$f":"\"ECM #2 \"&DataPhaseValid!G117","v":"ECM #2 "}]
[]
[null,"Investigation","Measure Description"]
[null,null,"Enter text here."]
[null,null,"Existing Operation & Control Sequences"]
[null,null," - Equipment affected and areas served:"]
[null,null,"Enter text here."]
[null,null," - Baseline system operation and sequences of operation, setpoints:"]
[null,null,"Enter text here."]
[null,null,"Investigation Approach, Findings and Data Acquisition"]
[null,null," - Summary of initial investigation and functional testing:"]
[null,null,"Enter text here.",null,"Describe plan for investigation of ECM. "]
[null,null," - Parameters trended:"]
[null,null,"Enter text here.",null,"Including date(s) of trending for temperature, amperage, etc. Follow the RCx M&V Guidelines."]
[null,null," - Parameters functionally tested:"]
[null,null,"Enter text here.",null,"Including date(s) of testing for damper operation, etc."]
[null,null," - Supporting graphs/screenshots – baseline-1:\n\n\n\n\nInput graph/screenshot description below:"]
[null,null,"Enter text here.",null,"Insert a graph which is critical; Not every graph included in the calculation file must be in the D&C Plan, select graphs of interest to the customer."]
[null,null," - Supporting graphs/screenshots – baseline-2:\n\n\n\n\nInput graph/screenshot description below:"]
[null,null,"Enter text here.",null,"Insert a graph which is critical; Not every graph included in the calculation file must be in the D&C Plan, select graphs of interest to the customer."]
[null,null,"Proposed System Operation and Control Sequences - Scope of Work "]
[null,null," - Proposed sequences of operation and setpoints:"]
[null,null,"Enter text here."]
[null,null," - Integration with existing controllers: "]
[null,null,"Enter text here.",null,"Only applies to MBCx projects, list N/A for other projects."]
[null,null," - Equipment and personnel required for implementation:"]
[null,null,"Enter text here.",null,"State if electrician, controls contractor, in-house labor, etc. is required"]
[null,null,"Calculation Methodology"]
[null,null,"Enter text here.",null,"Summarize calculation methodology for customer's and Resource Innovations’s reference. Provide Resource Innovations with a Microsoft Excel spreadsheet for review separately. Follow the RCx M&V guidelines."]
[null,null,"Measure Cost Details"]
[null,null,"Enter text here.",null,"State source for measure cost. A vendor quote is required during the investigation phase for any external labor. For in-house labor, estimate labor rates and required time and material.\n\n"]
[null,null,"Verification Planning"]
[null,null,"Enter text here.",null,"Proposed verification test or procedure. Note parameters which will be trended (temperature, amperage, etc.) and the trend interval if different from above. Follow the RCx M&V Guidelines."]
[null,"Verification","Verification Testing and Findings"]
[null,null," - Parameters trended:"]
[null,null,"To be completed during Verification Phase.",null,"Including date(s) of trending for temperature, amperage, etc. Follow the RCx M&V Guidelines."]
[null,null," - Parameters functionally tested:"]
[null,null,"To be completed during Verification Phase.",null,"Including date(s) of testing for damper operation, etc."]
[null,null," - Summary of verification testing:"]
[null,null,"To be completed during Verification Phase.",null,"I.e. how was ECM verified? and include any changes from the recommended scope of work, and functional testing."]
[null,null," - Modification to savings calculation:"]
[null,null,"To be completed during Verification Phase."]
[null,null," - Supporting graphs/screenshots (post implementation):\n\n\n\n\nInput graph/screenshot description below:"]
[null,null,"To be completed during Verification phase.",null,"Insert a graph which is critical; Not every graph included in the calculation file must be in the D&C Plan, select graphs of interest to the customer."]
[null,null," - Supporting graphs/screenshots (post implementation):\n\n\n\n\nInput graph/screenshot description below:"]
[null,null,"To be completed during Verification phase.",null,"Insert a graph which is critical; Not every graph included in the calculation file must be in the D&C Plan, select graphs of interest to the customer."]
[null,"Measure Persistence Guideline","Equipment Affected and Areas Served"]
[null,null,{"$f":"C8","v":"Enter text here."},null,"This section is for Measure Persistence Guide"]
[null,null,"Measure Description"]
[null,null,{"$f":"C5","v":"Enter text here."},null,"This section is for Measure Persistence Guide"]
[null,null,"Implemented Sequences of Operation and Set Points: "]
[null,null,"To be completed during Verification Phase.",null,"This section is for Measure Persistence Guide. Please refer to C24 for proposed sequences of operation and set points, and update accordingly implemented/verified sequences and set points."]
[null,null,"ECM Active Season"]
[null,null,"Heating Season:"]
[]
[null,null,"Cooling Season:"]

{"sheet":"ECM3","index":24,"n_rows":57,"n_cols":5,"rows_kept":57,"cut":false,"hidden":false,"merged":[[47,1,57,1],[3,1,33,1],[34,1,46,1]]}
[]
[null,{"$f":"\"ECM #3 \"&DataPhaseValid!G118","v":"ECM #3 "}]
[]
[null,"Investigation","Measure Description"]
[null,null,"Enter text here."]
[null,null,"Existing Operation & Control Sequences"]
[null,null," - Equipment affected and areas served:"]
[null,null,"Enter text here."]
[null,null," - Baseline system operation and sequences of operation, setpoints:"]
[null,null,"Enter text here."]
[null,null,"Investigation Approach, Findings and Data Acquisition"]
[null,null," - Summary of initial investigation and functional testing:"]
[null,null,"Enter text here.",null,"Describe plan for investigation of ECM. "]
[null,null," - Parameters trended:"]
[null,null,"Enter text here.",null,"Including date(s) of trending for temperature, amperage, etc. Follow the RCx M&V Guidelines."]
[null,null," - Parameters functionally tested:"]
[null,null,"Enter text here.",null,"Including date(s) of testing for damper operation, etc."]
[null,null," - Supporting graphs/screenshots – baseline-1:\n\n\n\n\nInput graph/screenshot description below:"]
[null,null,"Enter text here.",null,"Insert a graph which is critical; Not every graph included in the calculation file must be in the D&C Plan, select graphs of interest to the customer."]
[null,null," - Supporting graphs/screenshots – baseline-2:\n\n\n\n\nInput graph/screenshot description below:"]
[null,null,"Enter text here.",null,"Insert a graph which is critical; Not every graph included in the calculation file must be in the D&C Plan, select graphs of interest to the customer."]
[null,null,"Proposed System Operation and Control Sequences - Scope of Work "]
[null,null," - Proposed sequences of operation and setpoints:"]
[null,null,"Enter text here."]
[null,null," - Integration with existing controllers: "]
[null,null,"Enter text here.",null,"Only applies to MBCx projects, list N/A for other projects."]
[null,null," - Equipment and personnel required for implementation:"]
[null,null,"Enter text here.",null,"State if electrician, controls contractor, in-house labor, etc. is required"]
[null,null,"Calculation Methodology"]
[null,null,"Enter text here.",null,"Summarize calculation methodology for customer's and Resource Innovations’s reference. Provide Resource Innovations Microsoft with a Excel spreadsheet for review separately. Follow the RCx M&V guidelines."]
[null,null,"Measure Cost Details"]
[null,null,"Enter text here.",null,"State source for measure cost. A vendor quote is required during the investigation phase for any external labor. For in-house labor, estimate labor rates and required time and material.\n\n"]
[null,null,"Verification Planning"]
[null,null,"Enter text here.",null,"Proposed verification test or procedure. Note parameters which will be trended (temperature, amperage, etc.) and the trend interval if different from above. Follow the RCx M&V Guidelines."]
[null,"Verification","Verification Testing and Findings"]
[null,null," - Parameters trended:"]
[null,null,"To be completed during Verification Phase.",null,"Including date(s) of trending for temperature, amperage, etc. Follow the RCx M&V Guidelines."]
[null,null," - Parameters functionally tested:"]
[null,null,"To be completed during Verification Phase.",null,"Including date(s) of testing for damper operation, etc."]
[null,null," - Summary of verification testing:"]
[null,null,"To be completed during Verification Phase.",null,"I.e. how was ECM verified? and include any changes from the recommended scope of work, and functional testing."]
[null,null," - Modification to savings calculation:"]
[null,null,"To be completed during Verification Phase."]
[null,null," - Supporting graphs/screenshots (post implementation):\n\n\n\n\nInput graph/screenshot description below:"]
[null,null,"To be completed during Verification phase.",null,"Insert a graph which is critical; Not every graph included in the calculation file must be in the D&C Plan, select graphs of interest to the customer."]
[null,null," - Supporting graphs/screenshots (post implementation):\n\n\n\n\nInput graph/screenshot description below:"]
[null,null,"To be completed during Verification phase.",null,"Insert a graph which is critical; Not every graph included in the calculation file must be in the D&C Plan, select graphs of interest to the customer."]
[null,"Measure Persistence Guideline","Equipment Affected and Areas Served"]
[null,null,{"$f":"C8","v":"Enter text here."},null,"This section is for Measure Persistence Guide"]
[null,null,"Measure Description"]
[null,null,{"$f":"C5","v":"Enter text here."},null,"This section is for Measure Persistence Guide"]
[null,null,"Implemented Sequences of Operation and Set Points: "]
[null,null,"To be completed during Verification Phase.",null,"This section is for Measure Persistence Guide. Please refer to C24 for proposed sequences of operation and set points, and update accordingly implemented/verified sequences and set points."]
[null,null,"ECM Active Season"]
[null,null,"Heating Season:"]
[]
[null,null,"Cooling Season:"]

{"sheet":"ECM4","index":25,"n_rows":57,"n_cols":5,"rows_kept":57,"cut":false,"hidden":false,"merged":[[47,1,57,1],[3,1,33,1],[34,1,46,1]]}
[]
[null,{"$f":"\"ECM #4 \"&DataPhaseValid!G119","v":"ECM #4 "}]
[]
[null,"Investigation","Measure Description"]
[null,null,"Enter text here."]
[null,null,"Existing Operation & Control Sequences"]
[null,null," - Equipment affected and areas served:"]
[null,null,"Enter text here."]
[null,null," - Baseline system operation and sequences of operation, setpoints:"]
[null,null,"Enter text here."]
[null,null,"Investigation Approach, Findings and Data Acquisition"]
[null,null," - Summary of initial investigation and functional testing:"]
[null,null,"Enter text here.",null,"Describe plan for investigation of ECM. "]
[null,null," - Parameters trended:"]
[null,null,"Enter text here.",null,"Including date(s) of trending for temperature, amperage, etc. Follow the RCx M&V Guidelines."]
[null,null," - Parameters functionally tested:"]
[null,null,"Enter text here.",null,"Including date(s) of testing for damper operation, etc."]
[null,null," - Supporting graphs/screenshots – baseline-1:\n\n\n\n\nInput graph/screenshot description below:"]
[null,null,"Enter text here.",null,"Insert a graph which is critical; Not every graph included in the calculation file must be in the D&C Plan, select graphs of interest to the customer."]
[null,null," - Supporting graphs/screenshots – baseline-2:\n\n\n\n\nInput graph/screenshot description below:"]
[null,null,"Enter text here.",null,"Insert a graph which is critical; Not every graph included in the calculation file must be in the D&C Plan, select graphs of interest to the customer."]
[null,null,"Proposed System Operation and Control Sequences - Scope of Work "]
[null,null," - Proposed sequences of operation and setpoints:"]
[null,null,"Enter text here."]
[null,null," - Integration with existing controllers: "]
[null,null,"Enter text here.",null,"Only applies to MBCx projects, list N/A for other projects."]
[null,null," - Equipment and personnel required for implementation:"]
[null,null,"Enter text here.",null,"State if electrician, controls contractor, in-house labor, etc. is required"]
[null,null,"Calculation Methodology"]
[null,null,"Enter text here.",null,"Summarize calculation methodology for customer's and Resource Innovations’s reference. Provide Resource Innovations with a Microsoft Excel spreadsheet for review separately. Follow the RCx M&V guidelines."]
[null,null,"Measure Cost Details"]
[null,null,"Enter text here.",null,"State source for measure cost. A vendor quote is required during the investigation phase for any external labor. For in-house labor, estimate labor rates and required time and material.\n\n"]
[null,null,"Verification Planning"]
[null,null,"Enter text here.",null,"Proposed verification test or procedure. Note parameters which will be trended (temperature, amperage, etc.) and the trend interval if different from above. Follow the RCx M&V Guidelines."]
[null,"Verification","Verification Testing and Findings"]
[null,null," - Parameters trended:"]
[null,null,"To be completed during Verification Phase.",null,"Including date(s) of trending for temperature, amperage, etc. Follow the RCx M&V Guidelines."]
[null,null," - Parameters functionally tested:"]
[null,null,"To be completed during Verification Phase.",null,"Including date(s) of testing for damper operation, etc."]
[null,null," - Summary of verification testing:"]
[null,null,"To be completed during Verification Phase.",null,"I.e. how was ECM verified? and include any changes from the recommended scope of work, and functional testing."]
[null,null," - Modification to savings calculation:"]
[null,null,"To be completed during Verification Phase."]
[null,null," - Supporting graphs/screenshots (post implementation):\n\n\n\n\nInput graph/screenshot description below:"]
[null,null,"To be completed during Verification phase.",null,"Insert a graph which is critical; Not every graph included in the calculation file must be in the D&C Plan, select graphs of interest to the customer."]
[null,null," - Supporting graphs/screenshots (post implementation):\n\n\n\n\nInput graph/screenshot description below:"]
[null,null,"To be completed during Verification phase.",null,"Insert a graph which is critical; Not every graph included in the calculation file must be in the D&C Plan, select graphs of interest to the customer."]
[null,"Measure Persistence Guideline","Equipment Affected and Areas Served"]
[null,null,{"$f":"C8","v":"Enter text here."},null,"This section is for Measure Persistence Guide"]
[null,null,"Measure Description"]
[null,null,{"$f":"C5","v":"Enter text here."},null,"This section is for Measure Persistence Guide"]
[null,null,"Implemented Sequences of Operation and Set Points: "]
[null,null,"To be completed during Verification Phase.",null,"This section is for Measure Persistence Guide. Please refer to C24 for proposed sequences of operation and set points, and update accordingly implemented/verified sequences and set points."]
[null,null,"ECM Active Season"]
[null,null,"Heating Season:"]
[]
[null,null,"Cooling Season:"]

{"sheet":"ECM5","index":26,"n_rows":57,"n_cols":5,"rows_kept":57,"cut":false,"hidden":false,"merged":[[47,1,57,1],[3,1,33,1],[34,1,46,1]]}
[]
[null,{"$f":"\"ECM #5 \"&DataPhaseValid!G120","v":"ECM #5 "}]
[]
[null,"Investigation","Measure Description"]
[null,null,"Enter text here."]
[null,null,"Existing Operation & Control Sequences"]
[null,null," - Equipment affected and areas served:"]
[null,null,"Enter text here."]
[null,null," - Baseline system operation and sequences of operation, setpoints:"]
[null,null,"Enter text here."]
[null,null,"Investigation Approach, Findings and Data Acquisition"]
[null,null," - Summary of initial investigation and functional testing:"]
[null,null,"Enter text here.",null,"Describe plan for investigation of ECM. "]
[null,null," - Parameters trended:"]
[null,null,"Enter text here.",null,"Including date(s) of trending for temperature, amperage, etc. Follow the RCx M&V Guidelines."]
[null,null," - Parameters functionally tested:"]
[null,null,"Enter text here.",null,"Including date(s) of testing for damper operation, etc."]
[null,null," - Supporting graphs/screenshots – baseline-1:\n\n\n\n\nInput graph/screenshot description below:"]
[null,null,"Enter text here.",null,"Insert a graph which is critical; Not every graph included in the calculation file must be in the D&C Plan, select graphs of interest to the customer."]
[null,null," - Supporting graphs/screenshots – baseline-2:\n\n\n\n\nInput graph/screenshot description below:"]
[null,null,"Enter text here.",null,"Insert a graph which is critical; Not every graph included in the calculation file must be in the D&C Plan, select graphs of interest to the customer."]
[null,null,"Proposed System Operation and Control Sequences - Scope of Work "]
[null,null," - Proposed sequences of operation and setpoints:"]
[null,null,"Enter text here."]
[null,null," - Integration with existing controllers: "]
[null,null,"Enter text here.",null,"Only applies to MBCx projects, list N/A for other projects."]
[null,null," - Equipment and personnel required for implementation:"]
[null,null,"Enter text here.",null,"State if electrician, controls contractor, in-house labor, etc. is required"]
[null,null,"Calculation Methodology"]
[null,null,"Enter text here.",null,"Summarize calculation methodology for customer's and Resource Innovations’s reference. Provide Resource Innovations with a Microsoft Excel spreadsheet for review separately. Follow the RCx M&V guidelines."]
[null,null,"Measure Cost Details"]
[null,null,"Enter text here.",null,"State source for measure cost. A vendor quote is required during the investigation phase for any external labor. For in-house labor, estimate labor rates and required time and material.\n\n"]
[null,null,"Verification Planning"]
[null,null,"Enter text here.",null,"Proposed verification test or procedure. Note parameters which will be trended (temperature, amperage, etc.) and the trend interval if different from above. Follow the RCx M&V Guidelines."]
[null,"Verification","Verification Testing and Findings"]
[null,null," - Parameters trended:"]
[null,null,"To be completed during Verification Phase.",null,"Including date(s) of trending for temperature, amperage, etc. Follow the RCx M&V Guidelines."]
[null,null," - Parameters functionally tested:"]
[null,null,"To be completed during Verification Phase.",null,"Including date(s) of testing for damper operation, etc."]
[null,null," - Summary of verification testing:"]
[null,null,"To be completed during Verification Phase.",null,"I.e. how was ECM verified? and include any changes from the recommended scope of work, and functional testing."]
[null,null," - Modification to savings calculation:"]
[null,null,"To be completed during Verification Phase."]
[null,null," - Supporting graphs/screenshots (post implementation):\n\n\n\n\nInput graph/screenshot description below:"]
[null,null,"To be completed during Verification phase.",null,"Insert a graph which is critical; Not every graph included in the calculation file must be in the D&C Plan, select graphs of interest to the customer."]
[null,null," - Supporting graphs/screenshots (post implementation):\n\n\n\n\nInput graph/screenshot description below:"]
[null,null,"To be completed during Verification phase.",null,"Insert a graph which is critical; Not every graph included in the calculation file must be in the D&C Plan, select graphs of interest to the customer."]
[null,"Measure Persistence Guideline","Equipment Affected and Areas Served"]
[null,null,{"$f":"C8","v":"Enter text here."},null,"This section is for Measure Persistence Guide"]
[null,null,"Measure Description"]
[null,null,{"$f":"C5","v":"Enter text here."},null,"This section is for Measure Persistence Guide"]
[null,null,"Implemented Sequences of Operation and Set Points: "]
[null,null,"To be completed during Verification Phase.",null,"This section is for Measure Persistence Guide. Please refer to C24 for proposed sequences of operation and set points, and update accordingly implemented/verified sequences and set points."]
[null,null,"ECM Active Season"]
[null,null,"Heating Season:"]
[]
[null,null,"Cooling Season:"]

{"sheet":"ECM6","index":27,"n_rows":57,"n_cols":5,"rows_kept":57,"cut":false,"hidden":false,"merged":[[47,1,57,1],[3,1,33,1],[34,1,46,1]]}
[]
[null,{"$f":"\"ECM #6 \"&DataPhaseValid!G121","v":"ECM #6 "}]
[]
[null,"Investigation","Measure Description"]
[null,null,"Enter text here."]
[null,null,"Existing Operation & Control Sequences"]
[null,null," - Equipment affected and areas served:"]
[null,null,"Enter text here."]
[null,null," - Baseline system operation and sequences of operation, setpoints:"]
[null,null,"Enter text here."]
[null,null,"Investigation Approach, Findings and Data Acquisition"]
[null,null," - Summary of initial investigation and functional testing:"]
[null,null,"Enter text here.",null,"Describe plan for investigation of ECM. "]
[null,null," - Parameters trended:"]
[null,null,"Enter text here.",null,"Including date(s) of trending for temperature, amperage, etc. Follow the RCx M&V Guidelines."]
[null,null," - Parameters functionally tested:"]
[null,null,"Enter text here.",null,"Including date(s) of testing for damper operation, etc."]
[null,null," - Supporting graphs/screenshots – baseline-1:\n\n\n\n\nInput graph/screenshot description below:"]
[null,null,"Enter text here.",null,"Insert a graph which is critical; Not every graph included in the calculation file must be in the D&C Plan, select graphs of interest to the customer."]
[null,null," - Supporting graphs/screenshots – baseline-2:\n\n\n\n\nInput graph/screenshot description below:"]
[null,null,"Enter text here.",null,"Insert a graph which is critical; Not every graph included in the calculation file must be in the D&C Plan, select graphs of interest to the customer."]
[null,null,"Proposed System Operation and Control Sequences - Scope of Work "]
[null,null," - Proposed sequences of operation and setpoints:"]
[null,null,"Enter text here."]
[null,null," - Integration with existing controllers: "]
[null,null,"Enter text here.",null,"Only applies to MBCx projects, list N/A for other projects."]
[null,null," - Equipment and personnel required for implementation:"]
[null,null,"Enter text here.",null,"State if electrician, controls contractor, in-house labor, etc. is required"]
[null,null,"Calculation Methodology"]
[null,null,"Enter text here.",null,"Summarize calculation methodology for customer's and Resource Innovations’s reference. Provide Resource Innovations with a Microsoft Excel spreadsheet for review separately. Follow the RCx M&V guidelines."]
[null,null,"Measure Cost Details"]
[null,null,"Enter text here.",null,"State source for measure cost. A vendor quote is required during the investigation phase for any external labor. For in-house labor, estimate labor rates and required time and material.\n\n"]
[null,null,"Verification Planning"]
[null,null,"Enter text here.",null,"Proposed verification test or procedure. Note parameters which will be trended (temperature, amperage, etc.) and the trend interval if different from above. Follow the RCx M&V Guidelines."]
[null,"Verification","Verification Testing and Findings"]
[null,null," - Parameters trended:"]
[null,null,"To be completed during Verification Phase.",null,"Including date(s) of trending for temperature, amperage, etc. Follow the RCx M&V Guidelines."]
[null,null," - Parameters functionally tested:"]
[null,null,"To be completed during Verification Phase.",null,"Including date(s) of testing for damper operation, etc."]
[null,null," - Summary of verification testing:"]
[null,null,"To be completed during Verification Phase.",null,"I.e. how was ECM verified? and include any changes from the recommended scope of work, and functional testing."]
[null,null," - Modification to savings calculation:"]
[null,null,"To be completed during Verification Phase."]
[null,null," - Supporting graphs/screenshots (post implementation):\n\n\n\n\nInput graph/screenshot description below:"]
[null,null,"To be completed during Verification phase.",null,"Insert a graph which is critical; Not every graph included in the calculation file must be in the D&C Plan, select graphs of interest to the customer."]
[null,null," - Supporting graphs/screenshots (post implementation):\n\n\n\n\nInput graph/screenshot description below:"]
[null,null,"To be completed during Verification phase.",null,"Insert a graph which is critical; Not every graph included in the calculation file must be in the D&C Plan, select graphs of interest to the customer."]
[null,"Measure Persistence Guideline","Equipment Affected and Areas Served"]
[null,null,{"$f":"C8","v":"Enter text here."},null,"This section is for Measure Persistence Guide"]
[null,null,"Measure Description"]
[null,null,{"$f":"C5","v":"Enter text here."},null,"This section is for Measure Persistence Guide"]
[null,null,"Implemented Sequences of Operation and Set Points: "]
[null,null,"To be completed during Verification Phase.",null,"This section is for Measure Persistence Guide. Please refer to C24 for proposed sequences of operation and set points, and update accordingly implemented/verified sequences and set points."]
[null,null,"ECM Active Season"]
[null,null,"Heating Season:"]
[]
[null,null,"Cooling Season:"]

{"sheet":"ECM7","index":28,"n_rows":57,"n_cols":5,"rows_kept":57,"cut":false,"hidden":false,"merged":[[47,1,57,1],[3,1,33,1],[34,1,46,1]]}
[]
[null,{"$f":"\"ECM #7 \"&DataPhaseValid!G122","v":"ECM #7 "}]
[]
[null,"Investigation","Measure Description"]
[null,null,"Enter text here."]
[null,null,"Existing Operation & Control Sequences"]
[null,null," - Equipment affected and areas served:"]
[null,null,"Enter text here."]
[null,null," - Baseline system operation and sequences of operation, setpoints:"]
[null,null,"Enter text here."]
[null,null,"Investigation Approach, Findings and Data Acquisition"]
[null,null," - Summary of initial investigation and functional testing:"]
[null,null,"Enter text here.",null,"Describe plan for investigation of ECM. "]
[null,null," - Parameters trended:"]
[null,null,"Enter text here.",null,"Including date(s) of trending for temperature, amperage, etc. Follow the RCx M&V Guidelines."]
[null,null," - Parameters functionally tested:"]
[null,null,"Enter text here.",null,"Including date(s) of testing for damper operation, etc."]
[null,null," - Supporting graphs/screenshots – baseline-1:\n\n\n\n\nInput graph/screenshot description below:"]
[null,null,"Enter text here.",null,"Insert a graph which is critical; Not every graph included in the calculation file must be in the D&C Plan, select graphs of interest to the customer."]
[null,null," - Supporting graphs/screenshots – baseline-2:\n\n\n\n\nInput graph/screenshot description below:"]
[null,null,"Enter text here.",null,"Insert a graph which is critical; Not every graph included in the calculation file must be in the D&C Plan, select graphs of interest to the customer."]
[null,null,"Proposed System Operation and Control Sequences - Scope of Work "]
[null,null," - Proposed sequences of operation and setpoints:"]
[null,null,"Enter text here."]
[null,null," - Integration with existing controllers: "]
[null,null,"Enter text here.",null,"Only applies to MBCx projects, list N/A for other projects."]
[null,null," - Equipment and personnel required for implementation:"]
[null,null,"Enter text here.",null,"State if electrician, controls contractor, in-house labor, etc. is required"]
[null,null,"Calculation Methodology"]
[null,null,"Enter text here.",null,"Summarize calculation methodology for customer's and Resource Innovations’s reference. Provide Resource Innovations with a Microsoft Excel spreadsheet for review separately. Follow the RCx M&V guidelines."]
[null,null,"Measure Cost Details"]
[null,null,"Enter text here.",null,"State source for measure cost. A vendor quote is required during the investigation phase for any external labor. For in-house labor, estimate labor rates and required time and material.\n\n"]
[null,null,"Verification Planning"]
[null,null,"Enter text here.",null,"Proposed verification test or procedure. Note parameters which will be trended (temperature, amperage, etc.) and the trend interval if different from above. Follow the RCx M&V Guidelines."]
[null,"Verification","Verification Testing and Findings"]
[null,null," - Parameters trended:"]
[null,null,"To be completed during Verification Phase.",null,"Including date(s) of trending for temperature, amperage, etc. Follow the RCx M&V Guidelines."]
[null,null," - Parameters functionally tested:"]
[null,null,"To be completed during Verification Phase.",null,"Including date(s) of testing for damper operation, etc."]
[null,null," - Summary of verification testing:"]
[null,null,"To be completed during Verification Phase.",null,"I.e. how was ECM verified? and include any changes from the recommended scope of work, and functional testing."]
[null,null," - Modification to savings calculation:"]
[null,null,"To be completed during Verification Phase."]
[null,null," - Supporting graphs/screenshots (post implementation):\n\n\n\n\nInput graph/screenshot description below:"]
[null,null,"To be completed during Verification phase.",null,"Insert a graph which is critical; Not every graph included in the calculation file must be in the D&C Plan, select graphs of interest to the customer."]
[null,null," - Supporting graphs/screenshots (post implementation):\n\n\n\n\nInput graph/screenshot description below:"]
[null,null,"To be completed during Verification phase.",null,"Insert a graph which is critical; Not every graph included in the calculation file must be in the D&C Plan, select graphs of interest to the customer."]
[null,"Measure Persistence Guideline","Equipment Affected and Areas Served"]
[null,null,{"$f":"C8","v":"Enter text here."},null,"This section is for Measure Persistence Guide"]
[null,null,"Measure Description"]
[null,null,{"$f":"C5","v":"Enter text here."},null,"This section is for Measure Persistence Guide"]
[null,null,"Implemented Sequences of Operation and Set Points: "]
[null,null,"To be completed during Verification Phase.",null,"This section is for Measure Persistence Guide. Please refer to C24 for proposed sequences of operation and set points, and update accordingly implemented/verified sequences and set points."]
[null,null,"ECM Active Season"]
[null,null,"Heating Season:"]
[]
[null,null,"Cooling Season:"]

{"sheet":"ECM8","index":29,"n_rows":57,"n_cols":5,"rows_kept":57,"cut":false,"hidden":false,"merged":[[47,1,57,1],[3,1,33,1],[34,1,46,1]]}
[]
[null,{"$f":"\"ECM #8 \"&DataPhaseValid!G123","v":"ECM #8 "}]
[]
[null,"Investigation","Measure Description"]
[null,null,"Enter text here."]
[null,null,"Existing Operation & Control Sequences"]
[null,null," - Equipment affected and areas served:"]
[null,null,"Enter text here."]
[null,null," - Baseline system operation and sequences of operation, setpoints:"]
[null,null,"Enter text here."]
[null,null,"Investigation Approach, Findings and Data Acquisition"]
[null,null," - Summary of initial investigation and functional testing:"]
[null,null,"Enter text here.",null,"Describe plan for investigation of ECM. "]
[null,null," - Parameters trended:"]
[null,null,"Enter text here.",null,"Including date(s) of trending for temperature, amperage, etc. Follow the RCx M&V Guidelines."]
[null,null," - Parameters functionally tested:"]
[null,null,"Enter text here.",null,"Including date(s) of testing for damper operation, etc."]
[null,null," - Supporting graphs/screenshots – baseline-1:\n\n\n\n\nInput graph/screenshot description below:"]
[null,null,"Enter text here.",null,"Insert a graph which is critical; Not every graph included in the calculation file must be in the D&C Plan, select graphs of interest to the customer."]
[null,null," - Supporting graphs/screenshots – baseline-2:\n\n\n\n\nInput graph/screenshot description below:"]
[null,null,"Enter text here.",null,"Insert a graph which is critical; Not every graph included in the calculation file must be in the D&C Plan, select graphs of interest to the customer."]
[null,null,"Proposed System Operation and Control Sequences - Scope of Work "]
[null,null," - Proposed sequences of operation and setpoints:"]
[null,null,"Enter text here."]
[null,null," - Integration with existing controllers: "]
[null,null,"Enter text here.",null,"Only applies to MBCx projects, list N/A for other projects."]
[null,null," - Equipment and personnel required for implementation:"]
[null,null,"Enter text here.",null,"State if electrician, controls contractor, in-house labor, etc. is required"]
[null,null,"Calculation Methodology"]
[null,null,"Enter text here.",null,"Summarize calculation methodology for customer's and Resource Innovations’s reference. Provide Resource Innovations with a Microsoft Excel spreadsheet for review separately. Follow the RCx M&V guidelines."]
[null,null,"Measure Cost Details"]
[null,null,"Enter text here.",null,"State source for measure cost. A vendor quote is required during the investigation phase for any external labor. For in-house labor, estimate labor rates and required time and material.\n\n"]
[null,null,"Verification Planning"]
[null,null,"Enter text here.",null,"Proposed verification test or procedure. Note parameters which will be trended (temperature, amperage, etc.) and the trend interval if different from above. Follow the RCx M&V Guidelines."]
[null,"Verification","Verification Testing and Findings"]
[null,null," - Parameters trended:"]
[null,null,"To be completed during Verification Phase.",null,"Including date(s) of trending for temperature, amperage, etc. Follow the RCx M&V Guidelines."]
[null,null," - Parameters functionally tested:"]
[null,null,"To be completed during Verification Phase.",null,"Including date(s) of testing for damper operation, etc."]
[null,null," - Summary of verification testing:"]
[null,null,"To be completed during Verification Phase.",null,"I.e. how was ECM verified? and include any changes from the recommended scope of work, and functional testing."]
[null,null," - Modification to savings calculation:"]
[null,null,"To be completed during Verification Phase."]
[null,null," - Supporting graphs/screenshots (post implementation):\n\n\n\n\nInput graph/screenshot description below:"]
[null,null,"To be completed during Verification phase.",null,"Insert a graph which is critical; Not every graph included in the calculation file must be in the D&C Plan, select graphs of interest to the customer."]
[null,null," - Supporting graphs/screenshots (post implementation):\n\n\n\n\nInput graph/screenshot description below:"]
[null,null,"To be completed during Verification phase.",null,"Insert a graph which is critical; Not every graph included in the calculation file must be in the D&C Plan, select graphs of interest to the customer."]
[null,"Measure Persistence Guideline","Equipment Affected and Areas Served"]
[null,null,{"$f":"C8","v":"Enter text here."},null,"This section is for Measure Persistence Guide"]
[null,null,"Measure Description"]
[null,null,{"$f":"C5","v":"Enter text here."},null,"This section is for Measure Persistence Guide"]
[null,null,"Implemented Sequences of Operation and Set Points: "]
[null,null,"To be completed during Verification Phase.",null,"This section is for Measure Persistence Guide. Please refer to C24 for proposed sequences of operation and set points, and update accordingly implemented/verified sequences and set points."]
[null,null,"ECM Active Season"]
[null,null,"Heating Season:"]
[]
[null,null,"Cooling Season:"]

{"sheet":"ECM9","index":30,"n_rows":57,"n_cols":5,"rows_kept":57,"cut":false,"hidden":false,"merged":[[47,1,57,1],[3,1,33,1],[34,1,46,1]]}
[]
[null,{"$f":"\"ECM #9 \"&DataPhaseValid!G124","v":"ECM #9 "}]
[]
[null,"Investigation","Measure Description"]
[null,null,"Enter text here."]
[null,null,"Existing Operation & Control Sequences"]
[null,null," - Equipment affected and areas served:"]
[null,null,"Enter text here."]
[null,null," - Baseline system operation and sequences of operation, setpoints:"]
[null,null,"Enter text here."]
[null,null,"Investigation Approach, Findings and Data Acquisition"]
[null,null," - Summary of initial investigation and functional testing:"]
[null,null,"Enter text here.",null,"Describe plan for investigation of ECM. "]
[null,null," - Parameters trended:"]
[null,null,"Enter text here.",null,"Including date(s) of trending for temperature, amperage, etc. Follow the RCx M&V Guidelines."]
[null,null," - Parameters functionally tested:"]
[null,null,"Enter text here.",null,"Including date(s) of testing for damper operation, etc."]
[null,null," - Supporting graphs/screenshots – baseline-1:\n\n\n\n\nInput graph/screenshot description below:"]
[null,null,"Enter text here.",null,"Insert a graph which is critical; Not every graph included in the calculation file must be in the D&C Plan, select graphs of interest to the customer."]
[null,null," - Supporting graphs/screenshots – baseline-2:\n\n\n\n\nInput graph/screenshot description below:"]
[null,null,"Enter text here.",null,"Insert a graph which is critical; Not every graph included in the calculation file must be in the D&C Plan, select graphs of interest to the customer."]
[null,null,"Proposed System Operation and Control Sequences - Scope of Work "]
[null,null," - Proposed sequences of operation and setpoints:"]
[null,null,"Enter text here."]
[null,null," - Integration with existing controllers: "]
[null,null,"Enter text here.",null,"Only applies to MBCx projects, list N/A for other projects."]
[null,null," - Equipment and personnel required for implementation:"]
[null,null,"Enter text here.",null,"State if electrician, controls contractor, in-house labor, etc. is required"]
[null,null,"Calculation Methodology"]
[null,null,"Enter text here.",null,"Summarize calculation methodology for customer's and Resource Innovations’s reference. Provide Resource Innovations with a Microsoft Excel spreadsheet for review separately. Follow the RCx M&V guidelines."]
[null,null,"Measure Cost Details"]
[null,null,"Enter text here.",null,"State source for measure cost. A vendor quote is required during the investigation phase for any external labor. For in-house labor, estimate labor rates and required time and material.\n\n"]
[null,null,"Verification Planning"]
[null,null,"Enter text here.",null,"Proposed verification test or procedure. Note parameters which will be trended (temperature, amperage, etc.) and the trend interval if different from above. Follow the RCx M&V Guidelines."]
[null,"Verification","Verification Testing and Findings"]
[null,null," - Parameters trended:"]
[null,null,"To be completed during Verification Phase.",null,"Including date(s) of trending for temperature, amperage, etc. Follow the RCx M&V Guidelines."]
[null,null," - Parameters functionally tested:"]
[null,null,"To be completed during Verification Phase.",null,"Including date(s) of testing for damper operation, etc."]
[null,null," - Summary of verification testing:"]
[null,null,"To be completed during Verification Phase.",null,"I.e. how was ECM verified? and include any changes from the recommended scope of work, and functional testing."]
[null,null," - Modification to savings calculation:"]
[null,null,"To be completed during Verification Phase."]
[null,null," - Supporting graphs/screenshots (post implementation):\n\n\n\n\nInput graph/screenshot description below:"]
[null,null,"To be completed during Verification phase.",null,"Insert a graph which is critical; Not every graph included in the calculation file must be in the D&C Plan, select graphs of interest to the customer."]
[null,null," - Supporting graphs/screenshots (post implementation):\n\n\n\n\nInput graph/screenshot description below:"]
[null,null,"To be completed during Verification phase.",null,"Insert a graph which is critical; Not every graph included in the calculation file must be in the D&C Plan, select graphs of interest to the customer."]
[null,"Measure Persistence Guideline","Equipment Affected and Areas Served"]
[null,null,{"$f":"C8","v":"Enter text here."},null,"This section is for Measure Persistence Guide"]
[null,null,"Measure Description"]
[null,null,{"$f":"C5","v":"Enter text here."},null,"This section is for Measure Persistence Guide"]
[null,null,"Implemented Sequences of Operation and Set Points: "]
[null,null,"To be completed during Verification Phase.",null,"This section is for Measure Persistence Guide. Please refer to C24 for proposed sequences of operation and set points, and update accordingly implemented/verified sequences and set points."]
[null,null,"ECM Active Season"]
[null,null,"Heating Season:"]
[]
[null,null,"Cooling Season:"]

{"sheet":"ECM10","index":31,"n_rows":57,"n_cols":5,"rows_kept":57,"cut":false,"hidden":false,"merged":[[47,1,57,1],[3,1,33,1],[34,1,46,1]]}
[]
[null,{"$f":"\"ECM #10 \"&DataPhaseValid!G125","v":"ECM #10 "}]
[]
[null,"Investigation","Measure Description"]
[null,null,"Enter text here."]
[null,null,"Existing Operation & Control Sequences"]
[null,null," - Equipment affected and areas served:"]
[null,null,"Enter text here."]
[null,null," - Baseline system operation and sequences of operation, setpoints:"]
[null,null,"Enter text here."]
[null,null,"Investigation Approach, Findings and Data Acquisition"]
[null,null," - Summary of initial investigation and functional testing:"]
[null,null,"Enter text here.",null,"Describe plan for investigation of ECM. "]
[null,null," - Parameters trended:"]
[null,null,"Enter text here.",null,"Including date(s) of trending for temperature, amperage, etc. Follow the RCx M&V Guidelines."]
[null,null," - Parameters functionally tested:"]
[null,null,"Enter text here.",null,"Including date(s) of testing for damper operation, etc."]
[null,null," - Supporting graphs/screenshots – baseline-1:\n\n\n\n\nInput graph/screenshot description below:"]
[null,null,"Enter text here.",null,"Insert a graph which is critical; Not every graph included in the calculation file must be in the D&C Plan, select graphs of interest to the customer."]
[null,null," - Supporting graphs/screenshots – baseline-2:\n\n\n\n\nInput graph/screenshot description below:"]
[null,null,"Enter text here.",null,"Insert a graph which is critical; Not every graph included in the calculation file must be in the D&C Plan, select graphs of interest to the customer."]
[null,null,"Proposed System Operation and Control Sequences - Scope of Work "]
[null,null," - Proposed sequences of operation and setpoints:"]
[null,null,"Enter text here."]
[null,null," - Integration with existing controllers: "]
[null,null,"Enter text here.",null,"Only applies to MBCx projects, list N/A for other projects."]
[null,null," - Equipment and personnel required for implementation:"]
[null,null,"Enter text here.",null,"State if electrician, controls contractor, in-house labor, etc. is required"]
[null,null,"Calculation Methodology"]
[null,null,"Enter text here.",null,"Summarize calculation methodology for customer's and Resource Innovations’s reference. Provide Resource Innovations with a Microsoft Excel spreadsheet for review separately. Follow the RCx M&V guidelines."]
[null,null,"Measure Cost Details"]
[null,null,"Enter text here.",null,"State source for measure cost. A vendor quote is required during the investigation phase for any external labor. For in-house labor, estimate labor rates and required time and material.\n\n"]
[null,null,"Verification Planning"]
[null,null,"Enter text here.",null,"Proposed verification test or procedure. Note parameters which will be trended (temperature, amperage, etc.) and the trend interval if different from above. Follow the RCx M&V Guidelines."]
[null,"Verification","Verification Testing and Findings"]
[null,null," - Parameters trended:"]
[null,null,"To be completed during Verification Phase.",null,"Including date(s) of trending for temperature, amperage, etc. Follow the RCx M&V Guidelines."]
[null,null," - Parameters functionally tested:"]
[null,null,"To be completed during Verification Phase.",null,"Including date(s) of testing for damper operation, etc."]
[null,null," - Summary of verification testing:"]
[null,null,"To be completed during Verification Phase.",null,"I.e. how was ECM verified? and include any changes from the recommended scope of work, and functional testing."]
[null,null," - Modification to savings calculation:"]
[null,null,"To be completed during Verification Phase."]
[null,null," - Supporting graphs/screenshots (post implementation):\n\n\n\n\nInput graph/screenshot description below:"]
[null,null,"To be completed during Verification phase.",null,"Insert a graph which is critical; Not every graph included in the calculation file must be in the D&C Plan, select graphs of interest to the customer."]
[null,null," - Supporting graphs/screenshots (post implementation):\n\n\n\n\nInput graph/screenshot description below:"]
[null,null,"To be completed during Verification phase.",null,"Insert a graph which is critical; Not every graph included in the calculation file must be in the D&C Plan, select graphs of interest to the customer."]
[null,"Measure Persistence Guideline","Equipment Affected and Areas Served"]
[null,null,{"$f":"C8","v":"Enter text here."},null,"This section is for Measure Persistence Guide"]
[null,null,"Measure Description"]
[null,null,{"$f":"C5","v":"Enter text here."},null,"This section is for Measure Persistence Guide"]
[null,null,"Implemented Sequences of Operation and Set Points: "]
[null,null,"To be completed during Verification Phase.",null,"This section is for Measure Persistence Guide. Please refer to C24 for proposed sequences of operation and set points, and update accordingly implemented/verified sequences and set points."]
[null,null,"ECM Active Season"]
[null,null,"Heating Season:"]
[]
[null,null,"Cooling Season:"]

{"sheet":"ECM11","index":32,"n_rows":57,"n_cols":5,"rows_kept":57,"cut":false,"hidden":false,"merged":[[47,1,57,1],[3,1,33,1],[34,1,46,1]]}
[]
[null,{"$f":"\"ECM #11 \"&DataPhaseValid!G126","v":"ECM #11 "}]
[]
[null,"Investigation","Measure Description"]
[null,null,"Enter text here."]
[null,null,"Existing Operation & Control Sequences"]
[null,null," - Equipment affected and areas served:"]
[null,null,"Enter text here."]
[null,null," - Baseline system operation and sequences of operation, setpoints:"]
[null,null,"Enter text here."]
[null,null,"Investigation Approach, Findings and Data Acquisition"]
[null,null," - Summary of initial investigation and functional testing:"]
[null,null,"Enter text here.",null,"Describe plan for investigation of ECM. "]
[null,null," - Parameters trended:"]
[null,null,"Enter text here.",null,"Including date(s) of trending for temperature, amperage, etc. Follow the RCx M&V Guidelines."]
[null,null," - Parameters functionally tested:"]
[null,null,"Enter text here.",null,"Including date(s) of testing for damper operation, etc."]
[null,null," - Supporting graphs/screenshots – baseline-1:\n\n\n\n\nInput graph/screenshot description below:"]
[null,null,"Enter text here.",null,"Insert a graph which is critical; Not every graph included in the calculation file must be in the D&C Plan, select graphs of interest to the customer."]
[null,null," - Supporting graphs/screenshots – baseline-2:\n\n\n\n\nInput graph/screenshot description below:"]
[null,null,"Enter text here.",null,"Insert a graph which is critical; Not every graph included in the calculation file must be in the D&C Plan, select graphs of interest to the customer."]
[null,null,"Proposed System Operation and Control Sequences - Scope of Work "]
[null,null," - Proposed sequences of operation and setpoints:"]
[null,null,"Enter text here."]
[null,null," - Integration with existing controllers: "]
[null,null,"Enter text here.",null,"Only applies to MBCx projects, list N/A for other projects."]
[null,null," - Equipment and personnel required for implementation:"]
[null,null,"Enter text here.",null,"State if electrician, controls contractor, in-house labor, etc. is required"]
[null,null,"Calculation Methodology"]
[null,null,"Enter text here.",null,"Summarize calculation methodology for customer's and Resource Innovations’s reference. Provide Resource Innovations with a Microsoft Excel spreadsheet for review separately. Follow the RCx M&V guidelines."]
[null,null,"Measure Cost Details"]
[null,null,"Enter text here.",null,"State source for measure cost. A vendor quote is required during the investigation phase for any external labor. For in-house labor, estimate labor rates and required time and material.\n\n"]
[null,null,"Verification Planning"]
[null,null,"Enter text here.",null,"Proposed verification test or procedure. Note parameters which will be trended (temperature, amperage, etc.) and the trend interval if different from above. Follow the RCx M&V Guidelines."]
[null,"Verification","Verification Testing and Findings"]
[null,null," - Parameters trended:"]
[null,null,"To be completed during Verification Phase.",null,"Including date(s) of trending for temperature, amperage, etc. Follow the RCx M&V Guidelines."]
[null,null," - Parameters functionally tested:"]
[null,null,"To be completed during Verification Phase.",null,"Including date(s) of testing for damper operation, etc."]
[null,null," - Summary of verification testing:"]
[null,null,"To be completed during Verification Phase.",null,"I.e. how was ECM verified? and include any changes from the recommended scope of work, and functional testing."]
[null,null," - Modification to savings calculation:"]
[null,null,"To be completed during Verification Phase."]
[null,null," - Supporting graphs/screenshots (post implementation):\n\n\n\n\nInput graph/screenshot description below:"]
[null,null,"To be completed during Verification phase.",null,"Insert a graph which is critical; Not every graph included in the calculation file must be in the D&C Plan, select graphs of interest to the customer."]
[null,null," - Supporting graphs/screenshots (post implementation):\n\n\n\n\nInput graph/screenshot description below:"]
[null,null,"To be completed during Verification phase.",null,"Insert a graph which is critical; Not every graph included in the calculation file must be in the D&C Plan, select graphs of interest to the customer."]
[null,"Measure Persistence Guideline","Equipment Affected and Areas Served"]
[null,null,{"$f":"C8","v":"Enter text here."},null,"This section is for Measure Persistence Guide"]
[null,null,"Measure Description"]
[null,null,{"$f":"C5","v":"Enter text here."},null,"This section is for Measure Persistence Guide"]
[null,null,"Implemented Sequences of Operation and Set Points: "]
[null,null,"To be completed during Verification Phase.",null,"This section is for Measure Persistence Guide. Please refer to C24 for proposed sequences of operation and set points, and update accordingly implemented/verified sequences and set points."]
[null,null,"ECM Active Season"]
[null,null,"Heating Season:"]
[]
[null,null,"Cooling Season:"]

{"sheet":"ECM12","index":33,"n_rows":57,"n_cols":5,"rows_kept":57,"cut":false,"hidden":false,"merged":[[47,1,57,1],[3,1,33,1],[34,1,46,1]]}
[]
[null,{"$f":"\"ECM #12 \"&DataPhaseValid!G127","v":"ECM #12 "}]
[]
[null,"Investigation","Measure Description"]
[null,null,"Enter text here."]
[null,null,"Existing Operation & Control Sequences"]
[null,null," - Equipment affected and areas served:"]
[null,null,"Enter text here."]
[null,null," - Baseline system operation and sequences of operation, setpoints:"]
[null,null,"Enter text here."]
[null,null,"Investigation Approach, Findings and Data Acquisition"]
[null,null," - Summary of initial investigation and functional testing:"]
[null,null,"Enter text here.",null,"Describe plan for investigation of ECM. "]
[null,null," - Parameters trended:"]
[null,null,"Enter text here.",null,"Including date(s) of trending for temperature, amperage, etc. Follow the RCx M&V Guidelines."]
[null,null," - Parameters functionally tested:"]
[null,null,"Enter text here.",null,"Including date(s) of testing for damper operation, etc."]
[null,null," - Supporting graphs/screenshots – baseline-1:\n\n\n\n\nInput graph/screenshot description below:"]
[null,null,"Enter text here.",null,"Insert a graph which is critical; Not every graph included in the calculation file must be in the D&C Plan, select graphs of interest to the customer."]
[null,null," - Supporting graphs/screenshots – baseline-2:\n\n\n\n\nInput graph/screenshot description below:"]
[null,null,"Enter text here.",null,"Insert a graph which is critical; Not every graph included in the calculation file must be in the D&C Plan, select graphs of interest to the customer."]
[null,null,"Proposed System Operation and Control Sequences - Scope of Work "]
[null,null," - Proposed sequences of operation and setpoints:"]
[null,null,"Enter text here."]
[null,null," - Integration with existing controllers: "]
[null,null,"Enter text here.",null,"Only applies to MBCx projects, list N/A for other projects."]
[null,null," - Equipment and personnel required for implementation:"]
[null,null,"Enter text here.",null,"State if electrician, controls contractor, in-house labor, etc. is required"]
[null,null,"Calculation Methodology"]
[null,null,"Enter text here.",null,"Summarize calculation methodology for customer's and Resource Innovations’s reference. Provide Resource Innovations with a Microsoft Excel spreadsheet for review separately. Follow the RCx M&V guidelines."]
[null,null,"Measure Cost Details"]
[null,null,"Enter text here.",null,"State source for measure cost. A vendor quote is required during the investigation phase for any external labor. For in-house labor, estimate labor rates and required time and material.\n\n"]
[null,null,"Verification Planning"]
[null,null,"Enter text here.",null,"Proposed verification test or procedure. Note parameters which will be trended (temperature, amperage, etc.) and the trend interval if different from above. Follow the RCx M&V Guidelines."]
[null,"Verification","Verification Testing and Findings"]
[null,null," - Parameters trended:"]
[null,null,"To be completed during Verification Phase.",null,"Including date(s) of trending for temperature, amperage, etc. Follow the RCx M&V Guidelines."]
[null,null," - Parameters functionally tested:"]
[null,null,"To be completed during Verification Phase.",null,"Including date(s) of testing for damper operation, etc."]
[null,null," - Summary of verification testing:"]
[null,null,"To be completed during Verification Phase.",null,"I.e. how was ECM verified? and include any changes from the recommended scope of work, and functional testing."]
[null,null," - Modification to savings calculation:"]
[null,null,"To be completed during Verification Phase."]
[null,null," - Supporting graphs/screenshots (post implementation):\n\n\n\n\nInput graph/screenshot description below:"]
[null,null,"To be completed during Verification phase.",null,"Insert a graph which is critical; Not every graph included in the calculation file must be in the D&C Plan, select graphs of interest to the customer."]
[null,null," - Supporting graphs/screenshots (post implementation):\n\n\n\n\nInput graph/screenshot description below:"]
[null,null,"To be completed during Verification phase.",null,"Insert a graph which is critical; Not every graph included in the calculation file must be in the D&C Plan, select graphs of interest to the customer."]
[null,"Measure Persistence Guideline","Equipment Affected and Areas Served"]
[null,null,{"$f":"C8","v":"Enter text here."},null,"This section is for Measure Persistence Guide"]
[null,null,"Measure Description"]
[null,null,{"$f":"C5","v":"Enter text here."},null,"This section is for Measure Persistence Guide"]
[null,null,"Implemented Sequences of Operation and Set Points: "]
[null,null,"To be completed during Verification Phase.",null,"This section is for Measure Persistence Guide. Please refer to C24 for proposed sequences of operation and set points, and update accordingly implemented/verified sequences and set points."]
[null,null,"ECM Active Season"]
[null,null,"Heating Season:"]
[]
[null,null,"Cooling Season:"]

{"sheet":"ECM13","index":34,"n_rows":57,"n_cols":5,"rows_kept":57,"cut":false,"hidden":false,"merged":[[47,1,57,1],[3,1,33,1],[34,1,46,1]]}
[]
[null,{"$f":"\"ECM #13 \"&DataPhaseValid!G128","v":"ECM #13 "}]
[]
[null,"Investigation","Measure Description"]
[null,null,"Enter text here."]
[null,null,"Existing Operation & Control Sequences"]
[null,null," - Equipment affected and areas served:"]
[null,null,"Enter text here."]
[null,null," - Baseline system operation and sequences of operation, setpoints:"]
[null,null,"Enter text here."]
[null,null,"Investigation Approach, Findings and Data Acquisition"]
[null,null," - Summary of initial investigation and functional testing:"]
[null,null,"Enter text here.",null,"Describe plan for investigation of ECM. "]
[null,null," - Parameters trended:"]
[null,null,"Enter text here.",null,"Including date(s) of trending for temperature, amperage, etc. Follow the RCx M&V Guidelines."]
[null,null," - Parameters functionally tested:"]
[null,null,"Enter text here.",null,"Including date(s) of testing for damper operation, etc."]
[null,null," - Supporting graphs/screenshots – baseline-1:\n\n\n\n\nInput graph/screenshot description below:"]
[null,null,"Enter text here.",null,"Insert a graph which is critical; Not every graph included in the calculation file must be in the D&C Plan, select graphs of interest to the customer."]
[null,null," - Supporting graphs/screenshots – baseline-2:\n\n\n\n\nInput graph/screenshot description below:"]
[null,null,"Enter text here.",null,"Insert a graph which is critical; Not every graph included in the calculation file must be in the D&C Plan, select graphs of interest to the customer."]
[null,null,"Proposed System Operation and Control Sequences - Scope of Work "]
[null,null," - Proposed sequences of operation and setpoints:"]
[null,null,"Enter text here."]
[null,null," - Integration with existing controllers: "]
[null,null,"Enter text here.",null,"Only applies to MBCx projects, list N/A for other projects."]
[null,null," - Equipment and personnel required for implementation:"]
[null,null,"Enter text here.",null,"State if electrician, controls contractor, in-house labor, etc. is required"]
[null,null,"Calculation Methodology"]
[null,null,"Enter text here.",null,"Summarize calculation methodology for customer's and Resource Innovations’s reference. Provide Resource Innovations with a Microsoft Excel spreadsheet for review separately. Follow the RCx M&V guidelines."]
[null,null,"Measure Cost Details"]
[null,null,"Enter text here.",null,"State source for measure cost. A vendor quote is required during the investigation phase for any external labor. For in-house labor, estimate labor rates and required time and material.\n\n"]
[null,null,"Verification Planning"]
[null,null,"Enter text here.",null,"Proposed verification test or procedure. Note parameters which will be trended (temperature, amperage, etc.) and the trend interval if different from above. Follow the RCx M&V Guidelines."]
[null,"Verification","Verification Testing and Findings"]
[null,null," - Parameters trended:"]
[null,null,"To be completed during Verification Phase.",null,"Including date(s) of trending for temperature, amperage, etc. Follow the RCx M&V Guidelines."]
[null,null," - Parameters functionally tested:"]
[null,null,"To be completed during Verification Phase.",null,"Including date(s) of testing for damper operation, etc."]
[null,null," - Summary of verification testing:"]
[null,null,"To be completed during Verification Phase.",null,"I.e. how was ECM verified? and include any changes from the recommended scope of work, and functional testing."]
[null,null," - Modification to savings calculation:"]
[null,null,"To be completed during Verification Phase."]
[null,null," - Supporting graphs/screenshots (post implementation):\n\n\n\n\nInput graph/screenshot description below:"]
[null,null,"To be completed during Verification phase.",null,"Insert a graph which is critical; Not every graph included in the calculation file must be in the D&C Plan, select graphs of interest to the customer."]
[null,null," - Supporting graphs/screenshots (post implementation):\n\n\n\n\nInput graph/screenshot description below:"]
[null,null,"To be completed during Verification phase.",null,"Insert a graph which is critical; Not every graph included in the calculation file must be in the D&C Plan, select graphs of interest to the customer."]
[null,"Measure Persistence Guideline","Equipment Affected and Areas Served"]
[null,null,{"$f":"C8","v":"Enter text here."},null,"This section is for Measure Persistence Guide"]
[null,null,"Measure Description"]
[null,null,{"$f":"C5","v":"Enter text here."},null,"This section is for Measure Persistence Guide"]
[null,null,"Implemented Sequences of Operation and Set Points: "]
[null,null,"To be completed during Verification Phase.",null,"This section is for Measure Persistence Guide. Please refer to C24 for proposed sequences of operation and set points, and update accordingly implemented/verified sequences and set points."]
[null,null,"ECM Active Season"]
[null,null,"Heating Season:"]
[]
[null,null,"Cooling Season:"]

{"sheet":"ECM14","index":35,"n_rows":57,"n_cols":5,"rows_kept":57,"cut":false,"hidden":false,"merged":[[47,1,57,1],[3,1,33,1],[34,1,46,1]]}
[]
[null,{"$f":"\"ECM #14 \"&DataPhaseValid!G129","v":"ECM #14 "}]
[]
[null,"Investigation","Measure Description"]
[null,null,"Enter text here."]
[null,null,"Existing Operation & Control Sequences"]
[null,null," - Equipment affected and areas served:"]
[null,null,"Enter text here."]
[null,null," - Baseline system operation and sequences of operation, setpoints:"]
[null,null,"Enter text here."]
[null,null,"Investigation Approach, Findings and Data Acquisition"]
[null,null," - Summary of initial investigation and functional testing:"]
[null,null,"Enter text here.",null,"Describe plan for investigation of ECM. "]
[null,null," - Parameters trended:"]
[null,null,"Enter text here.",null,"Including date(s) of trending for temperature, amperage, etc. Follow the RCx M&V Guidelines."]
[null,null," - Parameters functionally tested:"]
[null,null,"Enter text here.",null,"Including date(s) of testing for damper operation, etc."]
[null,null," - Supporting graphs/screenshots – baseline-1:\n\n\n\n\nInput graph/screenshot description below:"]
[null,null,"Enter text here.",null,"Insert a graph which is critical; Not every graph included in the calculation file must be in the D&C Plan, select graphs of interest to the customer."]
[null,null," - Supporting graphs/screenshots – baseline-2:\n\n\n\n\nInput graph/screenshot description below:"]
[null,null,"Enter text here.",null,"Insert a graph which is critical; Not every graph included in the calculation file must be in the D&C Plan, select graphs of interest to the customer."]
[null,null,"Proposed System Operation and Control Sequences - Scope of Work "]
[null,null," - Proposed sequences of operation and setpoints:"]
[null,null,"Enter text here."]
[null,null," - Integration with existing controllers: "]
[null,null,"Enter text here.",null,"Only applies to MBCx projects, list N/A for other projects."]
[null,null," - Equipment and personnel required for implementation:"]
[null,null,"Enter text here.",null,"State if electrician, controls contractor, in-house labor, etc. is required"]
[null,null,"Calculation Methodology"]
[null,null,"Enter text here.",null,"Summarize calculation methodology for customer's and Resource Innovations’s reference. Provide Resource Innovations with a Microsoft Excel spreadsheet for review separately. Follow the RCx M&V guidelines."]
[null,null,"Measure Cost Details"]
[null,null,"Enter text here.",null,"State source for measure cost. A vendor quote is required during the investigation phase for any external labor. For in-house labor, estimate labor rates and required time and material.\n\n"]
[null,null,"Verification Planning"]
[null,null,"Enter text here.",null,"Proposed verification test or procedure. Note parameters which will be trended (temperature, amperage, etc.) and the trend interval if different from above. Follow the RCx M&V Guidelines."]
[null,"Verification","Verification Testing and Findings"]
[null,null," - Parameters trended:"]
[null,null,"To be completed during Verification Phase.",null,"Including date(s) of trending for temperature, amperage, etc. Follow the RCx M&V Guidelines."]
[null,null," - Parameters functionally tested:"]
[null,null,"To be completed during Verification Phase.",null,"Including date(s) of testing for damper operation, etc."]
[null,null," - Summary of verification testing:"]
[null,null,"To be completed during Verification Phase.",null,"I.e. how was ECM verified? and include any changes from the recommended scope of work, and functional testing."]
[null,null," - Modification to savings calculation:"]
[null,null,"To be completed during Verification Phase."]
[null,null," - Supporting graphs/screenshots (post implementation):\n\n\n\n\nInput graph/screenshot description below:"]
[null,null,"To be completed during Verification phase.",null,"Insert a graph which is critical; Not every graph included in the calculation file must be in the D&C Plan, select graphs of interest to the customer."]
[null,null," - Supporting graphs/screenshots (post implementation):\n\n\n\n\nInput graph/screenshot description below:"]
[null,null,"To be completed during Verification phase.",null,"Insert a graph which is critical; Not every graph included in the calculation file must be in the D&C Plan, select graphs of interest to the customer."]
[null,"Measure Persistence Guideline","Equipment Affected and Areas Served"]
[null,null,{"$f":"C8","v":"Enter text here."},null,"This section is for Measure Persistence Guide"]
[null,null,"Measure Description"]
[null,null,{"$f":"C5","v":"Enter text here."},null,"This section is for Measure Persistence Guide"]
[null,null,"Implemented Sequences of Operation and Set Points: "]
[null,null,"To be completed during Verification Phase.",null,"This section is for Measure Persistence Guide. Please refer to C24 for proposed sequences of operation and set points, and update accordingly implemented/verified sequences and set points."]
[null,null,"ECM Active Season"]
[null,null,"Heating Season:"]
[]
[null,null,"Cooling Season:"]

{"sheet":"ECM15","index":36,"n_rows":57,"n_cols":5,"rows_kept":57,"cut":false,"hidden":false,"merged":[[47,1,57,1],[3,1,33,1],[34,1,46,1]]}
[]
[null,{"$f":"\"ECM #15 \"&DataPhaseValid!G130","v":"ECM #15 "}]
[]
[null,"Investigation","Measure Description"]
[null,null,"Enter text here."]
[null,null,"Existing Operation & Control Sequences"]
[null,null," - Equipment affected and areas served:"]
[null,null,"Enter text here."]
[null,null," - Baseline system operation and sequences of operation, setpoints:"]
[null,null,"Enter text here."]
[null,null,"Investigation Approach, Findings and Data Acquisition"]
[null,null," - Summary of initial investigation and functional testing:"]
[null,null,"Enter text here.",null,"Describe plan for investigation of ECM. "]
[null,null," - Parameters trended:"]
[null,null,"Enter text here.",null,"Including date(s) of trending for temperature, amperage, etc. Follow the RCx M&V Guidelines."]
[null,null," - Parameters functionally tested:"]
[null,null,"Enter text here.",null,"Including date(s) of testing for damper operation, etc."]
[null,null," - Supporting graphs/screenshots – baseline-1:\n\n\n\n\nInput graph/screenshot description below:"]
[null,null,"Enter text here.",null,"Insert a graph which is critical; Not every graph included in the calculation file must be in the D&C Plan, select graphs of interest to the customer."]
[null,null," - Supporting graphs/screenshots – baseline-2:\n\n\n\n\nInput graph/screenshot description below:"]
[null,null,"Enter text here.",null,"Insert a graph which is critical; Not every graph included in the calculation file must be in the D&C Plan, select graphs of interest to the customer."]
[null,null,"Proposed System Operation and Control Sequences - Scope of Work "]
[null,null," - Proposed sequences of operation and setpoints:"]
[null,null,"Enter text here."]
[null,null," - Integration with existing controllers: "]
[null,null,"Enter text here.",null,"Only applies to MBCx projects, list N/A for other projects."]
[null,null," - Equipment and personnel required for implementation:"]
[null,null,"Enter text here.",null,"State if electrician, controls contractor, in-house labor, etc. is required"]
[null,null,"Calculation Methodology"]
[null,null,"Enter text here.",null,"Summarize calculation methodology for customer's and Resource Innovations’s reference. Provide Resource Innovations with aMicrosoft Excel spreadsheet for review separately. Follow the RCx M&V guidelines."]
[null,null,"Measure Cost Details"]
[null,null,"Enter text here.",null,"State source for measure cost. A vendor quote is required during the investigation phase for any external labor. For in-house labor, estimate labor rates and required time and material.\n\n"]
[null,null,"Verification Planning"]
[null,null,"Enter text here.",null,"Proposed verification test or procedure. Note parameters which will be trended (temperature, amperage, etc.) and the trend interval if different from above. Follow the RCx M&V Guidelines."]
[null,"Verification","Verification Testing and Findings"]
[null,null," - Parameters trended:"]
[null,null,"To be completed during Verification Phase.",null,"Including date(s) of trending for temperature, amperage, etc. Follow the RCx M&V Guidelines."]
[null,null," - Parameters functionally tested:"]
[null,null,"To be completed during Verification Phase.",null,"Including date(s) of testing for damper operation, etc."]
[null,null," - Summary of verification testing:"]
[null,null,"To be completed during Verification Phase.",null,"I.e. how was ECM verified? and include any changes from the recommended scope of work, and functional testing."]
[null,null," - Modification to savings calculation:"]
[null,null,"To be completed during Verification Phase."]
[null,null," - Supporting graphs/screenshots (post implementation):\n\n\n\n\nInput graph/screenshot description below:"]
[null,null,"To be completed during Verification phase.",null,"Insert a graph which is critical; Not every graph included in the calculation file must be in the D&C Plan, select graphs of interest to the customer."]
[null,null," - Supporting graphs/screenshots (post implementation):\n\n\n\n\nInput graph/screenshot description below:"]
[null,null,"To be completed during Verification phase.",null,"Insert a graph which is critical; Not every graph included in the calculation file must be in the D&C Plan, select graphs of interest to the customer."]
[null,"Measure Persistence Guideline","Equipment Affected and Areas Served"]
[null,null,{"$f":"C8","v":"Enter text here."},null,"This section is for Measure Persistence Guide"]
[null,null,"Measure Description"]
[null,null,{"$f":"C5","v":"Enter text here."},null,"This section is for Measure Persistence Guide"]
[null,null,"Implemented Sequences of Operation and Set Points: "]
[null,null,"To be completed during Verification Phase.",null,"This section is for Measure Persistence Guide. Please refer to C24 for proposed sequences of operation and set points, and update accordingly implemented/verified sequences and set points."]
[null,null,"ECM Active Season"]
[null,null,"Heating Season:"]
[]
[null,null,"Cooling Season:"]

{"sheet":"ECM16","index":37,"n_rows":57,"n_cols":5,"rows_kept":57,"cut":false,"hidden":false,"merged":[[47,1,57,1],[3,1,33,1],[34,1,46,1]]}
[]
[null,{"$f":"\"ECM #16 \"&DataPhaseValid!G131","v":"ECM #16 "}]
[]
[null,"Investigation","Measure Description"]
[null,null,"Enter text here."]
[null,null,"Existing Operation & Control Sequences"]
[null,null," - Equipment affected and areas served:"]
[null,null,"Enter text here."]
[null,null," - Baseline system operation and sequences of operation, setpoints:"]
[null,null,"Enter text here."]
[null,null,"Investigation Approach, Findings and Data Acquisition"]
[null,null," - Summary of initial investigation and functional testing:"]
[null,null,"Enter text here.",null,"Describe plan for investigation of ECM. "]
[null,null," - Parameters trended:"]
[null,null,"Enter text here.",null,"Including date(s) of trending for temperature, amperage, etc. Follow the RCx M&V Guidelines."]
[null,null," - Parameters functionally tested:"]
[null,null,"Enter text here.",null,"Including date(s) of testing for damper operation, etc."]
[null,null," - Supporting graphs/screenshots – baseline-1:\n\n\n\n\nInput graph/screenshot description below:"]
[null,null,"Enter text here.",null,"Insert a graph which is critical; Not every graph included in the calculation file must be in the D&C Plan, select graphs of interest to the customer."]
[null,null," - Supporting graphs/screenshots – baseline-2:\n\n\n\n\nInput graph/screenshot description below:"]
[null,null,"Enter text here.",null,"Insert a graph which is critical; Not every graph included in the calculation file must be in the D&C Plan, select graphs of interest to the customer."]
[null,null,"Proposed System Operation and Control Sequences - Scope of Work "]
[null,null," - Proposed sequences of operation and setpoints:"]
[null,null,"Enter text here."]
[null,null," - Integration with existing controllers: "]
[null,null,"Enter text here.",null,"Only applies to MBCx projects, list N/A for other projects."]
[null,null," - Equipment and personnel required for implementation:"]
[null,null,"Enter text here.",null,"State if electrician, controls contractor, in-house labor, etc. is required"]
[null,null,"Calculation Methodology"]
[null,null,"Enter text here.",null,"Summarize calculation methodology for customer's and Resource Innovations’s reference. Provide Resource Innovations with a Microsoft Excel spreadsheet for review separately. Follow the RCx M&V guidelines."]
[null,null,"Measure Cost Details"]
[null,null,"Enter text here.",null,"State source for measure cost. A vendor quote is required during the investigation phase for any external labor. For in-house labor, estimate labor rates and required time and material.\n\n"]
[null,null,"Verification Planning"]
[null,null,"Enter text here.",null,"Proposed verification test or procedure. Note parameters which will be trended (temperature, amperage, etc.) and the trend interval if different from above. Follow the RCx M&V Guidelines."]
[null,"Verification","Verification Testing and Findings"]
[null,null," - Parameters trended:"]
[null,null,"To be completed during Verification Phase.",null,"Including date(s) of trending for temperature, amperage, etc. Follow the RCx M&V Guidelines."]
[null,null," - Parameters functionally tested:"]
[null,null,"To be completed during Verification Phase.",null,"Including date(s) of testing for damper operation, etc."]
[null,null," - Summary of verification testing:"]
[null,null,"To be completed during Verification Phase.",null,"I.e. how was ECM verified? and include any changes from the recommended scope of work, and functional testing."]
[null,null," - Modification to savings calculation:"]
[null,null,"To be completed during Verification Phase."]
[null,null," - Supporting graphs/screenshots (post implementation):\n\n\n\n\nInput graph/screenshot description below:"]
[null,null,"To be completed during Verification phase.",null,"Insert a graph which is critical; Not every graph included in the calculation file must be in the D&C Plan, select graphs of interest to the customer."]
[null,null," - Supporting graphs/screenshots (post implementation):\n\n\n\n\nInput graph/screenshot description below:"]
[null,null,"To be completed during Verification phase.",null,"Insert a graph which is critical; Not every graph included in the calculation file must be in the D&C Plan, select graphs of interest to the customer."]
[null,"Measure Persistence Guideline","Equipment Affected and Areas Served"]
[null,null,{"$f":"C8","v":"Enter text here."},null,"This section is for Measure Persistence Guide"]
[null,null,"Measure Description"]
[null,null,{"$f":"C5","v":"Enter text here."},null,"This section is for Measure Persistence Guide"]
[null,null,"Implemented Sequences of Operation and Set Points: "]
[null,null,"To be completed during Verification Phase.",null,"This section is for Measure Persistence Guide. Please refer to C24 for proposed sequences of operation and set points, and update accordingly implemented/verified sequences and set points."]
[null,null,"ECM Active Season"]
[null,null,"Heating Season:"]
[]
[null,null,"Cooling Season:"]

{"sheet":"ECM17","index":38,"n_rows":57,"n_cols":5,"rows_kept":57,"cut":false,"hidden":false,"merged":[[47,1,57,1],[3,1,33,1],[34,1,46,1]]}
[]
[null,{"$f":"\"ECM #17 \"&DataPhaseValid!G132","v":"ECM #17 "}]
[]
[null,"Investigation","Measure Description"]
[null,null,"Enter text here."]
[null,null,"Existing Operation & Control Sequences"]
[null,null," - Equipment affected and areas served:"]
[null,null,"Enter text here."]
[null,null," - Baseline system operation and sequences of operation, setpoints:"]
[null,null,"Enter text here."]
[null,null,"Investigation Approach, Findings and Data Acquisition"]
[null,null," - Summary of initial investigation and functional testing:"]
[null,null,"Enter text here.",null,"Describe plan for investigation of ECM. "]
[null,null," - Parameters trended:"]
[null,null,"Enter text here.",null,"Including date(s) of trending for temperature, amperage, etc. Follow the RCx M&V Guidelines."]
[null,null," - Parameters functionally tested:"]
[null,null,"Enter text here.",null,"Including date(s) of testing for damper operation, etc."]
[null,null," - Supporting graphs/screenshots – baseline-1:\n\n\n\n\nInput graph/screenshot description below:"]
[null,null,"Enter text here.",null,"Insert a graph which is critical; Not every graph included in the calculation file must be in the D&C Plan, select graphs of interest to the customer."]
[null,null," - Supporting graphs/screenshots – baseline-2:\n\n\n\n\nInput graph/screenshot description below:"]
[null,null,"Enter text here.",null,"Insert a graph which is critical; Not every graph included in the calculation file must be in the D&C Plan, select graphs of interest to the customer."]
[null,null,"Proposed System Operation and Control Sequences - Scope of Work "]
[null,null," - Proposed sequences of operation and setpoints:"]
[null,null,"Enter text here."]
[null,null," - Integration with existing controllers: "]
[null,null,"Enter text here.",null,"Only applies to MBCx projects, list N/A for other projects."]
[null,null," - Equipment and personnel required for implementation:"]
[null,null,"Enter text here.",null,"State if electrician, controls contractor, in-house labor, etc. is required"]
[null,null,"Calculation Methodology"]
[null,null,"Enter text here.",null,"Summarize calculation methodology for customer's and Resource Innovations’s reference. Provide Resource Innovations with a Microsoft Excel spreadsheet for review separately. Follow the RCx M&V guidelines."]
[null,null,"Measure Cost Details"]
[null,null,"Enter text here.",null,"State source for measure cost. A vendor quote is required during the investigation phase for any external labor. For in-house labor, estimate labor rates and required time and material.\n\n"]
[null,null,"Verification Planning"]
[null,null,"Enter text here.",null,"Proposed verification test or procedure. Note parameters which will be trended (temperature, amperage, etc.) and the trend interval if different from above. Follow the RCx M&V Guidelines."]
[null,"Verification","Verification Testing and Findings"]
[null,null," - Parameters trended:"]
[null,null,"To be completed during Verification Phase.",null,"Including date(s) of trending for temperature, amperage, etc. Follow the RCx M&V Guidelines."]
[null,null," - Parameters functionally tested:"]
[null,null,"To be completed during Verification Phase.",null,"Including date(s) of testing for damper operation, etc."]
[null,null," - Summary of verification testing:"]
[null,null,"To be completed during Verification Phase.",null,"I.e. how was ECM verified? and include any changes from the recommended scope of work, and functional testing."]
[null,null," - Modification to savings calculation:"]
[null,null,"To be completed during Verification Phase."]
[null,null," - Supporting graphs/screenshots (post implementation):\n\n\n\n\nInput graph/screenshot description below:"]
[null,null,"To be completed during Verification phase.",null,"Insert a graph which is critical; Not every graph included in the calculation file must be in the D&C Plan, select graphs of interest to the customer."]
[null,null," - Supporting graphs/screenshots (post implementation):\n\n\n\n\nInput graph/screenshot description below:"]
[null,null,"To be completed during Verification phase.",null,"Insert a graph which is critical; Not every graph included in the calculation file must be in the D&C Plan, select graphs of interest to the customer."]
[null,"Measure Persistence Guideline","Equipment Affected and Areas Served"]
[null,null,{"$f":"C8","v":"Enter text here."},null,"This section is for Measure Persistence Guide"]
[null,null,"Measure Description"]
[null,null,{"$f":"C5","v":"Enter text here."},null,"This section is for Measure Persistence Guide"]
[null,null,"Implemented Sequences of Operation and Set Points: "]
[null,null,"To be completed during Verification Phase.",null,"This section is for Measure Persistence Guide. Please refer to C24 for proposed sequences of operation and set points, and update accordingly implemented/verified sequences and set points."]
[null,null,"ECM Active Season"]
[null,null,"Heating Season:"]
[]
[null,null,"Cooling Season:"]

{"sheet":"ECM18","index":39,"n_rows":57,"n_cols":5,"rows_kept":57,"cut":false,"hidden":false,"merged":[[47,1,57,1],[3,1,33,1],[34,1,46,1]]}
[]
[null,{"$f":"\"ECM #18 \"&DataPhaseValid!G133","v":"ECM #18 "}]
[]
[null,"Investigation","Measure Description"]
[null,null,"Enter text here."]
[null,null,"Existing Operation & Control Sequences"]
[null,null," - Equipment affected and areas served:"]
[null,null,"Enter text here."]
[null,null," - Baseline system operation and sequences of operation, setpoints:"]
[null,null,"Enter text here."]
[null,null,"Investigation Approach, Findings and Data Acquisition"]
[null,null," - Summary of initial investigation and functional testing:"]
[null,null,"Enter text here.",null,"Describe plan for investigation of ECM. "]
[null,null," - Parameters trended:"]
[null,null,"Enter text here.",null,"Including date(s) of trending for temperature, amperage, etc. Follow the RCx M&V Guidelines."]
[null,null," - Parameters functionally tested:"]
[null,null,"Enter text here.",null,"Including date(s) of testing for damper operation, etc."]
[null,null," - Supporting graphs/screenshots – baseline-1:\n\n\n\n\nInput graph/screenshot description below:"]
[null,null,"Enter text here.",null,"Insert a graph which is critical; Not every graph included in the calculation file must be in the D&C Plan, select graphs of interest to the customer."]
[null,null," - Supporting graphs/screenshots – baseline-2:\n\n\n\n\nInput graph/screenshot description below:"]
[null,null,"Enter text here.",null,"Insert a graph which is critical; Not every graph included in the calculation file must be in the D&C Plan, select graphs of interest to the customer."]
[null,null,"Proposed System Operation and Control Sequences - Scope of Work "]
[null,null," - Proposed sequences of operation and setpoints:"]
[null,null,"Enter text here."]
[null,null," - Integration with existing controllers: "]
[null,null,"Enter text here.",null,"Only applies to MBCx projects, list N/A for other projects."]
[null,null," - Equipment and personnel required for implementation:"]
[null,null,"Enter text here.",null,"State if electrician, controls contractor, in-house labor, etc. is required"]
[null,null,"Calculation Methodology"]
[null,null,"Enter text here.",null,"Summarize calculation methodology for customer's and Resource Innovations’s reference. Provide Resource Innovations with a Microsoft Excel spreadsheet for review separately. Follow the RCx M&V guidelines."]
[null,null,"Measure Cost Details"]
[null,null,"Enter text here.",null,"State source for measure cost. A vendor quote is required during the investigation phase for any external labor. For in-house labor, estimate labor rates and required time and material.\n\n"]
[null,null,"Verification Planning"]
[null,null,"Enter text here.",null,"Proposed verification test or procedure. Note parameters which will be trended (temperature, amperage, etc.) and the trend interval if different from above. Follow the RCx M&V Guidelines."]
[null,"Verification","Verification Testing and Findings"]
[null,null," - Parameters trended:"]
[null,null,"To be completed during Verification Phase.",null,"Including date(s) of trending for temperature, amperage, etc. Follow the RCx M&V Guidelines."]
[null,null," - Parameters functionally tested:"]
[null,null,"To be completed during Verification Phase.",null,"Including date(s) of testing for damper operation, etc."]
[null,null," - Summary of verification testing:"]
[null,null,"To be completed during Verification Phase.",null,"I.e. how was ECM verified? and include any changes from the recommended scope of work, and functional testing."]
[null,null," - Modification to savings calculation:"]
[null,null,"To be completed during Verification Phase."]
[null,null," - Supporting graphs/screenshots (post implementation):\n\n\n\n\nInput graph/screenshot description below:"]
[null,null,"To be completed during Verification phase.",null,"Insert a graph which is critical; Not every graph included in the calculation file must be in the D&C Plan, select graphs of interest to the customer."]
[null,null," - Supporting graphs/screenshots (post implementation):\n\n\n\n\nInput graph/screenshot description below:"]
[null,null,"To be completed during Verification phase.",null,"Insert a graph which is critical; Not every graph included in the calculation file must be in the D&C Plan, select graphs of interest to the customer."]
[null,"Measure Persistence Guideline","Equipment Affected and Areas Served"]
[null,null,{"$f":"C8","v":"Enter text here."},null,"This section is for Measure Persistence Guide"]
[null,null,"Measure Description"]
[null,null,{"$f":"C5","v":"Enter text here."},null,"This section is for Measure Persistence Guide"]
[null,null,"Implemented Sequences of Operation and Set Points: "]
[null,null,"To be completed during Verification Phase.",null,"This section is for Measure Persistence Guide. Please refer to C24 for proposed sequences of operation and set points, and update accordingly implemented/verified sequences and set points."]
[null,null,"ECM Active Season"]
[null,null,"Heating Season:"]
[]
[null,null,"Cooling Season:"]

{"sheet":"ECM19","index":40,"n_rows":57,"n_cols":5,"rows_kept":57,"cut":false,"hidden":false,"merged":[[47,1,57,1],[3,1,33,1],[34,1,46,1]]}
[]
[null,{"$f":"\"ECM #19 \"&DataPhaseValid!G134","v":"ECM #19 "}]
[]
[null,"Investigation","Measure Description"]
[null,null,"Enter text here."]
[null,null,"Existing Operation & Control Sequences"]
[null,null," - Equipment affected and areas served:"]
[null,null,"Enter text here."]
[null,null," - Baseline system operation and sequences of operation, setpoints:"]
[null,null,"Enter text here."]
[null,null,"Investigation Approach, Findings and Data Acquisition"]
[null,null," - Summary of initial investigation and functional testing:"]
[null,null,"Enter text here.",null,"Describe plan for investigation of ECM. "]
[null,null," - Parameters trended:"]
[null,null,"Enter text here.",null,"Including date(s) of trending for temperature, amperage, etc. Follow the RCx M&V Guidelines."]
[null,null," - Parameters functionally tested:"]
[null,null,"Enter text here.",null,"Including date(s) of testing for damper operation, etc."]
[null,null," - Supporting graphs/screenshots – baseline-1:\n\n\n\n\nInput graph/screenshot description below:"]
[null,null,"Enter text here.",null,"Insert a graph which is critical; Not every graph included in the calculation file must be in the D&C Plan, select graphs of interest to the customer."]
[null,null," - Supporting graphs/screenshots – baseline-2:\n\n\n\n\nInput graph/screenshot description below:"]
[null,null,"Enter text here.",null,"Insert a graph which is critical; Not every graph included in the calculation file must be in the D&C Plan, select graphs of interest to the customer."]
[null,null,"Proposed System Operation and Control Sequences - Scope of Work "]
[null,null," - Proposed sequences of operation and setpoints:"]
[null,null,"Enter text here."]
[null,null," - Integration with existing controllers: "]
[null,null,"Enter text here.",null,"Only applies to MBCx projects, list N/A for other projects."]
[null,null," - Equipment and personnel required for implementation:"]
[null,null,"Enter text here.",null,"State if electrician, controls contractor, in-house labor, etc. is required"]
[null,null,"Calculation Methodology"]
[null,null,"Enter text here.",null,"Summarize calculation methodology for customer's and Resource Innovations’s reference. Provide Resource Innovations with a Microsoft Excel spreadsheet for review separately. Follow the RCx M&V guidelines."]
[null,null,"Measure Cost Details"]
[null,null,"Enter text here.",null,"State source for measure cost. A vendor quote is required during the investigation phase for any external labor. For in-house labor, estimate labor rates and required time and material.\n\n"]
[null,null,"Verification Planning"]
[null,null,"Enter text here.",null,"Proposed verification test or procedure. Note parameters which will be trended (temperature, amperage, etc.) and the trend interval if different from above. Follow the RCx M&V Guidelines."]
[null,"Verification","Verification Testing and Findings"]
[null,null," - Parameters trended:"]
[null,null,"To be completed during Verification Phase.",null,"Including date(s) of trending for temperature, amperage, etc. Follow the RCx M&V Guidelines."]
[null,null," - Parameters functionally tested:"]
[null,null,"To be completed during Verification Phase.",null,"Including date(s) of testing for damper operation, etc."]
[null,null," - Summary of verification testing:"]
[null,null,"To be completed during Verification Phase.",null,"I.e. how was ECM verified? and include any changes from the recommended scope of work, and functional testing."]
[null,null," - Modification to savings calculation:"]
[null,null,"To be completed during Verification Phase."]
[null,null," - Supporting graphs/screenshots (post implementation):\n\n\n\n\nInput graph/screenshot description below:"]
[null,null,"To be completed during Verification phase.",null,"Insert a graph which is critical; Not every graph included in the calculation file must be in the D&C Plan, select graphs of interest to the customer."]
[null,null," - Supporting graphs/screenshots (post implementation):\n\n\n\n\nInput graph/screenshot description below:"]
[null,null,"To be completed during Verification phase.",null,"Insert a graph which is critical; Not every graph included in the calculation file must be in the D&C Plan, select graphs of interest to the customer."]
[null,"Measure Persistence Guideline","Equipment Affected and Areas Served"]
[null,null,{"$f":"C8","v":"Enter text here."},null,"This section is for Measure Persistence Guide"]
[null,null,"Measure Description"]
[null,null,{"$f":"C5","v":"Enter text here."},null,"This section is for Measure Persistence Guide"]
[null,null,"Implemented Sequences of Operation and Set Points: "]
[null,null,"To be completed during Verification Phase.",null,"This section is for Measure Persistence Guide. Please refer to C24 for proposed sequences of operation and set points, and update accordingly implemented/verified sequences and set points."]
[null,null,"ECM Active Season"]
[null,null,"Heating Season:"]
[]
[null,null,"Cooling Season:"]

{"sheet":"ECM20","index":41,"n_rows":57,"n_cols":5,"rows_kept":57,"cut":false,"hidden":false,"merged":[[47,1,57,1],[3,1,33,1],[34,1,46,1]]}
[]
[null,{"$f":"\"ECM #20 \"&DataPhaseValid!G135","v":"ECM #20 "}]
[]
[null,"Investigation","Measure Description"]
[null,null,"Enter text here."]
[null,null,"Existing Operation & Control Sequences"]
[null,null," - Equipment affected and areas served:"]
[null,null,"Enter text here."]
[null,null," - Baseline system operation and sequences of operation, setpoints:"]
[null,null,"Enter text here."]
[null,null,"Investigation Approach, Findings and Data Acquisition"]
[null,null," - Summary of initial investigation and functional testing:"]
[null,null,"Enter text here.",null,"Describe plan for investigation of ECM. "]
[null,null," - Parameters trended:"]
[null,null,"Enter text here.",null,"Including date(s) of trending for temperature, amperage, etc. Follow the RCx M&V Guidelines."]
[null,null," - Parameters functionally tested:"]
[null,null,"Enter text here.",null,"Including date(s) of testing for damper operation, etc."]
[null,null," - Supporting graphs/screenshots – baseline-1:\n\n\n\n\nInput graph/screenshot description below:"]
[null,null,"Enter text here.",null,"Insert a graph which is critical; Not every graph included in the calculation file must be in the D&C Plan, select graphs of interest to the customer."]
[null,null," - Supporting graphs/screenshots – baseline-2:\n\n\n\n\nInput graph/screenshot description below:"]
[null,null,"Enter text here.",null,"Insert a graph which is critical; Not every graph included in the calculation file must be in the D&C Plan, select graphs of interest to the customer."]
[null,null,"Proposed System Operation and Control Sequences - Scope of Work "]
[null,null," - Proposed sequences of operation and setpoints:"]
[null,null,"Enter text here."]
[null,null," - Integration with existing controllers: "]
[null,null,"Enter text here.",null,"Only applies to MBCx projects, list N/A for other projects."]
[null,null," - Equipment and personnel required for implementation:"]
[null,null,"Enter text here.",null,"State if electrician, controls contractor, in-house labor, etc. is required"]
[null,null,"Calculation Methodology"]
[null,null,"Enter text here.",null,"Summarize calculation methodology for customer's and Resource Innovations’s reference. Provide Resource Innovations with a Microsoft Excel spreadsheet for review separately. Follow the RCx M&V guidelines."]
[null,null,"Measure Cost Details"]
[null,null,"Enter text here.",null,"State source for measure cost. A vendor quote is required during the investigation phase for any external labor. For in-house labor, estimate labor rates and required time and material.\n\n"]
[null,null,"Verification Planning"]
[null,null,"Enter text here.",null,"Proposed verification test or procedure. Note parameters which will be trended (temperature, amperage, etc.) and the trend interval if different from above. Follow the RCx M&V Guidelines."]
[null,"Verification","Verification Testing and Findings"]
[null,null," - Parameters trended:"]
[null,null,"To be completed during Verification Phase.",null,"Including date(s) of trending for temperature, amperage, etc. Follow the RCx M&V Guidelines."]
[null,null," - Parameters functionally tested:"]
[null,null,"To be completed during Verification Phase.",null,"Including date(s) of testing for damper operation, etc."]
[null,null," - Summary of verification testing:"]
[null,null,"To be completed during Verification Phase.",null,"I.e. how was ECM verified? and include any changes from the recommended scope of work, and functional testing."]
[null,null," - Modification to savings calculation:"]
[null,null,"To be completed during Verification Phase."]
[null,null," - Supporting graphs/screenshots (post implementation):\n\n\n\n\nInput graph/screenshot description below:"]
[null,null,"To be completed during Verification phase.",null,"Insert a graph which is critical; Not every graph included in the calculation file must be in the D&C Plan, select graphs of interest to the customer."]
[null,null," - Supporting graphs/screenshots (post implementation):\n\n\n\n\nInput graph/screenshot description below:"]
[null,null,"To be completed during Verification phase.",null,"Insert a graph which is critical; Not every graph included in the calculation file must be in the D&C Plan, select graphs of interest to the customer."]
[null,"Measure Persistence Guideline","Equipment Affected and Areas Served"]
[null,null,{"$f":"C8","v":"Enter text here."},null,"This section is for Measure Persistence Guide"]
[null,null,"Measure Description"]
[null,null,{"$f":"C5","v":"Enter text here."},null,"This section is for Measure Persistence Guide"]
[null,null,"Implemented Sequences of Operation and Set Points: "]
[null,null,"To be completed during Verification Phase.",null,"This section is for Measure Persistence Guide. Please refer to C24 for proposed sequences of operation and set points, and update accordingly implemented/verified sequences and set points."]
[null,null,"ECM Active Season"]
[null,null,"Heating Season:"]
[]
[null,null,"Cooling Season:"]

{"sheet":"Screenshots","index":42,"n_rows":2,"n_cols":2,"rows_kept":2,"cut":false,"hidden":true,"merged":[]}
[]
[null,"Screenshots Screenshots/pictures inserted into the report"]

{"sheet":"MeasDet1","index":43,"n_rows":68,"n_cols":11,"rows_kept":68,"cut":false,"hidden":true,"merged":[[3,0,3,2],[3,3,3,4],[3,5,3,6],[3,7,3,8],[1,0,1,1],[1,2,1,8],[7,0,7,2],[7,3,7,4],[7,5,7,6],[15,2,15,4],[15,5,15,6],[11,0,11,2],[11,3,11,4],[11,5,11,6],[52,0,52,10],[34,0,34,10],[36,0,36,10],[38,0,38,8],[50,0,50,10],[42,0,42,7],[46,0,46,10],[48,0,48,10],[40,0,40,8],[19,3,19,5],[27,0,27,10],[29,0,29,10],[24,0,24,10],[44,0,44,10],[32,0,32,10],[65,0,65,8],[67,0,67,8],[54,0,54,10],[57,0,57,10],[59,0,59,10],[61,0,61,10],[63,0,63,10]]}
[]
["Operational ECM #1:",null,{"$f":"DataPhaseValid!G116","v":""},null,null,null,null,null,null,{"$f":"IF(Instructions!$F$4=\"Investigation\",VLOOKUP(MeasDet1!C2,'Measure Recommendation'!$I$17:$AB$36,20,FALSE),VLOOKUP(MeasDet1!C2,'Measure Recommendation'!$I$41:$AD$60,22,FALSE))","v":"ECM1"}]
[3]
["Electric ",null,null,"Natural Gas",null,"District Cooling",null,"District Heating"]
["ComEd Peak Demand Savings (kW/month)","Electric Energy Savings (kWh/yr)","Electric Cost Savings ($/yr)","Natural Gas Savings (therms/yr)","Natural Gas Cost Savings ($/yr)","District Chilled Water Energy Savings \n(ton-hrs/year)","District Chilled Water Cost Savings ($/yr)","District Steam Energy Savings (therms/yr)","District Steam Cost Savings  ($/yr)","ECM Implement-ation Cost ($)","Simple Payback (Yrs)"]
[{"$f":"IF(Instructions!$F$4=\"Investigation\",VLOOKUP($C$2,'Measure Recommendation'!$I$17:$X$36,3,FALSE),VLOOKUP($C$2,'Measure Recommendation'!$I$41:$X$60,3,FALSE))","v":0},{"$f":"IF(Instructions!$F$4=\"Investigation\",VLOOKUP($C$2,'Measure Recommendation'!$I$17:$X$36,4,FALSE),VLOOKUP($C$2,'Measure Recommendation'!$I$41:$X$60,4,FALSE))","v":0},{"$f":"IF(Instructions!$F$4=\"Investigation\",VLOOKUP($C$2,'Measure Recommendation'!$I$17:$X$36,5,FALSE),VLOOKUP($C$2,'Measure Recommendation'!$I$41:$X$60,5,FALSE))","v":0},{"$f":"IF(Instructions!$F$4=\"Investigation\",VLOOKUP($C$2,'Measure Recommendation'!$I$17:$X$36,6,FALSE),VLOOKUP($C$2,'Measure Recommendation'!$I$41:$X$60,6,FALSE))","v":0},{"$f":"IF(Instructions!$F$4=\"Investigation\",VLOOKUP($C$2,'Measure Recommendation'!$I$17:$X$36,7,FALSE),VLOOKUP($C$2,'Measure Recommendation'!$I$41:$X$60,7,FALSE))","v":0},{"$f":"IF(Instructions!$F$4=\"Investigation\",VLOOKUP($C$2,'Measure Recommendation'!$I$17:$X$36,8,FALSE),VLOOKUP($C$2,'Measure Recommendation'!$I$41:$X$60,8,FALSE))","v":0},{"$f":"IF(Instructions!$F$4=\"Investigation\",VLOOKUP($C$2,'Measure Recommendation'!$I$17:$X$36,10,FALSE),VLOOKUP($C$2,'Measure Recommendation'!$I$41:$X$60,10,FALSE))","v":0},{"$f":"IF(Instructions!$F$4=\"Investigation\",VLOOKUP($C$2,'Measure Recommendation'!$I$17:$X$36,11,FALSE),VLOOKUP($C$2,'Measure Recommendation'!$I$41:$X$60,11,FALSE))","v":0},{"$f":"IF(Instructions!$F$4=\"Investigation\",VLOOKUP($C$2,'Measure Recommendation'!$I$17:$X$36,13,FALSE),VLOOKUP($C$2,'Measure Recommendation'!$I$41:$X$60,13,FALSE))","v":0},{"$f":"IF(Instructions!$F$4=\"Investigation\",VLOOKUP($C$2,'Measure Recommendation'!$I$17:$X$36,14,FALSE),VLOOKUP($C$2,'Measure Recommendation'!$I$41:$X$60,14,FALSE))","v":0},{"$f":"IF(Instructions!$F$4=\"Investigation\",VLOOKUP($C$2,'Measure Recommendation'!$I$17:$X$36,15,FALSE),VLOOKUP($C$2,'Measure Recommendation'!$I$41:$X$60,15,FALSE))","v":""}]
[]
["Electric ",null,null,"Natural Gas",null,"District Cooling"]
["ComEd Peak Demand Savings (kW/month)","Electric Energy Savings (kWh/yr)","Electric Cost Savings ($/yr)","Natural Gas Savings (therms/yr)","Natural Gas Cost Savings ($/yr)","District Chilled Water Energy Savings \n(ton-hrs/year)","District Chilled Water Cost Savings ($/yr)","ECM Implement-ation Cost ($)","Simple Payback (Yrs)"]
[{"$f":"IF(Instructions!$F$4=\"Investigation\",VLOOKUP($C$2,'Measure Recommendation'!$I$17:$X$36,3,FALSE),VLOOKUP($C$2,'Measure Recommendation'!$I$41:$X$60,3,FALSE))","v":0},{"$f":"IF(Instructions!$F$4=\"Investigation\",VLOOKUP($C$2,'Measure Recommendation'!$I$17:$X$36,4,FALSE),VLOOKUP($C$2,'Measure Recommendation'!$I$41:$X$60,4,FALSE))","v":0},{"$f":"IF(Instructions!$F$4=\"Investigation\",VLOOKUP($C$2,'Measure Recommendation'!$I$17:$X$36,5,FALSE),VLOOKUP($C$2,'Measure Recommendation'!$I$41:$X$60,5,FALSE))","v":0},{"$f":"IF(Instructions!$F$4=\"Investigation\",VLOOKUP($C$2,'Measure Recommendation'!$I$17:$X$36,6,FALSE),VLOOKUP($C$2,'Measure Recommendation'!$I$41:$X$60,6,FALSE))","v":0},{"$f":"IF(Instructions!$F$4=\"Investigation\",VLOOKUP($C$2,'Measure Recommendation'!$I$17:$X$36,7,FALSE),VLOOKUP($C$2,'Measure Recommendation'!$I$41:$X$60,7,FALSE))","v":0},{"$f":"IF(Instructions!$F$4=\"Investigation\",VLOOKUP($C$2,'Measure Recommendation'!$I$17:$X$36,8,FALSE),VLOOKUP($C$2,'Measure Recommendation'!$I$41:$X$60,8,FALSE))","v":0},{"$f":"IF(Instructions!$F$4=\"Investigation\",VLOOKUP($C$2,'Measure Recommendation'!$I$17:$X$36,10,FALSE),VLOOKUP($C$2,'Measure Recommendation'!$I$41:$X$60,10,FALSE))","v":0},{"$f":"IF(Instructions!$F$4=\"Investigation\",VLOOKUP($C$2,'Measure Recommendation'!$I$17:$X$36,14,FALSE),VLOOKUP($C$2,'Measure Recommendation'!$I$41:$X$60,14,FALSE))","v":0},{"$f":"IF(Instructions!$F$4=\"Investigation\",VLOOKUP($C$2,'Measure Recommendation'!$I$17:$X$36,15,FALSE),VLOOKUP($C$2,'Measure Recommendation'!$I$41:$X$60,15,FALSE))","v":""}]
[]
["Electric ",null,null,"Natural Gas",null,"District Heating"]
["ComEd Peak Demand Savings (kW/month)","Electric Energy Savings (kWh/yr)","Electric Cost Savings ($/yr)","Natural Gas Savings (therms/yr)","Natural Gas Cost Savings ($/yr)","District Steam Energy Savings (therms/yr)","District Steam Cost Savings  ($/yr)","ECM Implement-ation Cost ($)","Simple Payback (Yrs)"]
[{"$f":"IF(Instructions!$F$4=\"Investigation\",VLOOKUP($C$2,'Measure Recommendation'!$I$17:$X$36,3,FALSE),VLOOKUP($C$2,'Measure Recommendation'!$I$41:$X$60,3,FALSE))","v":0},{"$f":"IF(Instructions!$F$4=\"Investigation\",VLOOKUP($C$2,'Measure Recommendation'!$I$17:$X$36,4,FALSE),VLOOKUP($C$2,'Measure Recommendation'!$I$41:$X$60,4,FALSE))","v":0},{"$f":"IF(Instructions!$F$4=\"Investigation\",VLOOKUP($C$2,'Measure Recommendation'!$I$17:$X$36,5,FALSE),VLOOKUP($C$2,'Measure Recommendation'!$I$41:$X$60,5,FALSE))","v":0},{"$f":"IF(Instructions!$F$4=\"Investigation\",VLOOKUP($C$2,'Measure Recommendation'!$I$17:$X$36,6,FALSE),VLOOKUP($C$2,'Measure Recommendation'!$I$41:$X$60,6,FALSE))","v":0},{"$f":"IF(Instructions!$F$4=\"Investigation\",VLOOKUP($C$2,'Measure Recommendation'!$I$17:$X$36,7,FALSE),VLOOKUP($C$2,'Measure Recommendation'!$I$41:$X$60,7,FALSE))","v":0},{"$f":"IF(Instructions!$F$4=\"Investigation\",VLOOKUP($C$2,'Measure Recommendation'!$I$17:$X$36,11,FALSE),VLOOKUP($C$2,'Measure Recommendation'!$I$41:$X$60,11,FALSE))","v":0},{"$f":"IF(Instructions!$F$4=\"Investigation\",VLOOKUP($C$2,'Measure Recommendation'!$I$17:$X$36,13,FALSE),VLOOKUP($C$2,'Measure Recommendation'!$I$41:$X$60,13,FALSE))","v":0},{"$f":"IF(Instructions!$F$4=\"Investigation\",VLOOKUP($C$2,'Measure Recommendation'!$I$17:$X$36,14,FALSE),VLOOKUP($C$2,'Measure Recommendation'!$I$41:$X$60,14,FALSE))","v":0},{"$f":"IF(Instructions!$F$4=\"Investigation\",VLOOKUP($C$2,'Measure Recommendation'!$I$17:$X$36,15,FALSE),VLOOKUP($C$2,'Measure Recommendation'!$I$41:$X$60,15,FALSE))","v":""}]
[]
[null,null,"Electric ",null,null,"Natural Gas"]
[null,null,"ComEd Peak Demand Savings (kW/month)","Electric Energy Savings (kWh/yr)","Electric Cost Savings ($/yr)","Natural Gas Savings (therms/yr)","Natural Gas Cost Savings ($/yr)","ECM Implement-ation Cost ($)","Simple Payback (Yrs)"]
[null,null,{"$f":"IF(Instructions!$F$4=\"Investigation\",VLOOKUP($C$2,'Measure Recommendation'!$I$17:$X$36,3,FALSE),VLOOKUP($C$2,'Measure Recommendation'!$I$41:$X$60,3,FALSE))","v":0},{"$f":"IF(Instructions!$F$4=\"Investigation\",VLOOKUP($C$2,'Measure Recommendation'!$I$17:$X$36,4,FALSE),VLOOKUP($C$2,'Measure Recommendation'!$I$41:$X$60,4,FALSE))","v":0},{"$f":"IF(Instructions!$F$4=\"Investigation\",VLOOKUP($C$2,'Measure Recommendation'!$I$17:$X$36,5,FALSE),VLOOKUP($C$2,'Measure Recommendation'!$I$41:$X$60,5,FALSE))","v":0},{"$f":"IF(Instructions!$F$4=\"Investigation\",VLOOKUP($C$2,'Measure Recommendation'!$I$17:$X$36,6,FALSE),VLOOKUP($C$2,'Measure Recommendation'!$I$41:$X$60,6,FALSE))","v":0},{"$f":"IF(Instructions!$F$4=\"Investigation\",VLOOKUP($C$2,'Measure Recommendation'!$I$17:$X$36,7,FALSE),VLOOKUP($C$2,'Measure Recommendation'!$I$41:$X$60,7,FALSE))","v":0},{"$f":"IF(Instructions!$F$4=\"Investigation\",VLOOKUP($C$2,'Measure Recommendation'!$I$17:$X$36,14,FALSE),VLOOKUP($C$2,'Measure Recommendation'!$I$41:$X$60,14,FALSE))","v":0},{"$f":"IF(Instructions!$F$4=\"Investigation\",VLOOKUP($C$2,'Measure Recommendation'!$I$17:$X$36,15,FALSE),VLOOKUP($C$2,'Measure Recommendation'!$I$41:$X$60,15,FALSE))","v":""}]
[]
[null,null,null,"Electric "]
[null,null,null,"ComEd Peak Demand Savings (kW/month)","Electric Energy Savings (kWh/yr)","Electric Cost Savings ($/yr)","ECM Implement-ation Cost ($)","Simple Payback (Yrs)"]
[null,null,null,{"$f":"IF(Instructions!$F$4=\"Investigation\",VLOOKUP($C$2,'Measure Recommendation'!$I$17:$X$36,3,FALSE),VLOOKUP($C$2,'Measure Recommendation'!$I$41:$X$60,3,FALSE))","v":0},{"$f":"IF(Instructions!$F$4=\"Investigation\",VLOOKUP($C$2,'Measure Recommendation'!$I$17:$X$36,4,FALSE),VLOOKUP($C$2,'Measure Recommendation'!$I$41:$X$60,4,FALSE))","v":0},{"$f":"IF(Instructions!$F$4=\"Investigation\",VLOOKUP($C$2,'Measure Recommendation'!$I$17:$X$36,5,FALSE),VLOOKUP($C$2,'Measure Recommendation'!$I$41:$X$60,5,FALSE))","v":0},{"$f":"IF(Instructions!$F$4=\"Investigation\",VLOOKUP($C$2,'Measure Recommendation'!$I$17:$X$36,14,FALSE),VLOOKUP($C$2,'Measure Recommendation'!$I$41:$X$60,14,FALSE))","v":0},{"$f":"IF(Instructions!$F$4=\"Investigation\",VLOOKUP($C$2,'Measure Recommendation'!$I$17:$X$36,15,FALSE),VLOOKUP($C$2,'Measure Recommendation'!$I$41:$X$60,15,FALSE))","v":""}]
[]
["Measure Details "]
[{"$f":"INDIRECT(\"'\"&J2&\"'!C5\")","v":"Enter text here."}]
["Existing Operation and Control Sequences"]
["Equipment affected and areas served:"]
[{"$f":"INDIRECT(\"'\"&J2&\"'!C8\")","v":"Enter text here."}]
["Baseline system operation and sequences of operation, setpoints:"]
[{"$f":"INDIRECT(\"'\"&J2&\"'!C10\")","v":"Enter text here."}]
["Investigation Approach, Findings and Data Acquisition"]
["Summary of initial investigation and functional testing:"]
[{"$f":"INDIRECT(\"'\"&J2&\"'!C13\")","v":"Enter text here."}]
["Parameters trended:"]
[{"$f":"INDIRECT(\"'\"&J2&\"'!C15\")","v":"Enter text here."}]
["Parameters functionally tested:"]
[{"$f":"INDIRECT(\"'\"&J2&\"'!C17\")","v":"Enter text here."}]
["Supporting graphs/screenshots – baseline:"]
[{"$f":"INDIRECT(\"'\"&J2&\"'!C19\")","v":"Enter text here."}]
[]
[{"$f":"INDIRECT(\"'\"&J2&\"'!C21\")","v":"Enter text here."}]
[]
["Proposed System Operation and Control Sequences - Scope of Work "]
["Proposed sequences of operation and setpoints:"]
[{"$f":"INDIRECT(\"'\"&J2&\"'!C24\")","v":"Enter text here."}]
["Integration with existing controllers: "]
[{"$f":"INDIRECT(\"'\"&J2&\"'!C26\")","v":"Enter text here."}]
["Equipment and personnel required for implementation:"]
[{"$f":"INDIRECT(\"'\"&J2&\"'!C28\")","v":"Enter text here."}]
["Calculation Methodology"]
[{"$f":"INDIRECT(\"'\"&J2&\"'!C30\")","v":"Enter text here."}]
["Measure Cost Details"]
[{"$f":"INDIRECT(\"'\"&J2&\"'!C32\")","v":"Enter text here."}]
["Verification Planning"]
[{"$f":"INDIRECT(\"'\"&J2&\"'!C34\")","v":"Enter text here."}]
["Verification Testing and Findings"]
["Parameters trended:"]
[{"$f":"INDIRECT(\"'\"&J2&\"'!C37\")","v":"To be completed during Verification Phase."}]
["Parameters functionally tested:"]
[{"$f":"INDIRECT(\"'\"&J2&\"'!C39\")","v":"To be completed during Verification Phase."}]
["Summary of verification testing:"]
[{"$f":"INDIRECT(\"'\"&J2&\"'!C41\")","v":"To be completed during Verification Phase."}]
["Modification to savings calculation:"]
[{"$f":"INDIRECT(\"'\"&J2&\"'!C43\")","v":"To be completed during Verification Phase."}]
["Supporting graphs/screenshots (post implementation):"]
[{"$f":"INDIRECT(\"'\"&J2&\"'!C45\")","v":"To be completed during Verification phase."}]
[]
[{"$f":"INDIRECT(\"'\"&J2&\"'!C47\")","v":"To be completed during Verification phase."}]

{"sheet":"MeasDet2","index":44,"n_rows":68,"n_cols":11,"rows_kept":68,"cut":false,"hidden":true,"merged":[[1,0,1,1],[1,2,1,8],[15,2,15,4],[15,5,15,6],[19,3,19,5],[40,0,40,8],[7,0,7,2],[7,3,7,4],[11,0,11,2],[11,3,11,4],[36,0,36,10],[11,5,11,6],[46,0,46,10],[48,0,48,10],[50,0,50,10],[65,0,65,8],[63,0,63,10],[57,0,57,10],[59,0,59,10],[61,0,61,10],[67,0,67,8],[3,0,3,2],[3,3,3,4],[3,5,3,6],[3,7,3,8],[27,0,27,10],[29,0,29,10],[24,0,24,10],[32,0,32,10],[34,0,34,10],[38,0,38,8],[52,0,52,10],[7,5,7,6],[54,0,54,10],[42,0,42,7],[44,0,44,10]]}
[]
["Operational ECM #2:",null,{"$f":"DataPhaseValid!G117","v":""},null,null,null,null,null,null,{"$f":"IF(Instructions!$F$4=\"Investigation\",VLOOKUP(MeasDet2!C2,'Measure Recommendation'!$I$17:$AB$36,20,FALSE),VLOOKUP(MeasDet2!C2,'Measure Recommendation'!$I$41:$AD$60,22,FALSE))","v":"ECM1"}]
[3]
["Electric ",null,null,"Natural Gas",null,"District Cooling",null,"District Heating"]
["ComEd Peak Demand Savings (kW/month)","Electric Energy Savings (kWh/yr)","Electric Cost Savings ($/yr)","Natural Gas Savings (therms/yr)","Natural Gas Cost Savings ($/yr)","District Chilled Water Energy Savings \n(ton-hrs/year)","District Chilled Water Cost Savings ($/yr)","District Steam Energy Savings (therms/yr)","District Steam Cost Savings  ($/yr)","ECM Implement-ation Cost ($)","Simple Payback (Yrs)"]
[{"$f":"IF(Instructions!$F$4=\"Investigation\",VLOOKUP($C$2,'Measure Recommendation'!$I$17:$X$36,3,FALSE),VLOOKUP($C$2,'Measure Recommendation'!$I$41:$X$60,3,FALSE))","v":0},{"$f":"IF(Instructions!$F$4=\"Investigation\",VLOOKUP($C$2,'Measure Recommendation'!$I$17:$X$36,4,FALSE),VLOOKUP($C$2,'Measure Recommendation'!$I$41:$X$60,4,FALSE))","v":0},{"$f":"IF(Instructions!$F$4=\"Investigation\",VLOOKUP($C$2,'Measure Recommendation'!$I$17:$X$36,5,FALSE),VLOOKUP($C$2,'Measure Recommendation'!$I$41:$X$60,5,FALSE))","v":0},{"$f":"IF(Instructions!$F$4=\"Investigation\",VLOOKUP($C$2,'Measure Recommendation'!$I$17:$X$36,6,FALSE),VLOOKUP($C$2,'Measure Recommendation'!$I$41:$X$60,6,FALSE))","v":0},{"$f":"IF(Instructions!$F$4=\"Investigation\",VLOOKUP($C$2,'Measure Recommendation'!$I$17:$X$36,7,FALSE),VLOOKUP($C$2,'Measure Recommendation'!$I$41:$X$60,7,FALSE))","v":0},{"$f":"IF(Instructions!$F$4=\"Investigation\",VLOOKUP($C$2,'Measure Recommendation'!$I$17:$X$36,8,FALSE),VLOOKUP($C$2,'Measure Recommendation'!$I$41:$X$60,8,FALSE))","v":0},{"$f":"IF(Instructions!$F$4=\"Investigation\",VLOOKUP($C$2,'Measure Recommendation'!$I$17:$X$36,10,FALSE),VLOOKUP($C$2,'Measure Recommendation'!$I$41:$X$60,10,FALSE))","v":0},{"$f":"IF(Instructions!$F$4=\"Investigation\",VLOOKUP($C$2,'Measure Recommendation'!$I$17:$X$36,11,FALSE),VLOOKUP($C$2,'Measure Recommendation'!$I$41:$X$60,11,FALSE))","v":0},{"$f":"IF(Instructions!$F$4=\"Investigation\",VLOOKUP($C$2,'Measure Recommendation'!$I$17:$X$36,13,FALSE),VLOOKUP($C$2,'Measure Recommendation'!$I$41:$X$60,13,FALSE))","v":0},{"$f":"IF(Instructions!$F$4=\"Investigation\",VLOOKUP($C$2,'Measure Recommendation'!$I$17:$X$36,14,FALSE),VLOOKUP($C$2,'Measure Recommendation'!$I$41:$X$60,14,FALSE))","v":0},{"$f":"IF(Instructions!$F$4=\"Investigation\",VLOOKUP($C$2,'Measure Recommendation'!$I$17:$X$36,15,FALSE),VLOOKUP($C$2,'Measure Recommendation'!$I$41:$X$60,15,FALSE))","v":""}]
[]
["Electric ",null,null,"Natural Gas",null,"District Cooling"]
["ComEd Peak Demand Savings (kW/month)","Electric Energy Savings (kWh/yr)","Electric Cost Savings ($/yr)","Natural Gas Savings (therms/yr)","Natural Gas Cost Savings ($/yr)","District Chilled Water Energy Savings \n(ton-hrs/year)","District Chilled Water Cost Savings ($/yr)","ECM Implement-ation Cost ($)","Simple Payback (Yrs)"]
[{"$f":"IF(Instructions!$F$4=\"Investigation\",VLOOKUP($C$2,'Measure Recommendation'!$I$17:$X$36,3,FALSE),VLOOKUP($C$2,'Measure Recommendation'!$I$41:$X$60,3,FALSE))","v":0},{"$f":"IF(Instructions!$F$4=\"Investigation\",VLOOKUP($C$2,'Measure Recommendation'!$I$17:$X$36,4,FALSE),VLOOKUP($C$2,'Measure Recommendation'!$I$41:$X$60,4,FALSE))","v":0},{"$f":"IF(Instructions!$F$4=\"Investigation\",VLOOKUP($C$2,'Measure Recommendation'!$I$17:$X$36,5,FALSE),VLOOKUP($C$2,'Measure Recommendation'!$I$41:$X$60,5,FALSE))","v":0},{"$f":"IF(Instructions!$F$4=\"Investigation\",VLOOKUP($C$2,'Measure Recommendation'!$I$17:$X$36,6,FALSE),VLOOKUP($C$2,'Measure Recommendation'!$I$41:$X$60,6,FALSE))","v":0},{"$f":"IF(Instructions!$F$4=\"Investigation\",VLOOKUP($C$2,'Measure Recommendation'!$I$17:$X$36,7,FALSE),VLOOKUP($C$2,'Measure Recommendation'!$I$41:$X$60,7,FALSE))","v":0},{"$f":"IF(Instructions!$F$4=\"Investigation\",VLOOKUP($C$2,'Measure Recommendation'!$I$17:$X$36,8,FALSE),VLOOKUP($C$2,'Measure Recommendation'!$I$41:$X$60,8,FALSE))","v":0},{"$f":"IF(Instructions!$F$4=\"Investigation\",VLOOKUP($C$2,'Measure Recommendation'!$I$17:$X$36,10,FALSE),VLOOKUP($C$2,'Measure Recommendation'!$I$41:$X$60,10,FALSE))","v":0},{"$f":"IF(Instructions!$F$4=\"Investigation\",VLOOKUP($C$2,'Measure Recommendation'!$I$17:$X$36,14,FALSE),VLOOKUP($C$2,'Measure Recommendation'!$I$41:$X$60,14,FALSE))","v":0},{"$f":"IF(Instructions!$F$4=\"Investigation\",VLOOKUP($C$2,'Measure Recommendation'!$I$17:$X$36,15,FALSE),VLOOKUP($C$2,'Measure Recommendation'!$I$41:$X$60,15,FALSE))","v":""}]
[]
["Electric ",null,null,"Natural Gas",null,"District Heating"]
["ComEd Peak Demand Savings (kW/month)","Electric Energy Savings (kWh/yr)","Electric Cost Savings ($/yr)","Natural Gas Savings (therms/yr)","Natural Gas Cost Savings ($/yr)","District Steam Energy Savings (therms/yr)","District Steam Cost Savings  ($/yr)","ECM Implement-ation Cost ($)","Simple Payback (Yrs)"]
[{"$f":"IF(Instructions!$F$4=\"Investigation\",VLOOKUP($C$2,'Measure Recommendation'!$I$17:$X$36,3,FALSE),VLOOKUP($C$2,'Measure Recommendation'!$I$41:$X$60,3,FALSE))","v":0},{"$f":"IF(Instructions!$F$4=\"Investigation\",VLOOKUP($C$2,'Measure Recommendation'!$I$17:$X$36,4,FALSE),VLOOKUP($C$2,'Measure Recommendation'!$I$41:$X$60,4,FALSE))","v":0},{"$f":"IF(Instructions!$F$4=\"Investigation\",VLOOKUP($C$2,'Measure Recommendation'!$I$17:$X$36,5,FALSE),VLOOKUP($C$2,'Measure Recommendation'!$I$41:$X$60,5,FALSE))","v":0},{"$f":"IF(Instructions!$F$4=\"Investigation\",VLOOKUP($C$2,'Measure Recommendation'!$I$17:$X$36,6,FALSE),VLOOKUP($C$2,'Measure Recommendation'!$I$41:$X$60,6,FALSE))","v":0},{"$f":"IF(Instructions!$F$4=\"Investigation\",VLOOKUP($C$2,'Measure Recommendation'!$I$17:$X$36,7,FALSE),VLOOKUP($C$2,'Measure Recommendation'!$I$41:$X$60,7,FALSE))","v":0},{"$f":"IF(Instructions!$F$4=\"Investigation\",VLOOKUP($C$2,'Measure Recommendation'!$I$17:$X$36,11,FALSE),VLOOKUP($C$2,'Measure Recommendation'!$I$41:$X$60,11,FALSE))","v":0},{"$f":"IF(Instructions!$F$4=\"Investigation\",VLOOKUP($C$2,'Measure Recommendation'!$I$17:$X$36,13,FALSE),VLOOKUP($C$2,'Measure Recommendation'!$I$41:$X$60,13,FALSE))","v":0},{"$f":"IF(Instructions!$F$4=\"Investigation\",VLOOKUP($C$2,'Measure Recommendation'!$I$17:$X$36,14,FALSE),VLOOKUP($C$2,'Measure Recommendation'!$I$41:$X$60,14,FALSE))","v":0},{"$f":"IF(Instructions!$F$4=\"Investigation\",VLOOKUP($C$2,'Measure Recommendation'!$I$17:$X$36,15,FALSE),VLOOKUP($C$2,'Measure Recommendation'!$I$41:$X$60,15,FALSE))","v":""}]
[]
[null,null,"Electric ",null,null,"Natural Gas"]
[null,null,"ComEd Peak Demand Savings (kW/month)","Electric Energy Savings (kWh/yr)","Electric Cost Savings ($/yr)","Natural Gas Savings (therms/yr)","Natural Gas Cost Savings ($/yr)","ECM Implement-ation Cost ($)","Simple Payback (Yrs)"]
[null,null,{"$f":"IF(Instructions!$F$4=\"Investigation\",VLOOKUP($C$2,'Measure Recommendation'!$I$17:$X$36,3,FALSE),VLOOKUP($C$2,'Measure Recommendation'!$I$41:$X$60,3,FALSE))","v":0},{"$f":"IF(Instructions!$F$4=\"Investigation\",VLOOKUP($C$2,'Measure Recommendation'!$I$17:$X$36,4,FALSE),VLOOKUP($C$2,'Measure Recommendation'!$I$41:$X$60,4,FALSE))","v":0},{"$f":"IF(Instructions!$F$4=\"Investigation\",VLOOKUP($C$2,'Measure Recommendation'!$I$17:$X$36,5,FALSE),VLOOKUP($C$2,'Measure Recommendation'!$I$41:$X$60,5,FALSE))","v":0},{"$f":"IF(Instructions!$F$4=\"Investigation\",VLOOKUP($C$2,'Measure Recommendation'!$I$17:$X$36,6,FALSE),VLOOKUP($C$2,'Measure Recommendation'!$I$41:$X$60,6,FALSE))","v":0},{"$f":"IF(Instructions!$F$4=\"Investigation\",VLOOKUP($C$2,'Measure Recommendation'!$I$17:$X$36,7,FALSE),VLOOKUP($C$2,'Measure Recommendation'!$I$41:$X$60,7,FALSE))","v":0},{"$f":"IF(Instructions!$F$4=\"Investigation\",VLOOKUP($C$2,'Measure Recommendation'!$I$17:$X$36,14,FALSE),VLOOKUP($C$2,'Measure Recommendation'!$I$41:$X$60,14,FALSE))","v":0},{"$f":"IF(Instructions!$F$4=\"Investigation\",VLOOKUP($C$2,'Measure Recommendation'!$I$17:$X$36,15,FALSE),VLOOKUP($C$2,'Measure Recommendation'!$I$41:$X$60,15,FALSE))","v":""}]
[]
[null,null,null,"Electric "]
[null,null,null,"ComEd Peak Demand Savings (kW/month)","Electric Energy Savings (kWh/yr)","Electric Cost Savings ($/yr)","ECM Implement-ation Cost ($)","Simple Payback (Yrs)"]
[null,null,null,{"$f":"IF(Instructions!$F$4=\"Investigation\",VLOOKUP($C$2,'Measure Recommendation'!$I$17:$X$36,3,FALSE),VLOOKUP($C$2,'Measure Recommendation'!$I$41:$X$60,3,FALSE))","v":0},{"$f":"IF(Instructions!$F$4=\"Investigation\",VLOOKUP($C$2,'Measure Recommendation'!$I$17:$X$36,4,FALSE),VLOOKUP($C$2,'Measure Recommendation'!$I$41:$X$60,4,FALSE))","v":0},{"$f":"IF(Instructions!$F$4=\"Investigation\",VLOOKUP($C$2,'Measure Recommendation'!$I$17:$X$36,5,FALSE),VLOOKUP($C$2,'Measure Recommendation'!$I$41:$X$60,5,FALSE))","v":0},{"$f":"IF(Instructions!$F$4=\"Investigation\",VLOOKUP($C$2,'Measure Recommendation'!$I$17:$X$36,14,FALSE),VLOOKUP($C$2,'Measure Recommendation'!$I$41:$X$60,14,FALSE))","v":0},{"$f":"IF(Instructions!$F$4=\"Investigation\",VLOOKUP($C$2,'Measure Recommendation'!$I$17:$X$36,15,FALSE),VLOOKUP($C$2,'Measure Recommendation'!$I$41:$X$60,15,FALSE))","v":""}]
[]
["Measure Details "]
[{"$f":"INDIRECT(\"'\"&J2&\"'!C5\")","v":"Enter text here."}]
["Existing Operation and Control Sequences"]
["Equipment affected and areas served:"]
[{"$f":"INDIRECT(\"'\"&J2&\"'!C8\")","v":"Enter text here."}]
["Baseline system operation and sequences of operation, setpoints:"]
[{"$f":"INDIRECT(\"'\"&J2&\"'!C10\")","v":"Enter text here."}]
["Investigation Approach, Findings and Data Acquisition"]
["Summary of initial investigation and functional testing:"]
[{"$f":"INDIRECT(\"'\"&J2&\"'!C13\")","v":"Enter text here."}]
["Parameters trended:"]
[{"$f":"INDIRECT(\"'\"&J2&\"'!C15\")","v":"Enter text here."}]
["Parameters functionally tested:"]
[{"$f":"INDIRECT(\"'\"&J2&\"'!C17\")","v":"Enter text here."}]
["Supporting graphs/screenshots – baseline:"]
[{"$f":"INDIRECT(\"'\"&J2&\"'!C19\")","v":"Enter text here."}]
[]
[{"$f":"INDIRECT(\"'\"&J2&\"'!C21\")","v":"Enter text here."}]
[]
["Proposed System Operation and Control Sequences - Scope of Work "]
["Proposed sequences of operation and setpoints:"]
[{"$f":"INDIRECT(\"'\"&J2&\"'!C24\")","v":"Enter text here."}]
["Integration with existing controllers: "]
[{"$f":"INDIRECT(\"'\"&J2&\"'!C26\")","v":"Enter text here."}]
["Equipment and personnel required for implementation:"]
[{"$f":"INDIRECT(\"'\"&J2&\"'!C28\")","v":"Enter text here."}]
["Calculation Methodology"]
[{"$f":"INDIRECT(\"'\"&J2&\"'!C30\")","v":"Enter text here."}]
["Measure Cost Details"]
[{"$f":"INDIRECT(\"'\"&J2&\"'!C32\")","v":"Enter text here."}]
["Verification Planning"]
[{"$f":"INDIRECT(\"'\"&J2&\"'!C34\")","v":"Enter text here."}]
["Verification Testing and Findings"]
["Parameters trended:"]
[{"$f":"INDIRECT(\"'\"&J2&\"'!C37\")","v":"To be completed during Verification Phase."}]
["Parameters functionally tested:"]
[{"$f":"INDIRECT(\"'\"&J2&\"'!C39\")","v":"To be completed during Verification Phase."}]
["Summary of verification testing:"]
[{"$f":"INDIRECT(\"'\"&J2&\"'!C41\")","v":"To be completed during Verification Phase."}]
["Modification to savings calculation:"]
[{"$f":"INDIRECT(\"'\"&J2&\"'!C43\")","v":"To be completed during Verification Phase."}]
["Supporting graphs/screenshots (post implementation):"]
[{"$f":"INDIRECT(\"'\"&J2&\"'!C45\")","v":"To be completed during Verification phase."}]
[]
[{"$f":"INDIRECT(\"'\"&J2&\"'!C47\")","v":"To be completed during Verification phase."}]

{"sheet":"MeasDet3","index":45,"n_rows":68,"n_cols":11,"rows_kept":68,"cut":false,"hidden":true,"merged":[[15,5,15,6],[19,3,19,5],[27,0,27,10],[29,0,29,10],[24,0,24,10],[1,0,1,1],[1,2,1,8],[32,0,32,10],[34,0,34,10],[38,0,38,8],[3,7,3,8],[7,0,7,2],[7,3,7,4],[7,5,7,6],[11,0,11,2],[11,3,11,4],[11,5,11,6],[3,0,3,2],[3,3,3,4],[3,5,3,6],[15,2,15,4],[42,0,42,7],[44,0,44,10],[36,0,36,10],[40,0,40,8],[61,0,61,10],[65,0,65,8],[67,0,67,8],[46,0,46,10],[48,0,48,10],[50,0,50,10],[57,0,57,10],[59,0,59,10],[52,0,52,10],[54,0,54,10],[63,0,63,10]]}
[]
["Operational ECM #3:",null,{"$f":"DataPhaseValid!G118","v":""},null,null,null,null,null,null,{"$f":"IF(Instructions!$F$4=\"Investigation\",VLOOKUP(MeasDet3!C2,'Measure Recommendation'!$I$17:$AB$36,20,FALSE),VLOOKUP(MeasDet3!C2,'Measure Recommendation'!$I$41:$AD$60,22,FALSE))","v":"ECM1"}]
[3]
["Electric ",null,null,"Natural Gas",null,"District Cooling",null,"District Heating"]
["ComEd Peak Demand Savings (kW/month)","Electric Energy Savings (kWh/yr)","Electric Cost Savings ($/yr)","Natural Gas Savings (therms/yr)","Natural Gas Cost Savings ($/yr)","District Chilled Water Energy Savings \n(ton-hrs/year)","District Chilled Water Cost Savings ($/yr)","District Steam Energy Savings (therms/yr)","District Steam Cost Savings  ($/yr)","ECM Implement-ation Cost ($)","Simple Payback (Yrs)"]
[{"$f":"IF(Instructions!$F$4=\"Investigation\",VLOOKUP($C$2,'Measure Recommendation'!$I$17:$X$36,3,FALSE),VLOOKUP($C$2,'Measure Recommendation'!$I$41:$X$60,3,FALSE))","v":0},{"$f":"IF(Instructions!$F$4=\"Investigation\",VLOOKUP($C$2,'Measure Recommendation'!$I$17:$X$36,4,FALSE),VLOOKUP($C$2,'Measure Recommendation'!$I$41:$X$60,4,FALSE))","v":0},{"$f":"IF(Instructions!$F$4=\"Investigation\",VLOOKUP($C$2,'Measure Recommendation'!$I$17:$X$36,5,FALSE),VLOOKUP($C$2,'Measure Recommendation'!$I$41:$X$60,5,FALSE))","v":0},{"$f":"IF(Instructions!$F$4=\"Investigation\",VLOOKUP($C$2,'Measure Recommendation'!$I$17:$X$36,6,FALSE),VLOOKUP($C$2,'Measure Recommendation'!$I$41:$X$60,6,FALSE))","v":0},{"$f":"IF(Instructions!$F$4=\"Investigation\",VLOOKUP($C$2,'Measure Recommendation'!$I$17:$X$36,7,FALSE),VLOOKUP($C$2,'Measure Recommendation'!$I$41:$X$60,7,FALSE))","v":0},{"$f":"IF(Instructions!$F$4=\"Investigation\",VLOOKUP($C$2,'Measure Recommendation'!$I$17:$X$36,8,FALSE),VLOOKUP($C$2,'Measure Recommendation'!$I$41:$X$60,8,FALSE))","v":0},{"$f":"IF(Instructions!$F$4=\"Investigation\",VLOOKUP($C$2,'Measure Recommendation'!$I$17:$X$36,10,FALSE),VLOOKUP($C$2,'Measure Recommendation'!$I$41:$X$60,10,FALSE))","v":0},{"$f":"IF(Instructions!$F$4=\"Investigation\",VLOOKUP($C$2,'Measure Recommendation'!$I$17:$X$36,11,FALSE),VLOOKUP($C$2,'Measure Recommendation'!$I$41:$X$60,11,FALSE))","v":0},{"$f":"IF(Instructions!$F$4=\"Investigation\",VLOOKUP($C$2,'Measure Recommendation'!$I$17:$X$36,13,FALSE),VLOOKUP($C$2,'Measure Recommendation'!$I$41:$X$60,13,FALSE))","v":0},{"$f":"IF(Instructions!$F$4=\"Investigation\",VLOOKUP($C$2,'Measure Recommendation'!$I$17:$X$36,14,FALSE),VLOOKUP($C$2,'Measure Recommendation'!$I$41:$X$60,14,FALSE))","v":0},{"$f":"IF(Instructions!$F$4=\"Investigation\",VLOOKUP($C$2,'Measure Recommendation'!$I$17:$X$36,15,FALSE),VLOOKUP($C$2,'Measure Recommendation'!$I$41:$X$60,15,FALSE))","v":""}]
[]
["Electric ",null,null,"Natural Gas",null,"District Cooling"]
["ComEd Peak Demand Savings (kW/month)","Electric Energy Savings (kWh/yr)","Electric Cost Savings ($/yr)","Natural Gas Savings (therms/yr)","Natural Gas Cost Savings ($/yr)","District Chilled Water Energy Savings \n(ton-hrs/year)","District Chilled Water Cost Savings ($/yr)","ECM Implement-ation Cost ($)","Simple Payback (Yrs)"]
[{"$f":"IF(Instructions!$F$4=\"Investigation\",VLOOKUP($C$2,'Measure Recommendation'!$I$17:$X$36,3,FALSE),VLOOKUP($C$2,'Measure Recommendation'!$I$41:$X$60,3,FALSE))","v":0},{"$f":"IF(Instructions!$F$4=\"Investigation\",VLOOKUP($C$2,'Measure Recommendation'!$I$17:$X$36,4,FALSE),VLOOKUP($C$2,'Measure Recommendation'!$I$41:$X$60,4,FALSE))","v":0},{"$f":"IF(Instructions!$F$4=\"Investigation\",VLOOKUP($C$2,'Measure Recommendation'!$I$17:$X$36,5,FALSE),VLOOKUP($C$2,'Measure Recommendation'!$I$41:$X$60,5,FALSE))","v":0},{"$f":"IF(Instructions!$F$4=\"Investigation\",VLOOKUP($C$2,'Measure Recommendation'!$I$17:$X$36,6,FALSE),VLOOKUP($C$2,'Measure Recommendation'!$I$41:$X$60,6,FALSE))","v":0},{"$f":"IF(Instructions!$F$4=\"Investigation\",VLOOKUP($C$2,'Measure Recommendation'!$I$17:$X$36,7,FALSE),VLOOKUP($C$2,'Measure Recommendation'!$I$41:$X$60,7,FALSE))","v":0},{"$f":"IF(Instructions!$F$4=\"Investigation\",VLOOKUP($C$2,'Measure Recommendation'!$I$17:$X$36,8,FALSE),VLOOKUP($C$2,'Measure Recommendation'!$I$41:$X$60,8,FALSE))","v":0},{"$f":"IF(Instructions!$F$4=\"Investigation\",VLOOKUP($C$2,'Measure Recommendation'!$I$17:$X$36,10,FALSE),VLOOKUP($C$2,'Measure Recommendation'!$I$41:$X$60,10,FALSE))","v":0},{"$f":"IF(Instructions!$F$4=\"Investigation\",VLOOKUP($C$2,'Measure Recommendation'!$I$17:$X$36,14,FALSE),VLOOKUP($C$2,'Measure Recommendation'!$I$41:$X$60,14,FALSE))","v":0},{"$f":"IF(Instructions!$F$4=\"Investigation\",VLOOKUP($C$2,'Measure Recommendation'!$I$17:$X$36,15,FALSE),VLOOKUP($C$2,'Measure Recommendation'!$I$41:$X$60,15,FALSE))","v":""}]
[]
["Electric ",null,null,"Natural Gas",null,"District Heating"]
["ComEd Peak Demand Savings (kW/month)","Electric Energy Savings (kWh/yr)","Electric Cost Savings ($/yr)","Natural Gas Savings (therms/yr)","Natural Gas Cost Savings ($/yr)","District Steam Energy Savings (therms/yr)","District Steam Cost Savings  ($/yr)","ECM Implement-ation Cost ($)","Simple Payback (Yrs)"]
[{"$f":"IF(Instructions!$F$4=\"Investigation\",VLOOKUP($C$2,'Measure Recommendation'!$I$17:$X$36,3,FALSE),VLOOKUP($C$2,'Measure Recommendation'!$I$41:$X$60,3,FALSE))","v":0},{"$f":"IF(Instructions!$F$4=\"Investigation\",VLOOKUP($C$2,'Measure Recommendation'!$I$17:$X$36,4,FALSE),VLOOKUP($C$2,'Measure Recommendation'!$I$41:$X$60,4,FALSE))","v":0},{"$f":"IF(Instructions!$F$4=\"Investigation\",VLOOKUP($C$2,'Measure Recommendation'!$I$17:$X$36,5,FALSE),VLOOKUP($C$2,'Measure Recommendation'!$I$41:$X$60,5,FALSE))","v":0},{"$f":"IF(Instructions!$F$4=\"Investigation\",VLOOKUP($C$2,'Measure Recommendation'!$I$17:$X$36,6,FALSE),VLOOKUP($C$2,'Measure Recommendation'!$I$41:$X$60,6,FALSE))","v":0},{"$f":"IF(Instructions!$F$4=\"Investigation\",VLOOKUP($C$2,'Measure Recommendation'!$I$17:$X$36,7,FALSE),VLOOKUP($C$2,'Measure Recommendation'!$I$41:$X$60,7,FALSE))","v":0},{"$f":"IF(Instructions!$F$4=\"Investigation\",VLOOKUP($C$2,'Measure Recommendation'!$I$17:$X$36,11,FALSE),VLOOKUP($C$2,'Measure Recommendation'!$I$41:$X$60,11,FALSE))","v":0},{"$f":"IF(Instructions!$F$4=\"Investigation\",VLOOKUP($C$2,'Measure Recommendation'!$I$17:$X$36,13,FALSE),VLOOKUP($C$2,'Measure Recommendation'!$I$41:$X$60,13,FALSE))","v":0},{"$f":"IF(Instructions!$F$4=\"Investigation\",VLOOKUP($C$2,'Measure Recommendation'!$I$17:$X$36,14,FALSE),VLOOKUP($C$2,'Measure Recommendation'!$I$41:$X$60,14,FALSE))","v":0},{"$f":"IF(Instructions!$F$4=\"Investigation\",VLOOKUP($C$2,'Measure Recommendation'!$I$17:$X$36,15,FALSE),VLOOKUP($C$2,'Measure Recommendation'!$I$41:$X$60,15,FALSE))","v":""}]
[]
[null,null,"Electric ",null,null,"Natural Gas"]
[null,null,"ComEd Peak Demand Savings (kW/month)","Electric Energy Savings (kWh/yr)","Electric Cost Savings ($/yr)","Natural Gas Savings (therms/yr)","Natural Gas Cost Savings ($/yr)","ECM Implement-ation Cost ($)","Simple Payback (Yrs)"]
[null,null,{"$f":"IF(Instructions!$F$4=\"Investigation\",VLOOKUP($C$2,'Measure Recommendation'!$I$17:$X$36,3,FALSE),VLOOKUP($C$2,'Measure Recommendation'!$I$41:$X$60,3,FALSE))","v":0},{"$f":"IF(Instructions!$F$4=\"Investigation\",VLOOKUP($C$2,'Measure Recommendation'!$I$17:$X$36,4,FALSE),VLOOKUP($C$2,'Measure Recommendation'!$I$41:$X$60,4,FALSE))","v":0},{"$f":"IF(Instructions!$F$4=\"Investigation\",VLOOKUP($C$2,'Measure Recommendation'!$I$17:$X$36,5,FALSE),VLOOKUP($C$2,'Measure Recommendation'!$I$41:$X$60,5,FALSE))","v":0},{"$f":"IF(Instructions!$F$4=\"Investigation\",VLOOKUP($C$2,'Measure Recommendation'!$I$17:$X$36,6,FALSE),VLOOKUP($C$2,'Measure Recommendation'!$I$41:$X$60,6,FALSE))","v":0},{"$f":"IF(Instructions!$F$4=\"Investigation\",VLOOKUP($C$2,'Measure Recommendation'!$I$17:$X$36,7,FALSE),VLOOKUP($C$2,'Measure Recommendation'!$I$41:$X$60,7,FALSE))","v":0},{"$f":"IF(Instructions!$F$4=\"Investigation\",VLOOKUP($C$2,'Measure Recommendation'!$I$17:$X$36,14,FALSE),VLOOKUP($C$2,'Measure Recommendation'!$I$41:$X$60,14,FALSE))","v":0},{"$f":"IF(Instructions!$F$4=\"Investigation\",VLOOKUP($C$2,'Measure Recommendation'!$I$17:$X$36,15,FALSE),VLOOKUP($C$2,'Measure Recommendation'!$I$41:$X$60,15,FALSE))","v":""}]
[]
[null,null,null,"Electric "]
[null,null,null,"ComEd Peak Demand Savings (kW/month)","Electric Energy Savings (kWh/yr)","Electric Cost Savings ($/yr)","ECM Implement-ation Cost ($)","Simple Payback (Yrs)"]
[null,null,null,{"$f":"IF(Instructions!$F$4=\"Investigation\",VLOOKUP($C$2,'Measure Recommendation'!$I$17:$X$36,3,FALSE),VLOOKUP($C$2,'Measure Recommendation'!$I$41:$X$60,3,FALSE))","v":0},{"$f":"IF(Instructions!$F$4=\"Investigation\",VLOOKUP($C$2,'Measure Recommendation'!$I$17:$X$36,4,FALSE),VLOOKUP($C$2,'Measure Recommendation'!$I$41:$X$60,4,FALSE))","v":0},{"$f":"IF(Instructions!$F$4=\"Investigation\",VLOOKUP($C$2,'Measure Recommendation'!$I$17:$X$36,5,FALSE),VLOOKUP($C$2,'Measure Recommendation'!$I$41:$X$60,5,FALSE))","v":0},{"$f":"IF(Instructions!$F$4=\"Investigation\",VLOOKUP($C$2,'Measure Recommendation'!$I$17:$X$36,14,FALSE),VLOOKUP($C$2,'Measure Recommendation'!$I$41:$X$60,14,FALSE))","v":0},{"$f":"IF(Instructions!$F$4=\"Investigation\",VLOOKUP($C$2,'Measure Recommendation'!$I$17:$X$36,15,FALSE),VLOOKUP($C$2,'Measure Recommendation'!$I$41:$X$60,15,FALSE))","v":""}]
[]
["Measure Details "]
[{"$f":"INDIRECT(\"'\"&J2&\"'!C5\")","v":"Enter text here."}]
["Existing Operation and Control Sequences"]
["Equipment affected and areas served:"]
[{"$f":"INDIRECT(\"'\"&J2&\"'!C8\")","v":"Enter text here."}]
["Baseline system operation and sequences of operation, setpoints:"]
[{"$f":"INDIRECT(\"'\"&J2&\"'!C10\")","v":"Enter text here."}]
["Investigation Approach, Findings and Data Acquisition"]
["Summary of initial investigation and functional testing:"]
[{"$f":"INDIRECT(\"'\"&J2&\"'!C13\")","v":"Enter text here."}]
["Parameters trended:"]
[{"$f":"INDIRECT(\"'\"&J2&\"'!C15\")","v":"Enter text here."}]
["Parameters functionally tested:"]
[{"$f":"INDIRECT(\"'\"&J2&\"'!C17\")","v":"Enter text here."}]
["Supporting graphs/screenshots – baseline:"]
[{"$f":"INDIRECT(\"'\"&J2&\"'!C19\")","v":"Enter text here."}]
[]
[{"$f":"INDIRECT(\"'\"&J2&\"'!C21\")","v":"Enter text here."}]
[]
["Proposed System Operation and Control Sequences - Scope of Work "]
["Proposed sequences of operation and setpoints:"]
[{"$f":"INDIRECT(\"'\"&J2&\"'!C24\")","v":"Enter text here."}]
["Integration with existing controllers: "]
[{"$f":"INDIRECT(\"'\"&J2&\"'!C26\")","v":"Enter text here."}]
["Equipment and personnel required for implementation:"]
[{"$f":"INDIRECT(\"'\"&J2&\"'!C28\")","v":"Enter text here."}]
["Calculation Methodology"]
[{"$f":"INDIRECT(\"'\"&J2&\"'!C30\")","v":"Enter text here."}]
["Measure Cost Details"]
[{"$f":"INDIRECT(\"'\"&J2&\"'!C32\")","v":"Enter text here."}]
["Verification Planning"]
[{"$f":"INDIRECT(\"'\"&J2&\"'!C34\")","v":"Enter text here."}]
["Verification Testing and Findings"]
["Parameters trended:"]
[{"$f":"INDIRECT(\"'\"&J2&\"'!C37\")","v":"To be completed during Verification Phase."}]
["Parameters functionally tested:"]
[{"$f":"INDIRECT(\"'\"&J2&\"'!C39\")","v":"To be completed during Verification Phase."}]
["Summary of verification testing:"]
[{"$f":"INDIRECT(\"'\"&J2&\"'!C41\")","v":"To be completed during Verification Phase."}]
["Modification to savings calculation:"]
[{"$f":"INDIRECT(\"'\"&J2&\"'!C43\")","v":"To be completed during Verification Phase."}]
["Supporting graphs/screenshots (post implementation):"]
[{"$f":"INDIRECT(\"'\"&J2&\"'!C45\")","v":"To be completed during Verification phase."}]
[]
[{"$f":"INDIRECT(\"'\"&J2&\"'!C47\")","v":"To be completed during Verification phase."}]

{"sheet":"MeasDet4","index":46,"n_rows":68,"n_cols":11,"rows_kept":68,"cut":false,"hidden":true,"merged":[[15,5,15,6],[19,3,19,5],[27,0,27,10],[29,0,29,10],[24,0,24,10],[1,0,1,1],[1,2,1,8],[32,0,32,10],[34,0,34,10],[38,0,38,8],[3,7,3,8],[7,0,7,2],[7,3,7,4],[7,5,7,6],[11,0,11,2],[11,3,11,4],[11,5,11,6],[3,0,3,2],[3,3,3,4],[3,5,3,6],[15,2,15,4],[42,0,42,7],[44,0,44,10],[36,0,36,10],[40,0,40,8],[61,0,61,10],[65,0,65,8],[67,0,67,8],[46,0,46,10],[48,0,48,10],[50,0,50,10],[57,0,57,10],[59,0,59,10],[52,0,52,10],[54,0,54,10],[63,0,63,10]]}
[]
["Operational ECM #4:",null,{"$f":"DataPhaseValid!G119","v":""},null,null,null,null,null,null,{"$f":"IF(Instructions!$F$4=\"Investigation\",VLOOKUP(MeasDet4!C2,'Measure Recommendation'!$I$17:$AB$36,20,FALSE),VLOOKUP(MeasDet4!C2,'Measure Recommendation'!$I$41:$AD$60,22,FALSE))","v":"ECM1"}]
[3]
["Electric ",null,null,"Natural Gas",null,"District Cooling",null,"District Heating"]
["ComEd Peak Demand Savings (kW/month)","Electric Energy Savings (kWh/yr)","Electric Cost Savings ($/yr)","Natural Gas Savings (therms/yr)","Natural Gas Cost Savings ($/yr)","District Chilled Water Energy Savings \n(ton-hrs/year)","District Chilled Water Cost Savings ($/yr)","District Steam Energy Savings (therms/yr)","District Steam Cost Savings  ($/yr)","ECM Implement-ation Cost ($)","Simple Payback (Yrs)"]
[{"$f":"IF(Instructions!$F$4=\"Investigation\",VLOOKUP($C$2,'Measure Recommendation'!$I$17:$X$36,3,FALSE),VLOOKUP($C$2,'Measure Recommendation'!$I$41:$X$60,3,FALSE))","v":0},{"$f":"IF(Instructions!$F$4=\"Investigation\",VLOOKUP($C$2,'Measure Recommendation'!$I$17:$X$36,4,FALSE),VLOOKUP($C$2,'Measure Recommendation'!$I$41:$X$60,4,FALSE))","v":0},{"$f":"IF(Instructions!$F$4=\"Investigation\",VLOOKUP($C$2,'Measure Recommendation'!$I$17:$X$36,5,FALSE),VLOOKUP($C$2,'Measure Recommendation'!$I$41:$X$60,5,FALSE))","v":0},{"$f":"IF(Instructions!$F$4=\"Investigation\",VLOOKUP($C$2,'Measure Recommendation'!$I$17:$X$36,6,FALSE),VLOOKUP($C$2,'Measure Recommendation'!$I$41:$X$60,6,FALSE))","v":0},{"$f":"IF(Instructions!$F$4=\"Investigation\",VLOOKUP($C$2,'Measure Recommendation'!$I$17:$X$36,7,FALSE),VLOOKUP($C$2,'Measure Recommendation'!$I$41:$X$60,7,FALSE))","v":0},{"$f":"IF(Instructions!$F$4=\"Investigation\",VLOOKUP($C$2,'Measure Recommendation'!$I$17:$X$36,8,FALSE),VLOOKUP($C$2,'Measure Recommendation'!$I$41:$X$60,8,FALSE))","v":0},{"$f":"IF(Instructions!$F$4=\"Investigation\",VLOOKUP($C$2,'Measure Recommendation'!$I$17:$X$36,10,FALSE),VLOOKUP($C$2,'Measure Recommendation'!$I$41:$X$60,10,FALSE))","v":0},{"$f":"IF(Instructions!$F$4=\"Investigation\",VLOOKUP($C$2,'Measure Recommendation'!$I$17:$X$36,11,FALSE),VLOOKUP($C$2,'Measure Recommendation'!$I$41:$X$60,11,FALSE))","v":0},{"$f":"IF(Instructions!$F$4=\"Investigation\",VLOOKUP($C$2,'Measure Recommendation'!$I$17:$X$36,13,FALSE),VLOOKUP($C$2,'Measure Recommendation'!$I$41:$X$60,13,FALSE))","v":0},{"$f":"IF(Instructions!$F$4=\"Investigation\",VLOOKUP($C$2,'Measure Recommendation'!$I$17:$X$36,14,FALSE),VLOOKUP($C$2,'Measure Recommendation'!$I$41:$X$60,14,FALSE))","v":0},{"$f":"IF(Instructions!$F$4=\"Investigation\",VLOOKUP($C$2,'Measure Recommendation'!$I$17:$X$36,15,FALSE),VLOOKUP($C$2,'Measure Recommendation'!$I$41:$X$60,15,FALSE))","v":""}]
[]
["Electric ",null,null,"Natural Gas",null,"District Cooling"]
["ComEd Peak Demand Savings (kW/month)","Electric Energy Savings (kWh/yr)","Electric Cost Savings ($/yr)","Natural Gas Savings (therms/yr)","Natural Gas Cost Savings ($/yr)","District Chilled Water Energy Savings \n(ton-hrs/year)","District Chilled Water Cost Savings ($/yr)","ECM Implement-ation Cost ($)","Simple Payback (Yrs)"]
[{"$f":"IF(Instructions!$F$4=\"Investigation\",VLOOKUP($C$2,'Measure Recommendation'!$I$17:$X$36,3,FALSE),VLOOKUP($C$2,'Measure Recommendation'!$I$41:$X$60,3,FALSE))","v":0},{"$f":"IF(Instructions!$F$4=\"Investigation\",VLOOKUP($C$2,'Measure Recommendation'!$I$17:$X$36,4,FALSE),VLOOKUP($C$2,'Measure Recommendation'!$I$41:$X$60,4,FALSE))","v":0},{"$f":"IF(Instructions!$F$4=\"Investigation\",VLOOKUP($C$2,'Measure Recommendation'!$I$17:$X$36,5,FALSE),VLOOKUP($C$2,'Measure Recommendation'!$I$41:$X$60,5,FALSE))","v":0},{"$f":"IF(Instructions!$F$4=\"Investigation\",VLOOKUP($C$2,'Measure Recommendation'!$I$17:$X$36,6,FALSE),VLOOKUP($C$2,'Measure Recommendation'!$I$41:$X$60,6,FALSE))","v":0},{"$f":"IF(Instructions!$F$4=\"Investigation\",VLOOKUP($C$2,'Measure Recommendation'!$I$17:$X$36,7,FALSE),VLOOKUP($C$2,'Measure Recommendation'!$I$41:$X$60,7,FALSE))","v":0},{"$f":"IF(Instructions!$F$4=\"Investigation\",VLOOKUP($C$2,'Measure Recommendation'!$I$17:$X$36,8,FALSE),VLOOKUP($C$2,'Measure Recommendation'!$I$41:$X$60,8,FALSE))","v":0},{"$f":"IF(Instructions!$F$4=\"Investigation\",VLOOKUP($C$2,'Measure Recommendation'!$I$17:$X$36,10,FALSE),VLOOKUP($C$2,'Measure Recommendation'!$I$41:$X$60,10,FALSE))","v":0},{"$f":"IF(Instructions!$F$4=\"Investigation\",VLOOKUP($C$2,'Measure Recommendation'!$I$17:$X$36,14,FALSE),VLOOKUP($C$2,'Measure Recommendation'!$I$41:$X$60,14,FALSE))","v":0},{"$f":"IF(Instructions!$F$4=\"Investigation\",VLOOKUP($C$2,'Measure Recommendation'!$I$17:$X$36,15,FALSE),VLOOKUP($C$2,'Measure Recommendation'!$I$41:$X$60,15,FALSE))","v":""}]
[]
["Electric ",null,null,"Natural Gas",null,"District Heating"]
["ComEd Peak Demand Savings (kW/month)","Electric Energy Savings (kWh/yr)","Electric Cost Savings ($/yr)","Natural Gas Savings (therms/yr)","Natural Gas Cost Savings ($/yr)","District Steam Energy Savings (therms/yr)","District Steam Cost Savings  ($/yr)","ECM Implement-ation Cost ($)","Simple Payback (Yrs)"]
[{"$f":"IF(Instructions!$F$4=\"Investigation\",VLOOKUP($C$2,'Measure Recommendation'!$I$17:$X$36,3,FALSE),VLOOKUP($C$2,'Measure Recommendation'!$I$41:$X$60,3,FALSE))","v":0},{"$f":"IF(Instructions!$F$4=\"Investigation\",VLOOKUP($C$2,'Measure Recommendation'!$I$17:$X$36,4,FALSE),VLOOKUP($C$2,'Measure Recommendation'!$I$41:$X$60,4,FALSE))","v":0},{"$f":"IF(Instructions!$F$4=\"Investigation\",VLOOKUP($C$2,'Measure Recommendation'!$I$17:$X$36,5,FALSE),VLOOKUP($C$2,'Measure Recommendation'!$I$41:$X$60,5,FALSE))","v":0},{"$f":"IF(Instructions!$F$4=\"Investigation\",VLOOKUP($C$2,'Measure Recommendation'!$I$17:$X$36,6,FALSE),VLOOKUP($C$2,'Measure Recommendation'!$I$41:$X$60,6,FALSE))","v":0},{"$f":"IF(Instructions!$F$4=\"Investigation\",VLOOKUP($C$2,'Measure Recommendation'!$I$17:$X$36,7,FALSE),VLOOKUP($C$2,'Measure Recommendation'!$I$41:$X$60,7,FALSE))","v":0},{"$f":"IF(Instructions!$F$4=\"Investigation\",VLOOKUP($C$2,'Measure Recommendation'!$I$17:$X$36,11,FALSE),VLOOKUP($C$2,'Measure Recommendation'!$I$41:$X$60,11,FALSE))","v":0},{"$f":"IF(Instructions!$F$4=\"Investigation\",VLOOKUP($C$2,'Measure Recommendation'!$I$17:$X$36,13,FALSE),VLOOKUP($C$2,'Measure Recommendation'!$I$41:$X$60,13,FALSE))","v":0},{"$f":"IF(Instructions!$F$4=\"Investigation\",VLOOKUP($C$2,'Measure Recommendation'!$I$17:$X$36,14,FALSE),VLOOKUP($C$2,'Measure Recommendation'!$I$41:$X$60,14,FALSE))","v":0},{"$f":"IF(Instructions!$F$4=\"Investigation\",VLOOKUP($C$2,'Measure Recommendation'!$I$17:$X$36,15,FALSE),VLOOKUP($C$2,'Measure Recommendation'!$I$41:$X$60,15,FALSE))","v":""}]
[]
[null,null,"Electric ",null,null,"Natural Gas"]
[null,null,"ComEd Peak Demand Savings (kW/month)","Electric Energy Savings (kWh/yr)","Electric Cost Savings ($/yr)","Natural Gas Savings (therms/yr)","Natural Gas Cost Savings ($/yr)","ECM Implement-ation Cost ($)","Simple Payback (Yrs)"]
[null,null,{"$f":"IF(Instructions!$F$4=\"Investigation\",VLOOKUP($C$2,'Measure Recommendation'!$I$17:$X$36,3,FALSE),VLOOKUP($C$2,'Measure Recommendation'!$I$41:$X$60,3,FALSE))","v":0},{"$f":"IF(Instructions!$F$4=\"Investigation\",VLOOKUP($C$2,'Measure Recommendation'!$I$17:$X$36,4,FALSE),VLOOKUP($C$2,'Measure Recommendation'!$I$41:$X$60,4,FALSE))","v":0},{"$f":"IF(Instructions!$F$4=\"Investigation\",VLOOKUP($C$2,'Measure Recommendation'!$I$17:$X$36,5,FALSE),VLOOKUP($C$2,'Measure Recommendation'!$I$41:$X$60,5,FALSE))","v":0},{"$f":"IF(Instructions!$F$4=\"Investigation\",VLOOKUP($C$2,'Measure Recommendation'!$I$17:$X$36,6,FALSE),VLOOKUP($C$2,'Measure Recommendation'!$I$41:$X$60,6,FALSE))","v":0},{"$f":"IF(Instructions!$F$4=\"Investigation\",VLOOKUP($C$2,'Measure Recommendation'!$I$17:$X$36,7,FALSE),VLOOKUP($C$2,'Measure Recommendation'!$I$41:$X$60,7,FALSE))","v":0},{"$f":"IF(Instructions!$F$4=\"Investigation\",VLOOKUP($C$2,'Measure Recommendation'!$I$17:$X$36,14,FALSE),VLOOKUP($C$2,'Measure Recommendation'!$I$41:$X$60,14,FALSE))","v":0},{"$f":"IF(Instructions!$F$4=\"Investigation\",VLOOKUP($C$2,'Measure Recommendation'!$I$17:$X$36,15,FALSE),VLOOKUP($C$2,'Measure Recommendation'!$I$41:$X$60,15,FALSE))","v":""}]
[]
[null,null,null,"Electric "]
[null,null,null,"ComEd Peak Demand Savings (kW/month)","Electric Energy Savings (kWh/yr)","Electric Cost Savings ($/yr)","ECM Implement-ation Cost ($)","Simple Payback (Yrs)"]
[null,null,null,{"$f":"IF(Instructions!$F$4=\"Investigation\",VLOOKUP($C$2,'Measure Recommendation'!$I$17:$X$36,3,FALSE),VLOOKUP($C$2,'Measure Recommendation'!$I$41:$X$60,3,FALSE))","v":0},{"$f":"IF(Instructions!$F$4=\"Investigation\",VLOOKUP($C$2,'Measure Recommendation'!$I$17:$X$36,4,FALSE),VLOOKUP($C$2,'Measure Recommendation'!$I$41:$X$60,4,FALSE))","v":0},{"$f":"IF(Instructions!$F$4=\"Investigation\",VLOOKUP($C$2,'Measure Recommendation'!$I$17:$X$36,5,FALSE),VLOOKUP($C$2,'Measure Recommendation'!$I$41:$X$60,5,FALSE))","v":0},{"$f":"IF(Instructions!$F$4=\"Investigation\",VLOOKUP($C$2,'Measure Recommendation'!$I$17:$X$36,14,FALSE),VLOOKUP($C$2,'Measure Recommendation'!$I$41:$X$60,14,FALSE))","v":0},{"$f":"IF(Instructions!$F$4=\"Investigation\",VLOOKUP($C$2,'Measure Recommendation'!$I$17:$X$36,15,FALSE),VLOOKUP($C$2,'Measure Recommendation'!$I$41:$X$60,15,FALSE))","v":""}]
[]
["Measure Details "]
[{"$f":"INDIRECT(\"'\"&J2&\"'!C5\")","v":"Enter text here."}]
["Existing Operation and Control Sequences"]
["Equipment affected and areas served:"]
[{"$f":"INDIRECT(\"'\"&J2&\"'!C8\")","v":"Enter text here."}]
["Baseline system operation and sequences of operation, setpoints:"]
[{"$f":"INDIRECT(\"'\"&J2&\"'!C10\")","v":"Enter text here."}]
["Investigation Approach, Findings and Data Acquisition"]
["Summary of initial investigation and functional testing:"]
[{"$f":"INDIRECT(\"'\"&J2&\"'!C13\")","v":"Enter text here."}]
["Parameters trended:"]
[{"$f":"INDIRECT(\"'\"&J2&\"'!C15\")","v":"Enter text here."}]
["Parameters functionally tested:"]
[{"$f":"INDIRECT(\"'\"&J2&\"'!C17\")","v":"Enter text here."}]
["Supporting graphs/screenshots – baseline:"]
[{"$f":"INDIRECT(\"'\"&J2&\"'!C19\")","v":"Enter text here."}]
[]
[{"$f":"INDIRECT(\"'\"&J2&\"'!C21\")","v":"Enter text here."}]
[]
["Proposed System Operation and Control Sequences - Scope of Work "]
["Proposed sequences of operation and setpoints:"]
[{"$f":"INDIRECT(\"'\"&J2&\"'!C24\")","v":"Enter text here."}]
["Integration with existing controllers: "]
[{"$f":"INDIRECT(\"'\"&J2&\"'!C26\")","v":"Enter text here."}]
["Equipment and personnel required for implementation:"]
[{"$f":"INDIRECT(\"'\"&J2&\"'!C28\")","v":"Enter text here."}]
["Calculation Methodology"]
[{"$f":"INDIRECT(\"'\"&J2&\"'!C30\")","v":"Enter text here."}]
["Measure Cost Details"]
[{"$f":"INDIRECT(\"'\"&J2&\"'!C32\")","v":"Enter text here."}]
["Verification Planning"]
[{"$f":"INDIRECT(\"'\"&J2&\"'!C34\")","v":"Enter text here."}]
["Verification Testing and Findings"]
["Parameters trended:"]
[{"$f":"INDIRECT(\"'\"&J2&\"'!C37\")","v":"To be completed during Verification Phase."}]
["Parameters functionally tested:"]
[{"$f":"INDIRECT(\"'\"&J2&\"'!C39\")","v":"To be completed during Verification Phase."}]
["Summary of verification testing:"]
[{"$f":"INDIRECT(\"'\"&J2&\"'!C41\")","v":"To be completed during Verification Phase."}]
["Modification to savings calculation:"]
[{"$f":"INDIRECT(\"'\"&J2&\"'!C43\")","v":"To be completed during Verification Phase."}]
["Supporting graphs/screenshots (post implementation):"]
[{"$f":"INDIRECT(\"'\"&J2&\"'!C45\")","v":"To be completed during Verification phase."}]
[]
[{"$f":"INDIRECT(\"'\"&J2&\"'!C47\")","v":"To be completed during Verification phase."}]

{"sheet":"MeasDet5","index":47,"n_rows":68,"n_cols":11,"rows_kept":68,"cut":false,"hidden":true,"merged":[[1,0,1,1],[1,2,1,8],[19,3,19,5],[27,0,27,10],[29,0,29,10],[36,0,36,10],[24,0,24,10],[32,0,32,10],[34,0,34,10],[65,0,65,8],[50,0,50,10],[57,0,57,10],[59,0,59,10],[61,0,61,10],[38,0,38,8],[42,0,42,7],[44,0,44,10],[46,0,46,10],[48,0,48,10],[40,0,40,8],[67,0,67,8],[11,3,11,4],[11,5,11,6],[3,0,3,2],[3,3,3,4],[3,5,3,6],[3,7,3,8],[7,0,7,2],[7,3,7,4],[7,5,7,6],[11,0,11,2],[15,2,15,4],[15,5,15,6],[63,0,63,10],[52,0,52,10],[54,0,54,10]]}
[]
["Operational ECM #5:",null,{"$f":"DataPhaseValid!G120","v":""},null,null,null,null,null,null,{"$f":"IF(Instructions!$F$4=\"Investigation\",VLOOKUP(MeasDet5!C2,'Measure Recommendation'!$I$17:$AB$36,20,FALSE),VLOOKUP(MeasDet5!C2,'Measure Recommendation'!$I$41:$AD$60,22,FALSE))","v":"ECM1"}]
[3]
["Electric ",null,null,"Natural Gas",null,"District Cooling",null,"District Heating"]
["ComEd Peak Demand Savings (kW/month)","Electric Energy Savings (kWh/yr)","Electric Cost Savings ($/yr)","Natural Gas Savings (therms/yr)","Natural Gas Cost Savings ($/yr)","District Chilled Water Energy Savings \n(ton-hrs/year)","District Chilled Water Cost Savings ($/yr)","District Steam Energy Savings (therms/yr)","District Steam Cost Savings  ($/yr)","ECM Implement-ation Cost ($)","Simple Payback (Yrs)"]
[{"$f":"IF(Instructions!$F$4=\"Investigation\",VLOOKUP($C$2,'Measure Recommendation'!$I$17:$X$36,3,FALSE),VLOOKUP($C$2,'Measure Recommendation'!$I$41:$X$60,3,FALSE))","v":0},{"$f":"IF(Instructions!$F$4=\"Investigation\",VLOOKUP($C$2,'Measure Recommendation'!$I$17:$X$36,4,FALSE),VLOOKUP($C$2,'Measure Recommendation'!$I$41:$X$60,4,FALSE))","v":0},{"$f":"IF(Instructions!$F$4=\"Investigation\",VLOOKUP($C$2,'Measure Recommendation'!$I$17:$X$36,5,FALSE),VLOOKUP($C$2,'Measure Recommendation'!$I$41:$X$60,5,FALSE))","v":0},{"$f":"IF(Instructions!$F$4=\"Investigation\",VLOOKUP($C$2,'Measure Recommendation'!$I$17:$X$36,6,FALSE),VLOOKUP($C$2,'Measure Recommendation'!$I$41:$X$60,6,FALSE))","v":0},{"$f":"IF(Instructions!$F$4=\"Investigation\",VLOOKUP($C$2,'Measure Recommendation'!$I$17:$X$36,7,FALSE),VLOOKUP($C$2,'Measure Recommendation'!$I$41:$X$60,7,FALSE))","v":0},{"$f":"IF(Instructions!$F$4=\"Investigation\",VLOOKUP($C$2,'Measure Recommendation'!$I$17:$X$36,8,FALSE),VLOOKUP($C$2,'Measure Recommendation'!$I$41:$X$60,8,FALSE))","v":0},{"$f":"IF(Instructions!$F$4=\"Investigation\",VLOOKUP($C$2,'Measure Recommendation'!$I$17:$X$36,10,FALSE),VLOOKUP($C$2,'Measure Recommendation'!$I$41:$X$60,10,FALSE))","v":0},{"$f":"IF(Instructions!$F$4=\"Investigation\",VLOOKUP($C$2,'Measure Recommendation'!$I$17:$X$36,11,FALSE),VLOOKUP($C$2,'Measure Recommendation'!$I$41:$X$60,11,FALSE))","v":0},{"$f":"IF(Instructions!$F$4=\"Investigation\",VLOOKUP($C$2,'Measure Recommendation'!$I$17:$X$36,13,FALSE),VLOOKUP($C$2,'Measure Recommendation'!$I$41:$X$60,13,FALSE))","v":0},{"$f":"IF(Instructions!$F$4=\"Investigation\",VLOOKUP($C$2,'Measure Recommendation'!$I$17:$X$36,14,FALSE),VLOOKUP($C$2,'Measure Recommendation'!$I$41:$X$60,14,FALSE))","v":0},{"$f":"IF(Instructions!$F$4=\"Investigation\",VLOOKUP($C$2,'Measure Recommendation'!$I$17:$X$36,15,FALSE),VLOOKUP($C$2,'Measure Recommendation'!$I$41:$X$60,15,FALSE))","v":""}]
[]
["Electric ",null,null,"Natural Gas",null,"District Cooling"]
["ComEd Peak Demand Savings (kW/month)","Electric Energy Savings (kWh/yr)","Electric Cost Savings ($/yr)","Natural Gas Savings (therms/yr)","Natural Gas Cost Savings ($/yr)","District Chilled Water Energy Savings \n(ton-hrs/year)","District Chilled Water Cost Savings ($/yr)","ECM Implement-ation Cost ($)","Simple Payback (Yrs)"]
[{"$f":"IF(Instructions!$F$4=\"Investigation\",VLOOKUP($C$2,'Measure Recommendation'!$I$17:$X$36,3,FALSE),VLOOKUP($C$2,'Measure Recommendation'!$I$41:$X$60,3,FALSE))","v":0},{"$f":"IF(Instructions!$F$4=\"Investigation\",VLOOKUP($C$2,'Measure Recommendation'!$I$17:$X$36,4,FALSE),VLOOKUP($C$2,'Measure Recommendation'!$I$41:$X$60,4,FALSE))","v":0},{"$f":"IF(Instructions!$F$4=\"Investigation\",VLOOKUP($C$2,'Measure Recommendation'!$I$17:$X$36,5,FALSE),VLOOKUP($C$2,'Measure Recommendation'!$I$41:$X$60,5,FALSE))","v":0},{"$f":"IF(Instructions!$F$4=\"Investigation\",VLOOKUP($C$2,'Measure Recommendation'!$I$17:$X$36,6,FALSE),VLOOKUP($C$2,'Measure Recommendation'!$I$41:$X$60,6,FALSE))","v":0},{"$f":"IF(Instructions!$F$4=\"Investigation\",VLOOKUP($C$2,'Measure Recommendation'!$I$17:$X$36,7,FALSE),VLOOKUP($C$2,'Measure Recommendation'!$I$41:$X$60,7,FALSE))","v":0},{"$f":"IF(Instructions!$F$4=\"Investigation\",VLOOKUP($C$2,'Measure Recommendation'!$I$17:$X$36,8,FALSE),VLOOKUP($C$2,'Measure Recommendation'!$I$41:$X$60,8,FALSE))","v":0},{"$f":"IF(Instructions!$F$4=\"Investigation\",VLOOKUP($C$2,'Measure Recommendation'!$I$17:$X$36,10,FALSE),VLOOKUP($C$2,'Measure Recommendation'!$I$41:$X$60,10,FALSE))","v":0},{"$f":"IF(Instructions!$F$4=\"Investigation\",VLOOKUP($C$2,'Measure Recommendation'!$I$17:$X$36,14,FALSE),VLOOKUP($C$2,'Measure Recommendation'!$I$41:$X$60,14,FALSE))","v":0},{"$f":"IF(Instructions!$F$4=\"Investigation\",VLOOKUP($C$2,'Measure Recommendation'!$I$17:$X$36,15,FALSE),VLOOKUP($C$2,'Measure Recommendation'!$I$41:$X$60,15,FALSE))","v":""}]
[]
["Electric ",null,null,"Natural Gas",null,"District Heating"]
["ComEd Peak Demand Savings (kW/month)","Electric Energy Savings (kWh/yr)","Electric Cost Savings ($/yr)","Natural Gas Savings (therms/yr)","Natural Gas Cost Savings ($/yr)","District Steam Energy Savings (therms/yr)","District Steam Cost Savings  ($/yr)","ECM Implement-ation Cost ($)","Simple Payback (Yrs)"]
[{"$f":"IF(Instructions!$F$4=\"Investigation\",VLOOKUP($C$2,'Measure Recommendation'!$I$17:$X$36,3,FALSE),VLOOKUP($C$2,'Measure Recommendation'!$I$41:$X$60,3,FALSE))","v":0},{"$f":"IF(Instructions!$F$4=\"Investigation\",VLOOKUP($C$2,'Measure Recommendation'!$I$17:$X$36,4,FALSE),VLOOKUP($C$2,'Measure Recommendation'!$I$41:$X$60,4,FALSE))","v":0},{"$f":"IF(Instructions!$F$4=\"Investigation\",VLOOKUP($C$2,'Measure Recommendation'!$I$17:$X$36,5,FALSE),VLOOKUP($C$2,'Measure Recommendation'!$I$41:$X$60,5,FALSE))","v":0},{"$f":"IF(Instructions!$F$4=\"Investigation\",VLOOKUP($C$2,'Measure Recommendation'!$I$17:$X$36,6,FALSE),VLOOKUP($C$2,'Measure Recommendation'!$I$41:$X$60,6,FALSE))","v":0},{"$f":"IF(Instructions!$F$4=\"Investigation\",VLOOKUP($C$2,'Measure Recommendation'!$I$17:$X$36,7,FALSE),VLOOKUP($C$2,'Measure Recommendation'!$I$41:$X$60,7,FALSE))","v":0},{"$f":"IF(Instructions!$F$4=\"Investigation\",VLOOKUP($C$2,'Measure Recommendation'!$I$17:$X$36,11,FALSE),VLOOKUP($C$2,'Measure Recommendation'!$I$41:$X$60,11,FALSE))","v":0},{"$f":"IF(Instructions!$F$4=\"Investigation\",VLOOKUP($C$2,'Measure Recommendation'!$I$17:$X$36,13,FALSE),VLOOKUP($C$2,'Measure Recommendation'!$I$41:$X$60,13,FALSE))","v":0},{"$f":"IF(Instructions!$F$4=\"Investigation\",VLOOKUP($C$2,'Measure Recommendation'!$I$17:$X$36,14,FALSE),VLOOKUP($C$2,'Measure Recommendation'!$I$41:$X$60,14,FALSE))","v":0},{"$f":"IF(Instructions!$F$4=\"Investigation\",VLOOKUP($C$2,'Measure Recommendation'!$I$17:$X$36,15,FALSE),VLOOKUP($C$2,'Measure Recommendation'!$I$41:$X$60,15,FALSE))","v":""}]
[]
[null,null,"Electric ",null,null,"Natural Gas"]
[null,null,"ComEd Peak Demand Savings (kW/month)","Electric Energy Savings (kWh/yr)","Electric Cost Savings ($/yr)","Natural Gas Savings (therms/yr)","Natural Gas Cost Savings ($/yr)","ECM Implement-ation Cost ($)","Simple Payback (Yrs)"]
[null,null,{"$f":"IF(Instructions!$F$4=\"Investigation\",VLOOKUP($C$2,'Measure Recommendation'!$I$17:$X$36,3,FALSE),VLOOKUP($C$2,'Measure Recommendation'!$I$41:$X$60,3,FALSE))","v":0},{"$f":"IF(Instructions!$F$4=\"Investigation\",VLOOKUP($C$2,'Measure Recommendation'!$I$17:$X$36,4,FALSE),VLOOKUP($C$2,'Measure Recommendation'!$I$41:$X$60,4,FALSE))","v":0},{"$f":"IF(Instructions!$F$4=\"Investigation\",VLOOKUP($C$2,'Measure Recommendation'!$I$17:$X$36,5,FALSE),VLOOKUP($C$2,'Measure Recommendation'!$I$41:$X$60,5,FALSE))","v":0},{"$f":"IF(Instructions!$F$4=\"Investigation\",VLOOKUP($C$2,'Measure Recommendation'!$I$17:$X$36,6,FALSE),VLOOKUP($C$2,'Measure Recommendation'!$I$41:$X$60,6,FALSE))","v":0},{"$f":"IF(Instructions!$F$4=\"Investigation\",VLOOKUP($C$2,'Measure Recommendation'!$I$17:$X$36,7,FALSE),VLOOKUP($C$2,'Measure Recommendation'!$I$41:$X$60,7,FALSE))","v":0},{"$f":"IF(Instructions!$F$4=\"Investigation\",VLOOKUP($C$2,'Measure Recommendation'!$I$17:$X$36,14,FALSE),VLOOKUP($C$2,'Measure Recommendation'!$I$41:$X$60,14,FALSE))","v":0},{"$f":"IF(Instructions!$F$4=\"Investigation\",VLOOKUP($C$2,'Measure Recommendation'!$I$17:$X$36,15,FALSE),VLOOKUP($C$2,'Measure Recommendation'!$I$41:$X$60,15,FALSE))","v":""}]
[]
[null,null,null,"Electric "]
[null,null,null,"ComEd Peak Demand Savings (kW/month)","Electric Energy Savings (kWh/yr)","Electric Cost Savings ($/yr)","ECM Implement-ation Cost ($)","Simple Payback (Yrs)"]
[null,null,null,{"$f":"IF(Instructions!$F$4=\"Investigation\",VLOOKUP($C$2,'Measure Recommendation'!$I$17:$X$36,3,FALSE),VLOOKUP($C$2,'Measure Recommendation'!$I$41:$X$60,3,FALSE))","v":0},{"$f":"IF(Instructions!$F$4=\"Investigation\",VLOOKUP($C$2,'Measure Recommendation'!$I$17:$X$36,4,FALSE),VLOOKUP($C$2,'Measure Recommendation'!$I$41:$X$60,4,FALSE))","v":0},{"$f":"IF(Instructions!$F$4=\"Investigation\",VLOOKUP($C$2,'Measure Recommendation'!$I$17:$X$36,5,FALSE),VLOOKUP($C$2,'Measure Recommendation'!$I$41:$X$60,5,FALSE))","v":0},{"$f":"IF(Instructions!$F$4=\"Investigation\",VLOOKUP($C$2,'Measure Recommendation'!$I$17:$X$36,14,FALSE),VLOOKUP($C$2,'Measure Recommendation'!$I$41:$X$60,14,FALSE))","v":0},{"$f":"IF(Instructions!$F$4=\"Investigation\",VLOOKUP($C$2,'Measure Recommendation'!$I$17:$X$36,15,FALSE),VLOOKUP($C$2,'Measure Recommendation'!$I$41:$X$60,15,FALSE))","v":""}]
[]
["Measure Details "]
[{"$f":"INDIRECT(\"'\"&J2&\"'!C5\")","v":"Enter text here."}]
["Existing Operation and Control Sequences"]
["Equipment affected and areas served:"]
[{"$f":"INDIRECT(\"'\"&J2&\"'!C8\")","v":"Enter text here."}]
["Baseline system operation and sequences of operation, setpoints:"]
[{"$f":"INDIRECT(\"'\"&J2&\"'!C10\")","v":"Enter text here."}]
["Investigation Approach, Findings and Data Acquisition"]
["Summary of initial investigation and functional testing:"]
[{"$f":"INDIRECT(\"'\"&J2&\"'!C13\")","v":"Enter text here."}]
["Parameters trended:"]
[{"$f":"INDIRECT(\"'\"&J2&\"'!C15\")","v":"Enter text here."}]
["Parameters functionally tested:"]
[{"$f":"INDIRECT(\"'\"&J2&\"'!C17\")","v":"Enter text here."}]
["Supporting graphs/screenshots – baseline:"]
[{"$f":"INDIRECT(\"'\"&J2&\"'!C19\")","v":"Enter text here."}]
[]
[{"$f":"INDIRECT(\"'\"&J2&\"'!C21\")","v":"Enter text here."}]
[]
["Proposed System Operation and Control Sequences - Scope of Work "]
["Proposed sequences of operation and setpoints:"]
[{"$f":"INDIRECT(\"'\"&J2&\"'!C24\")","v":"Enter text here."}]
["Integration with existing controllers: "]
[{"$f":"INDIRECT(\"'\"&J2&\"'!C26\")","v":"Enter text here."}]
["Equipment and personnel required for implementation:"]
[{"$f":"INDIRECT(\"'\"&J2&\"'!C28\")","v":"Enter text here."}]
["Calculation Methodology"]
[{"$f":"INDIRECT(\"'\"&J2&\"'!C30\")","v":"Enter text here."}]
["Measure Cost Details"]
[{"$f":"INDIRECT(\"'\"&J2&\"'!C32\")","v":"Enter text here."}]
["Verification Planning"]
[{"$f":"INDIRECT(\"'\"&J2&\"'!C34\")","v":"Enter text here."}]
["Verification Testing and Findings"]
["Parameters trended:"]
[{"$f":"INDIRECT(\"'\"&J2&\"'!C37\")","v":"To be completed during Verification Phase."}]
["Parameters functionally tested:"]
[{"$f":"INDIRECT(\"'\"&J2&\"'!C39\")","v":"To be completed during Verification Phase."}]
["Summary of verification testing:"]
[{"$f":"INDIRECT(\"'\"&J2&\"'!C41\")","v":"To be completed during Verification Phase."}]
["Modification to savings calculation:"]
[{"$f":"INDIRECT(\"'\"&J2&\"'!C43\")","v":"To be completed during Verification Phase."}]
["Supporting graphs/screenshots (post implementation):"]
[{"$f":"INDIRECT(\"'\"&J2&\"'!C45\")","v":"To be completed during Verification phase."}]
[]
[{"$f":"INDIRECT(\"'\"&J2&\"'!C47\")","v":"To be completed during Verification phase."}]

{"sheet":"MeasDet6","index":48,"n_rows":68,"n_cols":11,"rows_kept":68,"cut":false,"hidden":true,"merged":[[1,0,1,1],[1,2,1,8],[19,3,19,5],[27,0,27,10],[29,0,29,10],[36,0,36,10],[24,0,24,10],[32,0,32,10],[34,0,34,10],[65,0,65,8],[50,0,50,10],[57,0,57,10],[59,0,59,10],[61,0,61,10],[38,0,38,8],[42,0,42,7],[44,0,44,10],[46,0,46,10],[48,0,48,10],[40,0,40,8],[67,0,67,8],[11,3,11,4],[11,5,11,6],[3,0,3,2],[3,3,3,4],[3,5,3,6],[3,7,3,8],[7,0,7,2],[7,3,7,4],[7,5,7,6],[11,0,11,2],[15,2,15,4],[15,5,15,6],[63,0,63,10],[52,0,52,10],[54,0,54,10]]}
[]
["Operational ECM #6:",null,{"$f":"DataPhaseValid!G121","v":""},null,null,null,null,null,null,{"$f":"IF(Instructions!$F$4=\"Investigation\",VLOOKUP(MeasDet6!C2,'Measure Recommendation'!$I$17:$AB$36,20,FALSE),VLOOKUP(MeasDet6!C2,'Measure Recommendation'!$I$41:$AD$60,22,FALSE))","v":"ECM1"}]
[2]
["Electric ",null,null,"Natural Gas",null,"District Cooling",null,"District Heating"]
["ComEd Peak Demand Savings (kW/month)","Electric Energy Savings (kWh/yr)","Electric Cost Savings ($/yr)","Natural Gas Savings (therms/yr)","Natural Gas Cost Savings ($/yr)","District Chilled Water Energy Savings \n(ton-hrs/year)","District Chilled Water Cost Savings ($/yr)","District Steam Energy Savings (therms/yr)","District Steam Cost Savings  ($/yr)","ECM Implement-ation Cost ($)","Simple Payback (Yrs)"]
[{"$f":"IF(Instructions!$F$4=\"Investigation\",VLOOKUP($C$2,'Measure Recommendation'!$I$17:$X$36,3,FALSE),VLOOKUP($C$2,'Measure Recommendation'!$I$41:$X$60,3,FALSE))","v":0},{"$f":"IF(Instructions!$F$4=\"Investigation\",VLOOKUP($C$2,'Measure Recommendation'!$I$17:$X$36,4,FALSE),VLOOKUP($C$2,'Measure Recommendation'!$I$41:$X$60,4,FALSE))","v":0},{"$f":"IF(Instructions!$F$4=\"Investigation\",VLOOKUP($C$2,'Measure Recommendation'!$I$17:$X$36,5,FALSE),VLOOKUP($C$2,'Measure Recommendation'!$I$41:$X$60,5,FALSE))","v":0},{"$f":"IF(Instructions!$F$4=\"Investigation\",VLOOKUP($C$2,'Measure Recommendation'!$I$17:$X$36,6,FALSE),VLOOKUP($C$2,'Measure Recommendation'!$I$41:$X$60,6,FALSE))","v":0},{"$f":"IF(Instructions!$F$4=\"Investigation\",VLOOKUP($C$2,'Measure Recommendation'!$I$17:$X$36,7,FALSE),VLOOKUP($C$2,'Measure Recommendation'!$I$41:$X$60,7,FALSE))","v":0},{"$f":"IF(Instructions!$F$4=\"Investigation\",VLOOKUP($C$2,'Measure Recommendation'!$I$17:$X$36,8,FALSE),VLOOKUP($C$2,'Measure Recommendation'!$I$41:$X$60,8,FALSE))","v":0},{"$f":"IF(Instructions!$F$4=\"Investigation\",VLOOKUP($C$2,'Measure Recommendation'!$I$17:$X$36,10,FALSE),VLOOKUP($C$2,'Measure Recommendation'!$I$41:$X$60,10,FALSE))","v":0},{"$f":"IF(Instructions!$F$4=\"Investigation\",VLOOKUP($C$2,'Measure Recommendation'!$I$17:$X$36,11,FALSE),VLOOKUP($C$2,'Measure Recommendation'!$I$41:$X$60,11,FALSE))","v":0},{"$f":"IF(Instructions!$F$4=\"Investigation\",VLOOKUP($C$2,'Measure Recommendation'!$I$17:$X$36,13,FALSE),VLOOKUP($C$2,'Measure Recommendation'!$I$41:$X$60,13,FALSE))","v":0},{"$f":"IF(Instructions!$F$4=\"Investigation\",VLOOKUP($C$2,'Measure Recommendation'!$I$17:$X$36,14,FALSE),VLOOKUP($C$2,'Measure Recommendation'!$I$41:$X$60,14,FALSE))","v":0},{"$f":"IF(Instructions!$F$4=\"Investigation\",VLOOKUP($C$2,'Measure Recommendation'!$I$17:$X$36,15,FALSE),VLOOKUP($C$2,'Measure Recommendation'!$I$41:$X$60,15,FALSE))","v":""}]
[]
["Electric ",null,null,"Natural Gas",null,"District Cooling"]
["ComEd Peak Demand Savings (kW/month)","Electric Energy Savings (kWh/yr)","Electric Cost Savings ($/yr)","Natural Gas Savings (therms/yr)","Natural Gas Cost Savings ($/yr)","District Chilled Water Energy Savings \n(ton-hrs/year)","District Chilled Water Cost Savings ($/yr)","ECM Implement-ation Cost ($)","Simple Payback (Yrs)"]
[{"$f":"IF(Instructions!$F$4=\"Investigation\",VLOOKUP($C$2,'Measure Recommendation'!$I$17:$X$36,3,FALSE),VLOOKUP($C$2,'Measure Recommendation'!$I$41:$X$60,3,FALSE))","v":0},{"$f":"IF(Instructions!$F$4=\"Investigation\",VLOOKUP($C$2,'Measure Recommendation'!$I$17:$X$36,4,FALSE),VLOOKUP($C$2,'Measure Recommendation'!$I$41:$X$60,4,FALSE))","v":0},{"$f":"IF(Instructions!$F$4=\"Investigation\",VLOOKUP($C$2,'Measure Recommendation'!$I$17:$X$36,5,FALSE),VLOOKUP($C$2,'Measure Recommendation'!$I$41:$X$60,5,FALSE))","v":0},{"$f":"IF(Instructions!$F$4=\"Investigation\",VLOOKUP($C$2,'Measure Recommendation'!$I$17:$X$36,6,FALSE),VLOOKUP($C$2,'Measure Recommendation'!$I$41:$X$60,6,FALSE))","v":0},{"$f":"IF(Instructions!$F$4=\"Investigation\",VLOOKUP($C$2,'Measure Recommendation'!$I$17:$X$36,7,FALSE),VLOOKUP($C$2,'Measure Recommendation'!$I$41:$X$60,7,FALSE))","v":0},{"$f":"IF(Instructions!$F$4=\"Investigation\",VLOOKUP($C$2,'Measure Recommendation'!$I$17:$X$36,8,FALSE),VLOOKUP($C$2,'Measure Recommendation'!$I$41:$X$60,8,FALSE))","v":0},{"$f":"IF(Instructions!$F$4=\"Investigation\",VLOOKUP($C$2,'Measure Recommendation'!$I$17:$X$36,10,FALSE),VLOOKUP($C$2,'Measure Recommendation'!$I$41:$X$60,10,FALSE))","v":0},{"$f":"IF(Instructions!$F$4=\"Investigation\",VLOOKUP($C$2,'Measure Recommendation'!$I$17:$X$36,14,FALSE),VLOOKUP($C$2,'Measure Recommendation'!$I$41:$X$60,14,FALSE))","v":0},{"$f":"IF(Instructions!$F$4=\"Investigation\",VLOOKUP($C$2,'Measure Recommendation'!$I$17:$X$36,15,FALSE),VLOOKUP($C$2,'Measure Recommendation'!$I$41:$X$60,15,FALSE))","v":""}]
[]
["Electric ",null,null,"Natural Gas",null,"District Heating"]
["ComEd Peak Demand Savings (kW/month)","Electric Energy Savings (kWh/yr)","Electric Cost Savings ($/yr)","Natural Gas Savings (therms/yr)","Natural Gas Cost Savings ($/yr)","District Steam Energy Savings (therms/yr)","District Steam Cost Savings  ($/yr)","ECM Implement-ation Cost ($)","Simple Payback (Yrs)"]
[{"$f":"IF(Instructions!$F$4=\"Investigation\",VLOOKUP($C$2,'Measure Recommendation'!$I$17:$X$36,3,FALSE),VLOOKUP($C$2,'Measure Recommendation'!$I$41:$X$60,3,FALSE))","v":0},{"$f":"IF(Instructions!$F$4=\"Investigation\",VLOOKUP($C$2,'Measure Recommendation'!$I$17:$X$36,4,FALSE),VLOOKUP($C$2,'Measure Recommendation'!$I$41:$X$60,4,FALSE))","v":0},{"$f":"IF(Instructions!$F$4=\"Investigation\",VLOOKUP($C$2,'Measure Recommendation'!$I$17:$X$36,5,FALSE),VLOOKUP($C$2,'Measure Recommendation'!$I$41:$X$60,5,FALSE))","v":0},{"$f":"IF(Instructions!$F$4=\"Investigation\",VLOOKUP($C$2,'Measure Recommendation'!$I$17:$X$36,6,FALSE),VLOOKUP($C$2,'Measure Recommendation'!$I$41:$X$60,6,FALSE))","v":0},{"$f":"IF(Instructions!$F$4=\"Investigation\",VLOOKUP($C$2,'Measure Recommendation'!$I$17:$X$36,7,FALSE),VLOOKUP($C$2,'Measure Recommendation'!$I$41:$X$60,7,FALSE))","v":0},{"$f":"IF(Instructions!$F$4=\"Investigation\",VLOOKUP($C$2,'Measure Recommendation'!$I$17:$X$36,11,FALSE),VLOOKUP($C$2,'Measure Recommendation'!$I$41:$X$60,11,FALSE))","v":0},{"$f":"IF(Instructions!$F$4=\"Investigation\",VLOOKUP($C$2,'Measure Recommendation'!$I$17:$X$36,13,FALSE),VLOOKUP($C$2,'Measure Recommendation'!$I$41:$X$60,13,FALSE))","v":0},{"$f":"IF(Instructions!$F$4=\"Investigation\",VLOOKUP($C$2,'Measure Recommendation'!$I$17:$X$36,14,FALSE),VLOOKUP($C$2,'Measure Recommendation'!$I$41:$X$60,14,FALSE))","v":0},{"$f":"IF(Instructions!$F$4=\"Investigation\",VLOOKUP($C$2,'Measure Recommendation'!$I$17:$X$36,15,FALSE),VLOOKUP($C$2,'Measure Recommendation'!$I$41:$X$60,15,FALSE))","v":""}]
[]
[null,null,"Electric ",null,null,"Natural Gas"]
[null,null,"ComEd Peak Demand Savings (kW/month)","Electric Energy Savings (kWh/yr)","Electric Cost Savings ($/yr)","Natural Gas Savings (therms/yr)","Natural Gas Cost Savings ($/yr)","ECM Implement-ation Cost ($)","Simple Payback (Yrs)"]
[null,null,{"$f":"IF(Instructions!$F$4=\"Investigation\",VLOOKUP($C$2,'Measure Recommendation'!$I$17:$X$36,3,FALSE),VLOOKUP($C$2,'Measure Recommendation'!$I$41:$X$60,3,FALSE))","v":0},{"$f":"IF(Instructions!$F$4=\"Investigation\",VLOOKUP($C$2,'Measure Recommendation'!$I$17:$X$36,4,FALSE),VLOOKUP($C$2,'Measure Recommendation'!$I$41:$X$60,4,FALSE))","v":0},{"$f":"IF(Instructions!$F$4=\"Investigation\",VLOOKUP($C$2,'Measure Recommendation'!$I$17:$X$36,5,FALSE),VLOOKUP($C$2,'Measure Recommendation'!$I$41:$X$60,5,FALSE))","v":0},{"$f":"IF(Instructions!$F$4=\"Investigation\",VLOOKUP($C$2,'Measure Recommendation'!$I$17:$X$36,6,FALSE),VLOOKUP($C$2,'Measure Recommendation'!$I$41:$X$60,6,FALSE))","v":0},{"$f":"IF(Instructions!$F$4=\"Investigation\",VLOOKUP($C$2,'Measure Recommendation'!$I$17:$X$36,7,FALSE),VLOOKUP($C$2,'Measure Recommendation'!$I$41:$X$60,7,FALSE))","v":0},{"$f":"IF(Instructions!$F$4=\"Investigation\",VLOOKUP($C$2,'Measure Recommendation'!$I$17:$X$36,14,FALSE),VLOOKUP($C$2,'Measure Recommendation'!$I$41:$X$60,14,FALSE))","v":0},{"$f":"IF(Instructions!$F$4=\"Investigation\",VLOOKUP($C$2,'Measure Recommendation'!$I$17:$X$36,15,FALSE),VLOOKUP($C$2,'Measure Recommendation'!$I$41:$X$60,15,FALSE))","v":""}]
[]
[null,null,null,"Electric "]
[null,null,null,"ComEd Peak Demand Savings (kW/month)","Electric Energy Savings (kWh/yr)","Electric Cost Savings ($/yr)","ECM Implement-ation Cost ($)","Simple Payback (Yrs)"]
[null,null,null,{"$f":"IF(Instructions!$F$4=\"Investigation\",VLOOKUP($C$2,'Measure Recommendation'!$I$17:$X$36,3,FALSE),VLOOKUP($C$2,'Measure Recommendation'!$I$41:$X$60,3,FALSE))","v":0},{"$f":"IF(Instructions!$F$4=\"Investigation\",VLOOKUP($C$2,'Measure Recommendation'!$I$17:$X$36,4,FALSE),VLOOKUP($C$2,'Measure Recommendation'!$I$41:$X$60,4,FALSE))","v":0},{"$f":"IF(Instructions!$F$4=\"Investigation\",VLOOKUP($C$2,'Measure Recommendation'!$I$17:$X$36,5,FALSE),VLOOKUP($C$2,'Measure Recommendation'!$I$41:$X$60,5,FALSE))","v":0},{"$f":"IF(Instructions!$F$4=\"Investigation\",VLOOKUP($C$2,'Measure Recommendation'!$I$17:$X$36,14,FALSE),VLOOKUP($C$2,'Measure Recommendation'!$I$41:$X$60,14,FALSE))","v":0},{"$f":"IF(Instructions!$F$4=\"Investigation\",VLOOKUP($C$2,'Measure Recommendation'!$I$17:$X$36,15,FALSE),VLOOKUP($C$2,'Measure Recommendation'!$I$41:$X$60,15,FALSE))","v":""}]
[]
["Measure Details "]
[{"$f":"INDIRECT(\"'\"&J2&\"'!C5\")","v":"Enter text here."}]
["Existing Operation and Control Sequences"]
["Equipment affected and areas served:"]
[{"$f":"INDIRECT(\"'\"&J2&\"'!C8\")","v":"Enter text here."}]
["Baseline system operation and sequences of operation, setpoints:"]
[{"$f":"INDIRECT(\"'\"&J2&\"'!C10\")","v":"Enter text here."}]
["Investigation Approach, Findings and Data Acquisition"]
["Summary of initial investigation and functional testing:"]
[{"$f":"INDIRECT(\"'\"&J2&\"'!C13\")","v":"Enter text here."}]
["Parameters trended:"]
[{"$f":"INDIRECT(\"'\"&J2&\"'!C15\")","v":"Enter text here."}]
["Parameters functionally tested:"]
[{"$f":"INDIRECT(\"'\"&J2&\"'!C17\")","v":"Enter text here."}]
["Supporting graphs/screenshots – baseline:"]
[{"$f":"INDIRECT(\"'\"&J2&\"'!C19\")","v":"Enter text here."}]
[]
[{"$f":"INDIRECT(\"'\"&J2&\"'!C21\")","v":"Enter text here."}]
[]
["Proposed System Operation and Control Sequences - Scope of Work "]
["Proposed sequences of operation and setpoints:"]
[{"$f":"INDIRECT(\"'\"&J2&\"'!C24\")","v":"Enter text here."}]
["Integration with existing controllers: "]
[{"$f":"INDIRECT(\"'\"&J2&\"'!C26\")","v":"Enter text here."}]
["Equipment and personnel required for implementation:"]
[{"$f":"INDIRECT(\"'\"&J2&\"'!C28\")","v":"Enter text here."}]
["Calculation Methodology"]
[{"$f":"INDIRECT(\"'\"&J2&\"'!C30\")","v":"Enter text here."}]
["Measure Cost Details"]
[{"$f":"INDIRECT(\"'\"&J2&\"'!C32\")","v":"Enter text here."}]
["Verification Planning"]
[{"$f":"INDIRECT(\"'\"&J2&\"'!C34\")","v":"Enter text here."}]
["Verification Testing and Findings"]
["Parameters trended:"]
[{"$f":"INDIRECT(\"'\"&J2&\"'!C37\")","v":"To be completed during Verification Phase."}]
["Parameters functionally tested:"]
[{"$f":"INDIRECT(\"'\"&J2&\"'!C39\")","v":"To be completed during Verification Phase."}]
["Summary of verification testing:"]
[{"$f":"INDIRECT(\"'\"&J2&\"'!C41\")","v":"To be completed during Verification Phase."}]
["Modification to savings calculation:"]
[{"$f":"INDIRECT(\"'\"&J2&\"'!C43\")","v":"To be completed during Verification Phase."}]
["Supporting graphs/screenshots (post implementation):"]
[{"$f":"INDIRECT(\"'\"&J2&\"'!C45\")","v":"To be completed during Verification phase."}]
[]
[{"$f":"INDIRECT(\"'\"&J2&\"'!C47\")","v":"To be completed during Verification phase."}]

{"sheet":"MeasDet7","index":49,"n_rows":68,"n_cols":11,"rows_kept":68,"cut":false,"hidden":true,"merged":[[1,0,1,1],[1,2,1,8],[19,3,19,5],[27,0,27,10],[29,0,29,10],[36,0,36,10],[24,0,24,10],[32,0,32,10],[34,0,34,10],[65,0,65,8],[50,0,50,10],[57,0,57,10],[59,0,59,10],[61,0,61,10],[38,0,38,8],[42,0,42,7],[44,0,44,10],[46,0,46,10],[48,0,48,10],[40,0,40,8],[67,0,67,8],[11,3,11,4],[11,5,11,6],[3,0,3,2],[3,3,3,4],[3,5,3,6],[3,7,3,8],[7,0,7,2],[7,3,7,4],[7,5,7,6],[11,0,11,2],[15,2,15,4],[15,5,15,6],[63,0,63,10],[52,0,52,10],[54,0,54,10]]}
[]
["Operational ECM #7:",null,{"$f":"DataPhaseValid!G122","v":""},null,null,null,null,null,null,{"$f":"IF(Instructions!$F$4=\"Investigation\",VLOOKUP(MeasDet7!C2,'Measure Recommendation'!$I$17:$AB$36,20,FALSE),VLOOKUP(MeasDet7!C2,'Measure Recommendation'!$I$41:$AD$60,22,FALSE))","v":"ECM1"}]
[3]
["Electric ",null,null,"Natural Gas",null,"District Cooling",null,"District Heating"]
["ComEd Peak Demand Savings (kW/month)","Electric Energy Savings (kWh/yr)","Electric Cost Savings ($/yr)","Natural Gas Savings (therms/yr)","Natural Gas Cost Savings ($/yr)","District Chilled Water Energy Savings \n(ton-hrs/year)","District Chilled Water Cost Savings ($/yr)","District Steam Energy Savings (therms/yr)","District Steam Cost Savings  ($/yr)","ECM Implement-ation Cost ($)","Simple Payback (Yrs)"]
[{"$f":"IF(Instructions!$F$4=\"Investigation\",VLOOKUP($C$2,'Measure Recommendation'!$I$17:$X$36,3,FALSE),VLOOKUP($C$2,'Measure Recommendation'!$I$41:$X$60,3,FALSE))","v":0},{"$f":"IF(Instructions!$F$4=\"Investigation\",VLOOKUP($C$2,'Measure Recommendation'!$I$17:$X$36,4,FALSE),VLOOKUP($C$2,'Measure Recommendation'!$I$41:$X$60,4,FALSE))","v":0},{"$f":"IF(Instructions!$F$4=\"Investigation\",VLOOKUP($C$2,'Measure Recommendation'!$I$17:$X$36,5,FALSE),VLOOKUP($C$2,'Measure Recommendation'!$I$41:$X$60,5,FALSE))","v":0},{"$f":"IF(Instructions!$F$4=\"Investigation\",VLOOKUP($C$2,'Measure Recommendation'!$I$17:$X$36,6,FALSE),VLOOKUP($C$2,'Measure Recommendation'!$I$41:$X$60,6,FALSE))","v":0},{"$f":"IF(Instructions!$F$4=\"Investigation\",VLOOKUP($C$2,'Measure Recommendation'!$I$17:$X$36,7,FALSE),VLOOKUP($C$2,'Measure Recommendation'!$I$41:$X$60,7,FALSE))","v":0},{"$f":"IF(Instructions!$F$4=\"Investigation\",VLOOKUP($C$2,'Measure Recommendation'!$I$17:$X$36,8,FALSE),VLOOKUP($C$2,'Measure Recommendation'!$I$41:$X$60,8,FALSE))","v":0},{"$f":"IF(Instructions!$F$4=\"Investigation\",VLOOKUP($C$2,'Measure Recommendation'!$I$17:$X$36,10,FALSE),VLOOKUP($C$2,'Measure Recommendation'!$I$41:$X$60,10,FALSE))","v":0},{"$f":"IF(Instructions!$F$4=\"Investigation\",VLOOKUP($C$2,'Measure Recommendation'!$I$17:$X$36,11,FALSE),VLOOKUP($C$2,'Measure Recommendation'!$I$41:$X$60,11,FALSE))","v":0},{"$f":"IF(Instructions!$F$4=\"Investigation\",VLOOKUP($C$2,'Measure Recommendation'!$I$17:$X$36,13,FALSE),VLOOKUP($C$2,'Measure Recommendation'!$I$41:$X$60,13,FALSE))","v":0},{"$f":"IF(Instructions!$F$4=\"Investigation\",VLOOKUP($C$2,'Measure Recommendation'!$I$17:$X$36,14,FALSE),VLOOKUP($C$2,'Measure Recommendation'!$I$41:$X$60,14,FALSE))","v":0},{"$f":"IF(Instructions!$F$4=\"Investigation\",VLOOKUP($C$2,'Measure Recommendation'!$I$17:$X$36,15,FALSE),VLOOKUP($C$2,'Measure Recommendation'!$I$41:$X$60,15,FALSE))","v":""}]
[]
["Electric ",null,null,"Natural Gas",null,"District Cooling"]
["ComEd Peak Demand Savings (kW/month)","Electric Energy Savings (kWh/yr)","Electric Cost Savings ($/yr)","Natural Gas Savings (therms/yr)","Natural Gas Cost Savings ($/yr)","District Chilled Water Energy Savings \n(ton-hrs/year)","District Chilled Water Cost Savings ($/yr)","ECM Implement-ation Cost ($)","Simple Payback (Yrs)"]
[{"$f":"IF(Instructions!$F$4=\"Investigation\",VLOOKUP($C$2,'Measure Recommendation'!$I$17:$X$36,3,FALSE),VLOOKUP($C$2,'Measure Recommendation'!$I$41:$X$60,3,FALSE))","v":0},{"$f":"IF(Instructions!$F$4=\"Investigation\",VLOOKUP($C$2,'Measure Recommendation'!$I$17:$X$36,4,FALSE),VLOOKUP($C$2,'Measure Recommendation'!$I$41:$X$60,4,FALSE))","v":0},{"$f":"IF(Instructions!$F$4=\"Investigation\",VLOOKUP($C$2,'Measure Recommendation'!$I$17:$X$36,5,FALSE),VLOOKUP($C$2,'Measure Recommendation'!$I$41:$X$60,5,FALSE))","v":0},{"$f":"IF(Instructions!$F$4=\"Investigation\",VLOOKUP($C$2,'Measure Recommendation'!$I$17:$X$36,6,FALSE),VLOOKUP($C$2,'Measure Recommendation'!$I$41:$X$60,6,FALSE))","v":0},{"$f":"IF(Instructions!$F$4=\"Investigation\",VLOOKUP($C$2,'Measure Recommendation'!$I$17:$X$36,7,FALSE),VLOOKUP($C$2,'Measure Recommendation'!$I$41:$X$60,7,FALSE))","v":0},{"$f":"IF(Instructions!$F$4=\"Investigation\",VLOOKUP($C$2,'Measure Recommendation'!$I$17:$X$36,8,FALSE),VLOOKUP($C$2,'Measure Recommendation'!$I$41:$X$60,8,FALSE))","v":0},{"$f":"IF(Instructions!$F$4=\"Investigation\",VLOOKUP($C$2,'Measure Recommendation'!$I$17:$X$36,10,FALSE),VLOOKUP($C$2,'Measure Recommendation'!$I$41:$X$60,10,FALSE))","v":0},{"$f":"IF(Instructions!$F$4=\"Investigation\",VLOOKUP($C$2,'Measure Recommendation'!$I$17:$X$36,14,FALSE),VLOOKUP($C$2,'Measure Recommendation'!$I$41:$X$60,14,FALSE))","v":0},{"$f":"IF(Instructions!$F$4=\"Investigation\",VLOOKUP($C$2,'Measure Recommendation'!$I$17:$X$36,15,FALSE),VLOOKUP($C$2,'Measure Recommendation'!$I$41:$X$60,15,FALSE))","v":""}]
[]
["Electric ",null,null,"Natural Gas",null,"District Heating"]
["ComEd Peak Demand Savings (kW/month)","Electric Energy Savings (kWh/yr)","Electric Cost Savings ($/yr)","Natural Gas Savings (therms/yr)","Natural Gas Cost Savings ($/yr)","District Steam Energy Savings (therms/yr)","District Steam Cost Savings  ($/yr)","ECM Implement-ation Cost ($)","Simple Payback (Yrs)"]
[{"$f":"IF(Instructions!$F$4=\"Investigation\",VLOOKUP($C$2,'Measure Recommendation'!$I$17:$X$36,3,FALSE),VLOOKUP($C$2,'Measure Recommendation'!$I$41:$X$60,3,FALSE))","v":0},{"$f":"IF(Instructions!$F$4=\"Investigation\",VLOOKUP($C$2,'Measure Recommendation'!$I$17:$X$36,4,FALSE),VLOOKUP($C$2,'Measure Recommendation'!$I$41:$X$60,4,FALSE))","v":0},{"$f":"IF(Instructions!$F$4=\"Investigation\",VLOOKUP($C$2,'Measure Recommendation'!$I$17:$X$36,5,FALSE),VLOOKUP($C$2,'Measure Recommendation'!$I$41:$X$60,5,FALSE))","v":0},{"$f":"IF(Instructions!$F$4=\"Investigation\",VLOOKUP($C$2,'Measure Recommendation'!$I$17:$X$36,6,FALSE),VLOOKUP($C$2,'Measure Recommendation'!$I$41:$X$60,6,FALSE))","v":0},{"$f":"IF(Instructions!$F$4=\"Investigation\",VLOOKUP($C$2,'Measure Recommendation'!$I$17:$X$36,7,FALSE),VLOOKUP($C$2,'Measure Recommendation'!$I$41:$X$60,7,FALSE))","v":0},{"$f":"IF(Instructions!$F$4=\"Investigation\",VLOOKUP($C$2,'Measure Recommendation'!$I$17:$X$36,11,FALSE),VLOOKUP($C$2,'Measure Recommendation'!$I$41:$X$60,11,FALSE))","v":0},{"$f":"IF(Instructions!$F$4=\"Investigation\",VLOOKUP($C$2,'Measure Recommendation'!$I$17:$X$36,13,FALSE),VLOOKUP($C$2,'Measure Recommendation'!$I$41:$X$60,13,FALSE))","v":0},{"$f":"IF(Instructions!$F$4=\"Investigation\",VLOOKUP($C$2,'Measure Recommendation'!$I$17:$X$36,14,FALSE),VLOOKUP($C$2,'Measure Recommendation'!$I$41:$X$60,14,FALSE))","v":0},{"$f":"IF(Instructions!$F$4=\"Investigation\",VLOOKUP($C$2,'Measure Recommendation'!$I$17:$X$36,15,FALSE),VLOOKUP($C$2,'Measure Recommendation'!$I$41:$X$60,15,FALSE))","v":""}]
[]
[null,null,"Electric ",null,null,"Natural Gas"]
[null,null,"ComEd Peak Demand Savings (kW/month)","Electric Energy Savings (kWh/yr)","Electric Cost Savings ($/yr)","Natural Gas Savings (therms/yr)","Natural Gas Cost Savings ($/yr)","ECM Implement-ation Cost ($)","Simple Payback (Yrs)"]
[null,null,{"$f":"IF(Instructions!$F$4=\"Investigation\",VLOOKUP($C$2,'Measure Recommendation'!$I$17:$X$36,3,FALSE),VLOOKUP($C$2,'Measure Recommendation'!$I$41:$X$60,3,FALSE))","v":0},{"$f":"IF(Instructions!$F$4=\"Investigation\",VLOOKUP($C$2,'Measure Recommendation'!$I$17:$X$36,4,FALSE),VLOOKUP($C$2,'Measure Recommendation'!$I$41:$X$60,4,FALSE))","v":0},{"$f":"IF(Instructions!$F$4=\"Investigation\",VLOOKUP($C$2,'Measure Recommendation'!$I$17:$X$36,5,FALSE),VLOOKUP($C$2,'Measure Recommendation'!$I$41:$X$60,5,FALSE))","v":0},{"$f":"IF(Instructions!$F$4=\"Investigation\",VLOOKUP($C$2,'Measure Recommendation'!$I$17:$X$36,6,FALSE),VLOOKUP($C$2,'Measure Recommendation'!$I$41:$X$60,6,FALSE))","v":0},{"$f":"IF(Instructions!$F$4=\"Investigation\",VLOOKUP($C$2,'Measure Recommendation'!$I$17:$X$36,7,FALSE),VLOOKUP($C$2,'Measure Recommendation'!$I$41:$X$60,7,FALSE))","v":0},{"$f":"IF(Instructions!$F$4=\"Investigation\",VLOOKUP($C$2,'Measure Recommendation'!$I$17:$X$36,14,FALSE),VLOOKUP($C$2,'Measure Recommendation'!$I$41:$X$60,14,FALSE))","v":0},{"$f":"IF(Instructions!$F$4=\"Investigation\",VLOOKUP($C$2,'Measure Recommendation'!$I$17:$X$36,15,FALSE),VLOOKUP($C$2,'Measure Recommendation'!$I$41:$X$60,15,FALSE))","v":""}]
[]
[null,null,null,"Electric "]
[null,null,null,"ComEd Peak Demand Savings (kW/month)","Electric Energy Savings (kWh/yr)","Electric Cost Savings ($/yr)","ECM Implement-ation Cost ($)","Simple Payback (Yrs)"]
[null,null,null,{"$f":"IF(Instructions!$F$4=\"Investigation\",VLOOKUP($C$2,'Measure Recommendation'!$I$17:$X$36,3,FALSE),VLOOKUP($C$2,'Measure Recommendation'!$I$41:$X$60,3,FALSE))","v":0},{"$f":"IF(Instructions!$F$4=\"Investigation\",VLOOKUP($C$2,'Measure Recommendation'!$I$17:$X$36,4,FALSE),VLOOKUP($C$2,'Measure Recommendation'!$I$41:$X$60,4,FALSE))","v":0},{"$f":"IF(Instructions!$F$4=\"Investigation\",VLOOKUP($C$2,'Measure Recommendation'!$I$17:$X$36,5,FALSE),VLOOKUP($C$2,'Measure Recommendation'!$I$41:$X$60,5,FALSE))","v":0},{"$f":"IF(Instructions!$F$4=\"Investigation\",VLOOKUP($C$2,'Measure Recommendation'!$I$17:$X$36,14,FALSE),VLOOKUP($C$2,'Measure Recommendation'!$I$41:$X$60,14,FALSE))","v":0},{"$f":"IF(Instructions!$F$4=\"Investigation\",VLOOKUP($C$2,'Measure Recommendation'!$I$17:$X$36,15,FALSE),VLOOKUP($C$2,'Measure Recommendation'!$I$41:$X$60,15,FALSE))","v":""}]
[]
["Measure Details "]
[{"$f":"INDIRECT(\"'\"&J2&\"'!C5\")","v":"Enter text here."}]
["Existing Operation and Control Sequences"]
["Equipment affected and areas served:"]
[{"$f":"INDIRECT(\"'\"&J2&\"'!C8\")","v":"Enter text here."}]
["Baseline system operation and sequences of operation, setpoints:"]
[{"$f":"INDIRECT(\"'\"&J2&\"'!C10\")","v":"Enter text here."}]
["Investigation Approach, Findings and Data Acquisition"]
["Summary of initial investigation and functional testing:"]
[{"$f":"INDIRECT(\"'\"&J2&\"'!C13\")","v":"Enter text here."}]
["Parameters trended:"]
[{"$f":"INDIRECT(\"'\"&J2&\"'!C15\")","v":"Enter text here."}]
["Parameters functionally tested:"]
[{"$f":"INDIRECT(\"'\"&J2&\"'!C17\")","v":"Enter text here."}]
["Supporting graphs/screenshots – baseline:"]
[{"$f":"INDIRECT(\"'\"&J2&\"'!C19\")","v":"Enter text here."}]
[]
[{"$f":"INDIRECT(\"'\"&J2&\"'!C21\")","v":"Enter text here."}]
[]
["Proposed System Operation and Control Sequences - Scope of Work "]
["Proposed sequences of operation and setpoints:"]
[{"$f":"INDIRECT(\"'\"&J2&\"'!C24\")","v":"Enter text here."}]
["Integration with existing controllers: "]
[{"$f":"INDIRECT(\"'\"&J2&\"'!C26\")","v":"Enter text here."}]
["Equipment and personnel required for implementation:"]
[{"$f":"INDIRECT(\"'\"&J2&\"'!C28\")","v":"Enter text here."}]
["Calculation Methodology"]
[{"$f":"INDIRECT(\"'\"&J2&\"'!C30\")","v":"Enter text here."}]
["Measure Cost Details"]
[{"$f":"INDIRECT(\"'\"&J2&\"'!C32\")","v":"Enter text here."}]
["Verification Planning"]
[{"$f":"INDIRECT(\"'\"&J2&\"'!C34\")","v":"Enter text here."}]
["Verification Testing and Findings"]
["Parameters trended:"]
[{"$f":"INDIRECT(\"'\"&J2&\"'!C37\")","v":"To be completed during Verification Phase."}]
["Parameters functionally tested:"]
[{"$f":"INDIRECT(\"'\"&J2&\"'!C39\")","v":"To be completed during Verification Phase."}]
["Summary of verification testing:"]
[{"$f":"INDIRECT(\"'\"&J2&\"'!C41\")","v":"To be completed during Verification Phase."}]
["Modification to savings calculation:"]
[{"$f":"INDIRECT(\"'\"&J2&\"'!C43\")","v":"To be completed during Verification Phase."}]
["Supporting graphs/screenshots (post implementation):"]
[{"$f":"INDIRECT(\"'\"&J2&\"'!C45\")","v":"To be completed during Verification phase."}]
[]
[{"$f":"INDIRECT(\"'\"&J2&\"'!C47\")","v":"To be completed during Verification phase."}]

{"sheet":"MeasDet8","index":50,"n_rows":68,"n_cols":11,"rows_kept":68,"cut":false,"hidden":true,"merged":[[1,0,1,1],[19,3,19,5],[27,0,27,10],[29,0,29,10],[36,0,36,10],[24,0,24,10],[32,0,32,10],[34,0,34,10],[1,2,1,8],[65,0,65,8],[67,0,67,8],[11,3,11,4],[11,5,11,6],[3,0,3,2],[3,3,3,4],[3,5,3,6],[3,7,3,8],[7,0,7,2],[7,3,7,4],[7,5,7,6],[11,0,11,2],[15,2,15,4],[15,5,15,6],[63,0,63,10],[52,0,52,10],[54,0,54,10],[50,0,50,10],[57,0,57,10],[59,0,59,10],[61,0,61,10],[38,0,38,8],[42,0,42,7],[44,0,44,10],[46,0,46,10],[48,0,48,10],[40,0,40,8]]}
[]
["Operational ECM #8:",null,{"$f":"DataPhaseValid!G123","v":""},null,null,null,null,null,null,{"$f":"IF(Instructions!$F$4=\"Investigation\",VLOOKUP(MeasDet8!C2,'Measure Recommendation'!$I$17:$AB$36,20,FALSE),VLOOKUP(MeasDet8!C2,'Measure Recommendation'!$I$41:$AD$60,22,FALSE))","v":"ECM1"}]
[3]
["Electric ",null,null,"Natural Gas",null,"District Cooling",null,"District Heating"]
["ComEd Peak Demand Savings (kW/month)","Electric Energy Savings (kWh/yr)","Electric Cost Savings ($/yr)","Natural Gas Savings (therms/yr)","Natural Gas Cost Savings ($/yr)","District Chilled Water Energy Savings \n(ton-hrs/year)","District Chilled Water Cost Savings ($/yr)","District Steam Energy Savings (therms/yr)","District Steam Cost Savings  ($/yr)","ECM Implement-ation Cost ($)","Simple Payback (Yrs)"]
[{"$f":"IF(Instructions!$F$4=\"Investigation\",VLOOKUP($C$2,'Measure Recommendation'!$I$17:$X$36,3,FALSE),VLOOKUP($C$2,'Measure Recommendation'!$I$41:$X$60,3,FALSE))","v":0},{"$f":"IF(Instructions!$F$4=\"Investigation\",VLOOKUP($C$2,'Measure Recommendation'!$I$17:$X$36,4,FALSE),VLOOKUP($C$2,'Measure Recommendation'!$I$41:$X$60,4,FALSE))","v":0},{"$f":"IF(Instructions!$F$4=\"Investigation\",VLOOKUP($C$2,'Measure Recommendation'!$I$17:$X$36,5,FALSE),VLOOKUP($C$2,'Measure Recommendation'!$I$41:$X$60,5,FALSE))","v":0},{"$f":"IF(Instructions!$F$4=\"Investigation\",VLOOKUP($C$2,'Measure Recommendation'!$I$17:$X$36,6,FALSE),VLOOKUP($C$2,'Measure Recommendation'!$I$41:$X$60,6,FALSE))","v":0},{"$f":"IF(Instructions!$F$4=\"Investigation\",VLOOKUP($C$2,'Measure Recommendation'!$I$17:$X$36,7,FALSE),VLOOKUP($C$2,'Measure Recommendation'!$I$41:$X$60,7,FALSE))","v":0},{"$f":"IF(Instructions!$F$4=\"Investigation\",VLOOKUP($C$2,'Measure Recommendation'!$I$17:$X$36,8,FALSE),VLOOKUP($C$2,'Measure Recommendation'!$I$41:$X$60,8,FALSE))","v":0},{"$f":"IF(Instructions!$F$4=\"Investigation\",VLOOKUP($C$2,'Measure Recommendation'!$I$17:$X$36,10,FALSE),VLOOKUP($C$2,'Measure Recommendation'!$I$41:$X$60,10,FALSE))","v":0},{"$f":"IF(Instructions!$F$4=\"Investigation\",VLOOKUP($C$2,'Measure Recommendation'!$I$17:$X$36,11,FALSE),VLOOKUP($C$2,'Measure Recommendation'!$I$41:$X$60,11,FALSE))","v":0},{"$f":"IF(Instructions!$F$4=\"Investigation\",VLOOKUP($C$2,'Measure Recommendation'!$I$17:$X$36,13,FALSE),VLOOKUP($C$2,'Measure Recommendation'!$I$41:$X$60,13,FALSE))","v":0},{"$f":"IF(Instructions!$F$4=\"Investigation\",VLOOKUP($C$2,'Measure Recommendation'!$I$17:$X$36,14,FALSE),VLOOKUP($C$2,'Measure Recommendation'!$I$41:$X$60,14,FALSE))","v":0},{"$f":"IF(Instructions!$F$4=\"Investigation\",VLOOKUP($C$2,'Measure Recommendation'!$I$17:$X$36,15,FALSE),VLOOKUP($C$2,'Measure Recommendation'!$I$41:$X$60,15,FALSE))","v":""}]
[]
["Electric ",null,null,"Natural Gas",null,"District Cooling"]
["ComEd Peak Demand Savings (kW/month)","Electric Energy Savings (kWh/yr)","Electric Cost Savings ($/yr)","Natural Gas Savings (therms/yr)","Natural Gas Cost Savings ($/yr)","District Chilled Water Energy Savings \n(ton-hrs/year)","District Chilled Water Cost Savings ($/yr)","ECM Implement-ation Cost ($)","Simple Payback (Yrs)"]
[{"$f":"IF(Instructions!$F$4=\"Investigation\",VLOOKUP($C$2,'Measure Recommendation'!$I$17:$X$36,3,FALSE),VLOOKUP($C$2,'Measure Recommendation'!$I$41:$X$60,3,FALSE))","v":0},{"$f":"IF(Instructions!$F$4=\"Investigation\",VLOOKUP($C$2,'Measure Recommendation'!$I$17:$X$36,4,FALSE),VLOOKUP($C$2,'Measure Recommendation'!$I$41:$X$60,4,FALSE))","v":0},{"$f":"IF(Instructions!$F$4=\"Investigation\",VLOOKUP($C$2,'Measure Recommendation'!$I$17:$X$36,5,FALSE),VLOOKUP($C$2,'Measure Recommendation'!$I$41:$X$60,5,FALSE))","v":0},{"$f":"IF(Instructions!$F$4=\"Investigation\",VLOOKUP($C$2,'Measure Recommendation'!$I$17:$X$36,6,FALSE),VLOOKUP($C$2,'Measure Recommendation'!$I$41:$X$60,6,FALSE))","v":0},{"$f":"IF(Instructions!$F$4=\"Investigation\",VLOOKUP($C$2,'Measure Recommendation'!$I$17:$X$36,7,FALSE),VLOOKUP($C$2,'Measure Recommendation'!$I$41:$X$60,7,FALSE))","v":0},{"$f":"IF(Instructions!$F$4=\"Investigation\",VLOOKUP($C$2,'Measure Recommendation'!$I$17:$X$36,8,FALSE),VLOOKUP($C$2,'Measure Recommendation'!$I$41:$X$60,8,FALSE))","v":0},{"$f":"IF(Instructions!$F$4=\"Investigation\",VLOOKUP($C$2,'Measure Recommendation'!$I$17:$X$36,10,FALSE),VLOOKUP($C$2,'Measure Recommendation'!$I$41:$X$60,10,FALSE))","v":0},{"$f":"IF(Instructions!$F$4=\"Investigation\",VLOOKUP($C$2,'Measure Recommendation'!$I$17:$X$36,14,FALSE),VLOOKUP($C$2,'Measure Recommendation'!$I$41:$X$60,14,FALSE))","v":0},{"$f":"IF(Instructions!$F$4=\"Investigation\",VLOOKUP($C$2,'Measure Recommendation'!$I$17:$X$36,15,FALSE),VLOOKUP($C$2,'Measure Recommendation'!$I$41:$X$60,15,FALSE))","v":""}]
[]
["Electric ",null,null,"Natural Gas",null,"District Heating"]
["ComEd Peak Demand Savings (kW/month)","Electric Energy Savings (kWh/yr)","Electric Cost Savings ($/yr)","Natural Gas Savings (therms/yr)","Natural Gas Cost Savings ($/yr)","District Steam Energy Savings (therms/yr)","District Steam Cost Savings  ($/yr)","ECM Implement-ation Cost ($)","Simple Payback (Yrs)"]
[{"$f":"IF(Instructions!$F$4=\"Investigation\",VLOOKUP($C$2,'Measure Recommendation'!$I$17:$X$36,3,FALSE),VLOOKUP($C$2,'Measure Recommendation'!$I$41:$X$60,3,FALSE))","v":0},{"$f":"IF(Instructions!$F$4=\"Investigation\",VLOOKUP($C$2,'Measure Recommendation'!$I$17:$X$36,4,FALSE),VLOOKUP($C$2,'Measure Recommendation'!$I$41:$X$60,4,FALSE))","v":0},{"$f":"IF(Instructions!$F$4=\"Investigation\",VLOOKUP($C$2,'Measure Recommendation'!$I$17:$X$36,5,FALSE),VLOOKUP($C$2,'Measure Recommendation'!$I$41:$X$60,5,FALSE))","v":0},{"$f":"IF(Instructions!$F$4=\"Investigation\",VLOOKUP($C$2,'Measure Recommendation'!$I$17:$X$36,6,FALSE),VLOOKUP($C$2,'Measure Recommendation'!$I$41:$X$60,6,FALSE))","v":0},{"$f":"IF(Instructions!$F$4=\"Investigation\",VLOOKUP($C$2,'Measure Recommendation'!$I$17:$X$36,7,FALSE),VLOOKUP($C$2,'Measure Recommendation'!$I$41:$X$60,7,FALSE))","v":0},{"$f":"IF(Instructions!$F$4=\"Investigation\",VLOOKUP($C$2,'Measure Recommendation'!$I$17:$X$36,11,FALSE),VLOOKUP($C$2,'Measure Recommendation'!$I$41:$X$60,11,FALSE))","v":0},{"$f":"IF(Instructions!$F$4=\"Investigation\",VLOOKUP($C$2,'Measure Recommendation'!$I$17:$X$36,13,FALSE),VLOOKUP($C$2,'Measure Recommendation'!$I$41:$X$60,13,FALSE))","v":0},{"$f":"IF(Instructions!$F$4=\"Investigation\",VLOOKUP($C$2,'Measure Recommendation'!$I$17:$X$36,14,FALSE),VLOOKUP($C$2,'Measure Recommendation'!$I$41:$X$60,14,FALSE))","v":0},{"$f":"IF(Instructions!$F$4=\"Investigation\",VLOOKUP($C$2,'Measure Recommendation'!$I$17:$X$36,15,FALSE),VLOOKUP($C$2,'Measure Recommendation'!$I$41:$X$60,15,FALSE))","v":""}]
[]
[null,null,"Electric ",null,null,"Natural Gas"]
[null,null,"ComEd Peak Demand Savings (kW/month)","Electric Energy Savings (kWh/yr)","Electric Cost Savings ($/yr)","Natural Gas Savings (therms/yr)","Natural Gas Cost Savings ($/yr)","ECM Implement-ation Cost ($)","Simple Payback (Yrs)"]
[null,null,{"$f":"IF(Instructions!$F$4=\"Investigation\",VLOOKUP($C$2,'Measure Recommendation'!$I$17:$X$36,3,FALSE),VLOOKUP($C$2,'Measure Recommendation'!$I$41:$X$60,3,FALSE))","v":0},{"$f":"IF(Instructions!$F$4=\"Investigation\",VLOOKUP($C$2,'Measure Recommendation'!$I$17:$X$36,4,FALSE),VLOOKUP($C$2,'Measure Recommendation'!$I$41:$X$60,4,FALSE))","v":0},{"$f":"IF(Instructions!$F$4=\"Investigation\",VLOOKUP($C$2,'Measure Recommendation'!$I$17:$X$36,5,FALSE),VLOOKUP($C$2,'Measure Recommendation'!$I$41:$X$60,5,FALSE))","v":0},{"$f":"IF(Instructions!$F$4=\"Investigation\",VLOOKUP($C$2,'Measure Recommendation'!$I$17:$X$36,6,FALSE),VLOOKUP($C$2,'Measure Recommendation'!$I$41:$X$60,6,FALSE))","v":0},{"$f":"IF(Instructions!$F$4=\"Investigation\",VLOOKUP($C$2,'Measure Recommendation'!$I$17:$X$36,7,FALSE),VLOOKUP($C$2,'Measure Recommendation'!$I$41:$X$60,7,FALSE))","v":0},{"$f":"IF(Instructions!$F$4=\"Investigation\",VLOOKUP($C$2,'Measure Recommendation'!$I$17:$X$36,14,FALSE),VLOOKUP($C$2,'Measure Recommendation'!$I$41:$X$60,14,FALSE))","v":0},{"$f":"IF(Instructions!$F$4=\"Investigation\",VLOOKUP($C$2,'Measure Recommendation'!$I$17:$X$36,15,FALSE),VLOOKUP($C$2,'Measure Recommendation'!$I$41:$X$60,15,FALSE))","v":""}]
[]
[null,null,null,"Electric "]
[null,null,null,"ComEd Peak Demand Savings (kW/month)","Electric Energy Savings (kWh/yr)","Electric Cost Savings ($/yr)","ECM Implement-ation Cost ($)","Simple Payback (Yrs)"]
[null,null,null,{"$f":"IF(Instructions!$F$4=\"Investigation\",VLOOKUP($C$2,'Measure Recommendation'!$I$17:$X$36,3,FALSE),VLOOKUP($C$2,'Measure Recommendation'!$I$41:$X$60,3,FALSE))","v":0},{"$f":"IF(Instructions!$F$4=\"Investigation\",VLOOKUP($C$2,'Measure Recommendation'!$I$17:$X$36,4,FALSE),VLOOKUP($C$2,'Measure Recommendation'!$I$41:$X$60,4,FALSE))","v":0},{"$f":"IF(Instructions!$F$4=\"Investigation\",VLOOKUP($C$2,'Measure Recommendation'!$I$17:$X$36,5,FALSE),VLOOKUP($C$2,'Measure Recommendation'!$I$41:$X$60,5,FALSE))","v":0},{"$f":"IF(Instructions!$F$4=\"Investigation\",VLOOKUP($C$2,'Measure Recommendation'!$I$17:$X$36,14,FALSE),VLOOKUP($C$2,'Measure Recommendation'!$I$41:$X$60,14,FALSE))","v":0},{"$f":"IF(Instructions!$F$4=\"Investigation\",VLOOKUP($C$2,'Measure Recommendation'!$I$17:$X$36,15,FALSE),VLOOKUP($C$2,'Measure Recommendation'!$I$41:$X$60,15,FALSE))","v":""}]
[]
["Measure Details "]
[{"$f":"INDIRECT(\"'\"&J2&\"'!C5\")","v":"Enter text here."}]
["Existing Operation and Control Sequences"]
["Equipment affected and areas served:"]
[{"$f":"INDIRECT(\"'\"&J2&\"'!C8\")","v":"Enter text here."}]
["Baseline system operation and sequences of operation, setpoints:"]
[{"$f":"INDIRECT(\"'\"&J2&\"'!C10\")","v":"Enter text here."}]
["Investigation Approach, Findings and Data Acquisition"]
["Summary of initial investigation and functional testing:"]
[{"$f":"INDIRECT(\"'\"&J2&\"'!C13\")","v":"Enter text here."}]
["Parameters trended:"]
[{"$f":"INDIRECT(\"'\"&J2&\"'!C15\")","v":"Enter text here."}]
["Parameters functionally tested:"]
[{"$f":"INDIRECT(\"'\"&J2&\"'!C17\")","v":"Enter text here."}]
["Supporting graphs/screenshots – baseline:"]
[{"$f":"INDIRECT(\"'\"&J2&\"'!C19\")","v":"Enter text here."}]
[]
[{"$f":"INDIRECT(\"'\"&J2&\"'!C21\")","v":"Enter text here."}]
[]
["Proposed System Operation and Control Sequences - Scope of Work "]
["Proposed sequences of operation and setpoints:"]
[{"$f":"INDIRECT(\"'\"&J2&\"'!C24\")","v":"Enter text here."}]
["Integration with existing controllers: "]
[{"$f":"INDIRECT(\"'\"&J2&\"'!C26\")","v":"Enter text here."}]
["Equipment and personnel required for implementation:"]
[{"$f":"INDIRECT(\"'\"&J2&\"'!C28\")","v":"Enter text here."}]
["Calculation Methodology"]
[{"$f":"INDIRECT(\"'\"&J2&\"'!C30\")","v":"Enter text here."}]
["Measure Cost Details"]
[{"$f":"INDIRECT(\"'\"&J2&\"'!C32\")","v":"Enter text here."}]
["Verification Planning"]
[{"$f":"INDIRECT(\"'\"&J2&\"'!C34\")","v":"Enter text here."}]
["Verification Testing and Findings"]
["Parameters trended:"]
[{"$f":"INDIRECT(\"'\"&J2&\"'!C37\")","v":"To be completed during Verification Phase."}]
["Parameters functionally tested:"]
[{"$f":"INDIRECT(\"'\"&J2&\"'!C39\")","v":"To be completed during Verification Phase."}]
["Summary of verification testing:"]
[{"$f":"INDIRECT(\"'\"&J2&\"'!C41\")","v":"To be completed during Verification Phase."}]
["Modification to savings calculation:"]
[{"$f":"INDIRECT(\"'\"&J2&\"'!C43\")","v":"To be completed during Verification Phase."}]
["Supporting graphs/screenshots (post implementation):"]
[{"$f":"INDIRECT(\"'\"&J2&\"'!C45\")","v":"To be completed during Verification phase."}]
[]
[{"$f":"INDIRECT(\"'\"&J2&\"'!C47\")","v":"To be completed during Verification phase."}]

{"sheet":"MeasDet9","index":51,"n_rows":68,"n_cols":11,"rows_kept":68,"cut":false,"hidden":true,"merged":[[1,0,1,1],[1,2,1,8],[19,3,19,5],[27,0,27,10],[29,0,29,10],[36,0,36,10],[24,0,24,10],[32,0,32,10],[34,0,34,10],[65,0,65,8],[50,0,50,10],[57,0,57,10],[59,0,59,10],[61,0,61,10],[38,0,38,8],[42,0,42,7],[44,0,44,10],[46,0,46,10],[48,0,48,10],[40,0,40,8],[67,0,67,8],[11,3,11,4],[11,5,11,6],[3,0,3,2],[3,3,3,4],[3,5,3,6],[3,7,3,8],[7,0,7,2],[7,3,7,4],[7,5,7,6],[11,0,11,2],[15,2,15,4],[15,5,15,6],[63,0,63,10],[52,0,52,10],[54,0,54,10]]}
[]
["Operational ECM #9:",null,{"$f":"DataPhaseValid!G124","v":""},null,null,null,null,null,null,{"$f":"IF(Instructions!$F$4=\"Investigation\",VLOOKUP(MeasDet9!C2,'Measure Recommendation'!$I$17:$AB$36,20,FALSE),VLOOKUP(MeasDet9!C2,'Measure Recommendation'!$I$41:$AD$60,22,FALSE))","v":"ECM1"}]
[3]
["Electric ",null,null,"Natural Gas",null,"District Cooling",null,"District Heating"]
["ComEd Peak Demand Savings (kW/month)","Electric Energy Savings (kWh/yr)","Electric Cost Savings ($/yr)","Natural Gas Savings (therms/yr)","Natural Gas Cost Savings ($/yr)","District Chilled Water Energy Savings \n(ton-hrs/year)","District Chilled Water Cost Savings ($/yr)","District Steam Energy Savings (therms/yr)","District Steam Cost Savings  ($/yr)","ECM Implement-ation Cost ($)","Simple Payback (Yrs)"]
[{"$f":"IF(Instructions!$F$4=\"Investigation\",VLOOKUP($C$2,'Measure Recommendation'!$I$17:$X$36,3,FALSE),VLOOKUP($C$2,'Measure Recommendation'!$I$41:$X$60,3,FALSE))","v":0},{"$f":"IF(Instructions!$F$4=\"Investigation\",VLOOKUP($C$2,'Measure Recommendation'!$I$17:$X$36,4,FALSE),VLOOKUP($C$2,'Measure Recommendation'!$I$41:$X$60,4,FALSE))","v":0},{"$f":"IF(Instructions!$F$4=\"Investigation\",VLOOKUP($C$2,'Measure Recommendation'!$I$17:$X$36,5,FALSE),VLOOKUP($C$2,'Measure Recommendation'!$I$41:$X$60,5,FALSE))","v":0},{"$f":"IF(Instructions!$F$4=\"Investigation\",VLOOKUP($C$2,'Measure Recommendation'!$I$17:$X$36,6,FALSE),VLOOKUP($C$2,'Measure Recommendation'!$I$41:$X$60,6,FALSE))","v":0},{"$f":"IF(Instructions!$F$4=\"Investigation\",VLOOKUP($C$2,'Measure Recommendation'!$I$17:$X$36,7,FALSE),VLOOKUP($C$2,'Measure Recommendation'!$I$41:$X$60,7,FALSE))","v":0},{"$f":"IF(Instructions!$F$4=\"Investigation\",VLOOKUP($C$2,'Measure Recommendation'!$I$17:$X$36,8,FALSE),VLOOKUP($C$2,'Measure Recommendation'!$I$41:$X$60,8,FALSE))","v":0},{"$f":"IF(Instructions!$F$4=\"Investigation\",VLOOKUP($C$2,'Measure Recommendation'!$I$17:$X$36,10,FALSE),VLOOKUP($C$2,'Measure Recommendation'!$I$41:$X$60,10,FALSE))","v":0},{"$f":"IF(Instructions!$F$4=\"Investigation\",VLOOKUP($C$2,'Measure Recommendation'!$I$17:$X$36,11,FALSE),VLOOKUP($C$2,'Measure Recommendation'!$I$41:$X$60,11,FALSE))","v":0},{"$f":"IF(Instructions!$F$4=\"Investigation\",VLOOKUP($C$2,'Measure Recommendation'!$I$17:$X$36,13,FALSE),VLOOKUP($C$2,'Measure Recommendation'!$I$41:$X$60,13,FALSE))","v":0},{"$f":"IF(Instructions!$F$4=\"Investigation\",VLOOKUP($C$2,'Measure Recommendation'!$I$17:$X$36,14,FALSE),VLOOKUP($C$2,'Measure Recommendation'!$I$41:$X$60,14,FALSE))","v":0},{"$f":"IF(Instructions!$F$4=\"Investigation\",VLOOKUP($C$2,'Measure Recommendation'!$I$17:$X$36,15,FALSE),VLOOKUP($C$2,'Measure Recommendation'!$I$41:$X$60,15,FALSE))","v":""}]
[]
["Electric ",null,null,"Natural Gas",null,"District Cooling"]
["ComEd Peak Demand Savings (kW/month)","Electric Energy Savings (kWh/yr)","Electric Cost Savings ($/yr)","Natural Gas Savings (therms/yr)","Natural Gas Cost Savings ($/yr)","District Chilled Water Energy Savings \n(ton-hrs/year)","District Chilled Water Cost Savings ($/yr)","ECM Implement-ation Cost ($)","Simple Payback (Yrs)"]
[{"$f":"IF(Instructions!$F$4=\"Investigation\",VLOOKUP($C$2,'Measure Recommendation'!$I$17:$X$36,3,FALSE),VLOOKUP($C$2,'Measure Recommendation'!$I$41:$X$60,3,FALSE))","v":0},{"$f":"IF(Instructions!$F$4=\"Investigation\",VLOOKUP($C$2,'Measure Recommendation'!$I$17:$X$36,4,FALSE),VLOOKUP($C$2,'Measure Recommendation'!$I$41:$X$60,4,FALSE))","v":0},{"$f":"IF(Instructions!$F$4=\"Investigation\",VLOOKUP($C$2,'Measure Recommendation'!$I$17:$X$36,5,FALSE),VLOOKUP($C$2,'Measure Recommendation'!$I$41:$X$60,5,FALSE))","v":0},{"$f":"IF(Instructions!$F$4=\"Investigation\",VLOOKUP($C$2,'Measure Recommendation'!$I$17:$X$36,6,FALSE),VLOOKUP($C$2,'Measure Recommendation'!$I$41:$X$60,6,FALSE))","v":0},{"$f":"IF(Instructions!$F$4=\"Investigation\",VLOOKUP($C$2,'Measure Recommendation'!$I$17:$X$36,7,FALSE),VLOOKUP($C$2,'Measure Recommendation'!$I$41:$X$60,7,FALSE))","v":0},{"$f":"IF(Instructions!$F$4=\"Investigation\",VLOOKUP($C$2,'Measure Recommendation'!$I$17:$X$36,8,FALSE),VLOOKUP($C$2,'Measure Recommendation'!$I$41:$X$60,8,FALSE))","v":0},{"$f":"IF(Instructions!$F$4=\"Investigation\",VLOOKUP($C$2,'Measure Recommendation'!$I$17:$X$36,10,FALSE),VLOOKUP($C$2,'Measure Recommendation'!$I$41:$X$60,10,FALSE))","v":0},{"$f":"IF(Instructions!$F$4=\"Investigation\",VLOOKUP($C$2,'Measure Recommendation'!$I$17:$X$36,14,FALSE),VLOOKUP($C$2,'Measure Recommendation'!$I$41:$X$60,14,FALSE))","v":0},{"$f":"IF(Instructions!$F$4=\"Investigation\",VLOOKUP($C$2,'Measure Recommendation'!$I$17:$X$36,15,FALSE),VLOOKUP($C$2,'Measure Recommendation'!$I$41:$X$60,15,FALSE))","v":""}]
[]
["Electric ",null,null,"Natural Gas",null,"District Heating"]
["ComEd Peak Demand Savings (kW/month)","Electric Energy Savings (kWh/yr)","Electric Cost Savings ($/yr)","Natural Gas Savings (therms/yr)","Natural Gas Cost Savings ($/yr)","District Steam Energy Savings (therms/yr)","District Steam Cost Savings  ($/yr)","ECM Implement-ation Cost ($)","Simple Payback (Yrs)"]
[{"$f":"IF(Instructions!$F$4=\"Investigation\",VLOOKUP($C$2,'Measure Recommendation'!$I$17:$X$36,3,FALSE),VLOOKUP($C$2,'Measure Recommendation'!$I$41:$X$60,3,FALSE))","v":0},{"$f":"IF(Instructions!$F$4=\"Investigation\",VLOOKUP($C$2,'Measure Recommendation'!$I$17:$X$36,4,FALSE),VLOOKUP($C$2,'Measure Recommendation'!$I$41:$X$60,4,FALSE))","v":0},{"$f":"IF(Instructions!$F$4=\"Investigation\",VLOOKUP($C$2,'Measure Recommendation'!$I$17:$X$36,5,FALSE),VLOOKUP($C$2,'Measure Recommendation'!$I$41:$X$60,5,FALSE))","v":0},{"$f":"IF(Instructions!$F$4=\"Investigation\",VLOOKUP($C$2,'Measure Recommendation'!$I$17:$X$36,6,FALSE),VLOOKUP($C$2,'Measure Recommendation'!$I$41:$X$60,6,FALSE))","v":0},{"$f":"IF(Instructions!$F$4=\"Investigation\",VLOOKUP($C$2,'Measure Recommendation'!$I$17:$X$36,7,FALSE),VLOOKUP($C$2,'Measure Recommendation'!$I$41:$X$60,7,FALSE))","v":0},{"$f":"IF(Instructions!$F$4=\"Investigation\",VLOOKUP($C$2,'Measure Recommendation'!$I$17:$X$36,11,FALSE),VLOOKUP($C$2,'Measure Recommendation'!$I$41:$X$60,11,FALSE))","v":0},{"$f":"IF(Instructions!$F$4=\"Investigation\",VLOOKUP($C$2,'Measure Recommendation'!$I$17:$X$36,13,FALSE),VLOOKUP($C$2,'Measure Recommendation'!$I$41:$X$60,13,FALSE))","v":0},{"$f":"IF(Instructions!$F$4=\"Investigation\",VLOOKUP($C$2,'Measure Recommendation'!$I$17:$X$36,14,FALSE),VLOOKUP($C$2,'Measure Recommendation'!$I$41:$X$60,14,FALSE))","v":0},{"$f":"IF(Instructions!$F$4=\"Investigation\",VLOOKUP($C$2,'Measure Recommendation'!$I$17:$X$36,15,FALSE),VLOOKUP($C$2,'Measure Recommendation'!$I$41:$X$60,15,FALSE))","v":""}]
[]
[null,null,"Electric ",null,null,"Natural Gas"]
[null,null,"ComEd Peak Demand Savings (kW/month)","Electric Energy Savings (kWh/yr)","Electric Cost Savings ($/yr)","Natural Gas Savings (therms/yr)","Natural Gas Cost Savings ($/yr)","ECM Implement-ation Cost ($)","Simple Payback (Yrs)"]
[null,null,{"$f":"IF(Instructions!$F$4=\"Investigation\",VLOOKUP($C$2,'Measure Recommendation'!$I$17:$X$36,3,FALSE),VLOOKUP($C$2,'Measure Recommendation'!$I$41:$X$60,3,FALSE))","v":0},{"$f":"IF(Instructions!$F$4=\"Investigation\",VLOOKUP($C$2,'Measure Recommendation'!$I$17:$X$36,4,FALSE),VLOOKUP($C$2,'Measure Recommendation'!$I$41:$X$60,4,FALSE))","v":0},{"$f":"IF(Instructions!$F$4=\"Investigation\",VLOOKUP($C$2,'Measure Recommendation'!$I$17:$X$36,5,FALSE),VLOOKUP($C$2,'Measure Recommendation'!$I$41:$X$60,5,FALSE))","v":0},{"$f":"IF(Instructions!$F$4=\"Investigation\",VLOOKUP($C$2,'Measure Recommendation'!$I$17:$X$36,6,FALSE),VLOOKUP($C$2,'Measure Recommendation'!$I$41:$X$60,6,FALSE))","v":0},{"$f":"IF(Instructions!$F$4=\"Investigation\",VLOOKUP($C$2,'Measure Recommendation'!$I$17:$X$36,7,FALSE),VLOOKUP($C$2,'Measure Recommendation'!$I$41:$X$60,7,FALSE))","v":0},{"$f":"IF(Instructions!$F$4=\"Investigation\",VLOOKUP($C$2,'Measure Recommendation'!$I$17:$X$36,14,FALSE),VLOOKUP($C$2,'Measure Recommendation'!$I$41:$X$60,14,FALSE))","v":0},{"$f":"IF(Instructions!$F$4=\"Investigation\",VLOOKUP($C$2,'Measure Recommendation'!$I$17:$X$36,15,FALSE),VLOOKUP($C$2,'Measure Recommendation'!$I$41:$X$60,15,FALSE))","v":""}]
[]
[null,null,null,"Electric "]
[null,null,null,"ComEd Peak Demand Savings (kW/month)","Electric Energy Savings (kWh/yr)","Electric Cost Savings ($/yr)","ECM Implement-ation Cost ($)","Simple Payback (Yrs)"]
[null,null,null,{"$f":"IF(Instructions!$F$4=\"Investigation\",VLOOKUP($C$2,'Measure Recommendation'!$I$17:$X$36,3,FALSE),VLOOKUP($C$2,'Measure Recommendation'!$I$41:$X$60,3,FALSE))","v":0},{"$f":"IF(Instructions!$F$4=\"Investigation\",VLOOKUP($C$2,'Measure Recommendation'!$I$17:$X$36,4,FALSE),VLOOKUP($C$2,'Measure Recommendation'!$I$41:$X$60,4,FALSE))","v":0},{"$f":"IF(Instructions!$F$4=\"Investigation\",VLOOKUP($C$2,'Measure Recommendation'!$I$17:$X$36,5,FALSE),VLOOKUP($C$2,'Measure Recommendation'!$I$41:$X$60,5,FALSE))","v":0},{"$f":"IF(Instructions!$F$4=\"Investigation\",VLOOKUP($C$2,'Measure Recommendation'!$I$17:$X$36,14,FALSE),VLOOKUP($C$2,'Measure Recommendation'!$I$41:$X$60,14,FALSE))","v":0},{"$f":"IF(Instructions!$F$4=\"Investigation\",VLOOKUP($C$2,'Measure Recommendation'!$I$17:$X$36,15,FALSE),VLOOKUP($C$2,'Measure Recommendation'!$I$41:$X$60,15,FALSE))","v":""}]
[]
["Measure Details "]
[{"$f":"INDIRECT(\"'\"&J2&\"'!C5\")","v":"Enter text here."}]
["Existing Operation and Control Sequences"]
["Equipment affected and areas served:"]
[{"$f":"INDIRECT(\"'\"&J2&\"'!C8\")","v":"Enter text here."}]
["Baseline system operation and sequences of operation, setpoints:"]
[{"$f":"INDIRECT(\"'\"&J2&\"'!C10\")","v":"Enter text here."}]
["Investigation Approach, Findings and Data Acquisition"]
["Summary of initial investigation and functional testing:"]
[{"$f":"INDIRECT(\"'\"&J2&\"'!C13\")","v":"Enter text here."}]
["Parameters trended:"]
[{"$f":"INDIRECT(\"'\"&J2&\"'!C15\")","v":"Enter text here."}]
["Parameters functionally tested:"]
[{"$f":"INDIRECT(\"'\"&J2&\"'!C17\")","v":"Enter text here."}]
["Supporting graphs/screenshots – baseline:"]
[{"$f":"INDIRECT(\"'\"&J2&\"'!C19\")","v":"Enter text here."}]
[]
[{"$f":"INDIRECT(\"'\"&J2&\"'!C21\")","v":"Enter text here."}]
[]
["Proposed System Operation and Control Sequences - Scope of Work "]
["Proposed sequences of operation and setpoints:"]
[{"$f":"INDIRECT(\"'\"&J2&\"'!C24\")","v":"Enter text here."}]
["Integration with existing controllers: "]
[{"$f":"INDIRECT(\"'\"&J2&\"'!C26\")","v":"Enter text here."}]
["Equipment and personnel required for implementation:"]
[{"$f":"INDIRECT(\"'\"&J2&\"'!C28\")","v":"Enter text here."}]
["Calculation Methodology"]
[{"$f":"INDIRECT(\"'\"&J2&\"'!C30\")","v":"Enter text here."}]
["Measure Cost Details"]
[{"$f":"INDIRECT(\"'\"&J2&\"'!C32\")","v":"Enter text here."}]
["Verification Planning"]
[{"$f":"INDIRECT(\"'\"&J2&\"'!C34\")","v":"Enter text here."}]
["Verification Testing and Findings"]
["Parameters trended:"]
[{"$f":"INDIRECT(\"'\"&J2&\"'!C37\")","v":"To be completed during Verification Phase."}]
["Parameters functionally tested:"]
[{"$f":"INDIRECT(\"'\"&J2&\"'!C39\")","v":"To be completed during Verification Phase."}]
["Summary of verification testing:"]
[{"$f":"INDIRECT(\"'\"&J2&\"'!C41\")","v":"To be completed during Verification Phase."}]
["Modification to savings calculation:"]
[{"$f":"INDIRECT(\"'\"&J2&\"'!C43\")","v":"To be completed during Verification Phase."}]
["Supporting graphs/screenshots (post implementation):"]
[{"$f":"INDIRECT(\"'\"&J2&\"'!C45\")","v":"To be completed during Verification phase."}]
[]
[{"$f":"INDIRECT(\"'\"&J2&\"'!C47\")","v":"To be completed during Verification phase."}]

{"sheet":"MeasDet10","index":52,"n_rows":68,"n_cols":11,"rows_kept":68,"cut":false,"hidden":true,"merged":[[1,0,1,1],[1,2,1,8],[19,3,19,5],[27,0,27,10],[29,0,29,10],[36,0,36,10],[24,0,24,10],[32,0,32,10],[34,0,34,10],[65,0,65,8],[50,0,50,10],[57,0,57,10],[59,0,59,10],[61,0,61,10],[38,0,38,8],[42,0,42,7],[44,0,44,10],[46,0,46,10],[48,0,48,10],[40,0,40,8],[67,0,67,8],[11,3,11,4],[11,5,11,6],[3,0,3,2],[3,3,3,4],[3,5,3,6],[3,7,3,8],[7,0,7,2],[7,3,7,4],[7,5,7,6],[11,0,11,2],[15,2,15,4],[15,5,15,6],[63,0,63,10],[52,0,52,10],[54,0,54,10]]}
[]
["Operational ECM #10:",null,{"$f":"DataPhaseValid!G125","v":""},null,null,null,null,null,null,{"$f":"IF(Instructions!$F$4=\"Investigation\",VLOOKUP(MeasDet10!C2,'Measure Recommendation'!$I$17:$AB$36,20,FALSE),VLOOKUP(MeasDet10!C2,'Measure Recommendation'!$I$41:$AD$60,22,FALSE))","v":"ECM1"}]
[3]
["Electric ",null,null,"Natural Gas",null,"District Cooling",null,"District Heating"]
["ComEd Peak Demand Savings (kW/month)","Electric Energy Savings (kWh/yr)","Electric Cost Savings ($/yr)","Natural Gas Savings (therms/yr)","Natural Gas Cost Savings ($/yr)","District Chilled Water Energy Savings \n(ton-hrs/year)","District Chilled Water Cost Savings ($/yr)","District Steam Energy Savings (therms/yr)","District Steam Cost Savings  ($/yr)","ECM Implement-ation Cost ($)","Simple Payback (Yrs)"]
[{"$f":"IF(Instructions!$F$4=\"Investigation\",VLOOKUP($C$2,'Measure Recommendation'!$I$17:$X$36,3,FALSE),VLOOKUP($C$2,'Measure Recommendation'!$I$41:$X$60,3,FALSE))","v":0},{"$f":"IF(Instructions!$F$4=\"Investigation\",VLOOKUP($C$2,'Measure Recommendation'!$I$17:$X$36,4,FALSE),VLOOKUP($C$2,'Measure Recommendation'!$I$41:$X$60,4,FALSE))","v":0},{"$f":"IF(Instructions!$F$4=\"Investigation\",VLOOKUP($C$2,'Measure Recommendation'!$I$17:$X$36,5,FALSE),VLOOKUP($C$2,'Measure Recommendation'!$I$41:$X$60,5,FALSE))","v":0},{"$f":"IF(Instructions!$F$4=\"Investigation\",VLOOKUP($C$2,'Measure Recommendation'!$I$17:$X$36,6,FALSE),VLOOKUP($C$2,'Measure Recommendation'!$I$41:$X$60,6,FALSE))","v":0},{"$f":"IF(Instructions!$F$4=\"Investigation\",VLOOKUP($C$2,'Measure Recommendation'!$I$17:$X$36,7,FALSE),VLOOKUP($C$2,'Measure Recommendation'!$I$41:$X$60,7,FALSE))","v":0},{"$f":"IF(Instructions!$F$4=\"Investigation\",VLOOKUP($C$2,'Measure Recommendation'!$I$17:$X$36,8,FALSE),VLOOKUP($C$2,'Measure Recommendation'!$I$41:$X$60,8,FALSE))","v":0},{"$f":"IF(Instructions!$F$4=\"Investigation\",VLOOKUP($C$2,'Measure Recommendation'!$I$17:$X$36,10,FALSE),VLOOKUP($C$2,'Measure Recommendation'!$I$41:$X$60,10,FALSE))","v":0},{"$f":"IF(Instructions!$F$4=\"Investigation\",VLOOKUP($C$2,'Measure Recommendation'!$I$17:$X$36,11,FALSE),VLOOKUP($C$2,'Measure Recommendation'!$I$41:$X$60,11,FALSE))","v":0},{"$f":"IF(Instructions!$F$4=\"Investigation\",VLOOKUP($C$2,'Measure Recommendation'!$I$17:$X$36,13,FALSE),VLOOKUP($C$2,'Measure Recommendation'!$I$41:$X$60,13,FALSE))","v":0},{"$f":"IF(Instructions!$F$4=\"Investigation\",VLOOKUP($C$2,'Measure Recommendation'!$I$17:$X$36,14,FALSE),VLOOKUP($C$2,'Measure Recommendation'!$I$41:$X$60,14,FALSE))","v":0},{"$f":"IF(Instructions!$F$4=\"Investigation\",VLOOKUP($C$2,'Measure Recommendation'!$I$17:$X$36,15,FALSE),VLOOKUP($C$2,'Measure Recommendation'!$I$41:$X$60,15,FALSE))","v":""}]
[]
["Electric ",null,null,"Natural Gas",null,"District Cooling"]
["ComEd Peak Demand Savings (kW/month)","Electric Energy Savings (kWh/yr)","Electric Cost Savings ($/yr)","Natural Gas Savings (therms/yr)","Natural Gas Cost Savings ($/yr)","District Chilled Water Energy Savings \n(ton-hrs/year)","District Chilled Water Cost Savings ($/yr)","ECM Implement-ation Cost ($)","Simple Payback (Yrs)"]
[{"$f":"IF(Instructions!$F$4=\"Investigation\",VLOOKUP($C$2,'Measure Recommendation'!$I$17:$X$36,3,FALSE),VLOOKUP($C$2,'Measure Recommendation'!$I$41:$X$60,3,FALSE))","v":0},{"$f":"IF(Instructions!$F$4=\"Investigation\",VLOOKUP($C$2,'Measure Recommendation'!$I$17:$X$36,4,FALSE),VLOOKUP($C$2,'Measure Recommendation'!$I$41:$X$60,4,FALSE))","v":0},{"$f":"IF(Instructions!$F$4=\"Investigation\",VLOOKUP($C$2,'Measure Recommendation'!$I$17:$X$36,5,FALSE),VLOOKUP($C$2,'Measure Recommendation'!$I$41:$X$60,5,FALSE))","v":0},{"$f":"IF(Instructions!$F$4=\"Investigation\",VLOOKUP($C$2,'Measure Recommendation'!$I$17:$X$36,6,FALSE),VLOOKUP($C$2,'Measure Recommendation'!$I$41:$X$60,6,FALSE))","v":0},{"$f":"IF(Instructions!$F$4=\"Investigation\",VLOOKUP($C$2,'Measure Recommendation'!$I$17:$X$36,7,FALSE),VLOOKUP($C$2,'Measure Recommendation'!$I$41:$X$60,7,FALSE))","v":0},{"$f":"IF(Instructions!$F$4=\"Investigation\",VLOOKUP($C$2,'Measure Recommendation'!$I$17:$X$36,8,FALSE),VLOOKUP($C$2,'Measure Recommendation'!$I$41:$X$60,8,FALSE))","v":0},{"$f":"IF(Instructions!$F$4=\"Investigation\",VLOOKUP($C$2,'Measure Recommendation'!$I$17:$X$36,10,FALSE),VLOOKUP($C$2,'Measure Recommendation'!$I$41:$X$60,10,FALSE))","v":0},{"$f":"IF(Instructions!$F$4=\"Investigation\",VLOOKUP($C$2,'Measure Recommendation'!$I$17:$X$36,14,FALSE),VLOOKUP($C$2,'Measure Recommendation'!$I$41:$X$60,14,FALSE))","v":0},{"$f":"IF(Instructions!$F$4=\"Investigation\",VLOOKUP($C$2,'Measure Recommendation'!$I$17:$X$36,15,FALSE),VLOOKUP($C$2,'Measure Recommendation'!$I$41:$X$60,15,FALSE))","v":""}]
[]
["Electric ",null,null,"Natural Gas",null,"District Heating"]
["ComEd Peak Demand Savings (kW/month)","Electric Energy Savings (kWh/yr)","Electric Cost Savings ($/yr)","Natural Gas Savings (therms/yr)","Natural Gas Cost Savings ($/yr)","District Steam Energy Savings (therms/yr)","District Steam Cost Savings  ($/yr)","ECM Implement-ation Cost ($)","Simple Payback (Yrs)"]
[{"$f":"IF(Instructions!$F$4=\"Investigation\",VLOOKUP($C$2,'Measure Recommendation'!$I$17:$X$36,3,FALSE),VLOOKUP($C$2,'Measure Recommendation'!$I$41:$X$60,3,FALSE))","v":0},{"$f":"IF(Instructions!$F$4=\"Investigation\",VLOOKUP($C$2,'Measure Recommendation'!$I$17:$X$36,4,FALSE),VLOOKUP($C$2,'Measure Recommendation'!$I$41:$X$60,4,FALSE))","v":0},{"$f":"IF(Instructions!$F$4=\"Investigation\",VLOOKUP($C$2,'Measure Recommendation'!$I$17:$X$36,5,FALSE),VLOOKUP($C$2,'Measure Recommendation'!$I$41:$X$60,5,FALSE))","v":0},{"$f":"IF(Instructions!$F$4=\"Investigation\",VLOOKUP($C$2,'Measure Recommendation'!$I$17:$X$36,6,FALSE),VLOOKUP($C$2,'Measure Recommendation'!$I$41:$X$60,6,FALSE))","v":0},{"$f":"IF(Instructions!$F$4=\"Investigation\",VLOOKUP($C$2,'Measure Recommendation'!$I$17:$X$36,7,FALSE),VLOOKUP($C$2,'Measure Recommendation'!$I$41:$X$60,7,FALSE))","v":0},{"$f":"IF(Instructions!$F$4=\"Investigation\",VLOOKUP($C$2,'Measure Recommendation'!$I$17:$X$36,11,FALSE),VLOOKUP($C$2,'Measure Recommendation'!$I$41:$X$60,11,FALSE))","v":0},{"$f":"IF(Instructions!$F$4=\"Investigation\",VLOOKUP($C$2,'Measure Recommendation'!$I$17:$X$36,13,FALSE),VLOOKUP($C$2,'Measure Recommendation'!$I$41:$X$60,13,FALSE))","v":0},{"$f":"IF(Instructions!$F$4=\"Investigation\",VLOOKUP($C$2,'Measure Recommendation'!$I$17:$X$36,14,FALSE),VLOOKUP($C$2,'Measure Recommendation'!$I$41:$X$60,14,FALSE))","v":0},{"$f":"IF(Instructions!$F$4=\"Investigation\",VLOOKUP($C$2,'Measure Recommendation'!$I$17:$X$36,15,FALSE),VLOOKUP($C$2,'Measure Recommendation'!$I$41:$X$60,15,FALSE))","v":""}]
[]
[null,null,"Electric ",null,null,"Natural Gas"]
[null,null,"ComEd Peak Demand Savings (kW/month)","Electric Energy Savings (kWh/yr)","Electric Cost Savings ($/yr)","Natural Gas Savings (therms/yr)","Natural Gas Cost Savings ($/yr)","ECM Implement-ation Cost ($)","Simple Payback (Yrs)"]
[null,null,{"$f":"IF(Instructions!$F$4=\"Investigation\",VLOOKUP($C$2,'Measure Recommendation'!$I$17:$X$36,3,FALSE),VLOOKUP($C$2,'Measure Recommendation'!$I$41:$X$60,3,FALSE))","v":0},{"$f":"IF(Instructions!$F$4=\"Investigation\",VLOOKUP($C$2,'Measure Recommendation'!$I$17:$X$36,4,FALSE),VLOOKUP($C$2,'Measure Recommendation'!$I$41:$X$60,4,FALSE))","v":0},{"$f":"IF(Instructions!$F$4=\"Investigation\",VLOOKUP($C$2,'Measure Recommendation'!$I$17:$X$36,5,FALSE),VLOOKUP($C$2,'Measure Recommendation'!$I$41:$X$60,5,FALSE))","v":0},{"$f":"IF(Instructions!$F$4=\"Investigation\",VLOOKUP($C$2,'Measure Recommendation'!$I$17:$X$36,6,FALSE),VLOOKUP($C$2,'Measure Recommendation'!$I$41:$X$60,6,FALSE))","v":0},{"$f":"IF(Instructions!$F$4=\"Investigation\",VLOOKUP($C$2,'Measure Recommendation'!$I$17:$X$36,7,FALSE),VLOOKUP($C$2,'Measure Recommendation'!$I$41:$X$60,7,FALSE))","v":0},{"$f":"IF(Instructions!$F$4=\"Investigation\",VLOOKUP($C$2,'Measure Recommendation'!$I$17:$X$36,14,FALSE),VLOOKUP($C$2,'Measure Recommendation'!$I$41:$X$60,14,FALSE))","v":0},{"$f":"IF(Instructions!$F$4=\"Investigation\",VLOOKUP($C$2,'Measure Recommendation'!$I$17:$X$36,15,FALSE),VLOOKUP($C$2,'Measure Recommendation'!$I$41:$X$60,15,FALSE))","v":""}]
[]
[null,null,null,"Electric "]
[null,null,null,"ComEd Peak Demand Savings (kW/month)","Electric Energy Savings (kWh/yr)","Electric Cost Savings ($/yr)","ECM Implement-ation Cost ($)","Simple Payback (Yrs)"]
[null,null,null,{"$f":"IF(Instructions!$F$4=\"Investigation\",VLOOKUP($C$2,'Measure Recommendation'!$I$17:$X$36,3,FALSE),VLOOKUP($C$2,'Measure Recommendation'!$I$41:$X$60,3,FALSE))","v":0},{"$f":"IF(Instructions!$F$4=\"Investigation\",VLOOKUP($C$2,'Measure Recommendation'!$I$17:$X$36,4,FALSE),VLOOKUP($C$2,'Measure Recommendation'!$I$41:$X$60,4,FALSE))","v":0},{"$f":"IF(Instructions!$F$4=\"Investigation\",VLOOKUP($C$2,'Measure Recommendation'!$I$17:$X$36,5,FALSE),VLOOKUP($C$2,'Measure Recommendation'!$I$41:$X$60,5,FALSE))","v":0},{"$f":"IF(Instructions!$F$4=\"Investigation\",VLOOKUP($C$2,'Measure Recommendation'!$I$17:$X$36,14,FALSE),VLOOKUP($C$2,'Measure Recommendation'!$I$41:$X$60,14,FALSE))","v":0},{"$f":"IF(Instructions!$F$4=\"Investigation\",VLOOKUP($C$2,'Measure Recommendation'!$I$17:$X$36,15,FALSE),VLOOKUP($C$2,'Measure Recommendation'!$I$41:$X$60,15,FALSE))","v":""}]
[]
["Measure Details "]
[{"$f":"INDIRECT(\"'\"&J2&\"'!C5\")","v":"Enter text here."}]
["Existing Operation and Control Sequences"]
["Equipment affected and areas served:"]
[{"$f":"INDIRECT(\"'\"&J2&\"'!C8\")","v":"Enter text here."}]
["Baseline system operation and sequences of operation, setpoints:"]
[{"$f":"INDIRECT(\"'\"&J2&\"'!C10\")","v":"Enter text here."}]
["Investigation Approach, Findings and Data Acquisition"]
["Summary of initial investigation and functional testing:"]
[{"$f":"INDIRECT(\"'\"&J2&\"'!C13\")","v":"Enter text here."}]
["Parameters trended:"]
[{"$f":"INDIRECT(\"'\"&J2&\"'!C15\")","v":"Enter text here."}]
["Parameters functionally tested:"]
[{"$f":"INDIRECT(\"'\"&J2&\"'!C17\")","v":"Enter text here."}]
["Supporting graphs/screenshots – baseline:"]
[{"$f":"INDIRECT(\"'\"&J2&\"'!C19\")","v":"Enter text here."}]
[]
[{"$f":"INDIRECT(\"'\"&J2&\"'!C21\")","v":"Enter text here."}]
[]
["Proposed System Operation and Control Sequences - Scope of Work "]
["Proposed sequences of operation and setpoints:"]
[{"$f":"INDIRECT(\"'\"&J2&\"'!C24\")","v":"Enter text here."}]
["Integration with existing controllers: "]
[{"$f":"INDIRECT(\"'\"&J2&\"'!C26\")","v":"Enter text here."}]
["Equipment and personnel required for implementation:"]
[{"$f":"INDIRECT(\"'\"&J2&\"'!C28\")","v":"Enter text here."}]
["Calculation Methodology"]
[{"$f":"INDIRECT(\"'\"&J2&\"'!C30\")","v":"Enter text here."}]
["Measure Cost Details"]
[{"$f":"INDIRECT(\"'\"&J2&\"'!C32\")","v":"Enter text here."}]
["Verification Planning"]
[{"$f":"INDIRECT(\"'\"&J2&\"'!C34\")","v":"Enter text here."}]
["Verification Testing and Findings"]
["Parameters trended:"]
[{"$f":"INDIRECT(\"'\"&J2&\"'!C37\")","v":"To be completed during Verification Phase."}]
["Parameters functionally tested:"]
[{"$f":"INDIRECT(\"'\"&J2&\"'!C39\")","v":"To be completed during Verification Phase."}]
["Summary of verification testing:"]
[{"$f":"INDIRECT(\"'\"&J2&\"'!C41\")","v":"To be completed during Verification Phase."}]
["Modification to savings calculation:"]
[{"$f":"INDIRECT(\"'\"&J2&\"'!C43\")","v":"To be completed during Verification Phase."}]
["Supporting graphs/screenshots (post implementation):"]
[{"$f":"INDIRECT(\"'\"&J2&\"'!C45\")","v":"To be completed during Verification phase."}]
[]
[{"$f":"INDIRECT(\"'\"&J2&\"'!C47\")","v":"To be completed during Verification phase."}]

{"sheet":"MeasDet11","index":53,"n_rows":68,"n_cols":11,"rows_kept":68,"cut":false,"hidden":true,"merged":[[1,0,1,1],[1,2,1,8],[19,3,19,5],[27,0,27,10],[29,0,29,10],[36,0,36,10],[24,0,24,10],[32,0,32,10],[34,0,34,10],[65,0,65,8],[50,0,50,10],[57,0,57,10],[59,0,59,10],[61,0,61,10],[38,0,38,8],[42,0,42,7],[44,0,44,10],[46,0,46,10],[48,0,48,10],[40,0,40,8],[67,0,67,8],[11,3,11,4],[11,5,11,6],[3,0,3,2],[3,3,3,4],[3,5,3,6],[3,7,3,8],[7,0,7,2],[7,3,7,4],[7,5,7,6],[11,0,11,2],[15,2,15,4],[15,5,15,6],[63,0,63,10],[52,0,52,10],[54,0,54,10]]}
[]
["Operational ECM #11:",null,{"$f":"DataPhaseValid!G126","v":""},null,null,null,null,null,null,{"$f":"IF(Instructions!$F$4=\"Investigation\",VLOOKUP(MeasDet11!C2,'Measure Recommendation'!$I$17:$AB$36,20,FALSE),VLOOKUP(MeasDet11!C2,'Measure Recommendation'!$I$41:$AD$60,22,FALSE))","v":"ECM1"}]
[3]
["Electric ",null,null,"Natural Gas",null,"District Cooling",null,"District Heating"]
["ComEd Peak Demand Savings (kW/month)","Electric Energy Savings (kWh/yr)","Electric Cost Savings ($/yr)","Natural Gas Savings (therms/yr)","Natural Gas Cost Savings ($/yr)","District Chilled Water Energy Savings \n(ton-hrs/year)","District Chilled Water Cost Savings ($/yr)","District Steam Energy Savings (therms/yr)","District Steam Cost Savings  ($/yr)","ECM Implement-ation Cost ($)","Simple Payback (Yrs)"]
[{"$f":"IF(Instructions!$F$4=\"Investigation\",VLOOKUP($C$2,'Measure Recommendation'!$I$17:$X$36,3,FALSE),VLOOKUP($C$2,'Measure Recommendation'!$I$41:$X$60,3,FALSE))","v":0},{"$f":"IF(Instructions!$F$4=\"Investigation\",VLOOKUP($C$2,'Measure Recommendation'!$I$17:$X$36,4,FALSE),VLOOKUP($C$2,'Measure Recommendation'!$I$41:$X$60,4,FALSE))","v":0},{"$f":"IF(Instructions!$F$4=\"Investigation\",VLOOKUP($C$2,'Measure Recommendation'!$I$17:$X$36,5,FALSE),VLOOKUP($C$2,'Measure Recommendation'!$I$41:$X$60,5,FALSE))","v":0},{"$f":"IF(Instructions!$F$4=\"Investigation\",VLOOKUP($C$2,'Measure Recommendation'!$I$17:$X$36,6,FALSE),VLOOKUP($C$2,'Measure Recommendation'!$I$41:$X$60,6,FALSE))","v":0},{"$f":"IF(Instructions!$F$4=\"Investigation\",VLOOKUP($C$2,'Measure Recommendation'!$I$17:$X$36,7,FALSE),VLOOKUP($C$2,'Measure Recommendation'!$I$41:$X$60,7,FALSE))","v":0},{"$f":"IF(Instructions!$F$4=\"Investigation\",VLOOKUP($C$2,'Measure Recommendation'!$I$17:$X$36,8,FALSE),VLOOKUP($C$2,'Measure Recommendation'!$I$41:$X$60,8,FALSE))","v":0},{"$f":"IF(Instructions!$F$4=\"Investigation\",VLOOKUP($C$2,'Measure Recommendation'!$I$17:$X$36,10,FALSE),VLOOKUP($C$2,'Measure Recommendation'!$I$41:$X$60,10,FALSE))","v":0},{"$f":"IF(Instructions!$F$4=\"Investigation\",VLOOKUP($C$2,'Measure Recommendation'!$I$17:$X$36,11,FALSE),VLOOKUP($C$2,'Measure Recommendation'!$I$41:$X$60,11,FALSE))","v":0},{"$f":"IF(Instructions!$F$4=\"Investigation\",VLOOKUP($C$2,'Measure Recommendation'!$I$17:$X$36,13,FALSE),VLOOKUP($C$2,'Measure Recommendation'!$I$41:$X$60,13,FALSE))","v":0},{"$f":"IF(Instructions!$F$4=\"Investigation\",VLOOKUP($C$2,'Measure Recommendation'!$I$17:$X$36,14,FALSE),VLOOKUP($C$2,'Measure Recommendation'!$I$41:$X$60,14,FALSE))","v":0},{"$f":"IF(Instructions!$F$4=\"Investigation\",VLOOKUP($C$2,'Measure Recommendation'!$I$17:$X$36,15,FALSE),VLOOKUP($C$2,'Measure Recommendation'!$I$41:$X$60,15,FALSE))","v":""}]
[]
["Electric ",null,null,"Natural Gas",null,"District Cooling"]
["ComEd Peak Demand Savings (kW/month)","Electric Energy Savings (kWh/yr)","Electric Cost Savings ($/yr)","Natural Gas Savings (therms/yr)","Natural Gas Cost Savings ($/yr)","District Chilled Water Energy Savings \n(ton-hrs/year)","District Chilled Water Cost Savings ($/yr)","ECM Implement-ation Cost ($)","Simple Payback (Yrs)"]
[{"$f":"IF(Instructions!$F$4=\"Investigation\",VLOOKUP($C$2,'Measure Recommendation'!$I$17:$X$36,3,FALSE),VLOOKUP($C$2,'Measure Recommendation'!$I$41:$X$60,3,FALSE))","v":0},{"$f":"IF(Instructions!$F$4=\"Investigation\",VLOOKUP($C$2,'Measure Recommendation'!$I$17:$X$36,4,FALSE),VLOOKUP($C$2,'Measure Recommendation'!$I$41:$X$60,4,FALSE))","v":0},{"$f":"IF(Instructions!$F$4=\"Investigation\",VLOOKUP($C$2,'Measure Recommendation'!$I$17:$X$36,5,FALSE),VLOOKUP($C$2,'Measure Recommendation'!$I$41:$X$60,5,FALSE))","v":0},{"$f":"IF(Instructions!$F$4=\"Investigation\",VLOOKUP($C$2,'Measure Recommendation'!$I$17:$X$36,6,FALSE),VLOOKUP($C$2,'Measure Recommendation'!$I$41:$X$60,6,FALSE))","v":0},{"$f":"IF(Instructions!$F$4=\"Investigation\",VLOOKUP($C$2,'Measure Recommendation'!$I$17:$X$36,7,FALSE),VLOOKUP($C$2,'Measure Recommendation'!$I$41:$X$60,7,FALSE))","v":0},{"$f":"IF(Instructions!$F$4=\"Investigation\",VLOOKUP($C$2,'Measure Recommendation'!$I$17:$X$36,8,FALSE),VLOOKUP($C$2,'Measure Recommendation'!$I$41:$X$60,8,FALSE))","v":0},{"$f":"IF(Instructions!$F$4=\"Investigation\",VLOOKUP($C$2,'Measure Recommendation'!$I$17:$X$36,10,FALSE),VLOOKUP($C$2,'Measure Recommendation'!$I$41:$X$60,10,FALSE))","v":0},{"$f":"IF(Instructions!$F$4=\"Investigation\",VLOOKUP($C$2,'Measure Recommendation'!$I$17:$X$36,14,FALSE),VLOOKUP($C$2,'Measure Recommendation'!$I$41:$X$60,14,FALSE))","v":0},{"$f":"IF(Instructions!$F$4=\"Investigation\",VLOOKUP($C$2,'Measure Recommendation'!$I$17:$X$36,15,FALSE),VLOOKUP($C$2,'Measure Recommendation'!$I$41:$X$60,15,FALSE))","v":""}]
[]
["Electric ",null,null,"Natural Gas",null,"District Heating"]
["ComEd Peak Demand Savings (kW/month)","Electric Energy Savings (kWh/yr)","Electric Cost Savings ($/yr)","Natural Gas Savings (therms/yr)","Natural Gas Cost Savings ($/yr)","District Steam Energy Savings (therms/yr)","District Steam Cost Savings  ($/yr)","ECM Implement-ation Cost ($)","Simple Payback (Yrs)"]
[{"$f":"IF(Instructions!$F$4=\"Investigation\",VLOOKUP($C$2,'Measure Recommendation'!$I$17:$X$36,3,FALSE),VLOOKUP($C$2,'Measure Recommendation'!$I$41:$X$60,3,FALSE))","v":0},{"$f":"IF(Instructions!$F$4=\"Investigation\",VLOOKUP($C$2,'Measure Recommendation'!$I$17:$X$36,4,FALSE),VLOOKUP($C$2,'Measure Recommendation'!$I$41:$X$60,4,FALSE))","v":0},{"$f":"IF(Instructions!$F$4=\"Investigation\",VLOOKUP($C$2,'Measure Recommendation'!$I$17:$X$36,5,FALSE),VLOOKUP($C$2,'Measure Recommendation'!$I$41:$X$60,5,FALSE))","v":0},{"$f":"IF(Instructions!$F$4=\"Investigation\",VLOOKUP($C$2,'Measure Recommendation'!$I$17:$X$36,6,FALSE),VLOOKUP($C$2,'Measure Recommendation'!$I$41:$X$60,6,FALSE))","v":0},{"$f":"IF(Instructions!$F$4=\"Investigation\",VLOOKUP($C$2,'Measure Recommendation'!$I$17:$X$36,7,FALSE),VLOOKUP($C$2,'Measure Recommendation'!$I$41:$X$60,7,FALSE))","v":0},{"$f":"IF(Instructions!$F$4=\"Investigation\",VLOOKUP($C$2,'Measure Recommendation'!$I$17:$X$36,11,FALSE),VLOOKUP($C$2,'Measure Recommendation'!$I$41:$X$60,11,FALSE))","v":0},{"$f":"IF(Instructions!$F$4=\"Investigation\",VLOOKUP($C$2,'Measure Recommendation'!$I$17:$X$36,13,FALSE),VLOOKUP($C$2,'Measure Recommendation'!$I$41:$X$60,13,FALSE))","v":0},{"$f":"IF(Instructions!$F$4=\"Investigation\",VLOOKUP($C$2,'Measure Recommendation'!$I$17:$X$36,14,FALSE),VLOOKUP($C$2,'Measure Recommendation'!$I$41:$X$60,14,FALSE))","v":0},{"$f":"IF(Instructions!$F$4=\"Investigation\",VLOOKUP($C$2,'Measure Recommendation'!$I$17:$X$36,15,FALSE),VLOOKUP($C$2,'Measure Recommendation'!$I$41:$X$60,15,FALSE))","v":""}]
[]
[null,null,"Electric ",null,null,"Natural Gas"]
[null,null,"ComEd Peak Demand Savings (kW/month)","Electric Energy Savings (kWh/yr)","Electric Cost Savings ($/yr)","Natural Gas Savings (therms/yr)","Natural Gas Cost Savings ($/yr)","ECM Implement-ation Cost ($)","Simple Payback (Yrs)"]
[null,null,{"$f":"IF(Instructions!$F$4=\"Investigation\",VLOOKUP($C$2,'Measure Recommendation'!$I$17:$X$36,3,FALSE),VLOOKUP($C$2,'Measure Recommendation'!$I$41:$X$60,3,FALSE))","v":0},{"$f":"IF(Instructions!$F$4=\"Investigation\",VLOOKUP($C$2,'Measure Recommendation'!$I$17:$X$36,4,FALSE),VLOOKUP($C$2,'Measure Recommendation'!$I$41:$X$60,4,FALSE))","v":0},{"$f":"IF(Instructions!$F$4=\"Investigation\",VLOOKUP($C$2,'Measure Recommendation'!$I$17:$X$36,5,FALSE),VLOOKUP($C$2,'Measure Recommendation'!$I$41:$X$60,5,FALSE))","v":0},{"$f":"IF(Instructions!$F$4=\"Investigation\",VLOOKUP($C$2,'Measure Recommendation'!$I$17:$X$36,6,FALSE),VLOOKUP($C$2,'Measure Recommendation'!$I$41:$X$60,6,FALSE))","v":0},{"$f":"IF(Instructions!$F$4=\"Investigation\",VLOOKUP($C$2,'Measure Recommendation'!$I$17:$X$36,7,FALSE),VLOOKUP($C$2,'Measure Recommendation'!$I$41:$X$60,7,FALSE))","v":0},{"$f":"IF(Instructions!$F$4=\"Investigation\",VLOOKUP($C$2,'Measure Recommendation'!$I$17:$X$36,14,FALSE),VLOOKUP($C$2,'Measure Recommendation'!$I$41:$X$60,14,FALSE))","v":0},{"$f":"IF(Instructions!$F$4=\"Investigation\",VLOOKUP($C$2,'Measure Recommendation'!$I$17:$X$36,15,FALSE),VLOOKUP($C$2,'Measure Recommendation'!$I$41:$X$60,15,FALSE))","v":""}]
[]
[null,null,null,"Electric "]
[null,null,null,"ComEd Peak Demand Savings (kW/month)","Electric Energy Savings (kWh/yr)","Electric Cost Savings ($/yr)","ECM Implement-ation Cost ($)","Simple Payback (Yrs)"]
[null,null,null,{"$f":"IF(Instructions!$F$4=\"Investigation\",VLOOKUP($C$2,'Measure Recommendation'!$I$17:$X$36,3,FALSE),VLOOKUP($C$2,'Measure Recommendation'!$I$41:$X$60,3,FALSE))","v":0},{"$f":"IF(Instructions!$F$4=\"Investigation\",VLOOKUP($C$2,'Measure Recommendation'!$I$17:$X$36,4,FALSE),VLOOKUP($C$2,'Measure Recommendation'!$I$41:$X$60,4,FALSE))","v":0},{"$f":"IF(Instructions!$F$4=\"Investigation\",VLOOKUP($C$2,'Measure Recommendation'!$I$17:$X$36,5,FALSE),VLOOKUP($C$2,'Measure Recommendation'!$I$41:$X$60,5,FALSE))","v":0},{"$f":"IF(Instructions!$F$4=\"Investigation\",VLOOKUP($C$2,'Measure Recommendation'!$I$17:$X$36,14,FALSE),VLOOKUP($C$2,'Measure Recommendation'!$I$41:$X$60,14,FALSE))","v":0},{"$f":"IF(Instructions!$F$4=\"Investigation\",VLOOKUP($C$2,'Measure Recommendation'!$I$17:$X$36,15,FALSE),VLOOKUP($C$2,'Measure Recommendation'!$I$41:$X$60,15,FALSE))","v":""}]
[]
["Measure Details "]
[{"$f":"INDIRECT(\"'\"&J2&\"'!C5\")","v":"Enter text here."}]
["Existing Operation and Control Sequences"]
["Equipment affected and areas served:"]
[{"$f":"INDIRECT(\"'\"&J2&\"'!C8\")","v":"Enter text here."}]
["Baseline system operation and sequences of operation, setpoints:"]
[{"$f":"INDIRECT(\"'\"&J2&\"'!C10\")","v":"Enter text here."}]
["Investigation Approach, Findings and Data Acquisition"]
["Summary of initial investigation and functional testing:"]
[{"$f":"INDIRECT(\"'\"&J2&\"'!C13\")","v":"Enter text here."}]
["Parameters trended:"]
[{"$f":"INDIRECT(\"'\"&J2&\"'!C15\")","v":"Enter text here."}]
["Parameters functionally tested:"]
[{"$f":"INDIRECT(\"'\"&J2&\"'!C17\")","v":"Enter text here."}]
["Supporting graphs/screenshots – baseline:"]
[{"$f":"INDIRECT(\"'\"&J2&\"'!C19\")","v":"Enter text here."}]
[]
[{"$f":"INDIRECT(\"'\"&J2&\"'!C21\")","v":"Enter text here."}]
[]
["Proposed System Operation and Control Sequences - Scope of Work "]
["Proposed sequences of operation and setpoints:"]
[{"$f":"INDIRECT(\"'\"&J2&\"'!C24\")","v":"Enter text here."}]
["Integration with existing controllers: "]
[{"$f":"INDIRECT(\"'\"&J2&\"'!C26\")","v":"Enter text here."}]
["Equipment and personnel required for implementation:"]
[{"$f":"INDIRECT(\"'\"&J2&\"'!C28\")","v":"Enter text here."}]
["Calculation Methodology"]
[{"$f":"INDIRECT(\"'\"&J2&\"'!C30\")","v":"Enter text here."}]
["Measure Cost Details"]
[{"$f":"INDIRECT(\"'\"&J2&\"'!C32\")","v":"Enter text here."}]
["Verification Planning"]
[{"$f":"INDIRECT(\"'\"&J2&\"'!C34\")","v":"Enter text here."}]
["Verification Testing and Findings"]
["Parameters trended:"]
[{"$f":"INDIRECT(\"'\"&J2&\"'!C37\")","v":"To be completed during Verification Phase."}]
["Parameters functionally tested:"]
[{"$f":"INDIRECT(\"'\"&J2&\"'!C39\")","v":"To be completed during Verification Phase."}]
["Summary of verification testing:"]
[{"$f":"INDIRECT(\"'\"&J2&\"'!C41\")","v":"To be completed during Verification Phase."}]
["Modification to savings calculation:"]
[{"$f":"INDIRECT(\"'\"&J2&\"'!C43\")","v":"To be completed during Verification Phase."}]
["Supporting graphs/screenshots (post implementation):"]
[{"$f":"INDIRECT(\"'\"&J2&\"'!C45\")","v":"To be completed during Verification phase."}]
[]
[{"$f":"INDIRECT(\"'\"&J2&\"'!C47\")","v":"To be completed during Verification phase."}]

{"sheet":"MeasDet12","index":54,"n_rows":68,"n_cols":11,"rows_kept":68,"cut":false,"hidden":true,"merged":[[1,0,1,1],[1,2,1,8],[19,3,19,5],[27,0,27,10],[29,0,29,10],[36,0,36,10],[24,0,24,10],[32,0,32,10],[34,0,34,10],[65,0,65,8],[50,0,50,10],[57,0,57,10],[59,0,59,10],[61,0,61,10],[38,0,38,8],[42,0,42,7],[44,0,44,10],[46,0,46,10],[48,0,48,10],[40,0,40,8],[67,0,67,8],[11,3,11,4],[11,5,11,6],[3,0,3,2],[3,3,3,4],[3,5,3,6],[3,7,3,8],[7,0,7,2],[7,3,7,4],[7,5,7,6],[11,0,11,2],[15,2,15,4],[15,5,15,6],[63,0,63,10],[52,0,52,10],[54,0,54,10]]}
[]
["Operational ECM #12:",null,{"$f":"DataPhaseValid!G127","v":""},null,null,null,null,null,null,{"$f":"IF(Instructions!$F$4=\"Investigation\",VLOOKUP(MeasDet12!C2,'Measure Recommendation'!$I$17:$AB$36,20,FALSE),VLOOKUP(MeasDet12!C2,'Measure Recommendation'!$I$41:$AD$60,22,FALSE))","v":"ECM1"}]
[3]
["Electric ",null,null,"Natural Gas",null,"District Cooling",null,"District Heating"]
["ComEd Peak Demand Savings (kW/month)","Electric Energy Savings (kWh/yr)","Electric Cost Savings ($/yr)","Natural Gas Savings (therms/yr)","Natural Gas Cost Savings ($/yr)","District Chilled Water Energy Savings \n(ton-hrs/year)","District Chilled Water Cost Savings ($/yr)","District Steam Energy Savings (therms/yr)","District Steam Cost Savings  ($/yr)","ECM Implement-ation Cost ($)","Simple Payback (Yrs)"]
[{"$f":"IF(Instructions!$F$4=\"Investigation\",VLOOKUP($C$2,'Measure Recommendation'!$I$17:$X$36,3,FALSE),VLOOKUP($C$2,'Measure Recommendation'!$I$41:$X$60,3,FALSE))","v":0},{"$f":"IF(Instructions!$F$4=\"Investigation\",VLOOKUP($C$2,'Measure Recommendation'!$I$17:$X$36,4,FALSE),VLOOKUP($C$2,'Measure Recommendation'!$I$41:$X$60,4,FALSE))","v":0},{"$f":"IF(Instructions!$F$4=\"Investigation\",VLOOKUP($C$2,'Measure Recommendation'!$I$17:$X$36,5,FALSE),VLOOKUP($C$2,'Measure Recommendation'!$I$41:$X$60,5,FALSE))","v":0},{"$f":"IF(Instructions!$F$4=\"Investigation\",VLOOKUP($C$2,'Measure Recommendation'!$I$17:$X$36,6,FALSE),VLOOKUP($C$2,'Measure Recommendation'!$I$41:$X$60,6,FALSE))","v":0},{"$f":"IF(Instructions!$F$4=\"Investigation\",VLOOKUP($C$2,'Measure Recommendation'!$I$17:$X$36,7,FALSE),VLOOKUP($C$2,'Measure Recommendation'!$I$41:$X$60,7,FALSE))","v":0},{"$f":"IF(Instructions!$F$4=\"Investigation\",VLOOKUP($C$2,'Measure Recommendation'!$I$17:$X$36,8,FALSE),VLOOKUP($C$2,'Measure Recommendation'!$I$41:$X$60,8,FALSE))","v":0},{"$f":"IF(Instructions!$F$4=\"Investigation\",VLOOKUP($C$2,'Measure Recommendation'!$I$17:$X$36,10,FALSE),VLOOKUP($C$2,'Measure Recommendation'!$I$41:$X$60,10,FALSE))","v":0},{"$f":"IF(Instructions!$F$4=\"Investigation\",VLOOKUP($C$2,'Measure Recommendation'!$I$17:$X$36,11,FALSE),VLOOKUP($C$2,'Measure Recommendation'!$I$41:$X$60,11,FALSE))","v":0},{"$f":"IF(Instructions!$F$4=\"Investigation\",VLOOKUP($C$2,'Measure Recommendation'!$I$17:$X$36,13,FALSE),VLOOKUP($C$2,'Measure Recommendation'!$I$41:$X$60,13,FALSE))","v":0},{"$f":"IF(Instructions!$F$4=\"Investigation\",VLOOKUP($C$2,'Measure Recommendation'!$I$17:$X$36,14,FALSE),VLOOKUP($C$2,'Measure Recommendation'!$I$41:$X$60,14,FALSE))","v":0},{"$f":"IF(Instructions!$F$4=\"Investigation\",VLOOKUP($C$2,'Measure Recommendation'!$I$17:$X$36,15,FALSE),VLOOKUP($C$2,'Measure Recommendation'!$I$41:$X$60,15,FALSE))","v":""}]
[]
["Electric ",null,null,"Natural Gas",null,"District Cooling"]
["ComEd Peak Demand Savings (kW/month)","Electric Energy Savings (kWh/yr)","Electric Cost Savings ($/yr)","Natural Gas Savings (therms/yr)","Natural Gas Cost Savings ($/yr)","District Chilled Water Energy Savings \n(ton-hrs/year)","District Chilled Water Cost Savings ($/yr)","ECM Implement-ation Cost ($)","Simple Payback (Yrs)"]
[{"$f":"IF(Instructions!$F$4=\"Investigation\",VLOOKUP($C$2,'Measure Recommendation'!$I$17:$X$36,3,FALSE),VLOOKUP($C$2,'Measure Recommendation'!$I$41:$X$60,3,FALSE))","v":0},{"$f":"IF(Instructions!$F$4=\"Investigation\",VLOOKUP($C$2,'Measure Recommendation'!$I$17:$X$36,4,FALSE),VLOOKUP($C$2,'Measure Recommendation'!$I$41:$X$60,4,FALSE))","v":0},{"$f":"IF(Instructions!$F$4=\"Investigation\",VLOOKUP($C$2,'Measure Recommendation'!$I$17:$X$36,5,FALSE),VLOOKUP($C$2,'Measure Recommendation'!$I$41:$X$60,5,FALSE))","v":0},{"$f":"IF(Instructions!$F$4=\"Investigation\",VLOOKUP($C$2,'Measure Recommendation'!$I$17:$X$36,6,FALSE),VLOOKUP($C$2,'Measure Recommendation'!$I$41:$X$60,6,FALSE))","v":0},{"$f":"IF(Instructions!$F$4=\"Investigation\",VLOOKUP($C$2,'Measure Recommendation'!$I$17:$X$36,7,FALSE),VLOOKUP($C$2,'Measure Recommendation'!$I$41:$X$60,7,FALSE))","v":0},{"$f":"IF(Instructions!$F$4=\"Investigation\",VLOOKUP($C$2,'Measure Recommendation'!$I$17:$X$36,8,FALSE),VLOOKUP($C$2,'Measure Recommendation'!$I$41:$X$60,8,FALSE))","v":0},{"$f":"IF(Instructions!$F$4=\"Investigation\",VLOOKUP($C$2,'Measure Recommendation'!$I$17:$X$36,10,FALSE),VLOOKUP($C$2,'Measure Recommendation'!$I$41:$X$60,10,FALSE))","v":0},{"$f":"IF(Instructions!$F$4=\"Investigation\",VLOOKUP($C$2,'Measure Recommendation'!$I$17:$X$36,14,FALSE),VLOOKUP($C$2,'Measure Recommendation'!$I$41:$X$60,14,FALSE))","v":0},{"$f":"IF(Instructions!$F$4=\"Investigation\",VLOOKUP($C$2,'Measure Recommendation'!$I$17:$X$36,15,FALSE),VLOOKUP($C$2,'Measure Recommendation'!$I$41:$X$60,15,FALSE))","v":""}]
[]
["Electric ",null,null,"Natural Gas",null,"District Heating"]
["ComEd Peak Demand Savings (kW/month)","Electric Energy Savings (kWh/yr)","Electric Cost Savings ($/yr)","Natural Gas Savings (therms/yr)","Natural Gas Cost Savings ($/yr)","District Steam Energy Savings (therms/yr)","District Steam Cost Savings  ($/yr)","ECM Implement-ation Cost ($)","Simple Payback (Yrs)"]
[{"$f":"IF(Instructions!$F$4=\"Investigation\",VLOOKUP($C$2,'Measure Recommendation'!$I$17:$X$36,3,FALSE),VLOOKUP($C$2,'Measure Recommendation'!$I$41:$X$60,3,FALSE))","v":0},{"$f":"IF(Instructions!$F$4=\"Investigation\",VLOOKUP($C$2,'Measure Recommendation'!$I$17:$X$36,4,FALSE),VLOOKUP($C$2,'Measure Recommendation'!$I$41:$X$60,4,FALSE))","v":0},{"$f":"IF(Instructions!$F$4=\"Investigation\",VLOOKUP($C$2,'Measure Recommendation'!$I$17:$X$36,5,FALSE),VLOOKUP($C$2,'Measure Recommendation'!$I$41:$X$60,5,FALSE))","v":0},{"$f":"IF(Instructions!$F$4=\"Investigation\",VLOOKUP($C$2,'Measure Recommendation'!$I$17:$X$36,6,FALSE),VLOOKUP($C$2,'Measure Recommendation'!$I$41:$X$60,6,FALSE))","v":0},{"$f":"IF(Instructions!$F$4=\"Investigation\",VLOOKUP($C$2,'Measure Recommendation'!$I$17:$X$36,7,FALSE),VLOOKUP($C$2,'Measure Recommendation'!$I$41:$X$60,7,FALSE))","v":0},{"$f":"IF(Instructions!$F$4=\"Investigation\",VLOOKUP($C$2,'Measure Recommendation'!$I$17:$X$36,11,FALSE),VLOOKUP($C$2,'Measure Recommendation'!$I$41:$X$60,11,FALSE))","v":0},{"$f":"IF(Instructions!$F$4=\"Investigation\",VLOOKUP($C$2,'Measure Recommendation'!$I$17:$X$36,13,FALSE),VLOOKUP($C$2,'Measure Recommendation'!$I$41:$X$60,13,FALSE))","v":0},{"$f":"IF(Instructions!$F$4=\"Investigation\",VLOOKUP($C$2,'Measure Recommendation'!$I$17:$X$36,14,FALSE),VLOOKUP($C$2,'Measure Recommendation'!$I$41:$X$60,14,FALSE))","v":0},{"$f":"IF(Instructions!$F$4=\"Investigation\",VLOOKUP($C$2,'Measure Recommendation'!$I$17:$X$36,15,FALSE),VLOOKUP($C$2,'Measure Recommendation'!$I$41:$X$60,15,FALSE))","v":""}]
[]
[null,null,"Electric ",null,null,"Natural Gas"]
[null,null,"ComEd Peak Demand Savings (kW/month)","Electric Energy Savings (kWh/yr)","Electric Cost Savings ($/yr)","Natural Gas Savings (therms/yr)","Natural Gas Cost Savings ($/yr)","ECM Implement-ation Cost ($)","Simple Payback (Yrs)"]
[null,null,{"$f":"IF(Instructions!$F$4=\"Investigation\",VLOOKUP($C$2,'Measure Recommendation'!$I$17:$X$36,3,FALSE),VLOOKUP($C$2,'Measure Recommendation'!$I$41:$X$60,3,FALSE))","v":0},{"$f":"IF(Instructions!$F$4=\"Investigation\",VLOOKUP($C$2,'Measure Recommendation'!$I$17:$X$36,4,FALSE),VLOOKUP($C$2,'Measure Recommendation'!$I$41:$X$60,4,FALSE))","v":0},{"$f":"IF(Instructions!$F$4=\"Investigation\",VLOOKUP($C$2,'Measure Recommendation'!$I$17:$X$36,5,FALSE),VLOOKUP($C$2,'Measure Recommendation'!$I$41:$X$60,5,FALSE))","v":0},{"$f":"IF(Instructions!$F$4=\"Investigation\",VLOOKUP($C$2,'Measure Recommendation'!$I$17:$X$36,6,FALSE),VLOOKUP($C$2,'Measure Recommendation'!$I$41:$X$60,6,FALSE))","v":0},{"$f":"IF(Instructions!$F$4=\"Investigation\",VLOOKUP($C$2,'Measure Recommendation'!$I$17:$X$36,7,FALSE),VLOOKUP($C$2,'Measure Recommendation'!$I$41:$X$60,7,FALSE))","v":0},{"$f":"IF(Instructions!$F$4=\"Investigation\",VLOOKUP($C$2,'Measure Recommendation'!$I$17:$X$36,14,FALSE),VLOOKUP($C$2,'Measure Recommendation'!$I$41:$X$60,14,FALSE))","v":0},{"$f":"IF(Instructions!$F$4=\"Investigation\",VLOOKUP($C$2,'Measure Recommendation'!$I$17:$X$36,15,FALSE),VLOOKUP($C$2,'Measure Recommendation'!$I$41:$X$60,15,FALSE))","v":""}]
[]
[null,null,null,"Electric "]
[null,null,null,"ComEd Peak Demand Savings (kW/month)","Electric Energy Savings (kWh/yr)","Electric Cost Savings ($/yr)","ECM Implement-ation Cost ($)","Simple Payback (Yrs)"]
[null,null,null,{"$f":"IF(Instructions!$F$4=\"Investigation\",VLOOKUP($C$2,'Measure Recommendation'!$I$17:$X$36,3,FALSE),VLOOKUP($C$2,'Measure Recommendation'!$I$41:$X$60,3,FALSE))","v":0},{"$f":"IF(Instructions!$F$4=\"Investigation\",VLOOKUP($C$2,'Measure Recommendation'!$I$17:$X$36,4,FALSE),VLOOKUP($C$2,'Measure Recommendation'!$I$41:$X$60,4,FALSE))","v":0},{"$f":"IF(Instructions!$F$4=\"Investigation\",VLOOKUP($C$2,'Measure Recommendation'!$I$17:$X$36,5,FALSE),VLOOKUP($C$2,'Measure Recommendation'!$I$41:$X$60,5,FALSE))","v":0},{"$f":"IF(Instructions!$F$4=\"Investigation\",VLOOKUP($C$2,'Measure Recommendation'!$I$17:$X$36,14,FALSE),VLOOKUP($C$2,'Measure Recommendation'!$I$41:$X$60,14,FALSE))","v":0},{"$f":"IF(Instructions!$F$4=\"Investigation\",VLOOKUP($C$2,'Measure Recommendation'!$I$17:$X$36,15,FALSE),VLOOKUP($C$2,'Measure Recommendation'!$I$41:$X$60,15,FALSE))","v":""}]
[]
["Measure Details "]
[{"$f":"INDIRECT(\"'\"&J2&\"'!C5\")","v":"Enter text here."}]
["Existing Operation and Control Sequences"]
["Equipment affected and areas served:"]
[{"$f":"INDIRECT(\"'\"&J2&\"'!C8\")","v":"Enter text here."}]
["Baseline system operation and sequences of operation, setpoints:"]
[{"$f":"INDIRECT(\"'\"&J2&\"'!C10\")","v":"Enter text here."}]
["Investigation Approach, Findings and Data Acquisition"]
["Summary of initial investigation and functional testing:"]
[{"$f":"INDIRECT(\"'\"&J2&\"'!C13\")","v":"Enter text here."}]
["Parameters trended:"]
[{"$f":"INDIRECT(\"'\"&J2&\"'!C15\")","v":"Enter text here."}]
["Parameters functionally tested:"]
[{"$f":"INDIRECT(\"'\"&J2&\"'!C17\")","v":"Enter text here."}]
["Supporting graphs/screenshots – baseline:"]
[{"$f":"INDIRECT(\"'\"&J2&\"'!C19\")","v":"Enter text here."}]
[]
[{"$f":"INDIRECT(\"'\"&J2&\"'!C21\")","v":"Enter text here."}]
[]
["Proposed System Operation and Control Sequences - Scope of Work "]
["Proposed sequences of operation and setpoints:"]
[{"$f":"INDIRECT(\"'\"&J2&\"'!C24\")","v":"Enter text here."}]
["Integration with existing controllers: "]
[{"$f":"INDIRECT(\"'\"&J2&\"'!C26\")","v":"Enter text here."}]
["Equipment and personnel required for implementation:"]
[{"$f":"INDIRECT(\"'\"&J2&\"'!C28\")","v":"Enter text here."}]
["Calculation Methodology"]
[{"$f":"INDIRECT(\"'\"&J2&\"'!C30\")","v":"Enter text here."}]
["Measure Cost Details"]
[{"$f":"INDIRECT(\"'\"&J2&\"'!C32\")","v":"Enter text here."}]
["Verification Planning"]
[{"$f":"INDIRECT(\"'\"&J2&\"'!C34\")","v":"Enter text here."}]
["Verification Testing and Findings"]
["Parameters trended:"]
[{"$f":"INDIRECT(\"'\"&J2&\"'!C37\")","v":"To be completed during Verification Phase."}]
["Parameters functionally tested:"]
[{"$f":"INDIRECT(\"'\"&J2&\"'!C39\")","v":"To be completed during Verification Phase."}]
["Summary of verification testing:"]
[{"$f":"INDIRECT(\"'\"&J2&\"'!C41\")","v":"To be completed during Verification Phase."}]
["Modification to savings calculation:"]
[{"$f":"INDIRECT(\"'\"&J2&\"'!C43\")","v":"To be completed during Verification Phase."}]
["Supporting graphs/screenshots (post implementation):"]
[{"$f":"INDIRECT(\"'\"&J2&\"'!C45\")","v":"To be completed during Verification phase."}]
[]
[{"$f":"INDIRECT(\"'\"&J2&\"'!C47\")","v":"To be completed during Verification phase."}]

{"sheet":"MeasDet13","index":55,"n_rows":68,"n_cols":11,"rows_kept":68,"cut":false,"hidden":true,"merged":[[1,0,1,1],[1,2,1,8],[19,3,19,5],[27,0,27,10],[29,0,29,10],[36,0,36,10],[24,0,24,10],[32,0,32,10],[34,0,34,10],[65,0,65,8],[50,0,50,10],[57,0,57,10],[59,0,59,10],[61,0,61,10],[38,0,38,8],[42,0,42,7],[44,0,44,10],[46,0,46,10],[48,0,48,10],[40,0,40,8],[67,0,67,8],[11,3,11,4],[11,5,11,6],[3,0,3,2],[3,3,3,4],[3,5,3,6],[3,7,3,8],[7,0,7,2],[7,3,7,4],[7,5,7,6],[11,0,11,2],[15,2,15,4],[15,5,15,6],[63,0,63,10],[52,0,52,10],[54,0,54,10]]}
[]
["Operational ECM #13:",null,{"$f":"DataPhaseValid!G128","v":""},null,null,null,null,null,null,{"$f":"IF(Instructions!$F$4=\"Investigation\",VLOOKUP(MeasDet13!C2,'Measure Recommendation'!$I$17:$AB$36,20,FALSE),VLOOKUP(MeasDet13!C2,'Measure Recommendation'!$I$41:$AD$60,22,FALSE))","v":"ECM1"}]
[3]
["Electric ",null,null,"Natural Gas",null,"District Cooling",null,"District Heating"]
["ComEd Peak Demand Savings (kW/month)","Electric Energy Savings (kWh/yr)","Electric Cost Savings ($/yr)","Natural Gas Savings (therms/yr)","Natural Gas Cost Savings ($/yr)","District Chilled Water Energy Savings \n(ton-hrs/year)","District Chilled Water Cost Savings ($/yr)","District Steam Energy Savings (therms/yr)","District Steam Cost Savings  ($/yr)","ECM Implement-ation Cost ($)","Simple Payback (Yrs)"]
[{"$f":"IF(Instructions!$F$4=\"Investigation\",VLOOKUP($C$2,'Measure Recommendation'!$I$17:$X$36,3,FALSE),VLOOKUP($C$2,'Measure Recommendation'!$I$41:$X$60,3,FALSE))","v":0},{"$f":"IF(Instructions!$F$4=\"Investigation\",VLOOKUP($C$2,'Measure Recommendation'!$I$17:$X$36,4,FALSE),VLOOKUP($C$2,'Measure Recommendation'!$I$41:$X$60,4,FALSE))","v":0},{"$f":"IF(Instructions!$F$4=\"Investigation\",VLOOKUP($C$2,'Measure Recommendation'!$I$17:$X$36,5,FALSE),VLOOKUP($C$2,'Measure Recommendation'!$I$41:$X$60,5,FALSE))","v":0},{"$f":"IF(Instructions!$F$4=\"Investigation\",VLOOKUP($C$2,'Measure Recommendation'!$I$17:$X$36,6,FALSE),VLOOKUP($C$2,'Measure Recommendation'!$I$41:$X$60,6,FALSE))","v":0},{"$f":"IF(Instructions!$F$4=\"Investigation\",VLOOKUP($C$2,'Measure Recommendation'!$I$17:$X$36,7,FALSE),VLOOKUP($C$2,'Measure Recommendation'!$I$41:$X$60,7,FALSE))","v":0},{"$f":"IF(Instructions!$F$4=\"Investigation\",VLOOKUP($C$2,'Measure Recommendation'!$I$17:$X$36,8,FALSE),VLOOKUP($C$2,'Measure Recommendation'!$I$41:$X$60,8,FALSE))","v":0},{"$f":"IF(Instructions!$F$4=\"Investigation\",VLOOKUP($C$2,'Measure Recommendation'!$I$17:$X$36,10,FALSE),VLOOKUP($C$2,'Measure Recommendation'!$I$41:$X$60,10,FALSE))","v":0},{"$f":"IF(Instructions!$F$4=\"Investigation\",VLOOKUP($C$2,'Measure Recommendation'!$I$17:$X$36,11,FALSE),VLOOKUP($C$2,'Measure Recommendation'!$I$41:$X$60,11,FALSE))","v":0},{"$f":"IF(Instructions!$F$4=\"Investigation\",VLOOKUP($C$2,'Measure Recommendation'!$I$17:$X$36,13,FALSE),VLOOKUP($C$2,'Measure Recommendation'!$I$41:$X$60,13,FALSE))","v":0},{"$f":"IF(Instructions!$F$4=\"Investigation\",VLOOKUP($C$2,'Measure Recommendation'!$I$17:$X$36,14,FALSE),VLOOKUP($C$2,'Measure Recommendation'!$I$41:$X$60,14,FALSE))","v":0},{"$f":"IF(Instructions!$F$4=\"Investigation\",VLOOKUP($C$2,'Measure Recommendation'!$I$17:$X$36,15,FALSE),VLOOKUP($C$2,'Measure Recommendation'!$I$41:$X$60,15,FALSE))","v":""}]
[]
["Electric ",null,null,"Natural Gas",null,"District Cooling"]
["ComEd Peak Demand Savings (kW/month)","Electric Energy Savings (kWh/yr)","Electric Cost Savings ($/yr)","Natural Gas Savings (therms/yr)","Natural Gas Cost Savings ($/yr)","District Chilled Water Energy Savings \n(ton-hrs/year)","District Chilled Water Cost Savings ($/yr)","ECM Implement-ation Cost ($)","Simple Payback (Yrs)"]
[{"$f":"IF(Instructions!$F$4=\"Investigation\",VLOOKUP($C$2,'Measure Recommendation'!$I$17:$X$36,3,FALSE),VLOOKUP($C$2,'Measure Recommendation'!$I$41:$X$60,3,FALSE))","v":0},{"$f":"IF(Instructions!$F$4=\"Investigation\",VLOOKUP($C$2,'Measure Recommendation'!$I$17:$X$36,4,FALSE),VLOOKUP($C$2,'Measure Recommendation'!$I$41:$X$60,4,FALSE))","v":0},{"$f":"IF(Instructions!$F$4=\"Investigation\",VLOOKUP($C$2,'Measure Recommendation'!$I$17:$X$36,5,FALSE),VLOOKUP($C$2,'Measure Recommendation'!$I$41:$X$60,5,FALSE))","v":0},{"$f":"IF(Instructions!$F$4=\"Investigation\",VLOOKUP($C$2,'Measure Recommendation'!$I$17:$X$36,6,FALSE),VLOOKUP($C$2,'Measure Recommendation'!$I$41:$X$60,6,FALSE))","v":0},{"$f":"IF(Instructions!$F$4=\"Investigation\",VLOOKUP($C$2,'Measure Recommendation'!$I$17:$X$36,7,FALSE),VLOOKUP($C$2,'Measure Recommendation'!$I$41:$X$60,7,FALSE))","v":0},{"$f":"IF(Instructions!$F$4=\"Investigation\",VLOOKUP($C$2,'Measure Recommendation'!$I$17:$X$36,8,FALSE),VLOOKUP($C$2,'Measure Recommendation'!$I$41:$X$60,8,FALSE))","v":0},{"$f":"IF(Instructions!$F$4=\"Investigation\",VLOOKUP($C$2,'Measure Recommendation'!$I$17:$X$36,10,FALSE),VLOOKUP($C$2,'Measure Recommendation'!$I$41:$X$60,10,FALSE))","v":0},{"$f":"IF(Instructions!$F$4=\"Investigation\",VLOOKUP($C$2,'Measure Recommendation'!$I$17:$X$36,14,FALSE),VLOOKUP($C$2,'Measure Recommendation'!$I$41:$X$60,14,FALSE))","v":0},{"$f":"IF(Instructions!$F$4=\"Investigation\",VLOOKUP($C$2,'Measure Recommendation'!$I$17:$X$36,15,FALSE),VLOOKUP($C$2,'Measure Recommendation'!$I$41:$X$60,15,FALSE))","v":""}]
[]
["Electric ",null,null,"Natural Gas",null,"District Heating"]
["ComEd Peak Demand Savings (kW/month)","Electric Energy Savings (kWh/yr)","Electric Cost Savings ($/yr)","Natural Gas Savings (therms/yr)","Natural Gas Cost Savings ($/yr)","District Steam Energy Savings (therms/yr)","District Steam Cost Savings  ($/yr)","ECM Implement-ation Cost ($)","Simple Payback (Yrs)"]
[{"$f":"IF(Instructions!$F$4=\"Investigation\",VLOOKUP($C$2,'Measure Recommendation'!$I$17:$X$36,3,FALSE),VLOOKUP($C$2,'Measure Recommendation'!$I$41:$X$60,3,FALSE))","v":0},{"$f":"IF(Instructions!$F$4=\"Investigation\",VLOOKUP($C$2,'Measure Recommendation'!$I$17:$X$36,4,FALSE),VLOOKUP($C$2,'Measure Recommendation'!$I$41:$X$60,4,FALSE))","v":0},{"$f":"IF(Instructions!$F$4=\"Investigation\",VLOOKUP($C$2,'Measure Recommendation'!$I$17:$X$36,5,FALSE),VLOOKUP($C$2,'Measure Recommendation'!$I$41:$X$60,5,FALSE))","v":0},{"$f":"IF(Instructions!$F$4=\"Investigation\",VLOOKUP($C$2,'Measure Recommendation'!$I$17:$X$36,6,FALSE),VLOOKUP($C$2,'Measure Recommendation'!$I$41:$X$60,6,FALSE))","v":0},{"$f":"IF(Instructions!$F$4=\"Investigation\",VLOOKUP($C$2,'Measure Recommendation'!$I$17:$X$36,7,FALSE),VLOOKUP($C$2,'Measure Recommendation'!$I$41:$X$60,7,FALSE))","v":0},{"$f":"IF(Instructions!$F$4=\"Investigation\",VLOOKUP($C$2,'Measure Recommendation'!$I$17:$X$36,11,FALSE),VLOOKUP($C$2,'Measure Recommendation'!$I$41:$X$60,11,FALSE))","v":0},{"$f":"IF(Instructions!$F$4=\"Investigation\",VLOOKUP($C$2,'Measure Recommendation'!$I$17:$X$36,13,FALSE),VLOOKUP($C$2,'Measure Recommendation'!$I$41:$X$60,13,FALSE))","v":0},{"$f":"IF(Instructions!$F$4=\"Investigation\",VLOOKUP($C$2,'Measure Recommendation'!$I$17:$X$36,14,FALSE),VLOOKUP($C$2,'Measure Recommendation'!$I$41:$X$60,14,FALSE))","v":0},{"$f":"IF(Instructions!$F$4=\"Investigation\",VLOOKUP($C$2,'Measure Recommendation'!$I$17:$X$36,15,FALSE),VLOOKUP($C$2,'Measure Recommendation'!$I$41:$X$60,15,FALSE))","v":""}]
[]
[null,null,"Electric ",null,null,"Natural Gas"]
[null,null,"ComEd Peak Demand Savings (kW/month)","Electric Energy Savings (kWh/yr)","Electric Cost Savings ($/yr)","Natural Gas Savings (therms/yr)","Natural Gas Cost Savings ($/yr)","ECM Implement-ation Cost ($)","Simple Payback (Yrs)"]
[null,null,{"$f":"IF(Instructions!$F$4=\"Investigation\",VLOOKUP($C$2,'Measure Recommendation'!$I$17:$X$36,3,FALSE),VLOOKUP($C$2,'Measure Recommendation'!$I$41:$X$60,3,FALSE))","v":0},{"$f":"IF(Instructions!$F$4=\"Investigation\",VLOOKUP($C$2,'Measure Recommendation'!$I$17:$X$36,4,FALSE),VLOOKUP($C$2,'Measure Recommendation'!$I$41:$X$60,4,FALSE))","v":0},{"$f":"IF(Instructions!$F$4=\"Investigation\",VLOOKUP($C$2,'Measure Recommendation'!$I$17:$X$36,5,FALSE),VLOOKUP($C$2,'Measure Recommendation'!$I$41:$X$60,5,FALSE))","v":0},{"$f":"IF(Instructions!$F$4=\"Investigation\",VLOOKUP($C$2,'Measure Recommendation'!$I$17:$X$36,6,FALSE),VLOOKUP($C$2,'Measure Recommendation'!$I$41:$X$60,6,FALSE))","v":0},{"$f":"IF(Instructions!$F$4=\"Investigation\",VLOOKUP($C$2,'Measure Recommendation'!$I$17:$X$36,7,FALSE),VLOOKUP($C$2,'Measure Recommendation'!$I$41:$X$60,7,FALSE))","v":0},{"$f":"IF(Instructions!$F$4=\"Investigation\",VLOOKUP($C$2,'Measure Recommendation'!$I$17:$X$36,14,FALSE),VLOOKUP($C$2,'Measure Recommendation'!$I$41:$X$60,14,FALSE))","v":0},{"$f":"IF(Instructions!$F$4=\"Investigation\",VLOOKUP($C$2,'Measure Recommendation'!$I$17:$X$36,15,FALSE),VLOOKUP($C$2,'Measure Recommendation'!$I$41:$X$60,15,FALSE))","v":""}]
[]
[null,null,null,"Electric "]
[null,null,null,"ComEd Peak Demand Savings (kW/month)","Electric Energy Savings (kWh/yr)","Electric Cost Savings ($/yr)","ECM Implement-ation Cost ($)","Simple Payback (Yrs)"]
[null,null,null,{"$f":"IF(Instructions!$F$4=\"Investigation\",VLOOKUP($C$2,'Measure Recommendation'!$I$17:$X$36,3,FALSE),VLOOKUP($C$2,'Measure Recommendation'!$I$41:$X$60,3,FALSE))","v":0},{"$f":"IF(Instructions!$F$4=\"Investigation\",VLOOKUP($C$2,'Measure Recommendation'!$I$17:$X$36,4,FALSE),VLOOKUP($C$2,'Measure Recommendation'!$I$41:$X$60,4,FALSE))","v":0},{"$f":"IF(Instructions!$F$4=\"Investigation\",VLOOKUP($C$2,'Measure Recommendation'!$I$17:$X$36,5,FALSE),VLOOKUP($C$2,'Measure Recommendation'!$I$41:$X$60,5,FALSE))","v":0},{"$f":"IF(Instructions!$F$4=\"Investigation\",VLOOKUP($C$2,'Measure Recommendation'!$I$17:$X$36,14,FALSE),VLOOKUP($C$2,'Measure Recommendation'!$I$41:$X$60,14,FALSE))","v":0},{"$f":"IF(Instructions!$F$4=\"Investigation\",VLOOKUP($C$2,'Measure Recommendation'!$I$17:$X$36,15,FALSE),VLOOKUP($C$2,'Measure Recommendation'!$I$41:$X$60,15,FALSE))","v":""}]
[]
["Measure Details "]
[{"$f":"INDIRECT(\"'\"&J2&\"'!C5\")","v":"Enter text here."}]
["Existing Operation and Control Sequences"]
["Equipment affected and areas served:"]
[{"$f":"INDIRECT(\"'\"&J2&\"'!C8\")","v":"Enter text here."}]
["Baseline system operation and sequences of operation, setpoints:"]
[{"$f":"INDIRECT(\"'\"&J2&\"'!C10\")","v":"Enter text here."}]
["Investigation Approach, Findings and Data Acquisition"]
["Summary of initial investigation and functional testing:"]
[{"$f":"INDIRECT(\"'\"&J2&\"'!C13\")","v":"Enter text here."}]
["Parameters trended:"]
[{"$f":"INDIRECT(\"'\"&J2&\"'!C15\")","v":"Enter text here."}]
["Parameters functionally tested:"]
[{"$f":"INDIRECT(\"'\"&J2&\"'!C17\")","v":"Enter text here."}]
["Supporting graphs/screenshots – baseline:"]
[{"$f":"INDIRECT(\"'\"&J2&\"'!C19\")","v":"Enter text here."}]
[]
[{"$f":"INDIRECT(\"'\"&J2&\"'!C21\")","v":"Enter text here."}]
[]
["Proposed System Operation and Control Sequences - Scope of Work "]
["Proposed sequences of operation and setpoints:"]
[{"$f":"INDIRECT(\"'\"&J2&\"'!C24\")","v":"Enter text here."}]
["Integration with existing controllers: "]
[{"$f":"INDIRECT(\"'\"&J2&\"'!C26\")","v":"Enter text here."}]
["Equipment and personnel required for implementation:"]
[{"$f":"INDIRECT(\"'\"&J2&\"'!C28\")","v":"Enter text here."}]
["Calculation Methodology"]
[{"$f":"INDIRECT(\"'\"&J2&\"'!C30\")","v":"Enter text here."}]
["Measure Cost Details"]
[{"$f":"INDIRECT(\"'\"&J2&\"'!C32\")","v":"Enter text here."}]
["Verification Planning"]
[{"$f":"INDIRECT(\"'\"&J2&\"'!C34\")","v":"Enter text here."}]
["Verification Testing and Findings"]
["Parameters trended:"]
[{"$f":"INDIRECT(\"'\"&J2&\"'!C37\")","v":"To be completed during Verification Phase."}]
["Parameters functionally tested:"]
[{"$f":"INDIRECT(\"'\"&J2&\"'!C39\")","v":"To be completed during Verification Phase."}]
["Summary of verification testing:"]
[{"$f":"INDIRECT(\"'\"&J2&\"'!C41\")","v":"To be completed during Verification Phase."}]
["Modification to savings calculation:"]
[{"$f":"INDIRECT(\"'\"&J2&\"'!C43\")","v":"To be completed during Verification Phase."}]
["Supporting graphs/screenshots (post implementation):"]
[{"$f":"INDIRECT(\"'\"&J2&\"'!C45\")","v":"To be completed during Verification phase."}]
[]
[{"$f":"INDIRECT(\"'\"&J2&\"'!C47\")","v":"To be completed during Verification phase."}]

{"sheet":"MeasDet14","index":56,"n_rows":68,"n_cols":11,"rows_kept":68,"cut":false,"hidden":true,"merged":[[29,0,29,10],[36,0,36,10],[52,0,52,10],[54,0,54,10],[15,2,15,4],[15,5,15,6],[19,3,19,5],[27,0,27,10],[24,0,24,10],[32,0,32,10],[34,0,34,10],[38,0,38,8],[42,0,42,7],[44,0,44,10],[40,0,40,8],[7,0,7,2],[7,3,7,4],[7,5,7,6],[11,0,11,2],[11,3,11,4],[11,5,11,6],[3,0,3,2],[3,3,3,4],[3,5,3,6],[3,7,3,8],[1,0,1,1],[1,2,1,8],[61,0,61,10],[65,0,65,8],[67,0,67,8],[46,0,46,10],[48,0,48,10],[50,0,50,10],[57,0,57,10],[59,0,59,10],[63,0,63,10]]}
[]
["Operational ECM #14:",null,{"$f":"DataPhaseValid!G129","v":""},null,null,null,null,null,null,{"$f":"IF(Instructions!$F$4=\"Investigation\",VLOOKUP(MeasDet14!C2,'Measure Recommendation'!$I$17:$AB$36,20,FALSE),VLOOKUP(MeasDet14!C2,'Measure Recommendation'!$I$41:$AD$60,22,FALSE))","v":"ECM1"}]
[3]
["Electric ",null,null,"Natural Gas",null,"District Cooling",null,"District Heating"]
["ComEd Peak Demand Savings (kW/month)","Electric Energy Savings (kWh/yr)","Electric Cost Savings ($/yr)","Natural Gas Savings (therms/yr)","Natural Gas Cost Savings ($/yr)","District Chilled Water Energy Savings \n(ton-hrs/year)","District Chilled Water Cost Savings ($/yr)","District Steam Energy Savings (therms/yr)","District Steam Cost Savings  ($/yr)","ECM Implement-ation Cost ($)","Simple Payback (Yrs)"]
[{"$f":"IF(Instructions!$F$4=\"Investigation\",VLOOKUP($C$2,'Measure Recommendation'!$I$17:$X$36,3,FALSE),VLOOKUP($C$2,'Measure Recommendation'!$I$41:$X$60,3,FALSE))","v":0},{"$f":"IF(Instructions!$F$4=\"Investigation\",VLOOKUP($C$2,'Measure Recommendation'!$I$17:$X$36,4,FALSE),VLOOKUP($C$2,'Measure Recommendation'!$I$41:$X$60,4,FALSE))","v":0},{"$f":"IF(Instructions!$F$4=\"Investigation\",VLOOKUP($C$2,'Measure Recommendation'!$I$17:$X$36,5,FALSE),VLOOKUP($C$2,'Measure Recommendation'!$I$41:$X$60,5,FALSE))","v":0},{"$f":"IF(Instructions!$F$4=\"Investigation\",VLOOKUP($C$2,'Measure Recommendation'!$I$17:$X$36,6,FALSE),VLOOKUP($C$2,'Measure Recommendation'!$I$41:$X$60,6,FALSE))","v":0},{"$f":"IF(Instructions!$F$4=\"Investigation\",VLOOKUP($C$2,'Measure Recommendation'!$I$17:$X$36,7,FALSE),VLOOKUP($C$2,'Measure Recommendation'!$I$41:$X$60,7,FALSE))","v":0},{"$f":"IF(Instructions!$F$4=\"Investigation\",VLOOKUP($C$2,'Measure Recommendation'!$I$17:$X$36,8,FALSE),VLOOKUP($C$2,'Measure Recommendation'!$I$41:$X$60,8,FALSE))","v":0},{"$f":"IF(Instructions!$F$4=\"Investigation\",VLOOKUP($C$2,'Measure Recommendation'!$I$17:$X$36,10,FALSE),VLOOKUP($C$2,'Measure Recommendation'!$I$41:$X$60,10,FALSE))","v":0},{"$f":"IF(Instructions!$F$4=\"Investigation\",VLOOKUP($C$2,'Measure Recommendation'!$I$17:$X$36,11,FALSE),VLOOKUP($C$2,'Measure Recommendation'!$I$41:$X$60,11,FALSE))","v":0},{"$f":"IF(Instructions!$F$4=\"Investigation\",VLOOKUP($C$2,'Measure Recommendation'!$I$17:$X$36,13,FALSE),VLOOKUP($C$2,'Measure Recommendation'!$I$41:$X$60,13,FALSE))","v":0},{"$f":"IF(Instructions!$F$4=\"Investigation\",VLOOKUP($C$2,'Measure Recommendation'!$I$17:$X$36,14,FALSE),VLOOKUP($C$2,'Measure Recommendation'!$I$41:$X$60,14,FALSE))","v":0},{"$f":"IF(Instructions!$F$4=\"Investigation\",VLOOKUP($C$2,'Measure Recommendation'!$I$17:$X$36,15,FALSE),VLOOKUP($C$2,'Measure Recommendation'!$I$41:$X$60,15,FALSE))","v":""}]
[]
["Electric ",null,null,"Natural Gas",null,"District Cooling"]
["ComEd Peak Demand Savings (kW/month)","Electric Energy Savings (kWh/yr)","Electric Cost Savings ($/yr)","Natural Gas Savings (therms/yr)","Natural Gas Cost Savings ($/yr)","District Chilled Water Energy Savings \n(ton-hrs/year)","District Chilled Water Cost Savings ($/yr)","ECM Implement-ation Cost ($)","Simple Payback (Yrs)"]
[{"$f":"IF(Instructions!$F$4=\"Investigation\",VLOOKUP($C$2,'Measure Recommendation'!$I$17:$X$36,3,FALSE),VLOOKUP($C$2,'Measure Recommendation'!$I$41:$X$60,3,FALSE))","v":0},{"$f":"IF(Instructions!$F$4=\"Investigation\",VLOOKUP($C$2,'Measure Recommendation'!$I$17:$X$36,4,FALSE),VLOOKUP($C$2,'Measure Recommendation'!$I$41:$X$60,4,FALSE))","v":0},{"$f":"IF(Instructions!$F$4=\"Investigation\",VLOOKUP($C$2,'Measure Recommendation'!$I$17:$X$36,5,FALSE),VLOOKUP($C$2,'Measure Recommendation'!$I$41:$X$60,5,FALSE))","v":0},{"$f":"IF(Instructions!$F$4=\"Investigation\",VLOOKUP($C$2,'Measure Recommendation'!$I$17:$X$36,6,FALSE),VLOOKUP($C$2,'Measure Recommendation'!$I$41:$X$60,6,FALSE))","v":0},{"$f":"IF(Instructions!$F$4=\"Investigation\",VLOOKUP($C$2,'Measure Recommendation'!$I$17:$X$36,7,FALSE),VLOOKUP($C$2,'Measure Recommendation'!$I$41:$X$60,7,FALSE))","v":0},{"$f":"IF(Instructions!$F$4=\"Investigation\",VLOOKUP($C$2,'Measure Recommendation'!$I$17:$X$36,8,FALSE),VLOOKUP($C$2,'Measure Recommendation'!$I$41:$X$60,8,FALSE))","v":0},{"$f":"IF(Instructions!$F$4=\"Investigation\",VLOOKUP($C$2,'Measure Recommendation'!$I$17:$X$36,10,FALSE),VLOOKUP($C$2,'Measure Recommendation'!$I$41:$X$60,10,FALSE))","v":0},{"$f":"IF(Instructions!$F$4=\"Investigation\",VLOOKUP($C$2,'Measure Recommendation'!$I$17:$X$36,14,FALSE),VLOOKUP($C$2,'Measure Recommendation'!$I$41:$X$60,14,FALSE))","v":0},{"$f":"IF(Instructions!$F$4=\"Investigation\",VLOOKUP($C$2,'Measure Recommendation'!$I$17:$X$36,15,FALSE),VLOOKUP($C$2,'Measure Recommendation'!$I$41:$X$60,15,FALSE))","v":""}]
[]
["Electric ",null,null,"Natural Gas",null,"District Heating"]
["ComEd Peak Demand Savings (kW/month)","Electric Energy Savings (kWh/yr)","Electric Cost Savings ($/yr)","Natural Gas Savings (therms/yr)","Natural Gas Cost Savings ($/yr)","District Steam Energy Savings (therms/yr)","District Steam Cost Savings  ($/yr)","ECM Implement-ation Cost ($)","Simple Payback (Yrs)"]
[{"$f":"IF(Instructions!$F$4=\"Investigation\",VLOOKUP($C$2,'Measure Recommendation'!$I$17:$X$36,3,FALSE),VLOOKUP($C$2,'Measure Recommendation'!$I$41:$X$60,3,FALSE))","v":0},{"$f":"IF(Instructions!$F$4=\"Investigation\",VLOOKUP($C$2,'Measure Recommendation'!$I$17:$X$36,4,FALSE),VLOOKUP($C$2,'Measure Recommendation'!$I$41:$X$60,4,FALSE))","v":0},{"$f":"IF(Instructions!$F$4=\"Investigation\",VLOOKUP($C$2,'Measure Recommendation'!$I$17:$X$36,5,FALSE),VLOOKUP($C$2,'Measure Recommendation'!$I$41:$X$60,5,FALSE))","v":0},{"$f":"IF(Instructions!$F$4=\"Investigation\",VLOOKUP($C$2,'Measure Recommendation'!$I$17:$X$36,6,FALSE),VLOOKUP($C$2,'Measure Recommendation'!$I$41:$X$60,6,FALSE))","v":0},{"$f":"IF(Instructions!$F$4=\"Investigation\",VLOOKUP($C$2,'Measure Recommendation'!$I$17:$X$36,7,FALSE),VLOOKUP($C$2,'Measure Recommendation'!$I$41:$X$60,7,FALSE))","v":0},{"$f":"IF(Instructions!$F$4=\"Investigation\",VLOOKUP($C$2,'Measure Recommendation'!$I$17:$X$36,11,FALSE),VLOOKUP($C$2,'Measure Recommendation'!$I$41:$X$60,11,FALSE))","v":0},{"$f":"IF(Instructions!$F$4=\"Investigation\",VLOOKUP($C$2,'Measure Recommendation'!$I$17:$X$36,13,FALSE),VLOOKUP($C$2,'Measure Recommendation'!$I$41:$X$60,13,FALSE))","v":0},{"$f":"IF(Instructions!$F$4=\"Investigation\",VLOOKUP($C$2,'Measure Recommendation'!$I$17:$X$36,14,FALSE),VLOOKUP($C$2,'Measure Recommendation'!$I$41:$X$60,14,FALSE))","v":0},{"$f":"IF(Instructions!$F$4=\"Investigation\",VLOOKUP($C$2,'Measure Recommendation'!$I$17:$X$36,15,FALSE),VLOOKUP($C$2,'Measure Recommendation'!$I$41:$X$60,15,FALSE))","v":""}]
[]
[null,null,"Electric ",null,null,"Natural Gas"]
[null,null,"ComEd Peak Demand Savings (kW/month)","Electric Energy Savings (kWh/yr)","Electric Cost Savings ($/yr)","Natural Gas Savings (therms/yr)","Natural Gas Cost Savings ($/yr)","ECM Implement-ation Cost ($)","Simple Payback (Yrs)"]
[null,null,{"$f":"IF(Instructions!$F$4=\"Investigation\",VLOOKUP($C$2,'Measure Recommendation'!$I$17:$X$36,3,FALSE),VLOOKUP($C$2,'Measure Recommendation'!$I$41:$X$60,3,FALSE))","v":0},{"$f":"IF(Instructions!$F$4=\"Investigation\",VLOOKUP($C$2,'Measure Recommendation'!$I$17:$X$36,4,FALSE),VLOOKUP($C$2,'Measure Recommendation'!$I$41:$X$60,4,FALSE))","v":0},{"$f":"IF(Instructions!$F$4=\"Investigation\",VLOOKUP($C$2,'Measure Recommendation'!$I$17:$X$36,5,FALSE),VLOOKUP($C$2,'Measure Recommendation'!$I$41:$X$60,5,FALSE))","v":0},{"$f":"IF(Instructions!$F$4=\"Investigation\",VLOOKUP($C$2,'Measure Recommendation'!$I$17:$X$36,6,FALSE),VLOOKUP($C$2,'Measure Recommendation'!$I$41:$X$60,6,FALSE))","v":0},{"$f":"IF(Instructions!$F$4=\"Investigation\",VLOOKUP($C$2,'Measure Recommendation'!$I$17:$X$36,7,FALSE),VLOOKUP($C$2,'Measure Recommendation'!$I$41:$X$60,7,FALSE))","v":0},{"$f":"IF(Instructions!$F$4=\"Investigation\",VLOOKUP($C$2,'Measure Recommendation'!$I$17:$X$36,14,FALSE),VLOOKUP($C$2,'Measure Recommendation'!$I$41:$X$60,14,FALSE))","v":0},{"$f":"IF(Instructions!$F$4=\"Investigation\",VLOOKUP($C$2,'Measure Recommendation'!$I$17:$X$36,15,FALSE),VLOOKUP($C$2,'Measure Recommendation'!$I$41:$X$60,15,FALSE))","v":""}]
[]
[null,null,null,"Electric "]
[null,null,null,"ComEd Peak Demand Savings (kW/month)","Electric Energy Savings (kWh/yr)","Electric Cost Savings ($/yr)","ECM Implement-ation Cost ($)","Simple Payback (Yrs)"]
[null,null,null,{"$f":"IF(Instructions!$F$4=\"Investigation\",VLOOKUP($C$2,'Measure Recommendation'!$I$17:$X$36,3,FALSE),VLOOKUP($C$2,'Measure Recommendation'!$I$41:$X$60,3,FALSE))","v":0},{"$f":"IF(Instructions!$F$4=\"Investigation\",VLOOKUP($C$2,'Measure Recommendation'!$I$17:$X$36,4,FALSE),VLOOKUP($C$2,'Measure Recommendation'!$I$41:$X$60,4,FALSE))","v":0},{"$f":"IF(Instructions!$F$4=\"Investigation\",VLOOKUP($C$2,'Measure Recommendation'!$I$17:$X$36,5,FALSE),VLOOKUP($C$2,'Measure Recommendation'!$I$41:$X$60,5,FALSE))","v":0},{"$f":"IF(Instructions!$F$4=\"Investigation\",VLOOKUP($C$2,'Measure Recommendation'!$I$17:$X$36,14,FALSE),VLOOKUP($C$2,'Measure Recommendation'!$I$41:$X$60,14,FALSE))","v":0},{"$f":"IF(Instructions!$F$4=\"Investigation\",VLOOKUP($C$2,'Measure Recommendation'!$I$17:$X$36,15,FALSE),VLOOKUP($C$2,'Measure Recommendation'!$I$41:$X$60,15,FALSE))","v":""}]
[]
["Measure Details "]
[{"$f":"INDIRECT(\"'\"&J2&\"'!C5\")","v":"Enter text here."}]
["Existing Operation and Control Sequences"]
["Equipment affected and areas served:"]
[{"$f":"INDIRECT(\"'\"&J2&\"'!C8\")","v":"Enter text here."}]
["Baseline system operation and sequences of operation, setpoints:"]
[{"$f":"INDIRECT(\"'\"&J2&\"'!C10\")","v":"Enter text here."}]
["Investigation Approach, Findings and Data Acquisition"]
["Summary of initial investigation and functional testing:"]
[{"$f":"INDIRECT(\"'\"&J2&\"'!C13\")","v":"Enter text here."}]
["Parameters trended:"]
[{"$f":"INDIRECT(\"'\"&J2&\"'!C15\")","v":"Enter text here."}]
["Parameters functionally tested:"]
[{"$f":"INDIRECT(\"'\"&J2&\"'!C17\")","v":"Enter text here."}]
["Supporting graphs/screenshots – baseline:"]
[{"$f":"INDIRECT(\"'\"&J2&\"'!C19\")","v":"Enter text here."}]
[]
[{"$f":"INDIRECT(\"'\"&J2&\"'!C21\")","v":"Enter text here."}]
[]
["Proposed System Operation and Control Sequences - Scope of Work "]
["Proposed sequences of operation and setpoints:"]
[{"$f":"INDIRECT(\"'\"&J2&\"'!C24\")","v":"Enter text here."}]
["Integration with existing controllers: "]
[{"$f":"INDIRECT(\"'\"&J2&\"'!C26\")","v":"Enter text here."}]
["Equipment and personnel required for implementation:"]
[{"$f":"INDIRECT(\"'\"&J2&\"'!C28\")","v":"Enter text here."}]
["Calculation Methodology"]
[{"$f":"INDIRECT(\"'\"&J2&\"'!C30\")","v":"Enter text here."}]
["Measure Cost Details"]
[{"$f":"INDIRECT(\"'\"&J2&\"'!C32\")","v":"Enter text here."}]
["Verification Planning"]
[{"$f":"INDIRECT(\"'\"&J2&\"'!C34\")","v":"Enter text here."}]
["Verification Testing and Findings"]
["Parameters trended:"]
[{"$f":"INDIRECT(\"'\"&J2&\"'!C37\")","v":"To be completed during Verification Phase."}]
["Parameters functionally tested:"]
[{"$f":"INDIRECT(\"'\"&J2&\"'!C39\")","v":"To be completed during Verification Phase."}]
["Summary of verification testing:"]
[{"$f":"INDIRECT(\"'\"&J2&\"'!C41\")","v":"To be completed during Verification Phase."}]
["Modification to savings calculation:"]
[{"$f":"INDIRECT(\"'\"&J2&\"'!C43\")","v":"To be completed during Verification Phase."}]
["Supporting graphs/screenshots (post implementation):"]
[{"$f":"INDIRECT(\"'\"&J2&\"'!C45\")","v":"To be completed during Verification phase."}]
[]
[{"$f":"INDIRECT(\"'\"&J2&\"'!C47\")","v":"To be completed during Verification phase."}]

{"sheet":"MeasDet15","index":57,"n_rows":68,"n_cols":11,"rows_kept":68,"cut":false,"hidden":true,"merged":[[29,0,29,10],[36,0,36,10],[52,0,52,10],[54,0,54,10],[15,2,15,4],[15,5,15,6],[19,3,19,5],[27,0,27,10],[24,0,24,10],[32,0,32,10],[34,0,34,10],[38,0,38,8],[42,0,42,7],[44,0,44,10],[40,0,40,8],[7,0,7,2],[7,3,7,4],[7,5,7,6],[11,0,11,2],[11,3,11,4],[11,5,11,6],[3,0,3,2],[3,3,3,4],[3,5,3,6],[3,7,3,8],[1,0,1,1],[1,2,1,8],[61,0,61,10],[65,0,65,8],[67,0,67,8],[46,0,46,10],[48,0,48,10],[50,0,50,10],[57,0,57,10],[59,0,59,10],[63,0,63,10]]}
[]
["Operational ECM #15:",null,{"$f":"DataPhaseValid!G130","v":""},null,null,null,null,null,null,{"$f":"IF(Instructions!$F$4=\"Investigation\",VLOOKUP(MeasDet15!C2,'Measure Recommendation'!$I$17:$AB$36,20,FALSE),VLOOKUP(MeasDet15!C2,'Measure Recommendation'!$I$41:$AD$60,22,FALSE))","v":"ECM1"}]
[3]
["Electric ",null,null,"Natural Gas",null,"District Cooling",null,"District Heating"]
["ComEd Peak Demand Savings (kW/month)","Electric Energy Savings (kWh/yr)","Electric Cost Savings ($/yr)","Natural Gas Savings (therms/yr)","Natural Gas Cost Savings ($/yr)","District Chilled Water Energy Savings \n(ton-hrs/year)","District Chilled Water Cost Savings ($/yr)","District Steam Energy Savings (therms/yr)","District Steam Cost Savings  ($/yr)","ECM Implement-ation Cost ($)","Simple Payback (Yrs)"]
[{"$f":"IF(Instructions!$F$4=\"Investigation\",VLOOKUP($C$2,'Measure Recommendation'!$I$17:$X$36,3,FALSE),VLOOKUP($C$2,'Measure Recommendation'!$I$41:$X$60,3,FALSE))","v":0},{"$f":"IF(Instructions!$F$4=\"Investigation\",VLOOKUP($C$2,'Measure Recommendation'!$I$17:$X$36,4,FALSE),VLOOKUP($C$2,'Measure Recommendation'!$I$41:$X$60,4,FALSE))","v":0},{"$f":"IF(Instructions!$F$4=\"Investigation\",VLOOKUP($C$2,'Measure Recommendation'!$I$17:$X$36,5,FALSE),VLOOKUP($C$2,'Measure Recommendation'!$I$41:$X$60,5,FALSE))","v":0},{"$f":"IF(Instructions!$F$4=\"Investigation\",VLOOKUP($C$2,'Measure Recommendation'!$I$17:$X$36,6,FALSE),VLOOKUP($C$2,'Measure Recommendation'!$I$41:$X$60,6,FALSE))","v":0},{"$f":"IF(Instructions!$F$4=\"Investigation\",VLOOKUP($C$2,'Measure Recommendation'!$I$17:$X$36,7,FALSE),VLOOKUP($C$2,'Measure Recommendation'!$I$41:$X$60,7,FALSE))","v":0},{"$f":"IF(Instructions!$F$4=\"Investigation\",VLOOKUP($C$2,'Measure Recommendation'!$I$17:$X$36,8,FALSE),VLOOKUP($C$2,'Measure Recommendation'!$I$41:$X$60,8,FALSE))","v":0},{"$f":"IF(Instructions!$F$4=\"Investigation\",VLOOKUP($C$2,'Measure Recommendation'!$I$17:$X$36,10,FALSE),VLOOKUP($C$2,'Measure Recommendation'!$I$41:$X$60,10,FALSE))","v":0},{"$f":"IF(Instructions!$F$4=\"Investigation\",VLOOKUP($C$2,'Measure Recommendation'!$I$17:$X$36,11,FALSE),VLOOKUP($C$2,'Measure Recommendation'!$I$41:$X$60,11,FALSE))","v":0},{"$f":"IF(Instructions!$F$4=\"Investigation\",VLOOKUP($C$2,'Measure Recommendation'!$I$17:$X$36,13,FALSE),VLOOKUP($C$2,'Measure Recommendation'!$I$41:$X$60,13,FALSE))","v":0},{"$f":"IF(Instructions!$F$4=\"Investigation\",VLOOKUP($C$2,'Measure Recommendation'!$I$17:$X$36,14,FALSE),VLOOKUP($C$2,'Measure Recommendation'!$I$41:$X$60,14,FALSE))","v":0},{"$f":"IF(Instructions!$F$4=\"Investigation\",VLOOKUP($C$2,'Measure Recommendation'!$I$17:$X$36,15,FALSE),VLOOKUP($C$2,'Measure Recommendation'!$I$41:$X$60,15,FALSE))","v":""}]
[]
["Electric ",null,null,"Natural Gas",null,"District Cooling"]
["ComEd Peak Demand Savings (kW/month)","Electric Energy Savings (kWh/yr)","Electric Cost Savings ($/yr)","Natural Gas Savings (therms/yr)","Natural Gas Cost Savings ($/yr)","District Chilled Water Energy Savings \n(ton-hrs/year)","District Chilled Water Cost Savings ($/yr)","ECM Implement-ation Cost ($)","Simple Payback (Yrs)"]
[{"$f":"IF(Instructions!$F$4=\"Investigation\",VLOOKUP($C$2,'Measure Recommendation'!$I$17:$X$36,3,FALSE),VLOOKUP($C$2,'Measure Recommendation'!$I$41:$X$60,3,FALSE))","v":0},{"$f":"IF(Instructions!$F$4=\"Investigation\",VLOOKUP($C$2,'Measure Recommendation'!$I$17:$X$36,4,FALSE),VLOOKUP($C$2,'Measure Recommendation'!$I$41:$X$60,4,FALSE))","v":0},{"$f":"IF(Instructions!$F$4=\"Investigation\",VLOOKUP($C$2,'Measure Recommendation'!$I$17:$X$36,5,FALSE),VLOOKUP($C$2,'Measure Recommendation'!$I$41:$X$60,5,FALSE))","v":0},{"$f":"IF(Instructions!$F$4=\"Investigation\",VLOOKUP($C$2,'Measure Recommendation'!$I$17:$X$36,6,FALSE),VLOOKUP($C$2,'Measure Recommendation'!$I$41:$X$60,6,FALSE))","v":0},{"$f":"IF(Instructions!$F$4=\"Investigation\",VLOOKUP($C$2,'Measure Recommendation'!$I$17:$X$36,7,FALSE),VLOOKUP($C$2,'Measure Recommendation'!$I$41:$X$60,7,FALSE))","v":0},{"$f":"IF(Instructions!$F$4=\"Investigation\",VLOOKUP($C$2,'Measure Recommendation'!$I$17:$X$36,8,FALSE),VLOOKUP($C$2,'Measure Recommendation'!$I$41:$X$60,8,FALSE))","v":0},{"$f":"IF(Instructions!$F$4=\"Investigation\",VLOOKUP($C$2,'Measure Recommendation'!$I$17:$X$36,10,FALSE),VLOOKUP($C$2,'Measure Recommendation'!$I$41:$X$60,10,FALSE))","v":0},{"$f":"IF(Instructions!$F$4=\"Investigation\",VLOOKUP($C$2,'Measure Recommendation'!$I$17:$X$36,14,FALSE),VLOOKUP($C$2,'Measure Recommendation'!$I$41:$X$60,14,FALSE))","v":0},{"$f":"IF(Instructions!$F$4=\"Investigation\",VLOOKUP($C$2,'Measure Recommendation'!$I$17:$X$36,15,FALSE),VLOOKUP($C$2,'Measure Recommendation'!$I$41:$X$60,15,FALSE))","v":""}]
[]
["Electric ",null,null,"Natural Gas",null,"District Heating"]
["ComEd Peak Demand Savings (kW/month)","Electric Energy Savings (kWh/yr)","Electric Cost Savings ($/yr)","Natural Gas Savings (therms/yr)","Natural Gas Cost Savings ($/yr)","District Steam Energy Savings (therms/yr)","District Steam Cost Savings  ($/yr)","ECM Implement-ation Cost ($)","Simple Payback (Yrs)"]
[{"$f":"IF(Instructions!$F$4=\"Investigation\",VLOOKUP($C$2,'Measure Recommendation'!$I$17:$X$36,3,FALSE),VLOOKUP($C$2,'Measure Recommendation'!$I$41:$X$60,3,FALSE))","v":0},{"$f":"IF(Instructions!$F$4=\"Investigation\",VLOOKUP($C$2,'Measure Recommendation'!$I$17:$X$36,4,FALSE),VLOOKUP($C$2,'Measure Recommendation'!$I$41:$X$60,4,FALSE))","v":0},{"$f":"IF(Instructions!$F$4=\"Investigation\",VLOOKUP($C$2,'Measure Recommendation'!$I$17:$X$36,5,FALSE),VLOOKUP($C$2,'Measure Recommendation'!$I$41:$X$60,5,FALSE))","v":0},{"$f":"IF(Instructions!$F$4=\"Investigation\",VLOOKUP($C$2,'Measure Recommendation'!$I$17:$X$36,6,FALSE),VLOOKUP($C$2,'Measure Recommendation'!$I$41:$X$60,6,FALSE))","v":0},{"$f":"IF(Instructions!$F$4=\"Investigation\",VLOOKUP($C$2,'Measure Recommendation'!$I$17:$X$36,7,FALSE),VLOOKUP($C$2,'Measure Recommendation'!$I$41:$X$60,7,FALSE))","v":0},{"$f":"IF(Instructions!$F$4=\"Investigation\",VLOOKUP($C$2,'Measure Recommendation'!$I$17:$X$36,11,FALSE),VLOOKUP($C$2,'Measure Recommendation'!$I$41:$X$60,11,FALSE))","v":0},{"$f":"IF(Instructions!$F$4=\"Investigation\",VLOOKUP($C$2,'Measure Recommendation'!$I$17:$X$36,13,FALSE),VLOOKUP($C$2,'Measure Recommendation'!$I$41:$X$60,13,FALSE))","v":0},{"$f":"IF(Instructions!$F$4=\"Investigation\",VLOOKUP($C$2,'Measure Recommendation'!$I$17:$X$36,14,FALSE),VLOOKUP($C$2,'Measure Recommendation'!$I$41:$X$60,14,FALSE))","v":0},{"$f":"IF(Instructions!$F$4=\"Investigation\",VLOOKUP($C$2,'Measure Recommendation'!$I$17:$X$36,15,FALSE),VLOOKUP($C$2,'Measure Recommendation'!$I$41:$X$60,15,FALSE))","v":""}]
[]
[null,null,"Electric ",null,null,"Natural Gas"]
[null,null,"ComEd Peak Demand Savings (kW/month)","Electric Energy Savings (kWh/yr)","Electric Cost Savings ($/yr)","Natural Gas Savings (therms/yr)","Natural Gas Cost Savings ($/yr)","ECM Implement-ation Cost ($)","Simple Payback (Yrs)"]
[null,null,{"$f":"IF(Instructions!$F$4=\"Investigation\",VLOOKUP($C$2,'Measure Recommendation'!$I$17:$X$36,3,FALSE),VLOOKUP($C$2,'Measure Recommendation'!$I$41:$X$60,3,FALSE))","v":0},{"$f":"IF(Instructions!$F$4=\"Investigation\",VLOOKUP($C$2,'Measure Recommendation'!$I$17:$X$36,4,FALSE),VLOOKUP($C$2,'Measure Recommendation'!$I$41:$X$60,4,FALSE))","v":0},{"$f":"IF(Instructions!$F$4=\"Investigation\",VLOOKUP($C$2,'Measure Recommendation'!$I$17:$X$36,5,FALSE),VLOOKUP($C$2,'Measure Recommendation'!$I$41:$X$60,5,FALSE))","v":0},{"$f":"IF(Instructions!$F$4=\"Investigation\",VLOOKUP($C$2,'Measure Recommendation'!$I$17:$X$36,6,FALSE),VLOOKUP($C$2,'Measure Recommendation'!$I$41:$X$60,6,FALSE))","v":0},{"$f":"IF(Instructions!$F$4=\"Investigation\",VLOOKUP($C$2,'Measure Recommendation'!$I$17:$X$36,7,FALSE),VLOOKUP($C$2,'Measure Recommendation'!$I$41:$X$60,7,FALSE))","v":0},{"$f":"IF(Instructions!$F$4=\"Investigation\",VLOOKUP($C$2,'Measure Recommendation'!$I$17:$X$36,14,FALSE),VLOOKUP($C$2,'Measure Recommendation'!$I$41:$X$60,14,FALSE))","v":0},{"$f":"IF(Instructions!$F$4=\"Investigation\",VLOOKUP($C$2,'Measure Recommendation'!$I$17:$X$36,15,FALSE),VLOOKUP($C$2,'Measure Recommendation'!$I$41:$X$60,15,FALSE))","v":""}]
[]
[null,null,null,"Electric "]
[null,null,null,"ComEd Peak Demand Savings (kW/month)","Electric Energy Savings (kWh/yr)","Electric Cost Savings ($/yr)","ECM Implement-ation Cost ($)","Simple Payback (Yrs)"]
[null,null,null,{"$f":"IF(Instructions!$F$4=\"Investigation\",VLOOKUP($C$2,'Measure Recommendation'!$I$17:$X$36,3,FALSE),VLOOKUP($C$2,'Measure Recommendation'!$I$41:$X$60,3,FALSE))","v":0},{"$f":"IF(Instructions!$F$4=\"Investigation\",VLOOKUP($C$2,'Measure Recommendation'!$I$17:$X$36,4,FALSE),VLOOKUP($C$2,'Measure Recommendation'!$I$41:$X$60,4,FALSE))","v":0},{"$f":"IF(Instructions!$F$4=\"Investigation\",VLOOKUP($C$2,'Measure Recommendation'!$I$17:$X$36,5,FALSE),VLOOKUP($C$2,'Measure Recommendation'!$I$41:$X$60,5,FALSE))","v":0},{"$f":"IF(Instructions!$F$4=\"Investigation\",VLOOKUP($C$2,'Measure Recommendation'!$I$17:$X$36,14,FALSE),VLOOKUP($C$2,'Measure Recommendation'!$I$41:$X$60,14,FALSE))","v":0},{"$f":"IF(Instructions!$F$4=\"Investigation\",VLOOKUP($C$2,'Measure Recommendation'!$I$17:$X$36,15,FALSE),VLOOKUP($C$2,'Measure Recommendation'!$I$41:$X$60,15,FALSE))","v":""}]
[]
["Measure Details "]
[{"$f":"INDIRECT(\"'\"&J2&\"'!C5\")","v":"Enter text here."}]
["Existing Operation and Control Sequences"]
["Equipment affected and areas served:"]
[{"$f":"INDIRECT(\"'\"&J2&\"'!C8\")","v":"Enter text here."}]
["Baseline system operation and sequences of operation, setpoints:"]
[{"$f":"INDIRECT(\"'\"&J2&\"'!C10\")","v":"Enter text here."}]
["Investigation Approach, Findings and Data Acquisition"]
["Summary of initial investigation and functional testing:"]
[{"$f":"INDIRECT(\"'\"&J2&\"'!C13\")","v":"Enter text here."}]
["Parameters trended:"]
[{"$f":"INDIRECT(\"'\"&J2&\"'!C15\")","v":"Enter text here."}]
["Parameters functionally tested:"]
[{"$f":"INDIRECT(\"'\"&J2&\"'!C17\")","v":"Enter text here."}]
["Supporting graphs/screenshots – baseline:"]
[{"$f":"INDIRECT(\"'\"&J2&\"'!C19\")","v":"Enter text here."}]
[]
[{"$f":"INDIRECT(\"'\"&J2&\"'!C21\")","v":"Enter text here."}]
[]
["Proposed System Operation and Control Sequences - Scope of Work "]
["Proposed sequences of operation and setpoints:"]
[{"$f":"INDIRECT(\"'\"&J2&\"'!C24\")","v":"Enter text here."}]
["Integration with existing controllers: "]
[{"$f":"INDIRECT(\"'\"&J2&\"'!C26\")","v":"Enter text here."}]
["Equipment and personnel required for implementation:"]
[{"$f":"INDIRECT(\"'\"&J2&\"'!C28\")","v":"Enter text here."}]
["Calculation Methodology"]
[{"$f":"INDIRECT(\"'\"&J2&\"'!C30\")","v":"Enter text here."}]
["Measure Cost Details"]
[{"$f":"INDIRECT(\"'\"&J2&\"'!C32\")","v":"Enter text here."}]
["Verification Planning"]
[{"$f":"INDIRECT(\"'\"&J2&\"'!C34\")","v":"Enter text here."}]
["Verification Testing and Findings"]
["Parameters trended:"]
[{"$f":"INDIRECT(\"'\"&J2&\"'!C37\")","v":"To be completed during Verification Phase."}]
["Parameters functionally tested:"]
[{"$f":"INDIRECT(\"'\"&J2&\"'!C39\")","v":"To be completed during Verification Phase."}]
["Summary of verification testing:"]
[{"$f":"INDIRECT(\"'\"&J2&\"'!C41\")","v":"To be completed during Verification Phase."}]
["Modification to savings calculation:"]
[{"$f":"INDIRECT(\"'\"&J2&\"'!C43\")","v":"To be completed during Verification Phase."}]
["Supporting graphs/screenshots (post implementation):"]
[{"$f":"INDIRECT(\"'\"&J2&\"'!C45\")","v":"To be completed during Verification phase."}]
[]
[{"$f":"INDIRECT(\"'\"&J2&\"'!C47\")","v":"To be completed during Verification phase."}]

{"sheet":"MeasDet16","index":58,"n_rows":68,"n_cols":11,"rows_kept":68,"cut":false,"hidden":true,"merged":[[29,0,29,10],[36,0,36,10],[52,0,52,10],[54,0,54,10],[15,2,15,4],[15,5,15,6],[19,3,19,5],[27,0,27,10],[24,0,24,10],[32,0,32,10],[34,0,34,10],[38,0,38,8],[42,0,42,7],[44,0,44,10],[40,0,40,8],[7,0,7,2],[7,3,7,4],[7,5,7,6],[11,0,11,2],[11,3,11,4],[11,5,11,6],[3,0,3,2],[3,3,3,4],[3,5,3,6],[3,7,3,8],[1,0,1,1],[1,2,1,8],[61,0,61,10],[65,0,65,8],[67,0,67,8],[46,0,46,10],[48,0,48,10],[50,0,50,10],[57,0,57,10],[59,0,59,10],[63,0,63,10]]}
[]
["Operational ECM #16:",null,{"$f":"DataPhaseValid!G131","v":""},null,null,null,null,null,null,{"$f":"IF(Instructions!$F$4=\"Investigation\",VLOOKUP(MeasDet16!C2,'Measure Recommendation'!$I$17:$AB$36,20,FALSE),VLOOKUP(MeasDet16!C2,'Measure Recommendation'!$I$41:$AD$60,22,FALSE))","v":"ECM1"}]
[3]
["Electric ",null,null,"Natural Gas",null,"District Cooling",null,"District Heating"]
["ComEd Peak Demand Savings (kW/month)","Electric Energy Savings (kWh/yr)","Electric Cost Savings ($/yr)","Natural Gas Savings (therms/yr)","Natural Gas Cost Savings ($/yr)","District Chilled Water Energy Savings \n(ton-hrs/year)","District Chilled Water Cost Savings ($/yr)","District Steam Energy Savings (therms/yr)","District Steam Cost Savings  ($/yr)","ECM Implement-ation Cost ($)","Simple Payback (Yrs)"]
[{"$f":"IF(Instructions!$F$4=\"Investigation\",VLOOKUP($C$2,'Measure Recommendation'!$I$17:$X$36,3,FALSE),VLOOKUP($C$2,'Measure Recommendation'!$I$41:$X$60,3,FALSE))","v":0},{"$f":"IF(Instructions!$F$4=\"Investigation\",VLOOKUP($C$2,'Measure Recommendation'!$I$17:$X$36,4,FALSE),VLOOKUP($C$2,'Measure Recommendation'!$I$41:$X$60,4,FALSE))","v":0},{"$f":"IF(Instructions!$F$4=\"Investigation\",VLOOKUP($C$2,'Measure Recommendation'!$I$17:$X$36,5,FALSE),VLOOKUP($C$2,'Measure Recommendation'!$I$41:$X$60,5,FALSE))","v":0},{"$f":"IF(Instructions!$F$4=\"Investigation\",VLOOKUP($C$2,'Measure Recommendation'!$I$17:$X$36,6,FALSE),VLOOKUP($C$2,'Measure Recommendation'!$I$41:$X$60,6,FALSE))","v":0},{"$f":"IF(Instructions!$F$4=\"Investigation\",VLOOKUP($C$2,'Measure Recommendation'!$I$17:$X$36,7,FALSE),VLOOKUP($C$2,'Measure Recommendation'!$I$41:$X$60,7,FALSE))","v":0},{"$f":"IF(Instructions!$F$4=\"Investigation\",VLOOKUP($C$2,'Measure Recommendation'!$I$17:$X$36,8,FALSE),VLOOKUP($C$2,'Measure Recommendation'!$I$41:$X$60,8,FALSE))","v":0},{"$f":"IF(Instructions!$F$4=\"Investigation\",VLOOKUP($C$2,'Measure Recommendation'!$I$17:$X$36,10,FALSE),VLOOKUP($C$2,'Measure Recommendation'!$I$41:$X$60,10,FALSE))","v":0},{"$f":"IF(Instructions!$F$4=\"Investigation\",VLOOKUP($C$2,'Measure Recommendation'!$I$17:$X$36,11,FALSE),VLOOKUP($C$2,'Measure Recommendation'!$I$41:$X$60,11,FALSE))","v":0},{"$f":"IF(Instructions!$F$4=\"Investigation\",VLOOKUP($C$2,'Measure Recommendation'!$I$17:$X$36,13,FALSE),VLOOKUP($C$2,'Measure Recommendation'!$I$41:$X$60,13,FALSE))","v":0},{"$f":"IF(Instructions!$F$4=\"Investigation\",VLOOKUP($C$2,'Measure Recommendation'!$I$17:$X$36,14,FALSE),VLOOKUP($C$2,'Measure Recommendation'!$I$41:$X$60,14,FALSE))","v":0},{"$f":"IF(Instructions!$F$4=\"Investigation\",VLOOKUP($C$2,'Measure Recommendation'!$I$17:$X$36,15,FALSE),VLOOKUP($C$2,'Measure Recommendation'!$I$41:$X$60,15,FALSE))","v":""}]
[]
["Electric ",null,null,"Natural Gas",null,"District Cooling"]
["ComEd Peak Demand Savings (kW/month)","Electric Energy Savings (kWh/yr)","Electric Cost Savings ($/yr)","Natural Gas Savings (therms/yr)","Natural Gas Cost Savings ($/yr)","District Chilled Water Energy Savings \n(ton-hrs/year)","District Chilled Water Cost Savings ($/yr)","ECM Implement-ation Cost ($)","Simple Payback (Yrs)"]
[{"$f":"IF(Instructions!$F$4=\"Investigation\",VLOOKUP($C$2,'Measure Recommendation'!$I$17:$X$36,3,FALSE),VLOOKUP($C$2,'Measure Recommendation'!$I$41:$X$60,3,FALSE))","v":0},{"$f":"IF(Instructions!$F$4=\"Investigation\",VLOOKUP($C$2,'Measure Recommendation'!$I$17:$X$36,4,FALSE),VLOOKUP($C$2,'Measure Recommendation'!$I$41:$X$60,4,FALSE))","v":0},{"$f":"IF(Instructions!$F$4=\"Investigation\",VLOOKUP($C$2,'Measure Recommendation'!$I$17:$X$36,5,FALSE),VLOOKUP($C$2,'Measure Recommendation'!$I$41:$X$60,5,FALSE))","v":0},{"$f":"IF(Instructions!$F$4=\"Investigation\",VLOOKUP($C$2,'Measure Recommendation'!$I$17:$X$36,6,FALSE),VLOOKUP($C$2,'Measure Recommendation'!$I$41:$X$60,6,FALSE))","v":0},{"$f":"IF(Instructions!$F$4=\"Investigation\",VLOOKUP($C$2,'Measure Recommendation'!$I$17:$X$36,7,FALSE),VLOOKUP($C$2,'Measure Recommendation'!$I$41:$X$60,7,FALSE))","v":0},{"$f":"IF(Instructions!$F$4=\"Investigation\",VLOOKUP($C$2,'Measure Recommendation'!$I$17:$X$36,8,FALSE),VLOOKUP($C$2,'Measure Recommendation'!$I$41:$X$60,8,FALSE))","v":0},{"$f":"IF(Instructions!$F$4=\"Investigation\",VLOOKUP($C$2,'Measure Recommendation'!$I$17:$X$36,10,FALSE),VLOOKUP($C$2,'Measure Recommendation'!$I$41:$X$60,10,FALSE))","v":0},{"$f":"IF(Instructions!$F$4=\"Investigation\",VLOOKUP($C$2,'Measure Recommendation'!$I$17:$X$36,14,FALSE),VLOOKUP($C$2,'Measure Recommendation'!$I$41:$X$60,14,FALSE))","v":0},{"$f":"IF(Instructions!$F$4=\"Investigation\",VLOOKUP($C$2,'Measure Recommendation'!$I$17:$X$36,15,FALSE),VLOOKUP($C$2,'Measure Recommendation'!$I$41:$X$60,15,FALSE))","v":""}]
[]
["Electric ",null,null,"Natural Gas",null,"District Heating"]
["ComEd Peak Demand Savings (kW/month)","Electric Energy Savings (kWh/yr)","Electric Cost Savings ($/yr)","Natural Gas Savings (therms/yr)","Natural Gas Cost Savings ($/yr)","District Steam Energy Savings (therms/yr)","District Steam Cost Savings  ($/yr)","ECM Implement-ation Cost ($)","Simple Payback (Yrs)"]
[{"$f":"IF(Instructions!$F$4=\"Investigation\",VLOOKUP($C$2,'Measure Recommendation'!$I$17:$X$36,3,FALSE),VLOOKUP($C$2,'Measure Recommendation'!$I$41:$X$60,3,FALSE))","v":0},{"$f":"IF(Instructions!$F$4=\"Investigation\",VLOOKUP($C$2,'Measure Recommendation'!$I$17:$X$36,4,FALSE),VLOOKUP($C$2,'Measure Recommendation'!$I$41:$X$60,4,FALSE))","v":0},{"$f":"IF(Instructions!$F$4=\"Investigation\",VLOOKUP($C$2,'Measure Recommendation'!$I$17:$X$36,5,FALSE),VLOOKUP($C$2,'Measure Recommendation'!$I$41:$X$60,5,FALSE))","v":0},{"$f":"IF(Instructions!$F$4=\"Investigation\",VLOOKUP($C$2,'Measure Recommendation'!$I$17:$X$36,6,FALSE),VLOOKUP($C$2,'Measure Recommendation'!$I$41:$X$60,6,FALSE))","v":0},{"$f":"IF(Instructions!$F$4=\"Investigation\",VLOOKUP($C$2,'Measure Recommendation'!$I$17:$X$36,7,FALSE),VLOOKUP($C$2,'Measure Recommendation'!$I$41:$X$60,7,FALSE))","v":0},{"$f":"IF(Instructions!$F$4=\"Investigation\",VLOOKUP($C$2,'Measure Recommendation'!$I$17:$X$36,11,FALSE),VLOOKUP($C$2,'Measure Recommendation'!$I$41:$X$60,11,FALSE))","v":0},{"$f":"IF(Instructions!$F$4=\"Investigation\",VLOOKUP($C$2,'Measure Recommendation'!$I$17:$X$36,13,FALSE),VLOOKUP($C$2,'Measure Recommendation'!$I$41:$X$60,13,FALSE))","v":0},{"$f":"IF(Instructions!$F$4=\"Investigation\",VLOOKUP($C$2,'Measure Recommendation'!$I$17:$X$36,14,FALSE),VLOOKUP($C$2,'Measure Recommendation'!$I$41:$X$60,14,FALSE))","v":0},{"$f":"IF(Instructions!$F$4=\"Investigation\",VLOOKUP($C$2,'Measure Recommendation'!$I$17:$X$36,15,FALSE),VLOOKUP($C$2,'Measure Recommendation'!$I$41:$X$60,15,FALSE))","v":""}]
[]
[null,null,"Electric ",null,null,"Natural Gas"]
[null,null,"ComEd Peak Demand Savings (kW/month)","Electric Energy Savings (kWh/yr)","Electric Cost Savings ($/yr)","Natural Gas Savings (therms/yr)","Natural Gas Cost Savings ($/yr)","ECM Implement-ation Cost ($)","Simple Payback (Yrs)"]
[null,null,{"$f":"IF(Instructions!$F$4=\"Investigation\",VLOOKUP($C$2,'Measure Recommendation'!$I$17:$X$36,3,FALSE),VLOOKUP($C$2,'Measure Recommendation'!$I$41:$X$60,3,FALSE))","v":0},{"$f":"IF(Instructions!$F$4=\"Investigation\",VLOOKUP($C$2,'Measure Recommendation'!$I$17:$X$36,4,FALSE),VLOOKUP($C$2,'Measure Recommendation'!$I$41:$X$60,4,FALSE))","v":0},{"$f":"IF(Instructions!$F$4=\"Investigation\",VLOOKUP($C$2,'Measure Recommendation'!$I$17:$X$36,5,FALSE),VLOOKUP($C$2,'Measure Recommendation'!$I$41:$X$60,5,FALSE))","v":0},{"$f":"IF(Instructions!$F$4=\"Investigation\",VLOOKUP($C$2,'Measure Recommendation'!$I$17:$X$36,6,FALSE),VLOOKUP($C$2,'Measure Recommendation'!$I$41:$X$60,6,FALSE))","v":0},{"$f":"IF(Instructions!$F$4=\"Investigation\",VLOOKUP($C$2,'Measure Recommendation'!$I$17:$X$36,7,FALSE),VLOOKUP($C$2,'Measure Recommendation'!$I$41:$X$60,7,FALSE))","v":0},{"$f":"IF(Instructions!$F$4=\"Investigation\",VLOOKUP($C$2,'Measure Recommendation'!$I$17:$X$36,14,FALSE),VLOOKUP($C$2,'Measure Recommendation'!$I$41:$X$60,14,FALSE))","v":0},{"$f":"IF(Instructions!$F$4=\"Investigation\",VLOOKUP($C$2,'Measure Recommendation'!$I$17:$X$36,15,FALSE),VLOOKUP($C$2,'Measure Recommendation'!$I$41:$X$60,15,FALSE))","v":""}]
[]
[null,null,null,"Electric "]
[null,null,null,"ComEd Peak Demand Savings (kW/month)","Electric Energy Savings (kWh/yr)","Electric Cost Savings ($/yr)","ECM Implement-ation Cost ($)","Simple Payback (Yrs)"]
[null,null,null,{"$f":"IF(Instructions!$F$4=\"Investigation\",VLOOKUP($C$2,'Measure Recommendation'!$I$17:$X$36,3,FALSE),VLOOKUP($C$2,'Measure Recommendation'!$I$41:$X$60,3,FALSE))","v":0},{"$f":"IF(Instructions!$F$4=\"Investigation\",VLOOKUP($C$2,'Measure Recommendation'!$I$17:$X$36,4,FALSE),VLOOKUP($C$2,'Measure Recommendation'!$I$41:$X$60,4,FALSE))","v":0},{"$f":"IF(Instructions!$F$4=\"Investigation\",VLOOKUP($C$2,'Measure Recommendation'!$I$17:$X$36,5,FALSE),VLOOKUP($C$2,'Measure Recommendation'!$I$41:$X$60,5,FALSE))","v":0},{"$f":"IF(Instructions!$F$4=\"Investigation\",VLOOKUP($C$2,'Measure Recommendation'!$I$17:$X$36,14,FALSE),VLOOKUP($C$2,'Measure Recommendation'!$I$41:$X$60,14,FALSE))","v":0},{"$f":"IF(Instructions!$F$4=\"Investigation\",VLOOKUP($C$2,'Measure Recommendation'!$I$17:$X$36,15,FALSE),VLOOKUP($C$2,'Measure Recommendation'!$I$41:$X$60,15,FALSE))","v":""}]
[]
["Measure Details "]
[{"$f":"INDIRECT(\"'\"&J2&\"'!C5\")","v":"Enter text here."}]
["Existing Operation and Control Sequences"]
["Equipment affected and areas served:"]
[{"$f":"INDIRECT(\"'\"&J2&\"'!C8\")","v":"Enter text here."}]
["Baseline system operation and sequences of operation, setpoints:"]
[{"$f":"INDIRECT(\"'\"&J2&\"'!C10\")","v":"Enter text here."}]
["Investigation Approach, Findings and Data Acquisition"]
["Summary of initial investigation and functional testing:"]
[{"$f":"INDIRECT(\"'\"&J2&\"'!C13\")","v":"Enter text here."}]
["Parameters trended:"]
[{"$f":"INDIRECT(\"'\"&J2&\"'!C15\")","v":"Enter text here."}]
["Parameters functionally tested:"]
[{"$f":"INDIRECT(\"'\"&J2&\"'!C17\")","v":"Enter text here."}]
["Supporting graphs/screenshots – baseline:"]
[{"$f":"INDIRECT(\"'\"&J2&\"'!C19\")","v":"Enter text here."}]
[]
[{"$f":"INDIRECT(\"'\"&J2&\"'!C21\")","v":"Enter text here."}]
[]
["Proposed System Operation and Control Sequences - Scope of Work "]
["Proposed sequences of operation and setpoints:"]
[{"$f":"INDIRECT(\"'\"&J2&\"'!C24\")","v":"Enter text here."}]
["Integration with existing controllers: "]
[{"$f":"INDIRECT(\"'\"&J2&\"'!C26\")","v":"Enter text here."}]
["Equipment and personnel required for implementation:"]
[{"$f":"INDIRECT(\"'\"&J2&\"'!C28\")","v":"Enter text here."}]
["Calculation Methodology"]
[{"$f":"INDIRECT(\"'\"&J2&\"'!C30\")","v":"Enter text here."}]
["Measure Cost Details"]
[{"$f":"INDIRECT(\"'\"&J2&\"'!C32\")","v":"Enter text here."}]
["Verification Planning"]
[{"$f":"INDIRECT(\"'\"&J2&\"'!C34\")","v":"Enter text here."}]
["Verification Testing and Findings"]
["Parameters trended:"]
[{"$f":"INDIRECT(\"'\"&J2&\"'!C37\")","v":"To be completed during Verification Phase."}]
["Parameters functionally tested:"]
[{"$f":"INDIRECT(\"'\"&J2&\"'!C39\")","v":"To be completed during Verification Phase."}]
["Summary of verification testing:"]
[{"$f":"INDIRECT(\"'\"&J2&\"'!C41\")","v":"To be completed during Verification Phase."}]
["Modification to savings calculation:"]
[{"$f":"INDIRECT(\"'\"&J2&\"'!C43\")","v":"To be completed during Verification Phase."}]
["Supporting graphs/screenshots (post implementation):"]
[{"$f":"INDIRECT(\"'\"&J2&\"'!C45\")","v":"To be completed during Verification phase."}]
[]
[{"$f":"INDIRECT(\"'\"&J2&\"'!C47\")","v":"To be completed during Verification phase."}]

{"sheet":"MeasDet17","index":59,"n_rows":68,"n_cols":11,"rows_kept":68,"cut":false,"hidden":true,"merged":[[29,0,29,10],[36,0,36,10],[52,0,52,10],[54,0,54,10],[15,2,15,4],[15,5,15,6],[19,3,19,5],[27,0,27,10],[24,0,24,10],[32,0,32,10],[34,0,34,10],[38,0,38,8],[42,0,42,7],[44,0,44,10],[40,0,40,8],[7,0,7,2],[7,3,7,4],[7,5,7,6],[11,0,11,2],[11,3,11,4],[11,5,11,6],[3,0,3,2],[3,3,3,4],[3,5,3,6],[3,7,3,8],[1,0,1,1],[1,2,1,8],[61,0,61,10],[65,0,65,8],[67,0,67,8],[46,0,46,10],[48,0,48,10],[50,0,50,10],[57,0,57,10],[59,0,59,10],[63,0,63,10]]}
[]
["Operational ECM #17:",null,{"$f":"DataPhaseValid!G132","v":""},null,null,null,null,null,null,{"$f":"IF(Instructions!$F$4=\"Investigation\",VLOOKUP(MeasDet17!C2,'Measure Recommendation'!$I$17:$AB$36,20,FALSE),VLOOKUP(MeasDet17!C2,'Measure Recommendation'!$I$41:$AD$60,22,FALSE))","v":"ECM1"}]
[3]
["Electric ",null,null,"Natural Gas",null,"District Cooling",null,"District Heating"]
["ComEd Peak Demand Savings (kW/month)","Electric Energy Savings (kWh/yr)","Electric Cost Savings ($/yr)","Natural Gas Savings (therms/yr)","Natural Gas Cost Savings ($/yr)","District Chilled Water Energy Savings \n(ton-hrs/year)","District Chilled Water Cost Savings ($/yr)","District Steam Energy Savings (therms/yr)","District Steam Cost Savings  ($/yr)","ECM Implement-ation Cost ($)","Simple Payback (Yrs)"]
[{"$f":"IF(Instructions!$F$4=\"Investigation\",VLOOKUP($C$2,'Measure Recommendation'!$I$17:$X$36,3,FALSE),VLOOKUP($C$2,'Measure Recommendation'!$I$41:$X$60,3,FALSE))","v":0},{"$f":"IF(Instructions!$F$4=\"Investigation\",VLOOKUP($C$2,'Measure Recommendation'!$I$17:$X$36,4,FALSE),VLOOKUP($C$2,'Measure Recommendation'!$I$41:$X$60,4,FALSE))","v":0},{"$f":"IF(Instructions!$F$4=\"Investigation\",VLOOKUP($C$2,'Measure Recommendation'!$I$17:$X$36,5,FALSE),VLOOKUP($C$2,'Measure Recommendation'!$I$41:$X$60,5,FALSE))","v":0},{"$f":"IF(Instructions!$F$4=\"Investigation\",VLOOKUP($C$2,'Measure Recommendation'!$I$17:$X$36,6,FALSE),VLOOKUP($C$2,'Measure Recommendation'!$I$41:$X$60,6,FALSE))","v":0},{"$f":"IF(Instructions!$F$4=\"Investigation\",VLOOKUP($C$2,'Measure Recommendation'!$I$17:$X$36,7,FALSE),VLOOKUP($C$2,'Measure Recommendation'!$I$41:$X$60,7,FALSE))","v":0},{"$f":"IF(Instructions!$F$4=\"Investigation\",VLOOKUP($C$2,'Measure Recommendation'!$I$17:$X$36,8,FALSE),VLOOKUP($C$2,'Measure Recommendation'!$I$41:$X$60,8,FALSE))","v":0},{"$f":"IF(Instructions!$F$4=\"Investigation\",VLOOKUP($C$2,'Measure Recommendation'!$I$17:$X$36,10,FALSE),VLOOKUP($C$2,'Measure Recommendation'!$I$41:$X$60,10,FALSE))","v":0},{"$f":"IF(Instructions!$F$4=\"Investigation\",VLOOKUP($C$2,'Measure Recommendation'!$I$17:$X$36,11,FALSE),VLOOKUP($C$2,'Measure Recommendation'!$I$41:$X$60,11,FALSE))","v":0},{"$f":"IF(Instructions!$F$4=\"Investigation\",VLOOKUP($C$2,'Measure Recommendation'!$I$17:$X$36,13,FALSE),VLOOKUP($C$2,'Measure Recommendation'!$I$41:$X$60,13,FALSE))","v":0},{"$f":"IF(Instructions!$F$4=\"Investigation\",VLOOKUP($C$2,'Measure Recommendation'!$I$17:$X$36,14,FALSE),VLOOKUP($C$2,'Measure Recommendation'!$I$41:$X$60,14,FALSE))","v":0},{"$f":"IF(Instructions!$F$4=\"Investigation\",VLOOKUP($C$2,'Measure Recommendation'!$I$17:$X$36,15,FALSE),VLOOKUP($C$2,'Measure Recommendation'!$I$41:$X$60,15,FALSE))","v":""}]
[]
["Electric ",null,null,"Natural Gas",null,"District Cooling"]
["ComEd Peak Demand Savings (kW/month)","Electric Energy Savings (kWh/yr)","Electric Cost Savings ($/yr)","Natural Gas Savings (therms/yr)","Natural Gas Cost Savings ($/yr)","District Chilled Water Energy Savings \n(ton-hrs/year)","District Chilled Water Cost Savings ($/yr)","ECM Implement-ation Cost ($)","Simple Payback (Yrs)"]
[{"$f":"IF(Instructions!$F$4=\"Investigation\",VLOOKUP($C$2,'Measure Recommendation'!$I$17:$X$36,3,FALSE),VLOOKUP($C$2,'Measure Recommendation'!$I$41:$X$60,3,FALSE))","v":0},{"$f":"IF(Instructions!$F$4=\"Investigation\",VLOOKUP($C$2,'Measure Recommendation'!$I$17:$X$36,4,FALSE),VLOOKUP($C$2,'Measure Recommendation'!$I$41:$X$60,4,FALSE))","v":0},{"$f":"IF(Instructions!$F$4=\"Investigation\",VLOOKUP($C$2,'Measure Recommendation'!$I$17:$X$36,5,FALSE),VLOOKUP($C$2,'Measure Recommendation'!$I$41:$X$60,5,FALSE))","v":0},{"$f":"IF(Instructions!$F$4=\"Investigation\",VLOOKUP($C$2,'Measure Recommendation'!$I$17:$X$36,6,FALSE),VLOOKUP($C$2,'Measure Recommendation'!$I$41:$X$60,6,FALSE))","v":0},{"$f":"IF(Instructions!$F$4=\"Investigation\",VLOOKUP($C$2,'Measure Recommendation'!$I$17:$X$36,7,FALSE),VLOOKUP($C$2,'Measure Recommendation'!$I$41:$X$60,7,FALSE))","v":0},{"$f":"IF(Instructions!$F$4=\"Investigation\",VLOOKUP($C$2,'Measure Recommendation'!$I$17:$X$36,8,FALSE),VLOOKUP($C$2,'Measure Recommendation'!$I$41:$X$60,8,FALSE))","v":0},{"$f":"IF(Instructions!$F$4=\"Investigation\",VLOOKUP($C$2,'Measure Recommendation'!$I$17:$X$36,10,FALSE),VLOOKUP($C$2,'Measure Recommendation'!$I$41:$X$60,10,FALSE))","v":0},{"$f":"IF(Instructions!$F$4=\"Investigation\",VLOOKUP($C$2,'Measure Recommendation'!$I$17:$X$36,14,FALSE),VLOOKUP($C$2,'Measure Recommendation'!$I$41:$X$60,14,FALSE))","v":0},{"$f":"IF(Instructions!$F$4=\"Investigation\",VLOOKUP($C$2,'Measure Recommendation'!$I$17:$X$36,15,FALSE),VLOOKUP($C$2,'Measure Recommendation'!$I$41:$X$60,15,FALSE))","v":""}]
[]
["Electric ",null,null,"Natural Gas",null,"District Heating"]
["ComEd Peak Demand Savings (kW/month)","Electric Energy Savings (kWh/yr)","Electric Cost Savings ($/yr)","Natural Gas Savings (therms/yr)","Natural Gas Cost Savings ($/yr)","District Steam Energy Savings (therms/yr)","District Steam Cost Savings  ($/yr)","ECM Implement-ation Cost ($)","Simple Payback (Yrs)"]
[{"$f":"IF(Instructions!$F$4=\"Investigation\",VLOOKUP($C$2,'Measure Recommendation'!$I$17:$X$36,3,FALSE),VLOOKUP($C$2,'Measure Recommendation'!$I$41:$X$60,3,FALSE))","v":0},{"$f":"IF(Instructions!$F$4=\"Investigation\",VLOOKUP($C$2,'Measure Recommendation'!$I$17:$X$36,4,FALSE),VLOOKUP($C$2,'Measure Recommendation'!$I$41:$X$60,4,FALSE))","v":0},{"$f":"IF(Instructions!$F$4=\"Investigation\",VLOOKUP($C$2,'Measure Recommendation'!$I$17:$X$36,5,FALSE),VLOOKUP($C$2,'Measure Recommendation'!$I$41:$X$60,5,FALSE))","v":0},{"$f":"IF(Instructions!$F$4=\"Investigation\",VLOOKUP($C$2,'Measure Recommendation'!$I$17:$X$36,6,FALSE),VLOOKUP($C$2,'Measure Recommendation'!$I$41:$X$60,6,FALSE))","v":0},{"$f":"IF(Instructions!$F$4=\"Investigation\",VLOOKUP($C$2,'Measure Recommendation'!$I$17:$X$36,7,FALSE),VLOOKUP($C$2,'Measure Recommendation'!$I$41:$X$60,7,FALSE))","v":0},{"$f":"IF(Instructions!$F$4=\"Investigation\",VLOOKUP($C$2,'Measure Recommendation'!$I$17:$X$36,11,FALSE),VLOOKUP($C$2,'Measure Recommendation'!$I$41:$X$60,11,FALSE))","v":0},{"$f":"IF(Instructions!$F$4=\"Investigation\",VLOOKUP($C$2,'Measure Recommendation'!$I$17:$X$36,13,FALSE),VLOOKUP($C$2,'Measure Recommendation'!$I$41:$X$60,13,FALSE))","v":0},{"$f":"IF(Instructions!$F$4=\"Investigation\",VLOOKUP($C$2,'Measure Recommendation'!$I$17:$X$36,14,FALSE),VLOOKUP($C$2,'Measure Recommendation'!$I$41:$X$60,14,FALSE))","v":0},{"$f":"IF(Instructions!$F$4=\"Investigation\",VLOOKUP($C$2,'Measure Recommendation'!$I$17:$X$36,15,FALSE),VLOOKUP($C$2,'Measure Recommendation'!$I$41:$X$60,15,FALSE))","v":""}]
[]
[null,null,"Electric ",null,null,"Natural Gas"]
[null,null,"ComEd Peak Demand Savings (kW/month)","Electric Energy Savings (kWh/yr)","Electric Cost Savings ($/yr)","Natural Gas Savings (therms/yr)","Natural Gas Cost Savings ($/yr)","ECM Implement-ation Cost ($)","Simple Payback (Yrs)"]
[null,null,{"$f":"IF(Instructions!$F$4=\"Investigation\",VLOOKUP($C$2,'Measure Recommendation'!$I$17:$X$36,3,FALSE),VLOOKUP($C$2,'Measure Recommendation'!$I$41:$X$60,3,FALSE))","v":0},{"$f":"IF(Instructions!$F$4=\"Investigation\",VLOOKUP($C$2,'Measure Recommendation'!$I$17:$X$36,4,FALSE),VLOOKUP($C$2,'Measure Recommendation'!$I$41:$X$60,4,FALSE))","v":0},{"$f":"IF(Instructions!$F$4=\"Investigation\",VLOOKUP($C$2,'Measure Recommendation'!$I$17:$X$36,5,FALSE),VLOOKUP($C$2,'Measure Recommendation'!$I$41:$X$60,5,FALSE))","v":0},{"$f":"IF(Instructions!$F$4=\"Investigation\",VLOOKUP($C$2,'Measure Recommendation'!$I$17:$X$36,6,FALSE),VLOOKUP($C$2,'Measure Recommendation'!$I$41:$X$60,6,FALSE))","v":0},{"$f":"IF(Instructions!$F$4=\"Investigation\",VLOOKUP($C$2,'Measure Recommendation'!$I$17:$X$36,7,FALSE),VLOOKUP($C$2,'Measure Recommendation'!$I$41:$X$60,7,FALSE))","v":0},{"$f":"IF(Instructions!$F$4=\"Investigation\",VLOOKUP($C$2,'Measure Recommendation'!$I$17:$X$36,14,FALSE),VLOOKUP($C$2,'Measure Recommendation'!$I$41:$X$60,14,FALSE))","v":0},{"$f":"IF(Instructions!$F$4=\"Investigation\",VLOOKUP($C$2,'Measure Recommendation'!$I$17:$X$36,15,FALSE),VLOOKUP($C$2,'Measure Recommendation'!$I$41:$X$60,15,FALSE))","v":""}]
[]
[null,null,null,"Electric "]
[null,null,null,"ComEd Peak Demand Savings (kW/month)","Electric Energy Savings (kWh/yr)","Electric Cost Savings ($/yr)","ECM Implement-ation Cost ($)","Simple Payback (Yrs)"]
[null,null,null,{"$f":"IF(Instructions!$F$4=\"Investigation\",VLOOKUP($C$2,'Measure Recommendation'!$I$17:$X$36,3,FALSE),VLOOKUP($C$2,'Measure Recommendation'!$I$41:$X$60,3,FALSE))","v":0},{"$f":"IF(Instructions!$F$4=\"Investigation\",VLOOKUP($C$2,'Measure Recommendation'!$I$17:$X$36,4,FALSE),VLOOKUP($C$2,'Measure Recommendation'!$I$41:$X$60,4,FALSE))","v":0},{"$f":"IF(Instructions!$F$4=\"Investigation\",VLOOKUP($C$2,'Measure Recommendation'!$I$17:$X$36,5,FALSE),VLOOKUP($C$2,'Measure Recommendation'!$I$41:$X$60,5,FALSE))","v":0},{"$f":"IF(Instructions!$F$4=\"Investigation\",VLOOKUP($C$2,'Measure Recommendation'!$I$17:$X$36,14,FALSE),VLOOKUP($C$2,'Measure Recommendation'!$I$41:$X$60,14,FALSE))","v":0},{"$f":"IF(Instructions!$F$4=\"Investigation\",VLOOKUP($C$2,'Measure Recommendation'!$I$17:$X$36,15,FALSE),VLOOKUP($C$2,'Measure Recommendation'!$I$41:$X$60,15,FALSE))","v":""}]
[]
["Measure Details "]
[{"$f":"INDIRECT(\"'\"&J2&\"'!C5\")","v":"Enter text here."}]
["Existing Operation and Control Sequences"]
["Equipment affected and areas served:"]
[{"$f":"INDIRECT(\"'\"&J2&\"'!C8\")","v":"Enter text here."}]
["Baseline system operation and sequences of operation, setpoints:"]
[{"$f":"INDIRECT(\"'\"&J2&\"'!C10\")","v":"Enter text here."}]
["Investigation Approach, Findings and Data Acquisition"]
["Summary of initial investigation and functional testing:"]
[{"$f":"INDIRECT(\"'\"&J2&\"'!C13\")","v":"Enter text here."}]
["Parameters trended:"]
[{"$f":"INDIRECT(\"'\"&J2&\"'!C15\")","v":"Enter text here."}]
["Parameters functionally tested:"]
[{"$f":"INDIRECT(\"'\"&J2&\"'!C17\")","v":"Enter text here."}]
["Supporting graphs/screenshots – baseline:"]
[{"$f":"INDIRECT(\"'\"&J2&\"'!C19\")","v":"Enter text here."}]
[]
[{"$f":"INDIRECT(\"'\"&J2&\"'!C21\")","v":"Enter text here."}]
[]
["Proposed System Operation and Control Sequences - Scope of Work "]
["Proposed sequences of operation and setpoints:"]
[{"$f":"INDIRECT(\"'\"&J2&\"'!C24\")","v":"Enter text here."}]
["Integration with existing controllers: "]
[{"$f":"INDIRECT(\"'\"&J2&\"'!C26\")","v":"Enter text here."}]
["Equipment and personnel required for implementation:"]
[{"$f":"INDIRECT(\"'\"&J2&\"'!C28\")","v":"Enter text here."}]
["Calculation Methodology"]
[{"$f":"INDIRECT(\"'\"&J2&\"'!C30\")","v":"Enter text here."}]
["Measure Cost Details"]
[{"$f":"INDIRECT(\"'\"&J2&\"'!C32\")","v":"Enter text here."}]
["Verification Planning"]
[{"$f":"INDIRECT(\"'\"&J2&\"'!C34\")","v":"Enter text here."}]
["Verification Testing and Findings"]
["Parameters trended:"]
[{"$f":"INDIRECT(\"'\"&J2&\"'!C37\")","v":"To be completed during Verification Phase."}]
["Parameters functionally tested:"]
[{"$f":"INDIRECT(\"'\"&J2&\"'!C39\")","v":"To be completed during Verification Phase."}]
["Summary of verification testing:"]
[{"$f":"INDIRECT(\"'\"&J2&\"'!C41\")","v":"To be completed during Verification Phase."}]
["Modification to savings calculation:"]
[{"$f":"INDIRECT(\"'\"&J2&\"'!C43\")","v":"To be completed during Verification Phase."}]
["Supporting graphs/screenshots (post implementation):"]
[{"$f":"INDIRECT(\"'\"&J2&\"'!C45\")","v":"To be completed during Verification phase."}]
[]
[{"$f":"INDIRECT(\"'\"&J2&\"'!C47\")","v":"To be completed during Verification phase."}]

{"sheet":"MeasDet18","index":60,"n_rows":68,"n_cols":11,"rows_kept":68,"cut":false,"hidden":true,"merged":[[29,0,29,10],[36,0,36,10],[52,0,52,10],[54,0,54,10],[15,2,15,4],[15,5,15,6],[19,3,19,5],[27,0,27,10],[24,0,24,10],[32,0,32,10],[34,0,34,10],[38,0,38,8],[42,0,42,7],[44,0,44,10],[40,0,40,8],[7,0,7,2],[7,3,7,4],[7,5,7,6],[11,0,11,2],[11,3,11,4],[11,5,11,6],[3,0,3,2],[3,3,3,4],[3,5,3,6],[3,7,3,8],[1,0,1,1],[1,2,1,8],[61,0,61,10],[65,0,65,8],[67,0,67,8],[46,0,46,10],[48,0,48,10],[50,0,50,10],[57,0,57,10],[59,0,59,10],[63,0,63,10]]}
[]
["Operational ECM #18:",null,{"$f":"DataPhaseValid!G133","v":""},null,null,null,null,null,null,{"$f":"IF(Instructions!$F$4=\"Investigation\",VLOOKUP(MeasDet18!C2,'Measure Recommendation'!$I$17:$AB$36,20,FALSE),VLOOKUP(MeasDet18!C2,'Measure Recommendation'!$I$41:$AD$60,22,FALSE))","v":"ECM1"}]
[3]
["Electric ",null,null,"Natural Gas",null,"District Cooling",null,"District Heating"]
["ComEd Peak Demand Savings (kW/month)","Electric Energy Savings (kWh/yr)","Electric Cost Savings ($/yr)","Natural Gas Savings (therms/yr)","Natural Gas Cost Savings ($/yr)","District Chilled Water Energy Savings \n(ton-hrs/year)","District Chilled Water Cost Savings ($/yr)","District Steam Energy Savings (therms/yr)","District Steam Cost Savings  ($/yr)","ECM Implement-ation Cost ($)","Simple Payback (Yrs)"]
[{"$f":"IF(Instructions!$F$4=\"Investigation\",VLOOKUP($C$2,'Measure Recommendation'!$I$17:$X$36,3,FALSE),VLOOKUP($C$2,'Measure Recommendation'!$I$41:$X$60,3,FALSE))","v":0},{"$f":"IF(Instructions!$F$4=\"Investigation\",VLOOKUP($C$2,'Measure Recommendation'!$I$17:$X$36,4,FALSE),VLOOKUP($C$2,'Measure Recommendation'!$I$41:$X$60,4,FALSE))","v":0},{"$f":"IF(Instructions!$F$4=\"Investigation\",VLOOKUP($C$2,'Measure Recommendation'!$I$17:$X$36,5,FALSE),VLOOKUP($C$2,'Measure Recommendation'!$I$41:$X$60,5,FALSE))","v":0},{"$f":"IF(Instructions!$F$4=\"Investigation\",VLOOKUP($C$2,'Measure Recommendation'!$I$17:$X$36,6,FALSE),VLOOKUP($C$2,'Measure Recommendation'!$I$41:$X$60,6,FALSE))","v":0},{"$f":"IF(Instructions!$F$4=\"Investigation\",VLOOKUP($C$2,'Measure Recommendation'!$I$17:$X$36,7,FALSE),VLOOKUP($C$2,'Measure Recommendation'!$I$41:$X$60,7,FALSE))","v":0},{"$f":"IF(Instructions!$F$4=\"Investigation\",VLOOKUP($C$2,'Measure Recommendation'!$I$17:$X$36,8,FALSE),VLOOKUP($C$2,'Measure Recommendation'!$I$41:$X$60,8,FALSE))","v":0},{"$f":"IF(Instructions!$F$4=\"Investigation\",VLOOKUP($C$2,'Measure Recommendation'!$I$17:$X$36,10,FALSE),VLOOKUP($C$2,'Measure Recommendation'!$I$41:$X$60,10,FALSE))","v":0},{"$f":"IF(Instructions!$F$4=\"Investigation\",VLOOKUP($C$2,'Measure Recommendation'!$I$17:$X$36,11,FALSE),VLOOKUP($C$2,'Measure Recommendation'!$I$41:$X$60,11,FALSE))","v":0},{"$f":"IF(Instructions!$F$4=\"Investigation\",VLOOKUP($C$2,'Measure Recommendation'!$I$17:$X$36,13,FALSE),VLOOKUP($C$2,'Measure Recommendation'!$I$41:$X$60,13,FALSE))","v":0},{"$f":"IF(Instructions!$F$4=\"Investigation\",VLOOKUP($C$2,'Measure Recommendation'!$I$17:$X$36,14,FALSE),VLOOKUP($C$2,'Measure Recommendation'!$I$41:$X$60,14,FALSE))","v":0},{"$f":"IF(Instructions!$F$4=\"Investigation\",VLOOKUP($C$2,'Measure Recommendation'!$I$17:$X$36,15,FALSE),VLOOKUP($C$2,'Measure Recommendation'!$I$41:$X$60,15,FALSE))","v":""}]
[]
["Electric ",null,null,"Natural Gas",null,"District Cooling"]
["ComEd Peak Demand Savings (kW/month)","Electric Energy Savings (kWh/yr)","Electric Cost Savings ($/yr)","Natural Gas Savings (therms/yr)","Natural Gas Cost Savings ($/yr)","District Chilled Water Energy Savings \n(ton-hrs/year)","District Chilled Water Cost Savings ($/yr)","ECM Implement-ation Cost ($)","Simple Payback (Yrs)"]
[{"$f":"IF(Instructions!$F$4=\"Investigation\",VLOOKUP($C$2,'Measure Recommendation'!$I$17:$X$36,3,FALSE),VLOOKUP($C$2,'Measure Recommendation'!$I$41:$X$60,3,FALSE))","v":0},{"$f":"IF(Instructions!$F$4=\"Investigation\",VLOOKUP($C$2,'Measure Recommendation'!$I$17:$X$36,4,FALSE),VLOOKUP($C$2,'Measure Recommendation'!$I$41:$X$60,4,FALSE))","v":0},{"$f":"IF(Instructions!$F$4=\"Investigation\",VLOOKUP($C$2,'Measure Recommendation'!$I$17:$X$36,5,FALSE),VLOOKUP($C$2,'Measure Recommendation'!$I$41:$X$60,5,FALSE))","v":0},{"$f":"IF(Instructions!$F$4=\"Investigation\",VLOOKUP($C$2,'Measure Recommendation'!$I$17:$X$36,6,FALSE),VLOOKUP($C$2,'Measure Recommendation'!$I$41:$X$60,6,FALSE))","v":0},{"$f":"IF(Instructions!$F$4=\"Investigation\",VLOOKUP($C$2,'Measure Recommendation'!$I$17:$X$36,7,FALSE),VLOOKUP($C$2,'Measure Recommendation'!$I$41:$X$60,7,FALSE))","v":0},{"$f":"IF(Instructions!$F$4=\"Investigation\",VLOOKUP($C$2,'Measure Recommendation'!$I$17:$X$36,8,FALSE),VLOOKUP($C$2,'Measure Recommendation'!$I$41:$X$60,8,FALSE))","v":0},{"$f":"IF(Instructions!$F$4=\"Investigation\",VLOOKUP($C$2,'Measure Recommendation'!$I$17:$X$36,10,FALSE),VLOOKUP($C$2,'Measure Recommendation'!$I$41:$X$60,10,FALSE))","v":0},{"$f":"IF(Instructions!$F$4=\"Investigation\",VLOOKUP($C$2,'Measure Recommendation'!$I$17:$X$36,14,FALSE),VLOOKUP($C$2,'Measure Recommendation'!$I$41:$X$60,14,FALSE))","v":0},{"$f":"IF(Instructions!$F$4=\"Investigation\",VLOOKUP($C$2,'Measure Recommendation'!$I$17:$X$36,15,FALSE),VLOOKUP($C$2,'Measure Recommendation'!$I$41:$X$60,15,FALSE))","v":""}]
[]
["Electric ",null,null,"Natural Gas",null,"District Heating"]
["ComEd Peak Demand Savings (kW/month)","Electric Energy Savings (kWh/yr)","Electric Cost Savings ($/yr)","Natural Gas Savings (therms/yr)","Natural Gas Cost Savings ($/yr)","District Steam Energy Savings (therms/yr)","District Steam Cost Savings  ($/yr)","ECM Implement-ation Cost ($)","Simple Payback (Yrs)"]
[{"$f":"IF(Instructions!$F$4=\"Investigation\",VLOOKUP($C$2,'Measure Recommendation'!$I$17:$X$36,3,FALSE),VLOOKUP($C$2,'Measure Recommendation'!$I$41:$X$60,3,FALSE))","v":0},{"$f":"IF(Instructions!$F$4=\"Investigation\",VLOOKUP($C$2,'Measure Recommendation'!$I$17:$X$36,4,FALSE),VLOOKUP($C$2,'Measure Recommendation'!$I$41:$X$60,4,FALSE))","v":0},{"$f":"IF(Instructions!$F$4=\"Investigation\",VLOOKUP($C$2,'Measure Recommendation'!$I$17:$X$36,5,FALSE),VLOOKUP($C$2,'Measure Recommendation'!$I$41:$X$60,5,FALSE))","v":0},{"$f":"IF(Instructions!$F$4=\"Investigation\",VLOOKUP($C$2,'Measure Recommendation'!$I$17:$X$36,6,FALSE),VLOOKUP($C$2,'Measure Recommendation'!$I$41:$X$60,6,FALSE))","v":0},{"$f":"IF(Instructions!$F$4=\"Investigation\",VLOOKUP($C$2,'Measure Recommendation'!$I$17:$X$36,7,FALSE),VLOOKUP($C$2,'Measure Recommendation'!$I$41:$X$60,7,FALSE))","v":0},{"$f":"IF(Instructions!$F$4=\"Investigation\",VLOOKUP($C$2,'Measure Recommendation'!$I$17:$X$36,11,FALSE),VLOOKUP($C$2,'Measure Recommendation'!$I$41:$X$60,11,FALSE))","v":0},{"$f":"IF(Instructions!$F$4=\"Investigation\",VLOOKUP($C$2,'Measure Recommendation'!$I$17:$X$36,13,FALSE),VLOOKUP($C$2,'Measure Recommendation'!$I$41:$X$60,13,FALSE))","v":0},{"$f":"IF(Instructions!$F$4=\"Investigation\",VLOOKUP($C$2,'Measure Recommendation'!$I$17:$X$36,14,FALSE),VLOOKUP($C$2,'Measure Recommendation'!$I$41:$X$60,14,FALSE))","v":0},{"$f":"IF(Instructions!$F$4=\"Investigation\",VLOOKUP($C$2,'Measure Recommendation'!$I$17:$X$36,15,FALSE),VLOOKUP($C$2,'Measure Recommendation'!$I$41:$X$60,15,FALSE))","v":""}]
[]
[null,null,"Electric ",null,null,"Natural Gas"]
[null,null,"ComEd Peak Demand Savings (kW/month)","Electric Energy Savings (kWh/yr)","Electric Cost Savings ($/yr)","Natural Gas Savings (therms/yr)","Natural Gas Cost Savings ($/yr)","ECM Implement-ation Cost ($)","Simple Payback (Yrs)"]
[null,null,{"$f":"IF(Instructions!$F$4=\"Investigation\",VLOOKUP($C$2,'Measure Recommendation'!$I$17:$X$36,3,FALSE),VLOOKUP($C$2,'Measure Recommendation'!$I$41:$X$60,3,FALSE))","v":0},{"$f":"IF(Instructions!$F$4=\"Investigation\",VLOOKUP($C$2,'Measure Recommendation'!$I$17:$X$36,4,FALSE),VLOOKUP($C$2,'Measure Recommendation'!$I$41:$X$60,4,FALSE))","v":0},{"$f":"IF(Instructions!$F$4=\"Investigation\",VLOOKUP($C$2,'Measure Recommendation'!$I$17:$X$36,5,FALSE),VLOOKUP($C$2,'Measure Recommendation'!$I$41:$X$60,5,FALSE))","v":0},{"$f":"IF(Instructions!$F$4=\"Investigation\",VLOOKUP($C$2,'Measure Recommendation'!$I$17:$X$36,6,FALSE),VLOOKUP($C$2,'Measure Recommendation'!$I$41:$X$60,6,FALSE))","v":0},{"$f":"IF(Instructions!$F$4=\"Investigation\",VLOOKUP($C$2,'Measure Recommendation'!$I$17:$X$36,7,FALSE),VLOOKUP($C$2,'Measure Recommendation'!$I$41:$X$60,7,FALSE))","v":0},{"$f":"IF(Instructions!$F$4=\"Investigation\",VLOOKUP($C$2,'Measure Recommendation'!$I$17:$X$36,14,FALSE),VLOOKUP($C$2,'Measure Recommendation'!$I$41:$X$60,14,FALSE))","v":0},{"$f":"IF(Instructions!$F$4=\"Investigation\",VLOOKUP($C$2,'Measure Recommendation'!$I$17:$X$36,15,FALSE),VLOOKUP($C$2,'Measure Recommendation'!$I$41:$X$60,15,FALSE))","v":""}]
[]
[null,null,null,"Electric "]
[null,null,null,"ComEd Peak Demand Savings (kW/month)","Electric Energy Savings (kWh/yr)","Electric Cost Savings ($/yr)","ECM Implement-ation Cost ($)","Simple Payback (Yrs)"]
[null,null,null,{"$f":"IF(Instructions!$F$4=\"Investigation\",VLOOKUP($C$2,'Measure Recommendation'!$I$17:$X$36,3,FALSE),VLOOKUP($C$2,'Measure Recommendation'!$I$41:$X$60,3,FALSE))","v":0},{"$f":"IF(Instructions!$F$4=\"Investigation\",VLOOKUP($C$2,'Measure Recommendation'!$I$17:$X$36,4,FALSE),VLOOKUP($C$2,'Measure Recommendation'!$I$41:$X$60,4,FALSE))","v":0},{"$f":"IF(Instructions!$F$4=\"Investigation\",VLOOKUP($C$2,'Measure Recommendation'!$I$17:$X$36,5,FALSE),VLOOKUP($C$2,'Measure Recommendation'!$I$41:$X$60,5,FALSE))","v":0},{"$f":"IF(Instructions!$F$4=\"Investigation\",VLOOKUP($C$2,'Measure Recommendation'!$I$17:$X$36,14,FALSE),VLOOKUP($C$2,'Measure Recommendation'!$I$41:$X$60,14,FALSE))","v":0},{"$f":"IF(Instructions!$F$4=\"Investigation\",VLOOKUP($C$2,'Measure Recommendation'!$I$17:$X$36,15,FALSE),VLOOKUP($C$2,'Measure Recommendation'!$I$41:$X$60,15,FALSE))","v":""}]
[]
["Measure Details "]
[{"$f":"INDIRECT(\"'\"&J2&\"'!C5\")","v":"Enter text here."}]
["Existing Operation and Control Sequences"]
["Equipment affected and areas served:"]
[{"$f":"INDIRECT(\"'\"&J2&\"'!C8\")","v":"Enter text here."}]
["Baseline system operation and sequences of operation, setpoints:"]
[{"$f":"INDIRECT(\"'\"&J2&\"'!C10\")","v":"Enter text here."}]
["Investigation Approach, Findings and Data Acquisition"]
["Summary of initial investigation and functional testing:"]
[{"$f":"INDIRECT(\"'\"&J2&\"'!C13\")","v":"Enter text here."}]
["Parameters trended:"]
[{"$f":"INDIRECT(\"'\"&J2&\"'!C15\")","v":"Enter text here."}]
["Parameters functionally tested:"]
[{"$f":"INDIRECT(\"'\"&J2&\"'!C17\")","v":"Enter text here."}]
["Supporting graphs/screenshots – baseline:"]
[{"$f":"INDIRECT(\"'\"&J2&\"'!C19\")","v":"Enter text here."}]
[]
[{"$f":"INDIRECT(\"'\"&J2&\"'!C21\")","v":"Enter text here."}]
[]
["Proposed System Operation and Control Sequences - Scope of Work "]
["Proposed sequences of operation and setpoints:"]
[{"$f":"INDIRECT(\"'\"&J2&\"'!C24\")","v":"Enter text here."}]
["Integration with existing controllers: "]
[{"$f":"INDIRECT(\"'\"&J2&\"'!C26\")","v":"Enter text here."}]
["Equipment and personnel required for implementation:"]
[{"$f":"INDIRECT(\"'\"&J2&\"'!C28\")","v":"Enter text here."}]
["Calculation Methodology"]
[{"$f":"INDIRECT(\"'\"&J2&\"'!C30\")","v":"Enter text here."}]
["Measure Cost Details"]
[{"$f":"INDIRECT(\"'\"&J2&\"'!C32\")","v":"Enter text here."}]
["Verification Planning"]
[{"$f":"INDIRECT(\"'\"&J2&\"'!C34\")","v":"Enter text here."}]
["Verification Testing and Findings"]
["Parameters trended:"]
[{"$f":"INDIRECT(\"'\"&J2&\"'!C37\")","v":"To be completed during Verification Phase."}]
["Parameters functionally tested:"]
[{"$f":"INDIRECT(\"'\"&J2&\"'!C39\")","v":"To be completed during Verification Phase."}]
["Summary of verification testing:"]
[{"$f":"INDIRECT(\"'\"&J2&\"'!C41\")","v":"To be completed during Verification Phase."}]
["Modification to savings calculation:"]
[{"$f":"INDIRECT(\"'\"&J2&\"'!C43\")","v":"To be completed during Verification Phase."}]
["Supporting graphs/screenshots (post implementation):"]
[{"$f":"INDIRECT(\"'\"&J2&\"'!C45\")","v":"To be completed during Verification phase."}]
[]
[{"$f":"INDIRECT(\"'\"&J2&\"'!C47\")","v":"To be completed during Verification phase."}]

{"sheet":"MeasDet19","index":61,"n_rows":68,"n_cols":11,"rows_kept":68,"cut":false,"hidden":true,"merged":[[29,0,29,10],[36,0,36,10],[52,0,52,10],[54,0,54,10],[15,2,15,4],[15,5,15,6],[19,3,19,5],[27,0,27,10],[24,0,24,10],[32,0,32,10],[34,0,34,10],[38,0,38,8],[42,0,42,7],[44,0,44,10],[40,0,40,8],[7,0,7,2],[7,3,7,4],[7,5,7,6],[11,0,11,2],[11,3,11,4],[11,5,11,6],[3,0,3,2],[3,3,3,4],[3,5,3,6],[3,7,3,8],[1,0,1,1],[1,2,1,8],[61,0,61,10],[65,0,65,8],[67,0,67,8],[46,0,46,10],[48,0,48,10],[50,0,50,10],[57,0,57,10],[59,0,59,10],[63,0,63,10]]}
[]
["Operational ECM #19:",null,{"$f":"DataPhaseValid!G134","v":""},null,null,null,null,null,null,{"$f":"IF(Instructions!$F$4=\"Investigation\",VLOOKUP(MeasDet19!C2,'Measure Recommendation'!$I$17:$AB$36,20,FALSE),VLOOKUP(MeasDet19!C2,'Measure Recommendation'!$I$41:$AD$60,22,FALSE))","v":"ECM1"}]
[3]
["Electric ",null,null,"Natural Gas",null,"District Cooling",null,"District Heating"]
["ComEd Peak Demand Savings (kW/month)","Electric Energy Savings (kWh/yr)","Electric Cost Savings ($/yr)","Natural Gas Savings (therms/yr)","Natural Gas Cost Savings ($/yr)","District Chilled Water Energy Savings \n(ton-hrs/year)","District Chilled Water Cost Savings ($/yr)","District Steam Energy Savings (therms/yr)","District Steam Cost Savings  ($/yr)","ECM Implement-ation Cost ($)","Simple Payback (Yrs)"]
[{"$f":"IF(Instructions!$F$4=\"Investigation\",VLOOKUP($C$2,'Measure Recommendation'!$I$17:$X$36,3,FALSE),VLOOKUP($C$2,'Measure Recommendation'!$I$41:$X$60,3,FALSE))","v":0},{"$f":"IF(Instructions!$F$4=\"Investigation\",VLOOKUP($C$2,'Measure Recommendation'!$I$17:$X$36,4,FALSE),VLOOKUP($C$2,'Measure Recommendation'!$I$41:$X$60,4,FALSE))","v":0},{"$f":"IF(Instructions!$F$4=\"Investigation\",VLOOKUP($C$2,'Measure Recommendation'!$I$17:$X$36,5,FALSE),VLOOKUP($C$2,'Measure Recommendation'!$I$41:$X$60,5,FALSE))","v":0},{"$f":"IF(Instructions!$F$4=\"Investigation\",VLOOKUP($C$2,'Measure Recommendation'!$I$17:$X$36,6,FALSE),VLOOKUP($C$2,'Measure Recommendation'!$I$41:$X$60,6,FALSE))","v":0},{"$f":"IF(Instructions!$F$4=\"Investigation\",VLOOKUP($C$2,'Measure Recommendation'!$I$17:$X$36,7,FALSE),VLOOKUP($C$2,'Measure Recommendation'!$I$41:$X$60,7,FALSE))","v":0},{"$f":"IF(Instructions!$F$4=\"Investigation\",VLOOKUP($C$2,'Measure Recommendation'!$I$17:$X$36,8,FALSE),VLOOKUP($C$2,'Measure Recommendation'!$I$41:$X$60,8,FALSE))","v":0},{"$f":"IF(Instructions!$F$4=\"Investigation\",VLOOKUP($C$2,'Measure Recommendation'!$I$17:$X$36,10,FALSE),VLOOKUP($C$2,'Measure Recommendation'!$I$41:$X$60,10,FALSE))","v":0},{"$f":"IF(Instructions!$F$4=\"Investigation\",VLOOKUP($C$2,'Measure Recommendation'!$I$17:$X$36,11,FALSE),VLOOKUP($C$2,'Measure Recommendation'!$I$41:$X$60,11,FALSE))","v":0},{"$f":"IF(Instructions!$F$4=\"Investigation\",VLOOKUP($C$2,'Measure Recommendation'!$I$17:$X$36,13,FALSE),VLOOKUP($C$2,'Measure Recommendation'!$I$41:$X$60,13,FALSE))","v":0},{"$f":"IF(Instructions!$F$4=\"Investigation\",VLOOKUP($C$2,'Measure Recommendation'!$I$17:$X$36,14,FALSE),VLOOKUP($C$2,'Measure Recommendation'!$I$41:$X$60,14,FALSE))","v":0},{"$f":"IF(Instructions!$F$4=\"Investigation\",VLOOKUP($C$2,'Measure Recommendation'!$I$17:$X$36,15,FALSE),VLOOKUP($C$2,'Measure Recommendation'!$I$41:$X$60,15,FALSE))","v":""}]
[]
["Electric ",null,null,"Natural Gas",null,"District Cooling"]
["ComEd Peak Demand Savings (kW/month)","Electric Energy Savings (kWh/yr)","Electric Cost Savings ($/yr)","Natural Gas Savings (therms/yr)","Natural Gas Cost Savings ($/yr)","District Chilled Water Energy Savings \n(ton-hrs/year)","District Chilled Water Cost Savings ($/yr)","ECM Implement-ation Cost ($)","Simple Payback (Yrs)"]
[{"$f":"IF(Instructions!$F$4=\"Investigation\",VLOOKUP($C$2,'Measure Recommendation'!$I$17:$X$36,3,FALSE),VLOOKUP($C$2,'Measure Recommendation'!$I$41:$X$60,3,FALSE))","v":0},{"$f":"IF(Instructions!$F$4=\"Investigation\",VLOOKUP($C$2,'Measure Recommendation'!$I$17:$X$36,4,FALSE),VLOOKUP($C$2,'Measure Recommendation'!$I$41:$X$60,4,FALSE))","v":0},{"$f":"IF(Instructions!$F$4=\"Investigation\",VLOOKUP($C$2,'Measure Recommendation'!$I$17:$X$36,5,FALSE),VLOOKUP($C$2,'Measure Recommendation'!$I$41:$X$60,5,FALSE))","v":0},{"$f":"IF(Instructions!$F$4=\"Investigation\",VLOOKUP($C$2,'Measure Recommendation'!$I$17:$X$36,6,FALSE),VLOOKUP($C$2,'Measure Recommendation'!$I$41:$X$60,6,FALSE))","v":0},{"$f":"IF(Instructions!$F$4=\"Investigation\",VLOOKUP($C$2,'Measure Recommendation'!$I$17:$X$36,7,FALSE),VLOOKUP($C$2,'Measure Recommendation'!$I$41:$X$60,7,FALSE))","v":0},{"$f":"IF(Instructions!$F$4=\"Investigation\",VLOOKUP($C$2,'Measure Recommendation'!$I$17:$X$36,8,FALSE),VLOOKUP($C$2,'Measure Recommendation'!$I$41:$X$60,8,FALSE))","v":0},{"$f":"IF(Instructions!$F$4=\"Investigation\",VLOOKUP($C$2,'Measure Recommendation'!$I$17:$X$36,10,FALSE),VLOOKUP($C$2,'Measure Recommendation'!$I$41:$X$60,10,FALSE))","v":0},{"$f":"IF(Instructions!$F$4=\"Investigation\",VLOOKUP($C$2,'Measure Recommendation'!$I$17:$X$36,14,FALSE),VLOOKUP($C$2,'Measure Recommendation'!$I$41:$X$60,14,FALSE))","v":0},{"$f":"IF(Instructions!$F$4=\"Investigation\",VLOOKUP($C$2,'Measure Recommendation'!$I$17:$X$36,15,FALSE),VLOOKUP($C$2,'Measure Recommendation'!$I$41:$X$60,15,FALSE))","v":""}]
[]
["Electric ",null,null,"Natural Gas",null,"District Heating"]
["ComEd Peak Demand Savings (kW/month)","Electric Energy Savings (kWh/yr)","Electric Cost Savings ($/yr)","Natural Gas Savings (therms/yr)","Natural Gas Cost Savings ($/yr)","District Steam Energy Savings (therms/yr)","District Steam Cost Savings  ($/yr)","ECM Implement-ation Cost ($)","Simple Payback (Yrs)"]
[{"$f":"IF(Instructions!$F$4=\"Investigation\",VLOOKUP($C$2,'Measure Recommendation'!$I$17:$X$36,3,FALSE),VLOOKUP($C$2,'Measure Recommendation'!$I$41:$X$60,3,FALSE))","v":0},{"$f":"IF(Instructions!$F$4=\"Investigation\",VLOOKUP($C$2,'Measure Recommendation'!$I$17:$X$36,4,FALSE),VLOOKUP($C$2,'Measure Recommendation'!$I$41:$X$60,4,FALSE))","v":0},{"$f":"IF(Instructions!$F$4=\"Investigation\",VLOOKUP($C$2,'Measure Recommendation'!$I$17:$X$36,5,FALSE),VLOOKUP($C$2,'Measure Recommendation'!$I$41:$X$60,5,FALSE))","v":0},{"$f":"IF(Instructions!$F$4=\"Investigation\",VLOOKUP($C$2,'Measure Recommendation'!$I$17:$X$36,6,FALSE),VLOOKUP($C$2,'Measure Recommendation'!$I$41:$X$60,6,FALSE))","v":0},{"$f":"IF(Instructions!$F$4=\"Investigation\",VLOOKUP($C$2,'Measure Recommendation'!$I$17:$X$36,7,FALSE),VLOOKUP($C$2,'Measure Recommendation'!$I$41:$X$60,7,FALSE))","v":0},{"$f":"IF(Instructions!$F$4=\"Investigation\",VLOOKUP($C$2,'Measure Recommendation'!$I$17:$X$36,11,FALSE),VLOOKUP($C$2,'Measure Recommendation'!$I$41:$X$60,11,FALSE))","v":0},{"$f":"IF(Instructions!$F$4=\"Investigation\",VLOOKUP($C$2,'Measure Recommendation'!$I$17:$X$36,13,FALSE),VLOOKUP($C$2,'Measure Recommendation'!$I$41:$X$60,13,FALSE))","v":0},{"$f":"IF(Instructions!$F$4=\"Investigation\",VLOOKUP($C$2,'Measure Recommendation'!$I$17:$X$36,14,FALSE),VLOOKUP($C$2,'Measure Recommendation'!$I$41:$X$60,14,FALSE))","v":0},{"$f":"IF(Instructions!$F$4=\"Investigation\",VLOOKUP($C$2,'Measure Recommendation'!$I$17:$X$36,15,FALSE),VLOOKUP($C$2,'Measure Recommendation'!$I$41:$X$60,15,FALSE))","v":""}]
[]
[null,null,"Electric ",null,null,"Natural Gas"]
[null,null,"ComEd Peak Demand Savings (kW/month)","Electric Energy Savings (kWh/yr)","Electric Cost Savings ($/yr)","Natural Gas Savings (therms/yr)","Natural Gas Cost Savings ($/yr)","ECM Implement-ation Cost ($)","Simple Payback (Yrs)"]
[null,null,{"$f":"IF(Instructions!$F$4=\"Investigation\",VLOOKUP($C$2,'Measure Recommendation'!$I$17:$X$36,3,FALSE),VLOOKUP($C$2,'Measure Recommendation'!$I$41:$X$60,3,FALSE))","v":0},{"$f":"IF(Instructions!$F$4=\"Investigation\",VLOOKUP($C$2,'Measure Recommendation'!$I$17:$X$36,4,FALSE),VLOOKUP($C$2,'Measure Recommendation'!$I$41:$X$60,4,FALSE))","v":0},{"$f":"IF(Instructions!$F$4=\"Investigation\",VLOOKUP($C$2,'Measure Recommendation'!$I$17:$X$36,5,FALSE),VLOOKUP($C$2,'Measure Recommendation'!$I$41:$X$60,5,FALSE))","v":0},{"$f":"IF(Instructions!$F$4=\"Investigation\",VLOOKUP($C$2,'Measure Recommendation'!$I$17:$X$36,6,FALSE),VLOOKUP($C$2,'Measure Recommendation'!$I$41:$X$60,6,FALSE))","v":0},{"$f":"IF(Instructions!$F$4=\"Investigation\",VLOOKUP($C$2,'Measure Recommendation'!$I$17:$X$36,7,FALSE),VLOOKUP($C$2,'Measure Recommendation'!$I$41:$X$60,7,FALSE))","v":0},{"$f":"IF(Instructions!$F$4=\"Investigation\",VLOOKUP($C$2,'Measure Recommendation'!$I$17:$X$36,14,FALSE),VLOOKUP($C$2,'Measure Recommendation'!$I$41:$X$60,14,FALSE))","v":0},{"$f":"IF(Instructions!$F$4=\"Investigation\",VLOOKUP($C$2,'Measure Recommendation'!$I$17:$X$36,15,FALSE),VLOOKUP($C$2,'Measure Recommendation'!$I$41:$X$60,15,FALSE))","v":""}]
[]
[null,null,null,"Electric "]
[null,null,null,"ComEd Peak Demand Savings (kW/month)","Electric Energy Savings (kWh/yr)","Electric Cost Savings ($/yr)","ECM Implement-ation Cost ($)","Simple Payback (Yrs)"]
[null,null,null,{"$f":"IF(Instructions!$F$4=\"Investigation\",VLOOKUP($C$2,'Measure Recommendation'!$I$17:$X$36,3,FALSE),VLOOKUP($C$2,'Measure Recommendation'!$I$41:$X$60,3,FALSE))","v":0},{"$f":"IF(Instructions!$F$4=\"Investigation\",VLOOKUP($C$2,'Measure Recommendation'!$I$17:$X$36,4,FALSE),VLOOKUP($C$2,'Measure Recommendation'!$I$41:$X$60,4,FALSE))","v":0},{"$f":"IF(Instructions!$F$4=\"Investigation\",VLOOKUP($C$2,'Measure Recommendation'!$I$17:$X$36,5,FALSE),VLOOKUP($C$2,'Measure Recommendation'!$I$41:$X$60,5,FALSE))","v":0},{"$f":"IF(Instructions!$F$4=\"Investigation\",VLOOKUP($C$2,'Measure Recommendation'!$I$17:$X$36,14,FALSE),VLOOKUP($C$2,'Measure Recommendation'!$I$41:$X$60,14,FALSE))","v":0},{"$f":"IF(Instructions!$F$4=\"Investigation\",VLOOKUP($C$2,'Measure Recommendation'!$I$17:$X$36,15,FALSE),VLOOKUP($C$2,'Measure Recommendation'!$I$41:$X$60,15,FALSE))","v":""}]
[]
["Measure Details "]
[{"$f":"INDIRECT(\"'\"&J2&\"'!C5\")","v":"Enter text here."}]
["Existing Operation and Control Sequences"]
["Equipment affected and areas served:"]
[{"$f":"INDIRECT(\"'\"&J2&\"'!C8\")","v":"Enter text here."}]
["Baseline system operation and sequences of operation, setpoints:"]
[{"$f":"INDIRECT(\"'\"&J2&\"'!C10\")","v":"Enter text here."}]
["Investigation Approach, Findings and Data Acquisition"]
["Summary of initial investigation and functional testing:"]
[{"$f":"INDIRECT(\"'\"&J2&\"'!C13\")","v":"Enter text here."}]
["Parameters trended:"]
[{"$f":"INDIRECT(\"'\"&J2&\"'!C15\")","v":"Enter text here."}]
["Parameters functionally tested:"]
[{"$f":"INDIRECT(\"'\"&J2&\"'!C17\")","v":"Enter text here."}]
["Supporting graphs/screenshots – baseline:"]
[{"$f":"INDIRECT(\"'\"&J2&\"'!C19\")","v":"Enter text here."}]
[]
[{"$f":"INDIRECT(\"'\"&J2&\"'!C21\")","v":"Enter text here."}]
[]
["Proposed System Operation and Control Sequences - Scope of Work "]
["Proposed sequences of operation and setpoints:"]
[{"$f":"INDIRECT(\"'\"&J2&\"'!C24\")","v":"Enter text here."}]
["Integration with existing controllers: "]
[{"$f":"INDIRECT(\"'\"&J2&\"'!C26\")","v":"Enter text here."}]
["Equipment and personnel required for implementation:"]
[{"$f":"INDIRECT(\"'\"&J2&\"'!C28\")","v":"Enter text here."}]
["Calculation Methodology"]
[{"$f":"INDIRECT(\"'\"&J2&\"'!C30\")","v":"Enter text here."}]
["Measure Cost Details"]
[{"$f":"INDIRECT(\"'\"&J2&\"'!C32\")","v":"Enter text here."}]
["Verification Planning"]
[{"$f":"INDIRECT(\"'\"&J2&\"'!C34\")","v":"Enter text here."}]
["Verification Testing and Findings"]
["Parameters trended:"]
[{"$f":"INDIRECT(\"'\"&J2&\"'!C37\")","v":"To be completed during Verification Phase."}]
["Parameters functionally tested:"]
[{"$f":"INDIRECT(\"'\"&J2&\"'!C39\")","v":"To be completed during Verification Phase."}]
["Summary of verification testing:"]
[{"$f":"INDIRECT(\"'\"&J2&\"'!C41\")","v":"To be completed during Verification Phase."}]
["Modification to savings calculation:"]
[{"$f":"INDIRECT(\"'\"&J2&\"'!C43\")","v":"To be completed during Verification Phase."}]
["Supporting graphs/screenshots (post implementation):"]
[{"$f":"INDIRECT(\"'\"&J2&\"'!C45\")","v":"To be completed during Verification phase."}]
[]
[{"$f":"INDIRECT(\"'\"&J2&\"'!C47\")","v":"To be completed during Verification phase."}]

{"sheet":"MeasDet20","index":62,"n_rows":68,"n_cols":11,"rows_kept":68,"cut":false,"hidden":true,"merged":[[29,0,29,10],[36,0,36,10],[52,0,52,10],[54,0,54,10],[15,2,15,4],[15,5,15,6],[19,3,19,5],[27,0,27,10],[24,0,24,10],[32,0,32,10],[34,0,34,10],[38,0,38,8],[42,0,42,7],[44,0,44,10],[40,0,40,8],[7,0,7,2],[7,3,7,4],[7,5,7,6],[11,0,11,2],[11,3,11,4],[11,5,11,6],[3,0,3,2],[3,3,3,4],[3,5,3,6],[3,7,3,8],[1,0,1,1],[1,2,1,8],[61,0,61,10],[65,0,65,8],[67,0,67,8],[46,0,46,10],[48,0,48,10],[50,0,50,10],[57,0,57,10],[59,0,59,10],[63,0,63,10]]}
[]
["Operational ECM #20:",null,{"$f":"DataPhaseValid!G135","v":""},null,null,null,null,null,null,{"$f":"IF(Instructions!$F$4=\"Investigation\",VLOOKUP(MeasDet20!C2,'Measure Recommendation'!$I$17:$AB$36,20,FALSE),VLOOKUP(MeasDet20!C2,'Measure Recommendation'!$I$41:$AD$60,22,FALSE))","v":"ECM1"}]
[3]
["Electric ",null,null,"Natural Gas",null,"District Cooling",null,"District Heating"]
["ComEd Peak Demand Savings (kW/month)","Electric Energy Savings (kWh/yr)","Electric Cost Savings ($/yr)","Natural Gas Savings (therms/yr)","Natural Gas Cost Savings ($/yr)","District Chilled Water Energy Savings \n(ton-hrs/year)","District Chilled Water Cost Savings ($/yr)","District Steam Energy Savings (therms/yr)","District Steam Cost Savings  ($/yr)","ECM Implement-ation Cost ($)","Simple Payback (Yrs)"]
[{"$f":"IF(Instructions!$F$4=\"Investigation\",VLOOKUP($C$2,'Measure Recommendation'!$I$17:$X$36,3,FALSE),VLOOKUP($C$2,'Measure Recommendation'!$I$41:$X$60,3,FALSE))","v":0},{"$f":"IF(Instructions!$F$4=\"Investigation\",VLOOKUP($C$2,'Measure Recommendation'!$I$17:$X$36,4,FALSE),VLOOKUP($C$2,'Measure Recommendation'!$I$41:$X$60,4,FALSE))","v":0},{"$f":"IF(Instructions!$F$4=\"Investigation\",VLOOKUP($C$2,'Measure Recommendation'!$I$17:$X$36,5,FALSE),VLOOKUP($C$2,'Measure Recommendation'!$I$41:$X$60,5,FALSE))","v":0},{"$f":"IF(Instructions!$F$4=\"Investigation\",VLOOKUP($C$2,'Measure Recommendation'!$I$17:$X$36,6,FALSE),VLOOKUP($C$2,'Measure Recommendation'!$I$41:$X$60,6,FALSE))","v":0},{"$f":"IF(Instructions!$F$4=\"Investigation\",VLOOKUP($C$2,'Measure Recommendation'!$I$17:$X$36,7,FALSE),VLOOKUP($C$2,'Measure Recommendation'!$I$41:$X$60,7,FALSE))","v":0},{"$f":"IF(Instructions!$F$4=\"Investigation\",VLOOKUP($C$2,'Measure Recommendation'!$I$17:$X$36,8,FALSE),VLOOKUP($C$2,'Measure Recommendation'!$I$41:$X$60,8,FALSE))","v":0},{"$f":"IF(Instructions!$F$4=\"Investigation\",VLOOKUP($C$2,'Measure Recommendation'!$I$17:$X$36,10,FALSE),VLOOKUP($C$2,'Measure Recommendation'!$I$41:$X$60,10,FALSE))","v":0},{"$f":"IF(Instructions!$F$4=\"Investigation\",VLOOKUP($C$2,'Measure Recommendation'!$I$17:$X$36,11,FALSE),VLOOKUP($C$2,'Measure Recommendation'!$I$41:$X$60,11,FALSE))","v":0},{"$f":"IF(Instructions!$F$4=\"Investigation\",VLOOKUP($C$2,'Measure Recommendation'!$I$17:$X$36,13,FALSE),VLOOKUP($C$2,'Measure Recommendation'!$I$41:$X$60,13,FALSE))","v":0},{"$f":"IF(Instructions!$F$4=\"Investigation\",VLOOKUP($C$2,'Measure Recommendation'!$I$17:$X$36,14,FALSE),VLOOKUP($C$2,'Measure Recommendation'!$I$41:$X$60,14,FALSE))","v":0},{"$f":"IF(Instructions!$F$4=\"Investigation\",VLOOKUP($C$2,'Measure Recommendation'!$I$17:$X$36,15,FALSE),VLOOKUP($C$2,'Measure Recommendation'!$I$41:$X$60,15,FALSE))","v":""}]
[]
["Electric ",null,null,"Natural Gas",null,"District Cooling"]
["ComEd Peak Demand Savings (kW/month)","Electric Energy Savings (kWh/yr)","Electric Cost Savings ($/yr)","Natural Gas Savings (therms/yr)","Natural Gas Cost Savings ($/yr)","District Chilled Water Energy Savings \n(ton-hrs/year)","District Chilled Water Cost Savings ($/yr)","ECM Implement-ation Cost ($)","Simple Payback (Yrs)"]
[{"$f":"IF(Instructions!$F$4=\"Investigation\",VLOOKUP($C$2,'Measure Recommendation'!$I$17:$X$36,3,FALSE),VLOOKUP($C$2,'Measure Recommendation'!$I$41:$X$60,3,FALSE))","v":0},{"$f":"IF(Instructions!$F$4=\"Investigation\",VLOOKUP($C$2,'Measure Recommendation'!$I$17:$X$36,4,FALSE),VLOOKUP($C$2,'Measure Recommendation'!$I$41:$X$60,4,FALSE))","v":0},{"$f":"IF(Instructions!$F$4=\"Investigation\",VLOOKUP($C$2,'Measure Recommendation'!$I$17:$X$36,5,FALSE),VLOOKUP($C$2,'Measure Recommendation'!$I$41:$X$60,5,FALSE))","v":0},{"$f":"IF(Instructions!$F$4=\"Investigation\",VLOOKUP($C$2,'Measure Recommendation'!$I$17:$X$36,6,FALSE),VLOOKUP($C$2,'Measure Recommendation'!$I$41:$X$60,6,FALSE))","v":0},{"$f":"IF(Instructions!$F$4=\"Investigation\",VLOOKUP($C$2,'Measure Recommendation'!$I$17:$X$36,7,FALSE),VLOOKUP($C$2,'Measure Recommendation'!$I$41:$X$60,7,FALSE))","v":0},{"$f":"IF(Instructions!$F$4=\"Investigation\",VLOOKUP($C$2,'Measure Recommendation'!$I$17:$X$36,8,FALSE),VLOOKUP($C$2,'Measure Recommendation'!$I$41:$X$60,8,FALSE))","v":0},{"$f":"IF(Instructions!$F$4=\"Investigation\",VLOOKUP($C$2,'Measure Recommendation'!$I$17:$X$36,10,FALSE),VLOOKUP($C$2,'Measure Recommendation'!$I$41:$X$60,10,FALSE))","v":0},{"$f":"IF(Instructions!$F$4=\"Investigation\",VLOOKUP($C$2,'Measure Recommendation'!$I$17:$X$36,14,FALSE),VLOOKUP($C$2,'Measure Recommendation'!$I$41:$X$60,14,FALSE))","v":0},{"$f":"IF(Instructions!$F$4=\"Investigation\",VLOOKUP($C$2,'Measure Recommendation'!$I$17:$X$36,15,FALSE),VLOOKUP($C$2,'Measure Recommendation'!$I$41:$X$60,15,FALSE))","v":""}]
[]
["Electric ",null,null,"Natural Gas",null,"District Heating"]
["ComEd Peak Demand Savings (kW/month)","Electric Energy Savings (kWh/yr)","Electric Cost Savings ($/yr)","Natural Gas Savings (therms/yr)","Natural Gas Cost Savings ($/yr)","District Steam Energy Savings (therms/yr)","District Steam Cost Savings  ($/yr)","ECM Implement-ation Cost ($)","Simple Payback (Yrs)"]
[{"$f":"IF(Instructions!$F$4=\"Investigation\",VLOOKUP($C$2,'Measure Recommendation'!$I$17:$X$36,3,FALSE),VLOOKUP($C$2,'Measure Recommendation'!$I$41:$X$60,3,FALSE))","v":0},{"$f":"IF(Instructions!$F$4=\"Investigation\",VLOOKUP($C$2,'Measure Recommendation'!$I$17:$X$36,4,FALSE),VLOOKUP($C$2,'Measure Recommendation'!$I$41:$X$60,4,FALSE))","v":0},{"$f":"IF(Instructions!$F$4=\"Investigation\",VLOOKUP($C$2,'Measure Recommendation'!$I$17:$X$36,5,FALSE),VLOOKUP($C$2,'Measure Recommendation'!$I$41:$X$60,5,FALSE))","v":0},{"$f":"IF(Instructions!$F$4=\"Investigation\",VLOOKUP($C$2,'Measure Recommendation'!$I$17:$X$36,6,FALSE),VLOOKUP($C$2,'Measure Recommendation'!$I$41:$X$60,6,FALSE))","v":0},{"$f":"IF(Instructions!$F$4=\"Investigation\",VLOOKUP($C$2,'Measure Recommendation'!$I$17:$X$36,7,FALSE),VLOOKUP($C$2,'Measure Recommendation'!$I$41:$X$60,7,FALSE))","v":0},{"$f":"IF(Instructions!$F$4=\"Investigation\",VLOOKUP($C$2,'Measure Recommendation'!$I$17:$X$36,11,FALSE),VLOOKUP($C$2,'Measure Recommendation'!$I$41:$X$60,11,FALSE))","v":0},{"$f":"IF(Instructions!$F$4=\"Investigation\",VLOOKUP($C$2,'Measure Recommendation'!$I$17:$X$36,13,FALSE),VLOOKUP($C$2,'Measure Recommendation'!$I$41:$X$60,13,FALSE))","v":0},{"$f":"IF(Instructions!$F$4=\"Investigation\",VLOOKUP($C$2,'Measure Recommendation'!$I$17:$X$36,14,FALSE),VLOOKUP($C$2,'Measure Recommendation'!$I$41:$X$60,14,FALSE))","v":0},{"$f":"IF(Instructions!$F$4=\"Investigation\",VLOOKUP($C$2,'Measure Recommendation'!$I$17:$X$36,15,FALSE),VLOOKUP($C$2,'Measure Recommendation'!$I$41:$X$60,15,FALSE))","v":""}]
[]
[null,null,"Electric ",null,null,"Natural Gas"]
[null,null,"ComEd Peak Demand Savings (kW/month)","Electric Energy Savings (kWh/yr)","Electric Cost Savings ($/yr)","Natural Gas Savings (therms/yr)","Natural Gas Cost Savings ($/yr)","ECM Implement-ation Cost ($)","Simple Payback (Yrs)"]
[null,null,{"$f":"IF(Instructions!$F$4=\"Investigation\",VLOOKUP($C$2,'Measure Recommendation'!$I$17:$X$36,3,FALSE),VLOOKUP($C$2,'Measure Recommendation'!$I$41:$X$60,3,FALSE))","v":0},{"$f":"IF(Instructions!$F$4=\"Investigation\",VLOOKUP($C$2,'Measure Recommendation'!$I$17:$X$36,4,FALSE),VLOOKUP($C$2,'Measure Recommendation'!$I$41:$X$60,4,FALSE))","v":0},{"$f":"IF(Instructions!$F$4=\"Investigation\",VLOOKUP($C$2,'Measure Recommendation'!$I$17:$X$36,5,FALSE),VLOOKUP($C$2,'Measure Recommendation'!$I$41:$X$60,5,FALSE))","v":0},{"$f":"IF(Instructions!$F$4=\"Investigation\",VLOOKUP($C$2,'Measure Recommendation'!$I$17:$X$36,6,FALSE),VLOOKUP($C$2,'Measure Recommendation'!$I$41:$X$60,6,FALSE))","v":0},{"$f":"IF(Instructions!$F$4=\"Investigation\",VLOOKUP($C$2,'Measure Recommendation'!$I$17:$X$36,7,FALSE),VLOOKUP($C$2,'Measure Recommendation'!$I$41:$X$60,7,FALSE))","v":0},{"$f":"IF(Instructions!$F$4=\"Investigation\",VLOOKUP($C$2,'Measure Recommendation'!$I$17:$X$36,14,FALSE),VLOOKUP($C$2,'Measure Recommendation'!$I$41:$X$60,14,FALSE))","v":0},{"$f":"IF(Instructions!$F$4=\"Investigation\",VLOOKUP($C$2,'Measure Recommendation'!$I$17:$X$36,15,FALSE),VLOOKUP($C$2,'Measure Recommendation'!$I$41:$X$60,15,FALSE))","v":""}]
[]
[null,null,null,"Electric "]
[null,null,null,"ComEd Peak Demand Savings (kW/month)","Electric Energy Savings (kWh/yr)","Electric Cost Savings ($/yr)","ECM Implement-ation Cost ($)","Simple Payback (Yrs)"]
[null,null,null,{"$f":"IF(Instructions!$F$4=\"Investigation\",VLOOKUP($C$2,'Measure Recommendation'!$I$17:$X$36,3,FALSE),VLOOKUP($C$2,'Measure Recommendation'!$I$41:$X$60,3,FALSE))","v":0},{"$f":"IF(Instructions!$F$4=\"Investigation\",VLOOKUP($C$2,'Measure Recommendation'!$I$17:$X$36,4,FALSE),VLOOKUP($C$2,'Measure Recommendation'!$I$41:$X$60,4,FALSE))","v":0},{"$f":"IF(Instructions!$F$4=\"Investigation\",VLOOKUP($C$2,'Measure Recommendation'!$I$17:$X$36,5,FALSE),VLOOKUP($C$2,'Measure Recommendation'!$I$41:$X$60,5,FALSE))","v":0},{"$f":"IF(Instructions!$F$4=\"Investigation\",VLOOKUP($C$2,'Measure Recommendation'!$I$17:$X$36,14,FALSE),VLOOKUP($C$2,'Measure Recommendation'!$I$41:$X$60,14,FALSE))","v":0},{"$f":"IF(Instructions!$F$4=\"Investigation\",VLOOKUP($C$2,'Measure Recommendation'!$I$17:$X$36,15,FALSE),VLOOKUP($C$2,'Measure Recommendation'!$I$41:$X$60,15,FALSE))","v":""}]
[]
["Measure Details "]
[{"$f":"INDIRECT(\"'\"&J2&\"'!C5\")","v":"Enter text here."}]
["Existing Operation and Control Sequences"]
["Equipment affected and areas served:"]
[{"$f":"INDIRECT(\"'\"&J2&\"'!C8\")","v":"Enter text here."}]
["Baseline system operation and sequences of operation, setpoints:"]
[{"$f":"INDIRECT(\"'\"&J2&\"'!C10\")","v":"Enter text here."}]
["Investigation Approach, Findings and Data Acquisition"]
["Summary of initial investigation and functional testing:"]
[{"$f":"INDIRECT(\"'\"&J2&\"'!C13\")","v":"Enter text here."}]
["Parameters trended:"]
[{"$f":"INDIRECT(\"'\"&J2&\"'!C15\")","v":"Enter text here."}]
["Parameters functionally tested:"]
[{"$f":"INDIRECT(\"'\"&J2&\"'!C17\")","v":"Enter text here."}]
["Supporting graphs/screenshots – baseline:"]
[{"$f":"INDIRECT(\"'\"&J2&\"'!C19\")","v":"Enter text here."}]
[]
[{"$f":"INDIRECT(\"'\"&J2&\"'!C21\")","v":"Enter text here."}]
[]
["Proposed System Operation and Control Sequences - Scope of Work "]
["Proposed sequences of operation and setpoints:"]
[{"$f":"INDIRECT(\"'\"&J2&\"'!C24\")","v":"Enter text here."}]
["Integration with existing controllers: "]
[{"$f":"INDIRECT(\"'\"&J2&\"'!C26\")","v":"Enter text here."}]
["Equipment and personnel required for implementation:"]
[{"$f":"INDIRECT(\"'\"&J2&\"'!C28\")","v":"Enter text here."}]
["Calculation Methodology"]
[{"$f":"INDIRECT(\"'\"&J2&\"'!C30\")","v":"Enter text here."}]
["Measure Cost Details"]
[{"$f":"INDIRECT(\"'\"&J2&\"'!C32\")","v":"Enter text here."}]
["Verification Planning"]
[{"$f":"INDIRECT(\"'\"&J2&\"'!C34\")","v":"Enter text here."}]
["Verification Testing and Findings"]
["Parameters trended:"]
[{"$f":"INDIRECT(\"'\"&J2&\"'!C37\")","v":"To be completed during Verification Phase."}]
["Parameters functionally tested:"]
[{"$f":"INDIRECT(\"'\"&J2&\"'!C39\")","v":"To be completed during Verification Phase."}]
["Summary of verification testing:"]
[{"$f":"INDIRECT(\"'\"&J2&\"'!C41\")","v":"To be completed during Verification Phase."}]
["Modification to savings calculation:"]
[{"$f":"INDIRECT(\"'\"&J2&\"'!C43\")","v":"To be completed during Verification Phase."}]
["Supporting graphs/screenshots (post implementation):"]
[{"$f":"INDIRECT(\"'\"&J2&\"'!C45\")","v":"To be completed during Verification phase."}]
[]
[{"$f":"INDIRECT(\"'\"&J2&\"'!C47\")","v":"To be completed during Verification phase."}]

{"sheet":"Autofit","index":63,"n_rows":68,"n_cols":1,"rows_kept":68,"cut":false,"hidden":true,"merged":[]}
[]
["Operational ECM #20:"]
[3]
["Electric "]
["ComEd Peak Demand Savings (kW/month)"]
[0]
[]
["Electric "]
["ComEd Peak Demand Savings (kW/month)"]
[0]
[]
["Electric "]
["ComEd Peak Demand Savings (kW/month)"]
[0]
[]
[]
[]
[]
[]
[]
[]
[]
[]
["Measure Details "]
["Enter text here."]
["Existing Operation and Control Sequences"]
["Equipment affected and areas served:"]
["Enter text here."]
["Baseline system operation and sequences of operation, setpoints:"]
["Enter text here."]
["Investigation Approach, Findings and Data Acquisition"]
["Summary of initial investigation and functional testing:"]
["Enter text here."]
["Parameters trended:"]
["Enter text here."]
["Parameters functionally tested:"]
["Enter text here."]
["Supporting graphs/screenshots – baseline:"]
["Enter text here."]
[]
["Enter text here."]
[]
["Proposed System Operation and Control Sequences - Scope of Work "]
["Proposed sequences of operation and setpoints:"]
["Enter text here."]
["Integration with existing controllers: "]
["Enter text here."]
["Equipment and personnel required for implementation:"]
["Enter text here."]
["Calculation Methodology"]
["Enter text here."]
["Measure Cost Details"]
["Enter text here."]
["Verification Planning"]
["Enter text here."]
["Verification Testing and Findings"]
["Parameters trended:"]
["To be completed during Verification Phase."]
["Parameters functionally tested:"]
["To be completed during Verification Phase."]
["Summary of verification testing:"]
["To be completed during Verification Phase."]
["Modification to savings calculation:"]
["To be completed during Verification Phase."]
["Supporting graphs/screenshots (post implementation):"]
["To be completed during Verification phase."]
[]
["To be completed during Verification phase."]

{"sheet":"AddOps","index":64,"n_rows":33,"n_cols":9,"rows_kept":33,"cut":false,"hidden":true,"merged":[[35,0,39,11],[7,0,7,7],[8,0,8,7],[1,0,3,11],[13,12,28,12],[8,8,8,11],[7,8,7,11],[14,8,14,11],[28,0,28,7],[26,8,26,11],[10,0,10,7],[9,0,9,11],[13,0,13,11],[19,0,19,11],[27,0,27,11],[11,0,11,11],[32,0,32,12],[10,8,10,11],[12,8,12,11],[12,0,12,7],[14,0,14,7],[26,0,26,7],[24,0,24,7],[24,8,24,11],[25,0,25,11],[15,0,15,11],[16,0,16,7],[16,8,16,11],[18,0,18,7],[18,8,18,11],[20,0,20,7],[20,8,20,11],[22,0,22,7],[22,8,22,11],[17,0,17,11],[21,0,21,11],[23,0,23,11]]}
[]
[{"$f":"\"The following additional \"&IF(COUNTA('Additional Measure Information'!B8:B17)=1,\"opportunity has\",\"opportunities have\")&\" been identified during the preliminary investigation. \"&IF(COUNTA('Additional Measure Information'!B8:B17)=1,\"This opportunity either requires a large capital investment and therefore falls outside the scope of this project, requires further investigation to determine feasibility or can be addressed by in-house staff.\",\"These opportunities either require a large capital investment and therefore fall outside the scope of this project, require further investigation during the next phase of work to determine feasibility or can be addressed by in-house staff.\")","v":"The following additional opportunities have been identified during the preliminary investigation. These opportunities either require a large capital investment and therefore fall outside the scope of this project, require further investigation during the next phase of work to determine feasibility or can be addressed by in-house staff."}]
[]
[]
[]
[{"$f":"DataPhaseValid!G147","v":""}]
[]
["Additional Opportunities",null,null,null,null,null,null,null,"Recommendation"]
[{"$f":"IF('Additional Measure Information'!$B8=\"\",\"\",'Additional Measure Information'!$B8)","v":""},null,null,null,null,null,null,null,{"$f":"IF('Additional Measure Information'!$F8=\"\",\"\",'Additional Measure Information'!$F8)","v":""}]
[{"$f":"IF('Additional Measure Information'!$G8=\"\",\"\",'Additional Measure Information'!$G8)","v":""}]
[{"$f":"IF('Additional Measure Information'!$B9=\"\",\"\",'Additional Measure Information'!$B9)","v":""},null,null,null,null,null,null,null,{"$f":"IF('Additional Measure Information'!$F9=\"\",\"\",'Additional Measure Information'!$F9)","v":""}]
[{"$f":"IF('Additional Measure Information'!$G9=\"\",\"\",'Additional Measure Information'!$G9)","v":""}]
[{"$f":"IF('Additional Measure Information'!$B10=\"\",\"\",'Additional Measure Information'!$B10)","v":""},null,null,null,null,null,null,null,{"$f":"IF('Additional Measure Information'!$F10=\"\",\"\",'Additional Measure Information'!$F10)","v":""}]
[{"$f":"IF('Additional Measure Information'!$G10=\"\",\"\",'Additional Measure Information'!$G10)","v":""}]
[{"$f":"IF('Additional Measure Information'!$B11=\"\",\"\",'Additional Measure Information'!$B11)","v":""},null,null,null,null,null,null,null,{"$f":"IF('Additional Measure Information'!$F11=\"\",\"\",'Additional Measure Information'!$F11)","v":""}]
[{"$f":"IF('Additional Measure Information'!$G11=\"\",\"\",'Additional Measure Information'!$G11)","v":""}]
[{"$f":"IF('Additional Measure Information'!$B12=\"\",\"\",'Additional Measure Information'!$B12)","v":""},null,null,null,null,null,null,null,{"$f":"IF('Additional Measure Information'!$F12=\"\",\"\",'Additional Measure Information'!$F12)","v":""}]
[{"$f":"IF('Additional Measure Information'!$G12=\"\",\"\",'Additional Measure Information'!$G12)","v":""}]
[{"$f":"IF('Additional Measure Information'!$B13=\"\",\"\",'Additional Measure Information'!$B13)","v":""},null,null,null,null,null,null,null,{"$f":"IF('Additional Measure Information'!$F13=\"\",\"\",'Additional Measure Information'!$F13)","v":""}]
[{"$f":"IF('Additional Measure Information'!$G13=\"\",\"\",'Additional Measure Information'!$G13)","v":""}]
[{"$f":"IF('Additional Measure Information'!$B14=\"\",\"\",'Additional Measure Information'!$B14)","v":""},null,null,null,null,null,null,null,{"$f":"IF('Additional Measure Information'!$F14=\"\",\"\",'Additional Measure Information'!$F14)","v":""}]
[{"$f":"IF('Additional Measure Information'!$G14=\"\",\"\",'Additional Measure Information'!$G14)","v":""}]
[{"$f":"IF('Additional Measure Information'!$B15=\"\",\"\",'Additional Measure Information'!$B15)","v":""},null,null,null,null,null,null,null,{"$f":"IF('Additional Measure Information'!$F15=\"\",\"\",'Additional Measure Information'!$F15)","v":""}]
[{"$f":"IF('Additional Measure Information'!$G15=\"\",\"\",'Additional Measure Information'!$G15)","v":""}]
[{"$f":"IF('Additional Measure Information'!$B16=\"\",\"\",'Additional Measure Information'!$B16)","v":""},null,null,null,null,null,null,null,{"$f":"IF('Additional Measure Information'!$F16=\"\",\"\",'Additional Measure Information'!$F16)","v":""}]
[{"$f":"IF('Additional Measure Information'!$G16=\"\",\"\",'Additional Measure Information'!$G16)","v":""}]
[{"$f":"IF('Additional Measure Information'!$B17=\"\",\"\",'Additional Measure Information'!$B17)","v":""},null,null,null,null,null,null,null,{"$f":"IF('Additional Measure Information'!$F17=\"\",\"\",'Additional Measure Information'!$F17)","v":""}]
[{"$f":"IF('Additional Measure Information'!$G17=\"\",\"\",'Additional Measure Information'!$G17)","v":""}]
[]
[]
[]
["For More Information"]
["For more information about the ComEd Energy Efficiency Program, including applications and incentive amounts, visit ComEd.com/BizIncentives. You can also reach us by phone at 855-433-2700 or email us at BusinessEE@ComEd.com (for businesses) or PublicSectorEE@ComEd.com (for public sector customers)."]

{"sheet":"FacDesc","index":65,"n_rows":43,"n_cols":10,"rows_kept":43,"cut":false,"hidden":true,"merged":[[42,1,43,11],[13,5,13,6],[12,3,12,4],[31,0,31,11],[37,0,37,11],[19,1,19,5],[19,6,19,11],[17,0,17,11],[14,7,14,11],[14,3,14,4],[14,5,14,6],[34,0,34,11],[20,6,20,11],[21,6,21,11],[12,1,12,2],[13,1,13,2],[35,0,35,11],[38,0,38,11],[10,1,10,2],[10,3,10,4],[11,7,11,11],[29,0,29,11],[32,0,32,11],[22,6,22,11],[11,1,11,2],[13,3,13,4],[13,7,13,11],[20,1,20,5],[22,1,22,5],[21,1,21,5],[25,0,25,11],[10,5,10,6],[10,7,10,11],[28,0,28,11],[26,0,26,11],[14,1,14,2],[12,7,12,11],[11,5,11,6],[12,5,12,6],[11,3,11,4],[9,1,9,2],[9,3,9,4],[0,0,0,11],[2,1,2,4],[3,1,3,4],[2,5,2,8],[3,5,3,8],[2,9,2,11],[3,9,3,11],[6,1,8,2],[6,3,8,4],[6,5,8,6],[6,7,8,11],[9,7,9,11],[9,5,9,6]]}
["This section includes basic facility information for the project. Different building sections, their space type, square footage and occupied mode operating hours are listed below. "]
[2,2]
[2,"Facility Name",null,null,null,"Total Building Area (ft2)",null,null,null,"Percent Occupied"]
[null,{"$f":"IF('Contact & Facility Information'!B6=\"\",\"\",'Contact & Facility Information'!B6)","v":""},null,null,null,{"$f":"IF('Contact & Facility Information'!C62=\"\",\"\",'Contact & Facility Information'!C62)","v":""},null,null,null,{"$f":"IF('Contact & Facility Information'!C64=\"\",\"\",'Contact & Facility Information'!C64)","v":""}]
[]
[]
[null,"Location Name",null,"Space Type",null,"Area (ft2)",null,"Scheduled Hours and Days of Occupancy"]
[]
[]
[null,{"$f":"IF('Contact & Facility Information'!B70=\"\",\"\",'Contact & Facility Information'!B70)","v":""},null,{"$f":"IF('Contact & Facility Information'!C70=\"\",\"\",'Contact & Facility Information'!C70)","v":""},null,{"$f":"IF('Contact & Facility Information'!D70=\"\",\"\",'Contact & Facility Information'!D70)","v":""},null,{"$f":"IF('Contact & Facility Information'!E70=\"\",\"\",'Contact & Facility Information'!E70)","v":""}]
[null,{"$f":"IF('Contact & Facility Information'!B71=\"\",\"\",'Contact & Facility Information'!B71)","v":""},null,{"$f":"IF('Contact & Facility Information'!C71=\"\",\"\",'Contact & Facility Information'!C71)","v":""},null,{"$f":"IF('Contact & Facility Information'!D71=\"\",\"\",'Contact & Facility Information'!D71)","v":""},null,{"$f":"IF('Contact & Facility Information'!E71=\"\",\"\",'Contact & Facility Information'!E71)","v":""}]
[null,{"$f":"IF('Contact & Facility Information'!B72=\"\",\"\",'Contact & Facility Information'!B72)","v":""},null,{"$f":"IF('Contact & Facility Information'!C72=\"\",\"\",'Contact & Facility Information'!C72)","v":""},null,{"$f":"IF('Contact & Facility Information'!D72=\"\",\"\",'Contact & Facility Information'!D72)","v":""},null,{"$f":"IF('Contact & Facility Information'!E72=\"\",\"\",'Contact & Facility Information'!E72)","v":""}]
[null,{"$f":"IF('Contact & Facility Information'!B73=\"\",\"\",'Contact & Facility Information'!B73)","v":""},null,{"$f":"IF('Contact & Facility Information'!C73=\"\",\"\",'Contact & Facility Information'!C73)","v":""},null,{"$f":"IF('Contact & Facility Information'!D73=\"\",\"\",'Contact & Facility Information'!D73)","v":""},null,{"$f":"IF('Contact & Facility Information'!E73=\"\",\"\",'Contact & Facility Information'!E73)","v":""}]
[null,{"$f":"IF('Contact & Facility Information'!B74=\"\",\"\",'Contact & Facility Information'!B74)","v":""},null,{"$f":"IF('Contact & Facility Information'!C74=\"\",\"\",'Contact & Facility Information'!C74)","v":""},null,{"$f":"IF('Contact & Facility Information'!D74=\"\",\"\",'Contact & Facility Information'!D74)","v":""},null,{"$f":"IF('Contact & Facility Information'!E74=\"\",\"\",'Contact & Facility Information'!E74)","v":""}]
[null,{"$f":"IF('Contact & Facility Information'!B75=\"\",\"\",'Contact & Facility Information'!B75)","v":""},null,{"$f":"IF('Contact & Facility Information'!C75=\"\",\"\",'Contact & Facility Information'!C75)","v":""},null,{"$f":"IF('Contact & Facility Information'!D75=\"\",\"\",'Contact & Facility Information'!D75)","v":""},null,{"$f":"IF('Contact & Facility Information'!E75=\"\",\"\",'Contact & Facility Information'!E75)","v":""}]
[]
["Energy Use Analysis"]
[{"$f":"\"This section below summarizes the facilities total annual electric energy usage and the maximum monthly peak demand in the past 12 calendar months. \" & IF('Contact & Facility Information'!$C$81=\"\",\"\",\"Annual gas energy use (in therms) is also provided.\")","v":"This section below summarizes the facilities total annual electric energy usage and the maximum monthly peak demand in the past 12 calendar months. "}]
[]
[null,"Metric",null,null,null,null,"Value"]
[null,"Annual Electric Usage",null,null,null,null,{"$f":"DataPhaseValid!G140","v":""}]
[null,"Monthly Peak Demand",null,null,null,null,{"$f":"DataPhaseValid!G141","v":""}]
[null,{"$f":"DataPhaseValid!G139","v":""},null,null,null,null,{"$f":"DataPhaseValid!G143","v":""}]
[]
[]
["General Facility Information"]
[{"$f":"IF('Contact & Facility Information'!B66=\"\", \"\",'Contact & Facility Information'!B66)","v":""}]
[]
["Energy Use Analysis"]
[{"$f":"IF('Contact & Facility Information'!B83=\"\", \"\",'Contact & Facility Information'!B83)","v":""}]
[]
["Rate Analysis"]
[{"$f":"IF('Contact & Facility Information'!B85=\"\", \"\",'Contact & Facility Information'!B85)","v":""}]
[]
["HVAC System"]
[{"$f":"IF('Contact & Facility Information'!B88=\"\", \"\",'Contact & Facility Information'!B88)","v":""}]
[]
["Building Automation System (BAS) & Controls"]
[{"$f":"IF('Contact & Facility Information'!B91=\"\", \"\",'Contact & Facility Information'!B91)","v":""}]
["For More Information"]
["Visit ComEd.com/BEA to see how your company is using its electricity."]
[]
[null,"The graphs below represent the facility's annual electric energy usage & monthly peak electric demand over the past 24 calendar months respectively. "]

{"sheet":"Autofit2","index":66,"n_rows":41,"n_cols":1,"rows_kept":41,"cut":false,"hidden":true,"merged":[]}
["This section includes basic facility information for the project. Different building sections, their space type, square footage and occupied mode operating hours are listed below. "]
[2]
[2]
[]
[]
[]
[]
[]
[]
[]
[]
[]
[]
[]
[]
[]
["Energy Use Analysis"]
["This section below summarizes the facilities total annual electric energy usage and the maximum monthly peak demand in the past 12 calendar months. "]
[]
[]
[]
[]
[]
[]
[]
["General Facility Information"]
[]
[]
["Energy Use Analysis"]
[]
[]
["Rate Analysis"]
[]
[]
["HVAC System"]
[]
[]
["Building Automation System (BAS) & Controls"]
[]
["For More Information"]
["Visit ComEd.com/BEA to see how your company is using its electricity."]

{"sheet":"EquipList","index":67,"n_rows":104,"n_cols":10,"rows_kept":104,"cut":false,"hidden":true,"merged":[[82,0,82,3],[82,5,82,6],[82,7,82,8],[83,0,83,3],[83,5,83,6],[83,7,83,8],[90,0,90,3],[90,5,90,6],[90,7,90,8],[85,0,85,3],[85,5,85,6],[85,7,85,8],[86,0,86,3],[86,5,86,6],[86,7,86,8],[87,0,87,3],[87,5,87,6],[87,7,87,8],[88,0,88,3],[88,5,88,6],[88,7,88,8],[4,7,4,8],[4,0,4,3],[4,5,4,6],[5,0,5,3],[5,5,5,6],[5,7,5,8],[79,0,79,3],[79,5,79,6],[79,7,79,8],[76,0,76,3],[76,5,76,6],[76,7,76,8],[77,0,77,3],[77,5,77,6],[77,7,77,8],[78,0,78,3],[78,5,78,6],[78,7,78,8],[73,0,73,3],[73,5,73,6],[73,7,73,8],[74,0,74,3],[74,5,74,6],[74,7,74,8],[80,0,80,3],[80,5,80,6],[80,7,80,8],[81,0,81,3],[81,5,81,6],[81,7,81,8],[101,0,101,3],[101,5,101,6],[101,7,101,8],[95,0,95,3],[95,5,95,6],[95,7,95,8],[96,0,96,3],[96,5,96,6],[96,7,96,8],[97,0,97,3],[97,5,97,6],[97,7,97,8],[94,0,94,3],[94,5,94,6],[94,7,94,8],[84,0,84,3],[84,5,84,6],[84,7,84,8],[102,0,102,3],[102,5,102,6],[102,7,102,8],[103,0,103,3],[103,5,103,6],[103,7,103,8],[98,0,98,3],[98,5,98,6],[98,7,98,8],[99,0,99,3],[99,5,99,6],[99,7,99,8],[100,0,100,3],[100,5,100,6],[100,7,100,8],[93,0,93,3],[93,5,93,6],[93,7,93,8],[89,0,89,3],[89,5,89,6],[89,7,89,8],[92,0,92,3],[92,5,92,6],[92,7,92,8],[91,0,91,3],[91,5,91,6],[91,7,91,8],[75,0,75,3],[75,5,75,6],[75,7,75,8],[70,0,70,3],[70,5,70,6],[70,7,70,8],[71,0,71,3],[71,5,71,6],[71,7,71,8],[72,0,72,3],[72,5,72,6],[72,7,72,8],[67,0,67,3],[67,5,67,6],[67,7,67,8],[68,0,68,3],[68,5,68,6],[68,7,68,8],[69,0,69,3],[69,5,69,6],[69,7,69,8],[64,0,64,3],[64,5,64,6],[64,7,64,8],[65,0,65,3],[65,5,65,6],[65,7,65,8],[66,0,66,3],[66,5,66,6],[66,7,66,8],[61,0,61,3],[61,5,61,6],[61,7,61,8],[62,0,62,3],[62,5,62,6],[62,7,62,8],[63,0,63,3],[63,5,63,6],[63,7,63,8],[58,7,58,8],[59,0,59,3],[59,5,59,6],[59,7,59,8],[54,0,54,3],[54,5,54,6],[54,7,54,8],[55,0,55,3],[55,5,55,6],[55,7,55,8],[56,0,56,3],[56,5,56,6],[56,7,56,8],[60,0,60,3],[60,5,60,6],[60,7,60,8],[44,5,44,6],[44,7,44,8],[45,5,45,6],[45,7,45,8],[51,5,51,6],[51,7,51,8],[46,5,46,6],[46,7,46,8],[47,5,47,6],[47,7,47,8],[48,5,48,6],[48,7,48,8],[49,5,49,6],[49,7,49,8],[50,5,50,6],[50,7,50,8],[57,0,57,3],[57,5,57,6],[57,7,57,8],[58,0,58,3],[58,5,58,6],[39,5,39,6],[39,7,39,8],[40,5,40,6],[40,7,40,8],[41,5,41,6],[41,7,41,8],[42,5,42,6],[42,7,42,8],[43,5,43,6],[43,7,43,8],[31,5,31,6],[31,7,31,8],[53,5,53,6],[53,7,53,8],[29,5,29,6],[29,7,29,8],[30,5,30,6],[30,7,30,8],[52,5,52,6],[52,7,52,8],[32,5,32,6],[32,7,32,8],[33,5,33,6],[33,7,33,8],[34,5,34,6],[34,7,34,8],[35,5,35,6],[35,7,35,8],[36,5,36,6],[36,7,36,8],[37,5,37,6],[37,7,37,8],[38,5,38,6],[38,7,38,8],[27,5,27,6],[27,7,27,8],[28,5,28,6],[28,7,28,8],[25,5,25,6],[25,7,25,8],[26,5,26,6],[26,7,26,8],[25,0,25,3],[26,0,26,3],[27,0,27,3],[28,0,28,3],[23,5,23,6],[23,7,23,8],[24,5,24,6],[24,7,24,8],[21,5,21,6],[21,7,21,8],[22,5,22,6],[22,7,22,8],[21,0,21,3],[22,0,22,3],[23,0,23,3],[24,0,24,3],[11,0,11,3],[12,0,12,3],[13,0,13,3],[14,0,14,3],[15,0,15,3],[16,0,16,3],[19,5,19,6],[19,7,19,8],[20,5,20,6],[20,7,20,8],[17,5,17,6],[17,7,17,8],[18,5,18,6],[18,7,18,8],[17,0,17,3],[18,0,18,3],[19,0,19,3],[20,0,20,3],[8,7,8,8],[9,5,9,6],[9,7,9,8],[10,5,10,6],[16,5,16,6],[16,7,16,8],[13,5,13,6],[13,7,13,8],[12,5,12,6],[12,7,12,8],[14,5,14,6],[14,7,14,8],[1,0,1,9],[3,5,3,6],[3,7,3,8],[3,0,3,3],[29,0,29,3],[30,0,30,3],[31,0,31,3],[32,0,32,3],[33,0,33,3],[6,0,6,3],[7,0,7,3],[8,0,8,3],[9,0,9,3],[10,0,10,3],[11,5,11,6],[11,7,11,8],[15,5,15,6],[15,7,15,8],[10,7,10,8],[6,5,6,6],[6,7,6,8],[7,5,7,6],[7,7,7,8],[8,5,8,6],[34,0,34,3],[35,0,35,3],[36,0,36,3],[37,0,37,3],[50,0,50,3],[51,0,51,3],[52,0,52,3],[53,0,53,3],[38,0,38,3],[39,0,39,3],[40,0,40,3],[41,0,41,3],[42,0,42,3],[43,0,43,3],[44,0,44,3],[45,0,45,3],[46,0,46,3],[47,0,47,3],[48,0,48,3],[49,0,49,3]]}
[1]
["The following list includes the equipment studied during the RCx process."]
[]
["Equipment Description",null,null,null,"# Units","Size (Per Unit)",null,"System Type",null,"Operating Hours"]
[{"$f":"IF('Contact & Facility Information'!B97=\"\",\"\",'Contact & Facility Information'!B97)","v":""},null,null,null,{"$f":"IF('Contact & Facility Information'!E97=\"\",\"\",'Contact & Facility Information'!E97)","v":""},{"$f":"IF('Contact & Facility Information'!F97=\"\",\"\",'Contact & Facility Information'!F97)","v":""},null,{"$f":"IF('Contact & Facility Information'!G97=\"\",\"\",'Contact & Facility Information'!G97)","v":""},null,{"$f":"IF('Contact & Facility Information'!I97=\"\",\"\",'Contact & Facility Information'!I97)","v":""}]
[{"$f":"IF('Contact & Facility Information'!B98=\"\",\"\",'Contact & Facility Information'!B98)","v":""},null,null,null,{"$f":"IF('Contact & Facility Information'!E98=\"\",\"\",'Contact & Facility Information'!E98)","v":""},{"$f":"IF('Contact & Facility Information'!F98=\"\",\"\",'Contact & Facility Information'!F98)","v":""},null,{"$f":"IF('Contact & Facility Information'!G98=\"\",\"\",'Contact & Facility Information'!G98)","v":""},null,{"$f":"IF('Contact & Facility Information'!I98=\"\",\"\",'Contact & Facility Information'!I98)","v":""}]
[{"$f":"IF('Contact & Facility Information'!B99=\"\",\"\",'Contact & Facility Information'!B99)","v":""},null,null,null,{"$f":"IF('Contact & Facility Information'!E99=\"\",\"\",'Contact & Facility Information'!E99)","v":""},{"$f":"IF('Contact & Facility Information'!F99=\"\",\"\",'Contact & Facility Information'!F99)","v":""},null,{"$f":"IF('Contact & Facility Information'!G99=\"\",\"\",'Contact & Facility Information'!G99)","v":""},null,{"$f":"IF('Contact & Facility Information'!I99=\"\",\"\",'Contact & Facility Information'!I99)","v":""}]
[{"$f":"IF('Contact & Facility Information'!B100=\"\",\"\",'Contact & Facility Information'!B100)","v":""},null,null,null,{"$f":"IF('Contact & Facility Information'!E100=\"\",\"\",'Contact & Facility Information'!E100)","v":""},{"$f":"IF('Contact & Facility Information'!F100=\"\",\"\",'Contact & Facility Information'!F100)","v":""},null,{"$f":"IF('Contact & Facility Information'!G100=\"\",\"\",'Contact & Facility Information'!G100)","v":""},null,{"$f":"IF('Contact & Facility Information'!I100=\"\",\"\",'Contact & Facility Information'!I100)","v":""}]
[{"$f":"IF('Contact & Facility Information'!B101=\"\",\"\",'Contact & Facility Information'!B101)","v":""},null,null,null,{"$f":"IF('Contact & Facility Information'!E101=\"\",\"\",'Contact & Facility Information'!E101)","v":""},{"$f":"IF('Contact & Facility Information'!F101=\"\",\"\",'Contact & Facility Information'!F101)","v":""},null,{"$f":"IF('Contact & Facility Information'!G101=\"\",\"\",'Contact & Facility Information'!G101)","v":""},null,{"$f":"IF('Contact & Facility Information'!I101=\"\",\"\",'Contact & Facility Information'!I101)","v":""}]
[{"$f":"IF('Contact & Facility Information'!B102=\"\",\"\",'Contact & Facility Information'!B102)","v":""},null,null,null,{"$f":"IF('Contact & Facility Information'!E102=\"\",\"\",'Contact & Facility Information'!E102)","v":""},{"$f":"IF('Contact & Facility Information'!F102=\"\",\"\",'Contact & Facility Information'!F102)","v":""},null,{"$f":"IF('Contact & Facility Information'!G102=\"\",\"\",'Contact & Facility Information'!G102)","v":""},null,{"$f":"IF('Contact & Facility Information'!I102=\"\",\"\",'Contact & Facility Information'!I102)","v":""}]
[{"$f":"IF('Contact & Facility Information'!B103=\"\",\"\",'Contact & Facility Information'!B103)","v":""},null,null,null,{"$f":"IF('Contact & Facility Information'!E103=\"\",\"\",'Contact & Facility Information'!E103)","v":""},{"$f":"IF('Contact & Facility Information'!F103=\"\",\"\",'Contact & Facility Information'!F103)","v":""},null,{"$f":"IF('Contact & Facility Information'!G103=\"\",\"\",'Contact & Facility Information'!G103)","v":""},null,{"$f":"IF('Contact & Facility Information'!I103=\"\",\"\",'Contact & Facility Information'!I103)","v":""}]
[{"$f":"IF('Contact & Facility Information'!B104=\"\",\"\",'Contact & Facility Information'!B104)","v":""},null,null,null,{"$f":"IF('Contact & Facility Information'!E104=\"\",\"\",'Contact & Facility Information'!E104)","v":""},{"$f":"IF('Contact & Facility Information'!F104=\"\",\"\",'Contact & Facility Information'!F104)","v":""},null,{"$f":"IF('Contact & Facility Information'!G104=\"\",\"\",'Contact & Facility Information'!G104)","v":""},null,{"$f":"IF('Contact & Facility Information'!I104=\"\",\"\",'Contact & Facility Information'!I104)","v":""}]
[{"$f":"IF('Contact & Facility Information'!B105=\"\",\"\",'Contact & Facility Information'!B105)","v":""},null,null,null,{"$f":"IF('Contact & Facility Information'!E105=\"\",\"\",'Contact & Facility Information'!E105)","v":""},{"$f":"IF('Contact & Facility Information'!F105=\"\",\"\",'Contact & Facility Information'!F105)","v":""},null,{"$f":"IF('Contact & Facility Information'!G105=\"\",\"\",'Contact & Facility Information'!G105)","v":""},null,{"$f":"IF('Contact & Facility Information'!I105=\"\",\"\",'Contact & Facility Information'!I105)","v":""}]
[{"$f":"IF('Contact & Facility Information'!B106=\"\",\"\",'Contact & Facility Information'!B106)","v":""},null,null,null,{"$f":"IF('Contact & Facility Information'!E106=\"\",\"\",'Contact & Facility Information'!E106)","v":""},{"$f":"IF('Contact & Facility Information'!F106=\"\",\"\",'Contact & Facility Information'!F106)","v":""},null,{"$f":"IF('Contact & Facility Information'!G106=\"\",\"\",'Contact & Facility Information'!G106)","v":""},null,{"$f":"IF('Contact & Facility Information'!I106=\"\",\"\",'Contact & Facility Information'!I106)","v":""}]
[{"$f":"IF('Contact & Facility Information'!B107=\"\",\"\",'Contact & Facility Information'!B107)","v":""},null,null,null,{"$f":"IF('Contact & Facility Information'!E107=\"\",\"\",'Contact & Facility Information'!E107)","v":""},{"$f":"IF('Contact & Facility Information'!F107=\"\",\"\",'Contact & Facility Information'!F107)","v":""},null,{"$f":"IF('Contact & Facility Information'!G107=\"\",\"\",'Contact & Facility Information'!G107)","v":""},null,{"$f":"IF('Contact & Facility Information'!I107=\"\",\"\",'Contact & Facility Information'!I107)","v":""}]
[{"$f":"IF('Contact & Facility Information'!B108=\"\",\"\",'Contact & Facility Information'!B108)","v":""},null,null,null,{"$f":"IF('Contact & Facility Information'!E108=\"\",\"\",'Contact & Facility Information'!E108)","v":""},{"$f":"IF('Contact & Facility Information'!F108=\"\",\"\",'Contact & Facility Information'!F108)","v":""},null,{"$f":"IF('Contact & Facility Information'!G108=\"\",\"\",'Contact & Facility Information'!G108)","v":""},null,{"$f":"IF('Contact & Facility Information'!I108=\"\",\"\",'Contact & Facility Information'!I108)","v":""}]
[{"$f":"IF('Contact & Facility Information'!B109=\"\",\"\",'Contact & Facility Information'!B109)","v":""},null,null,null,{"$f":"IF('Contact & Facility Information'!E109=\"\",\"\",'Contact & Facility Information'!E109)","v":""},{"$f":"IF('Contact & Facility Information'!F109=\"\",\"\",'Contact & Facility Information'!F109)","v":""},null,{"$f":"IF('Contact & Facility Information'!G109=\"\",\"\",'Contact & Facility Information'!G109)","v":""},null,{"$f":"IF('Contact & Facility Information'!I109=\"\",\"\",'Contact & Facility Information'!I109)","v":""}]
[{"$f":"IF('Contact & Facility Information'!B110=\"\",\"\",'Contact & Facility Information'!B110)","v":""},null,null,null,{"$f":"IF('Contact & Facility Information'!E110=\"\",\"\",'Contact & Facility Information'!E110)","v":""},{"$f":"IF('Contact & Facility Information'!F110=\"\",\"\",'Contact & Facility Information'!F110)","v":""},null,{"$f":"IF('Contact & Facility Information'!G110=\"\",\"\",'Contact & Facility Information'!G110)","v":""},null,{"$f":"IF('Contact & Facility Information'!I110=\"\",\"\",'Contact & Facility Information'!I110)","v":""}]
[{"$f":"IF('Contact & Facility Information'!B111=\"\",\"\",'Contact & Facility Information'!B111)","v":""},null,null,null,{"$f":"IF('Contact & Facility Information'!E111=\"\",\"\",'Contact & Facility Information'!E111)","v":""},{"$f":"IF('Contact & Facility Information'!F111=\"\",\"\",'Contact & Facility Information'!F111)","v":""},null,{"$f":"IF('Contact & Facility Information'!G111=\"\",\"\",'Contact & Facility Information'!G111)","v":""},null,{"$f":"IF('Contact & Facility Information'!I111=\"\",\"\",'Contact & Facility Information'!I111)","v":""}]
[{"$f":"IF('Contact & Facility Information'!B112=\"\",\"\",'Contact & Facility Information'!B112)","v":""},null,null,null,{"$f":"IF('Contact & Facility Information'!E112=\"\",\"\",'Contact & Facility Information'!E112)","v":""},{"$f":"IF('Contact & Facility Information'!F112=\"\",\"\",'Contact & Facility Information'!F112)","v":""},null,{"$f":"IF('Contact & Facility Information'!G112=\"\",\"\",'Contact & Facility Information'!G112)","v":""},null,{"$f":"IF('Contact & Facility Information'!I112=\"\",\"\",'Contact & Facility Information'!I112)","v":""}]
[{"$f":"IF('Contact & Facility Information'!B113=\"\",\"\",'Contact & Facility Information'!B113)","v":""},null,null,null,{"$f":"IF('Contact & Facility Information'!E113=\"\",\"\",'Contact & Facility Information'!E113)","v":""},{"$f":"IF('Contact & Facility Information'!F113=\"\",\"\",'Contact & Facility Information'!F113)","v":""},null,{"$f":"IF('Contact & Facility Information'!G113=\"\",\"\",'Contact & Facility Information'!G113)","v":""},null,{"$f":"IF('Contact & Facility Information'!I113=\"\",\"\",'Contact & Facility Information'!I113)","v":""}]
[{"$f":"IF('Contact & Facility Information'!B114=\"\",\"\",'Contact & Facility Information'!B114)","v":""},null,null,null,{"$f":"IF('Contact & Facility Information'!E114=\"\",\"\",'Contact & Facility Information'!E114)","v":""},{"$f":"IF('Contact & Facility Information'!F114=\"\",\"\",'Contact & Facility Information'!F114)","v":""},null,{"$f":"IF('Contact & Facility Information'!G114=\"\",\"\",'Contact & Facility Information'!G114)","v":""},null,{"$f":"IF('Contact & Facility Information'!I114=\"\",\"\",'Contact & Facility Information'!I114)","v":""}]
[{"$f":"IF('Contact & Facility Information'!B115=\"\",\"\",'Contact & Facility Information'!B115)","v":""},null,null,null,{"$f":"IF('Contact & Facility Information'!E115=\"\",\"\",'Contact & Facility Information'!E115)","v":""},{"$f":"IF('Contact & Facility Information'!F115=\"\",\"\",'Contact & Facility Information'!F115)","v":""},null,{"$f":"IF('Contact & Facility Information'!G115=\"\",\"\",'Contact & Facility Information'!G115)","v":""},null,{"$f":"IF('Contact & Facility Information'!I115=\"\",\"\",'Contact & Facility Information'!I115)","v":""}]
[{"$f":"IF('Contact & Facility Information'!B116=\"\",\"\",'Contact & Facility Information'!B116)","v":""},null,null,null,{"$f":"IF('Contact & Facility Information'!E116=\"\",\"\",'Contact & Facility Information'!E116)","v":""},{"$f":"IF('Contact & Facility Information'!F116=\"\",\"\",'Contact & Facility Information'!F116)","v":""},null,{"$f":"IF('Contact & Facility Information'!G116=\"\",\"\",'Contact & Facility Information'!G116)","v":""},null,{"$f":"IF('Contact & Facility Information'!I116=\"\",\"\",'Contact & Facility Information'!I116)","v":""}]
[{"$f":"IF('Contact & Facility Information'!B117=\"\",\"\",'Contact & Facility Information'!B117)","v":""},null,null,null,{"$f":"IF('Contact & Facility Information'!E117=\"\",\"\",'Contact & Facility Information'!E117)","v":""},{"$f":"IF('Contact & Facility Information'!F117=\"\",\"\",'Contact & Facility Information'!F117)","v":""},null,{"$f":"IF('Contact & Facility Information'!G117=\"\",\"\",'Contact & Facility Information'!G117)","v":""},null,{"$f":"IF('Contact & Facility Information'!I117=\"\",\"\",'Contact & Facility Information'!I117)","v":""}]
[{"$f":"IF('Contact & Facility Information'!B118=\"\",\"\",'Contact & Facility Information'!B118)","v":""},null,null,null,{"$f":"IF('Contact & Facility Information'!E118=\"\",\"\",'Contact & Facility Information'!E118)","v":""},{"$f":"IF('Contact & Facility Information'!F118=\"\",\"\",'Contact & Facility Information'!F118)","v":""},null,{"$f":"IF('Contact & Facility Information'!G118=\"\",\"\",'Contact & Facility Information'!G118)","v":""},null,{"$f":"IF('Contact & Facility Information'!I118=\"\",\"\",'Contact & Facility Information'!I118)","v":""}]
[{"$f":"IF('Contact & Facility Information'!B119=\"\",\"\",'Contact & Facility Information'!B119)","v":""},null,null,null,{"$f":"IF('Contact & Facility Information'!E119=\"\",\"\",'Contact & Facility Information'!E119)","v":""},{"$f":"IF('Contact & Facility Information'!F119=\"\",\"\",'Contact & Facility Information'!F119)","v":""},null,{"$f":"IF('Contact & Facility Information'!G119=\"\",\"\",'Contact & Facility Information'!G119)","v":""},null,{"$f":"IF('Contact & Facility Information'!I119=\"\",\"\",'Contact & Facility Information'!I119)","v":""}]
[{"$f":"IF('Contact & Facility Information'!B120=\"\",\"\",'Contact & Facility Information'!B120)","v":""},null,null,null,{"$f":"IF('Contact & Facility Information'!E120=\"\",\"\",'Contact & Facility Information'!E120)","v":""},{"$f":"IF('Contact & Facility Information'!F120=\"\",\"\",'Contact & Facility Information'!F120)","v":""},null,{"$f":"IF('Contact & Facility Information'!G120=\"\",\"\",'Contact & Facility Information'!G120)","v":""},null,{"$f":"IF('Contact & Facility Information'!I120=\"\",\"\",'Contact & Facility Information'!I120)","v":""}]
[{"$f":"IF('Contact & Facility Information'!B121=\"\",\"\",'Contact & Facility Information'!B121)","v":""},null,null,null,{"$f":"IF('Contact & Facility Information'!E121=\"\",\"\",'Contact & Facility Information'!E121)","v":""},{"$f":"IF('Contact & Facility Information'!F121=\"\",\"\",'Contact & Facility Information'!F121)","v":""},null,{"$f":"IF('Contact & Facility Information'!G121=\"\",\"\",'Contact & Facility Information'!G121)","v":""},null,{"$f":"IF('Contact & Facility Information'!I121=\"\",\"\",'Contact & Facility Information'!I121)","v":""}]
[{"$f":"IF('Contact & Facility Information'!B122=\"\",\"\",'Contact & Facility Information'!B122)","v":""},null,null,null,{"$f":"IF('Contact & Facility Information'!E122=\"\",\"\",'Contact & Facility Information'!E122)","v":""},{"$f":"IF('Contact & Facility Information'!F122=\"\",\"\",'Contact & Facility Information'!F122)","v":""},null,{"$f":"IF('Contact & Facility Information'!G122=\"\",\"\",'Contact & Facility Information'!G122)","v":""},null,{"$f":"IF('Contact & Facility Information'!I122=\"\",\"\",'Contact & Facility Information'!I122)","v":""}]
[{"$f":"IF('Contact & Facility Information'!B123=\"\",\"\",'Contact & Facility Information'!B123)","v":""},null,null,null,{"$f":"IF('Contact & Facility Information'!E123=\"\",\"\",'Contact & Facility Information'!E123)","v":""},{"$f":"IF('Contact & Facility Information'!F123=\"\",\"\",'Contact & Facility Information'!F123)","v":""},null,{"$f":"IF('Contact & Facility Information'!G123=\"\",\"\",'Contact & Facility Information'!G123)","v":""},null,{"$f":"IF('Contact & Facility Information'!I123=\"\",\"\",'Contact & Facility Information'!I123)","v":""}]
[{"$f":"IF('Contact & Facility Information'!B124=\"\",\"\",'Contact & Facility Information'!B124)","v":""},null,null,null,{"$f":"IF('Contact & Facility Information'!E124=\"\",\"\",'Contact & Facility Information'!E124)","v":""},{"$f":"IF('Contact & Facility Information'!F124=\"\",\"\",'Contact & Facility Information'!F124)","v":""},null,{"$f":"IF('Contact & Facility Information'!G124=\"\",\"\",'Contact & Facility Information'!G124)","v":""},null,{"$f":"IF('Contact & Facility Information'!I124=\"\",\"\",'Contact & Facility Information'!I124)","v":""}]
[{"$f":"IF('Contact & Facility Information'!B125=\"\",\"\",'Contact & Facility Information'!B125)","v":""},null,null,null,{"$f":"IF('Contact & Facility Information'!E125=\"\",\"\",'Contact & Facility Information'!E125)","v":""},{"$f":"IF('Contact & Facility Information'!F125=\"\",\"\",'Contact & Facility Information'!F125)","v":""},null,{"$f":"IF('Contact & Facility Information'!G125=\"\",\"\",'Contact & Facility Information'!G125)","v":""},null,{"$f":"IF('Contact & Facility Information'!I125=\"\",\"\",'Contact & Facility Information'!I125)","v":""}]
[{"$f":"IF('Contact & Facility Information'!B126=\"\",\"\",'Contact & Facility Information'!B126)","v":""},null,null,null,{"$f":"IF('Contact & Facility Information'!E126=\"\",\"\",'Contact & Facility Information'!E126)","v":""},{"$f":"IF('Contact & Facility Information'!F126=\"\",\"\",'Contact & Facility Information'!F126)","v":""},null,{"$f":"IF('Contact & Facility Information'!G126=\"\",\"\",'Contact & Facility Information'!G126)","v":""},null,{"$f":"IF('Contact & Facility Information'!I126=\"\",\"\",'Contact & Facility Information'!I126)","v":""}]
[{"$f":"IF('Contact & Facility Information'!B127=\"\",\"\",'Contact & Facility Information'!B127)","v":""},null,null,null,{"$f":"IF('Contact & Facility Information'!E127=\"\",\"\",'Contact & Facility Information'!E127)","v":""},{"$f":"IF('Contact & Facility Information'!F127=\"\",\"\",'Contact & Facility Information'!F127)","v":""},null,{"$f":"IF('Contact & Facility Information'!G127=\"\",\"\",'Contact & Facility Information'!G127)","v":""},null,{"$f":"IF('Contact & Facility Information'!I127=\"\",\"\",'Contact & Facility Information'!I127)","v":""}]
[{"$f":"IF('Contact & Facility Information'!B128=\"\",\"\",'Contact & Facility Information'!B128)","v":""},null,null,null,{"$f":"IF('Contact & Facility Information'!E128=\"\",\"\",'Contact & Facility Information'!E128)","v":""},{"$f":"IF('Contact & Facility Information'!F128=\"\",\"\",'Contact & Facility Information'!F128)","v":""},null,{"$f":"IF('Contact & Facility Information'!G128=\"\",\"\",'Contact & Facility Information'!G128)","v":""},null,{"$f":"IF('Contact & Facility Information'!I128=\"\",\"\",'Contact & Facility Information'!I128)","v":""}]
[{"$f":"IF('Contact & Facility Information'!B129=\"\",\"\",'Contact & Facility Information'!B129)","v":""},null,null,null,{"$f":"IF('Contact & Facility Information'!E129=\"\",\"\",'Contact & Facility Information'!E129)","v":""},{"$f":"IF('Contact & Facility Information'!F129=\"\",\"\",'Contact & Facility Information'!F129)","v":""},null,{"$f":"IF('Contact & Facility Information'!G129=\"\",\"\",'Contact & Facility Information'!G129)","v":""},null,{"$f":"IF('Contact & Facility Information'!I129=\"\",\"\",'Contact & Facility Information'!I129)","v":""}]
[{"$f":"IF('Contact & Facility Information'!B130=\"\",\"\",'Contact & Facility Information'!B130)","v":""},null,null,null,{"$f":"IF('Contact & Facility Information'!E130=\"\",\"\",'Contact & Facility Information'!E130)","v":""},{"$f":"IF('Contact & Facility Information'!F130=\"\",\"\",'Contact & Facility Information'!F130)","v":""},null,{"$f":"IF('Contact & Facility Information'!G130=\"\",\"\",'Contact & Facility Information'!G130)","v":""},null,{"$f":"IF('Contact & Facility Information'!I130=\"\",\"\",'Contact & Facility Information'!I130)","v":""}]
[{"$f":"IF('Contact & Facility Information'!B131=\"\",\"\",'Contact & Facility Information'!B131)","v":""},null,null,null,{"$f":"IF('Contact & Facility Information'!E131=\"\",\"\",'Contact & Facility Information'!E131)","v":""},{"$f":"IF('Contact & Facility Information'!F131=\"\",\"\",'Contact & Facility Information'!F131)","v":""},null,{"$f":"IF('Contact & Facility Information'!G131=\"\",\"\",'Contact & Facility Information'!G131)","v":""},null,{"$f":"IF('Contact & Facility Information'!I131=\"\",\"\",'Contact & Facility Information'!I131)","v":""}]
[{"$f":"IF('Contact & Facility Information'!B132=\"\",\"\",'Contact & Facility Information'!B132)","v":""},null,null,null,{"$f":"IF('Contact & Facility Information'!E132=\"\",\"\",'Contact & Facility Information'!E132)","v":""},{"$f":"IF('Contact & Facility Information'!F132=\"\",\"\",'Contact & Facility Information'!F132)","v":""},null,{"$f":"IF('Contact & Facility Information'!G132=\"\",\"\",'Contact & Facility Information'!G132)","v":""},null,{"$f":"IF('Contact & Facility Information'!I132=\"\",\"\",'Contact & Facility Information'!I132)","v":""}]
[{"$f":"IF('Contact & Facility Information'!B133=\"\",\"\",'Contact & Facility Information'!B133)","v":""},null,null,null,{"$f":"IF('Contact & Facility Information'!E133=\"\",\"\",'Contact & Facility Information'!E133)","v":""},{"$f":"IF('Contact & Facility Information'!F133=\"\",\"\",'Contact & Facility Information'!F133)","v":""},null,{"$f":"IF('Contact & Facility Information'!G133=\"\",\"\",'Contact & Facility Information'!G133)","v":""},null,{"$f":"IF('Contact & Facility Information'!I133=\"\",\"\",'Contact & Facility Information'!I133)","v":""}]
[{"$f":"IF('Contact & Facility Information'!B134=\"\",\"\",'Contact & Facility Information'!B134)","v":""},null,null,null,{"$f":"IF('Contact & Facility Information'!E134=\"\",\"\",'Contact & Facility Information'!E134)","v":""},{"$f":"IF('Contact & Facility Information'!F134=\"\",\"\",'Contact & Facility Information'!F134)","v":""},null,{"$f":"IF('Contact & Facility Information'!G134=\"\",\"\",'Contact & Facility Information'!G134)","v":""},null,{"$f":"IF('Contact & Facility Information'!I134=\"\",\"\",'Contact & Facility Information'!I134)","v":""}]
[{"$f":"IF('Contact & Facility Information'!B135=\"\",\"\",'Contact & Facility Information'!B135)","v":""},null,null,null,{"$f":"IF('Contact & Facility Information'!E135=\"\",\"\",'Contact & Facility Information'!E135)","v":""},{"$f":"IF('Contact & Facility Information'!F135=\"\",\"\",'Contact & Facility Information'!F135)","v":""},null,{"$f":"IF('Contact & Facility Information'!G135=\"\",\"\",'Contact & Facility Information'!G135)","v":""},null,{"$f":"IF('Contact & Facility Information'!I135=\"\",\"\",'Contact & Facility Information'!I135)","v":""}]
[{"$f":"IF('Contact & Facility Information'!B136=\"\",\"\",'Contact & Facility Information'!B136)","v":""},null,null,null,{"$f":"IF('Contact & Facility Information'!E136=\"\",\"\",'Contact & Facility Information'!E136)","v":""},{"$f":"IF('Contact & Facility Information'!F136=\"\",\"\",'Contact & Facility Information'!F136)","v":""},null,{"$f":"IF('Contact & Facility Information'!G136=\"\",\"\",'Contact & Facility Information'!G136)","v":""},null,{"$f":"IF('Contact & Facility Information'!I136=\"\",\"\",'Contact & Facility Information'!I136)","v":""}]
[{"$f":"IF('Contact & Facility Information'!B137=\"\",\"\",'Contact & Facility Information'!B137)","v":""},null,null,null,{"$f":"IF('Contact & Facility Information'!E137=\"\",\"\",'Contact & Facility Information'!E137)","v":""},{"$f":"IF('Contact & Facility Information'!F137=\"\",\"\",'Contact & Facility Information'!F137)","v":""},null,{"$f":"IF('Contact & Facility Information'!G137=\"\",\"\",'Contact & Facility Information'!G137)","v":""},null,{"$f":"IF('Contact & Facility Information'!I137=\"\",\"\",'Contact & Facility Information'!I137)","v":""}]
[{"$f":"IF('Contact & Facility Information'!B138=\"\",\"\",'Contact & Facility Information'!B138)","v":""},null,null,null,{"$f":"IF('Contact & Facility Information'!E138=\"\",\"\",'Contact & Facility Information'!E138)","v":""},{"$f":"IF('Contact & Facility Information'!F138=\"\",\"\",'Contact & Facility Information'!F138)","v":""},null,{"$f":"IF('Contact & Facility Information'!G138=\"\",\"\",'Contact & Facility Information'!G138)","v":""},null,{"$f":"IF('Contact & Facility Information'!I138=\"\",\"\",'Contact & Facility Information'!I138)","v":""}]
[{"$f":"IF('Contact & Facility Information'!B139=\"\",\"\",'Contact & Facility Information'!B139)","v":""},null,null,null,{"$f":"IF('Contact & Facility Information'!E139=\"\",\"\",'Contact & Facility Information'!E139)","v":""},{"$f":"IF('Contact & Facility Information'!F139=\"\",\"\",'Contact & Facility Information'!F139)","v":""},null,{"$f":"IF('Contact & Facility Information'!G139=\"\",\"\",'Contact & Facility Information'!G139)","v":""},null,{"$f":"IF('Contact & Facility Information'!I139=\"\",\"\",'Contact & Facility Information'!I139)","v":""}]
[{"$f":"IF('Contact & Facility Information'!B140=\"\",\"\",'Contact & Facility Information'!B140)","v":""},null,null,null,{"$f":"IF('Contact & Facility Information'!E140=\"\",\"\",'Contact & Facility Information'!E140)","v":""},{"$f":"IF('Contact & Facility Information'!F140=\"\",\"\",'Contact & Facility Information'!F140)","v":""},null,{"$f":"IF('Contact & Facility Information'!G140=\"\",\"\",'Contact & Facility Information'!G140)","v":""},null,{"$f":"IF('Contact & Facility Information'!I140=\"\",\"\",'Contact & Facility Information'!I140)","v":""}]
[{"$f":"IF('Contact & Facility Information'!B141=\"\",\"\",'Contact & Facility Information'!B141)","v":""},null,null,null,{"$f":"IF('Contact & Facility Information'!E141=\"\",\"\",'Contact & Facility Information'!E141)","v":""},{"$f":"IF('Contact & Facility Information'!F141=\"\",\"\",'Contact & Facility Information'!F141)","v":""},null,{"$f":"IF('Contact & Facility Information'!G141=\"\",\"\",'Contact & Facility Information'!G141)","v":""},null,{"$f":"IF('Contact & Facility Information'!I141=\"\",\"\",'Contact & Facility Information'!I141)","v":""}]
[{"$f":"IF('Contact & Facility Information'!B142=\"\",\"\",'Contact & Facility Information'!B142)","v":""},null,null,null,{"$f":"IF('Contact & Facility Information'!E142=\"\",\"\",'Contact & Facility Information'!E142)","v":""},{"$f":"IF('Contact & Facility Information'!F142=\"\",\"\",'Contact & Facility Information'!F142)","v":""},null,{"$f":"IF('Contact & Facility Information'!G142=\"\",\"\",'Contact & Facility Information'!G142)","v":""},null,{"$f":"IF('Contact & Facility Information'!I142=\"\",\"\",'Contact & Facility Information'!I142)","v":""}]
[{"$f":"IF('Contact & Facility Information'!B143=\"\",\"\",'Contact & Facility Information'!B143)","v":""},null,null,null,{"$f":"IF('Contact & Facility Information'!E143=\"\",\"\",'Contact & Facility Information'!E143)","v":""},{"$f":"IF('Contact & Facility Information'!F143=\"\",\"\",'Contact & Facility Information'!F143)","v":""},null,{"$f":"IF('Contact & Facility Information'!G143=\"\",\"\",'Contact & Facility Information'!G143)","v":""},null,{"$f":"IF('Contact & Facility Information'!I143=\"\",\"\",'Contact & Facility Information'!I143)","v":""}]
[{"$f":"IF('Contact & Facility Information'!B144=\"\",\"\",'Contact & Facility Information'!B144)","v":""},null,null,null,{"$f":"IF('Contact & Facility Information'!E144=\"\",\"\",'Contact & Facility Information'!E144)","v":""},{"$f":"IF('Contact & Facility Information'!F144=\"\",\"\",'Contact & Facility Information'!F144)","v":""},null,{"$f":"IF('Contact & Facility Information'!G144=\"\",\"\",'Contact & Facility Information'!G144)","v":""},null,{"$f":"IF('Contact & Facility Information'!I144=\"\",\"\",'Contact & Facility Information'!I144)","v":""}]
[{"$f":"IF('Contact & Facility Information'!B145=\"\",\"\",'Contact & Facility Information'!B145)","v":""},null,null,null,{"$f":"IF('Contact & Facility Information'!E145=\"\",\"\",'Contact & Facility Information'!E145)","v":""},{"$f":"IF('Contact & Facility Information'!F145=\"\",\"\",'Contact & Facility Information'!F145)","v":""},null,{"$f":"IF('Contact & Facility Information'!G145=\"\",\"\",'Contact & Facility Information'!G145)","v":""},null,{"$f":"IF('Contact & Facility Information'!I145=\"\",\"\",'Contact & Facility Information'!I145)","v":""}]
[{"$f":"IF('Contact & Facility Information'!B146=\"\",\"\",'Contact & Facility Information'!B146)","v":""},null,null,null,{"$f":"IF('Contact & Facility Information'!E146=\"\",\"\",'Contact & Facility Information'!E146)","v":""},{"$f":"IF('Contact & Facility Information'!F146=\"\",\"\",'Contact & Facility Information'!F146)","v":""},null,{"$f":"IF('Contact & Facility Information'!G146=\"\",\"\",'Contact & Facility Information'!G146)","v":""},null,{"$f":"IF('Contact & Facility Information'!I146=\"\",\"\",'Contact & Facility Information'!I146)","v":""}]
[{"$f":"IF('Contact & Facility Information'!B147=\"\",\"\",'Contact & Facility Information'!B147)","v":""},null,null,null,{"$f":"IF('Contact & Facility Information'!E147=\"\",\"\",'Contact & Facility Information'!E147)","v":""},{"$f":"IF('Contact & Facility Information'!F147=\"\",\"\",'Contact & Facility Information'!F147)","v":""},null,{"$f":"IF('Contact & Facility Information'!G147=\"\",\"\",'Contact & Facility Information'!G147)","v":""},null,{"$f":"IF('Contact & Facility Information'!I147=\"\",\"\",'Contact & Facility Information'!I147)","v":""}]
[{"$f":"IF('Contact & Facility Information'!B148=\"\",\"\",'Contact & Facility Information'!B148)","v":""},null,null,null,{"$f":"IF('Contact & Facility Information'!E148=\"\",\"\",'Contact & Facility Information'!E148)","v":""},{"$f":"IF('Contact & Facility Information'!F148=\"\",\"\",'Contact & Facility Information'!F148)","v":""},null,{"$f":"IF('Contact & Facility Information'!G148=\"\",\"\",'Contact & Facility Information'!G148)","v":""},null,{"$f":"IF('Contact & Facility Information'!I148=\"\",\"\",'Contact & Facility Information'!I148)","v":""}]
[{"$f":"IF('Contact & Facility Information'!B149=\"\",\"\",'Contact & Facility Information'!B149)","v":""},null,null,null,{"$f":"IF('Contact & Facility Information'!E149=\"\",\"\",'Contact & Facility Information'!E149)","v":""},{"$f":"IF('Contact & Facility Information'!F149=\"\",\"\",'Contact & Facility Information'!F149)","v":""},null,{"$f":"IF('Contact & Facility Information'!G149=\"\",\"\",'Contact & Facility Information'!G149)","v":""},null,{"$f":"IF('Contact & Facility Information'!I149=\"\",\"\",'Contact & Facility Information'!I149)","v":""}]
[{"$f":"IF('Contact & Facility Information'!B150=\"\",\"\",'Contact & Facility Information'!B150)","v":""},null,null,null,{"$f":"IF('Contact & Facility Information'!E150=\"\",\"\",'Contact & Facility Information'!E150)","v":""},{"$f":"IF('Contact & Facility Information'!F150=\"\",\"\",'Contact & Facility Information'!F150)","v":""},null,{"$f":"IF('Contact & Facility Information'!G150=\"\",\"\",'Contact & Facility Information'!G150)","v":""},null,{"$f":"IF('Contact & Facility Information'!I150=\"\",\"\",'Contact & Facility Information'!I150)","v":""}]
[{"$f":"IF('Contact & Facility Information'!B151=\"\",\"\",'Contact & Facility Information'!B151)","v":""},null,null,null,{"$f":"IF('Contact & Facility Information'!E151=\"\",\"\",'Contact & Facility Information'!E151)","v":""},{"$f":"IF('Contact & Facility Information'!F151=\"\",\"\",'Contact & Facility Information'!F151)","v":""},null,{"$f":"IF('Contact & Facility Information'!G151=\"\",\"\",'Contact & Facility Information'!G151)","v":""},null,{"$f":"IF('Contact & Facility Information'!I151=\"\",\"\",'Contact & Facility Information'!I151)","v":""}]
[{"$f":"IF('Contact & Facility Information'!B152=\"\",\"\",'Contact & Facility Information'!B152)","v":""},null,null,null,{"$f":"IF('Contact & Facility Information'!E152=\"\",\"\",'Contact & Facility Information'!E152)","v":""},{"$f":"IF('Contact & Facility Information'!F152=\"\",\"\",'Contact & Facility Information'!F152)","v":""},null,{"$f":"IF('Contact & Facility Information'!G152=\"\",\"\",'Contact & Facility Information'!G152)","v":""},null,{"$f":"IF('Contact & Facility Information'!I152=\"\",\"\",'Contact & Facility Information'!I152)","v":""}]
[{"$f":"IF('Contact & Facility Information'!B153=\"\",\"\",'Contact & Facility Information'!B153)","v":""},null,null,null,{"$f":"IF('Contact & Facility Information'!E153=\"\",\"\",'Contact & Facility Information'!E153)","v":""},{"$f":"IF('Contact & Facility Information'!F153=\"\",\"\",'Contact & Facility Information'!F153)","v":""},null,{"$f":"IF('Contact & Facility Information'!G153=\"\",\"\",'Contact & Facility Information'!G153)","v":""},null,{"$f":"IF('Contact & Facility Information'!I153=\"\",\"\",'Contact & Facility Information'!I153)","v":""}]
[{"$f":"IF('Contact & Facility Information'!B154=\"\",\"\",'Contact & Facility Information'!B154)","v":""},null,null,null,{"$f":"IF('Contact & Facility Information'!E154=\"\",\"\",'Contact & Facility Information'!E154)","v":""},{"$f":"IF('Contact & Facility Information'!F154=\"\",\"\",'Contact & Facility Information'!F154)","v":""},null,{"$f":"IF('Contact & Facility Information'!G154=\"\",\"\",'Contact & Facility Information'!G154)","v":""},null,{"$f":"IF('Contact & Facility Information'!I154=\"\",\"\",'Contact & Facility Information'!I154)","v":""}]
[{"$f":"IF('Contact & Facility Information'!B155=\"\",\"\",'Contact & Facility Information'!B155)","v":""},null,null,null,{"$f":"IF('Contact & Facility Information'!E155=\"\",\"\",'Contact & Facility Information'!E155)","v":""},{"$f":"IF('Contact & Facility Information'!F155=\"\",\"\",'Contact & Facility Information'!F155)","v":""},null,{"$f":"IF('Contact & Facility Information'!G155=\"\",\"\",'Contact & Facility Information'!G155)","v":""},null,{"$f":"IF('Contact & Facility Information'!I155=\"\",\"\",'Contact & Facility Information'!I155)","v":""}]
[{"$f":"IF('Contact & Facility Information'!B156=\"\",\"\",'Contact & Facility Information'!B156)","v":""},null,null,null,{"$f":"IF('Contact & Facility Information'!E156=\"\",\"\",'Contact & Facility Information'!E156)","v":""},{"$f":"IF('Contact & Facility Information'!F156=\"\",\"\",'Contact & Facility Information'!F156)","v":""},null,{"$f":"IF('Contact & Facility Information'!G156=\"\",\"\",'Contact & Facility Information'!G156)","v":""},null,{"$f":"IF('Contact & Facility Information'!I156=\"\",\"\",'Contact & Facility Information'!I156)","v":""}]
[{"$f":"IF('Contact & Facility Information'!B157=\"\",\"\",'Contact & Facility Information'!B157)","v":""},null,null,null,{"$f":"IF('Contact & Facility Information'!E157=\"\",\"\",'Contact & Facility Information'!E157)","v":""},{"$f":"IF('Contact & Facility Information'!F157=\"\",\"\",'Contact & Facility Information'!F157)","v":""},null,{"$f":"IF('Contact & Facility Information'!G157=\"\",\"\",'Contact & Facility Information'!G157)","v":""},null,{"$f":"IF('Contact & Facility Information'!I157=\"\",\"\",'Contact & Facility Information'!I157)","v":""}]
[{"$f":"IF('Contact & Facility Information'!B158=\"\",\"\",'Contact & Facility Information'!B158)","v":""},null,null,null,{"$f":"IF('Contact & Facility Information'!E158=\"\",\"\",'Contact & Facility Information'!E158)","v":""},{"$f":"IF('Contact & Facility Information'!F158=\"\",\"\",'Contact & Facility Information'!F158)","v":""},null,{"$f":"IF('Contact & Facility Information'!G158=\"\",\"\",'Contact & Facility Information'!G158)","v":""},null,{"$f":"IF('Contact & Facility Information'!I158=\"\",\"\",'Contact & Facility Information'!I158)","v":""}]
[{"$f":"IF('Contact & Facility Information'!B159=\"\",\"\",'Contact & Facility Information'!B159)","v":""},null,null,null,{"$f":"IF('Contact & Facility Information'!E159=\"\",\"\",'Contact & Facility Information'!E159)","v":""},{"$f":"IF('Contact & Facility Information'!F159=\"\",\"\",'Contact & Facility Information'!F159)","v":""},null,{"$f":"IF('Contact & Facility Information'!G159=\"\",\"\",'Contact & Facility Information'!G159)","v":""},null,{"$f":"IF('Contact & Facility Information'!I159=\"\",\"\",'Contact & Facility Information'!I159)","v":""}]
[{"$f":"IF('Contact & Facility Information'!B160=\"\",\"\",'Contact & Facility Information'!B160)","v":""},null,null,null,{"$f":"IF('Contact & Facility Information'!E160=\"\",\"\",'Contact & Facility Information'!E160)","v":""},{"$f":"IF('Contact & Facility Information'!F160=\"\",\"\",'Contact & Facility Information'!F160)","v":""},null,{"$f":"IF('Contact & Facility Information'!G160=\"\",\"\",'Contact & Facility Information'!G160)","v":""},null,{"$f":"IF('Contact & Facility Information'!I160=\"\",\"\",'Contact & Facility Information'!I160)","v":""}]
[{"$f":"IF('Contact & Facility Information'!B161=\"\",\"\",'Contact & Facility Information'!B161)","v":""},null,null,null,{"$f":"IF('Contact & Facility Information'!E161=\"\",\"\",'Contact & Facility Information'!E161)","v":""},{"$f":"IF('Contact & Facility Information'!F161=\"\",\"\",'Contact & Facility Information'!F161)","v":""},null,{"$f":"IF('Contact & Facility Information'!G161=\"\",\"\",'Contact & Facility Information'!G161)","v":""},null,{"$f":"IF('Contact & Facility Information'!I161=\"\",\"\",'Contact & Facility Information'!I161)","v":""}]
[{"$f":"IF('Contact & Facility Information'!B162=\"\",\"\",'Contact & Facility Information'!B162)","v":""},null,null,null,{"$f":"IF('Contact & Facility Information'!E162=\"\",\"\",'Contact & Facility Information'!E162)","v":""},{"$f":"IF('Contact & Facility Information'!F162=\"\",\"\",'Contact & Facility Information'!F162)","v":""},null,{"$f":"IF('Contact & Facility Information'!G162=\"\",\"\",'Contact & Facility Information'!G162)","v":""},null,{"$f":"IF('Contact & Facility Information'!I162=\"\",\"\",'Contact & Facility Information'!I162)","v":""}]
[{"$f":"IF('Contact & Facility Information'!B163=\"\",\"\",'Contact & Facility Information'!B163)","v":""},null,null,null,{"$f":"IF('Contact & Facility Information'!E163=\"\",\"\",'Contact & Facility Information'!E163)","v":""},{"$f":"IF('Contact & Facility Information'!F163=\"\",\"\",'Contact & Facility Information'!F163)","v":""},null,{"$f":"IF('Contact & Facility Information'!G163=\"\",\"\",'Contact & Facility Information'!G163)","v":""},null,{"$f":"IF('Contact & Facility Information'!I163=\"\",\"\",'Contact & Facility Information'!I163)","v":""}]
[{"$f":"IF('Contact & Facility Information'!B164=\"\",\"\",'Contact & Facility Information'!B164)","v":""},null,null,null,{"$f":"IF('Contact & Facility Information'!E164=\"\",\"\",'Contact & Facility Information'!E164)","v":""},{"$f":"IF('Contact & Facility Information'!F164=\"\",\"\",'Contact & Facility Information'!F164)","v":""},null,{"$f":"IF('Contact & Facility Information'!G164=\"\",\"\",'Contact & Facility Information'!G164)","v":""},null,{"$f":"IF('Contact & Facility Information'!I164=\"\",\"\",'Contact & Facility Information'!I164)","v":""}]
[{"$f":"IF('Contact & Facility Information'!B165=\"\",\"\",'Contact & Facility Information'!B165)","v":""},null,null,null,{"$f":"IF('Contact & Facility Information'!E165=\"\",\"\",'Contact & Facility Information'!E165)","v":""},{"$f":"IF('Contact & Facility Information'!F165=\"\",\"\",'Contact & Facility Information'!F165)","v":""},null,{"$f":"IF('Contact & Facility Information'!G165=\"\",\"\",'Contact & Facility Information'!G165)","v":""},null,{"$f":"IF('Contact & Facility Information'!I165=\"\",\"\",'Contact & Facility Information'!I165)","v":""}]
[{"$f":"IF('Contact & Facility Information'!B166=\"\",\"\",'Contact & Facility Information'!B166)","v":""},null,null,null,{"$f":"IF('Contact & Facility Information'!E166=\"\",\"\",'Contact & Facility Information'!E166)","v":""},{"$f":"IF('Contact & Facility Information'!F166=\"\",\"\",'Contact & Facility Information'!F166)","v":""},null,{"$f":"IF('Contact & Facility Information'!G166=\"\",\"\",'Contact & Facility Information'!G166)","v":""},null,{"$f":"IF('Contact & Facility Information'!I166=\"\",\"\",'Contact & Facility Information'!I166)","v":""}]
[{"$f":"IF('Contact & Facility Information'!B167=\"\",\"\",'Contact & Facility Information'!B167)","v":""},null,null,null,{"$f":"IF('Contact & Facility Information'!E167=\"\",\"\",'Contact & Facility Information'!E167)","v":""},{"$f":"IF('Contact & Facility Information'!F167=\"\",\"\",'Contact & Facility Information'!F167)","v":""},null,{"$f":"IF('Contact & Facility Information'!G167=\"\",\"\",'Contact & Facility Information'!G167)","v":""},null,{"$f":"IF('Contact & Facility Information'!I167=\"\",\"\",'Contact & Facility Information'!I167)","v":""}]
[{"$f":"IF('Contact & Facility Information'!B168=\"\",\"\",'Contact & Facility Information'!B168)","v":""},null,null,null,{"$f":"IF('Contact & Facility Information'!E168=\"\",\"\",'Contact & Facility Information'!E168)","v":""},{"$f":"IF('Contact & Facility Information'!F168=\"\",\"\",'Contact & Facility Information'!F168)","v":""},null,{"$f":"IF('Contact & Facility Information'!G168=\"\",\"\",'Contact & Facility Information'!G168)","v":""},null,{"$f":"IF('Contact & Facility Information'!I168=\"\",\"\",'Contact & Facility Information'!I168)","v":""}]
[{"$f":"IF('Contact & Facility Information'!B169=\"\",\"\",'Contact & Facility Information'!B169)","v":""},null,null,null,{"$f":"IF('Contact & Facility Information'!E169=\"\",\"\",'Contact & Facility Information'!E169)","v":""},{"$f":"IF('Contact & Facility Information'!F169=\"\",\"\",'Contact & Facility Information'!F169)","v":""},null,{"$f":"IF('Contact & Facility Information'!G169=\"\",\"\",'Contact & Facility Information'!G169)","v":""},null,{"$f":"IF('Contact & Facility Information'!I169=\"\",\"\",'Contact & Facility Information'!I169)","v":""}]
[{"$f":"IF('Contact & Facility Information'!B170=\"\",\"\",'Contact & Facility Information'!B170)","v":""},null,null,null,{"$f":"IF('Contact & Facility Information'!E170=\"\",\"\",'Contact & Facility Information'!E170)","v":""},{"$f":"IF('Contact & Facility Information'!F170=\"\",\"\",'Contact & Facility Information'!F170)","v":""},null,{"$f":"IF('Contact & Facility Information'!G170=\"\",\"\",'Contact & Facility Information'!G170)","v":""},null,{"$f":"IF('Contact & Facility Information'!I170=\"\",\"\",'Contact & Facility Information'!I170)","v":""}]
[{"$f":"IF('Contact & Facility Information'!B171=\"\",\"\",'Contact & Facility Information'!B171)","v":""},null,null,null,{"$f":"IF('Contact & Facility Information'!E171=\"\",\"\",'Contact & Facility Information'!E171)","v":""},{"$f":"IF('Contact & Facility Information'!F171=\"\",\"\",'Contact & Facility Information'!F171)","v":""},null,{"$f":"IF('Contact & Facility Information'!G171=\"\",\"\",'Contact & Facility Information'!G171)","v":""},null,{"$f":"IF('Contact & Facility Information'!I171=\"\",\"\",'Contact & Facility Information'!I171)","v":""}]
[{"$f":"IF('Contact & Facility Information'!B172=\"\",\"\",'Contact & Facility Information'!B172)","v":""},null,null,null,{"$f":"IF('Contact & Facility Information'!E172=\"\",\"\",'Contact & Facility Information'!E172)","v":""},{"$f":"IF('Contact & Facility Information'!F172=\"\",\"\",'Contact & Facility Information'!F172)","v":""},null,{"$f":"IF('Contact & Facility Information'!G172=\"\",\"\",'Contact & Facility Information'!G172)","v":""},null,{"$f":"IF('Contact & Facility Information'!I172=\"\",\"\",'Contact & Facility Information'!I172)","v":""}]
[{"$f":"IF('Contact & Facility Information'!B173=\"\",\"\",'Contact & Facility Information'!B173)","v":""},null,null,null,{"$f":"IF('Contact & Facility Information'!E173=\"\",\"\",'Contact & Facility Information'!E173)","v":""},{"$f":"IF('Contact & Facility Information'!F173=\"\",\"\",'Contact & Facility Information'!F173)","v":""},null,{"$f":"IF('Contact & Facility Information'!G173=\"\",\"\",'Contact & Facility Information'!G173)","v":""},null,{"$f":"IF('Contact & Facility Information'!I173=\"\",\"\",'Contact & Facility Information'!I173)","v":""}]
[{"$f":"IF('Contact & Facility Information'!B174=\"\",\"\",'Contact & Facility Information'!B174)","v":""},null,null,null,{"$f":"IF('Contact & Facility Information'!E174=\"\",\"\",'Contact & Facility Information'!E174)","v":""},{"$f":"IF('Contact & Facility Information'!F174=\"\",\"\",'Contact & Facility Information'!F174)","v":""},null,{"$f":"IF('Contact & Facility Information'!G174=\"\",\"\",'Contact & Facility Information'!G174)","v":""},null,{"$f":"IF('Contact & Facility Information'!I174=\"\",\"\",'Contact & Facility Information'!I174)","v":""}]
[{"$f":"IF('Contact & Facility Information'!B175=\"\",\"\",'Contact & Facility Information'!B175)","v":""},null,null,null,{"$f":"IF('Contact & Facility Information'!E175=\"\",\"\",'Contact & Facility Information'!E175)","v":""},{"$f":"IF('Contact & Facility Information'!F175=\"\",\"\",'Contact & Facility Information'!F175)","v":""},null,{"$f":"IF('Contact & Facility Information'!G175=\"\",\"\",'Contact & Facility Information'!G175)","v":""},null,{"$f":"IF('Contact & Facility Information'!I175=\"\",\"\",'Contact & Facility Information'!I175)","v":""}]
[{"$f":"IF('Contact & Facility Information'!B176=\"\",\"\",'Contact & Facility Information'!B176)","v":""},null,null,null,{"$f":"IF('Contact & Facility Information'!E176=\"\",\"\",'Contact & Facility Information'!E176)","v":""},{"$f":"IF('Contact & Facility Information'!F176=\"\",\"\",'Contact & Facility Information'!F176)","v":""},null,{"$f":"IF('Contact & Facility Information'!G176=\"\",\"\",'Contact & Facility Information'!G176)","v":""},null,{"$f":"IF('Contact & Facility Information'!I176=\"\",\"\",'Contact & Facility Information'!I176)","v":""}]
[{"$f":"IF('Contact & Facility Information'!B177=\"\",\"\",'Contact & Facility Information'!B177)","v":""},null,null,null,{"$f":"IF('Contact & Facility Information'!E177=\"\",\"\",'Contact & Facility Information'!E177)","v":""},{"$f":"IF('Contact & Facility Information'!F177=\"\",\"\",'Contact & Facility Information'!F177)","v":""},null,{"$f":"IF('Contact & Facility Information'!G177=\"\",\"\",'Contact & Facility Information'!G177)","v":""},null,{"$f":"IF('Contact & Facility Information'!I177=\"\",\"\",'Contact & Facility Information'!I177)","v":""}]
[{"$f":"IF('Contact & Facility Information'!B178=\"\",\"\",'Contact & Facility Information'!B178)","v":""},null,null,null,{"$f":"IF('Contact & Facility Information'!E178=\"\",\"\",'Contact & Facility Information'!E178)","v":""},{"$f":"IF('Contact & Facility Information'!F178=\"\",\"\",'Contact & Facility Information'!F178)","v":""},null,{"$f":"IF('Contact & Facility Information'!G178=\"\",\"\",'Contact & Facility Information'!G178)","v":""},null,{"$f":"IF('Contact & Facility Information'!I178=\"\",\"\",'Contact & Facility Information'!I178)","v":""}]
[{"$f":"IF('Contact & Facility Information'!B179=\"\",\"\",'Contact & Facility Information'!B179)","v":""},null,null,null,{"$f":"IF('Contact & Facility Information'!E179=\"\",\"\",'Contact & Facility Information'!E179)","v":""},{"$f":"IF('Contact & Facility Information'!F179=\"\",\"\",'Contact & Facility Information'!F179)","v":""},null,{"$f":"IF('Contact & Facility Information'!G179=\"\",\"\",'Contact & Facility Information'!G179)","v":""},null,{"$f":"IF('Contact & Facility Information'!I179=\"\",\"\",'Contact & Facility Information'!I179)","v":""}]
[{"$f":"IF('Contact & Facility Information'!B180=\"\",\"\",'Contact & Facility Information'!B180)","v":""},null,null,null,{"$f":"IF('Contact & Facility Information'!E180=\"\",\"\",'Contact & Facility Information'!E180)","v":""},{"$f":"IF('Contact & Facility Information'!F180=\"\",\"\",'Contact & Facility Information'!F180)","v":""},null,{"$f":"IF('Contact & Facility Information'!G180=\"\",\"\",'Contact & Facility Information'!G180)","v":""},null,{"$f":"IF('Contact & Facility Information'!I180=\"\",\"\",'Contact & Facility Information'!I180)","v":""}]
[{"$f":"IF('Contact & Facility Information'!B181=\"\",\"\",'Contact & Facility Information'!B181)","v":""},null,null,null,{"$f":"IF('Contact & Facility Information'!E181=\"\",\"\",'Contact & Facility Information'!E181)","v":""},{"$f":"IF('Contact & Facility Information'!F181=\"\",\"\",'Contact & Facility Information'!F181)","v":""},null,{"$f":"IF('Contact & Facility Information'!G181=\"\",\"\",'Contact & Facility Information'!G181)","v":""},null,{"$f":"IF('Contact & Facility Information'!I181=\"\",\"\",'Contact & Facility Information'!I181)","v":""}]
[{"$f":"IF('Contact & Facility Information'!B182=\"\",\"\",'Contact & Facility Information'!B182)","v":""},null,null,null,{"$f":"IF('Contact & Facility Information'!E182=\"\",\"\",'Contact & Facility Information'!E182)","v":""},{"$f":"IF('Contact & Facility Information'!F182=\"\",\"\",'Contact & Facility Information'!F182)","v":""},null,{"$f":"IF('Contact & Facility Information'!G182=\"\",\"\",'Contact & Facility Information'!G182)","v":""},null,{"$f":"IF('Contact & Facility Information'!I182=\"\",\"\",'Contact & Facility Information'!I182)","v":""}]
[{"$f":"IF('Contact & Facility Information'!B183=\"\",\"\",'Contact & Facility Information'!B183)","v":""},null,null,null,{"$f":"IF('Contact & Facility Information'!E183=\"\",\"\",'Contact & Facility Information'!E183)","v":""},{"$f":"IF('Contact & Facility Information'!F183=\"\",\"\",'Contact & Facility Information'!F183)","v":""},null,{"$f":"IF('Contact & Facility Information'!G183=\"\",\"\",'Contact & Facility Information'!G183)","v":""},null,{"$f":"IF('Contact & Facility Information'!I183=\"\",\"\",'Contact & Facility Information'!I183)","v":""}]
[{"$f":"IF('Contact & Facility Information'!B184=\"\",\"\",'Contact & Facility Information'!B184)","v":""},null,null,null,{"$f":"IF('Contact & Facility Information'!E184=\"\",\"\",'Contact & Facility Information'!E184)","v":""},{"$f":"IF('Contact & Facility Information'!F184=\"\",\"\",'Contact & Facility Information'!F184)","v":""},null,{"$f":"IF('Contact & Facility Information'!G184=\"\",\"\",'Contact & Facility Information'!G184)","v":""},null,{"$f":"IF('Contact & Facility Information'!I184=\"\",\"\",'Contact & Facility Information'!I184)","v":""}]
[{"$f":"IF('Contact & Facility Information'!B185=\"\",\"\",'Contact & Facility Information'!B185)","v":""},null,null,null,{"$f":"IF('Contact & Facility Information'!E185=\"\",\"\",'Contact & Facility Information'!E185)","v":""},{"$f":"IF('Contact & Facility Information'!F185=\"\",\"\",'Contact & Facility Information'!F185)","v":""},null,{"$f":"IF('Contact & Facility Information'!G185=\"\",\"\",'Contact & Facility Information'!G185)","v":""},null,{"$f":"IF('Contact & Facility Information'!I185=\"\",\"\",'Contact & Facility Information'!I185)","v":""}]
[{"$f":"IF('Contact & Facility Information'!B186=\"\",\"\",'Contact & Facility Information'!B186)","v":""},null,null,null,{"$f":"IF('Contact & Facility Information'!E186=\"\",\"\",'Contact & Facility Information'!E186)","v":""},{"$f":"IF('Contact & Facility Information'!F186=\"\",\"\",'Contact & Facility Information'!F186)","v":""},null,{"$f":"IF('Contact & Facility Information'!G186=\"\",\"\",'Contact & Facility Information'!G186)","v":""},null,{"$f":"IF('Contact & Facility Information'!I186=\"\",\"\",'Contact & Facility Information'!I186)","v":""}]
[{"$f":"IF('Contact & Facility Information'!B187=\"\",\"\",'Contact & Facility Information'!B187)","v":""},null,null,null,{"$f":"IF('Contact & Facility Information'!E187=\"\",\"\",'Contact & Facility Information'!E187)","v":""},{"$f":"IF('Contact & Facility Information'!F187=\"\",\"\",'Contact & Facility Information'!F187)","v":""},null,{"$f":"IF('Contact & Facility Information'!G187=\"\",\"\",'Contact & Facility Information'!G187)","v":""},null,{"$f":"IF('Contact & Facility Information'!I187=\"\",\"\",'Contact & Facility Information'!I187)","v":""}]
[{"$f":"IF('Contact & Facility Information'!B188=\"\",\"\",'Contact & Facility Information'!B188)","v":""},null,null,null,{"$f":"IF('Contact & Facility Information'!E188=\"\",\"\",'Contact & Facility Information'!E188)","v":""},{"$f":"IF('Contact & Facility Information'!F188=\"\",\"\",'Contact & Facility Information'!F188)","v":""},null,{"$f":"IF('Contact & Facility Information'!G188=\"\",\"\",'Contact & Facility Information'!G188)","v":""},null,{"$f":"IF('Contact & Facility Information'!I188=\"\",\"\",'Contact & Facility Information'!I188)","v":""}]
[{"$f":"IF('Contact & Facility Information'!B189=\"\",\"\",'Contact & Facility Information'!B189)","v":""},null,null,null,{"$f":"IF('Contact & Facility Information'!E189=\"\",\"\",'Contact & Facility Information'!E189)","v":""},{"$f":"IF('Contact & Facility Information'!F189=\"\",\"\",'Contact & Facility Information'!F189)","v":""},null,{"$f":"IF('Contact & Facility Information'!G189=\"\",\"\",'Contact & Facility Information'!G189)","v":""},null,{"$f":"IF('Contact & Facility Information'!I189=\"\",\"\",'Contact & Facility Information'!I189)","v":""}]
[{"$f":"IF('Contact & Facility Information'!B190=\"\",\"\",'Contact & Facility Information'!B190)","v":""},null,null,null,{"$f":"IF('Contact & Facility Information'!E190=\"\",\"\",'Contact & Facility Information'!E190)","v":""},{"$f":"IF('Contact & Facility Information'!F190=\"\",\"\",'Contact & Facility Information'!F190)","v":""},null,{"$f":"IF('Contact & Facility Information'!G190=\"\",\"\",'Contact & Facility Information'!G190)","v":""},null,{"$f":"IF('Contact & Facility Information'!I190=\"\",\"\",'Contact & Facility Information'!I190)","v":""}]
[{"$f":"IF('Contact & Facility Information'!B191=\"\",\"\",'Contact & Facility Information'!B191)","v":""},null,null,null,{"$f":"IF('Contact & Facility Information'!E191=\"\",\"\",'Contact & Facility Information'!E191)","v":""},{"$f":"IF('Contact & Facility Information'!F191=\"\",\"\",'Contact & Facility Information'!F191)","v":""},null,{"$f":"IF('Contact & Facility Information'!G191=\"\",\"\",'Contact & Facility Information'!G191)","v":""},null,{"$f":"IF('Contact & Facility Information'!I191=\"\",\"\",'Contact & Facility Information'!I191)","v":""}]
[{"$f":"IF('Contact & Facility Information'!B192=\"\",\"\",'Contact & Facility Information'!B192)","v":""},null,null,null,{"$f":"IF('Contact & Facility Information'!E192=\"\",\"\",'Contact & Facility Information'!E192)","v":""},{"$f":"IF('Contact & Facility Information'!F192=\"\",\"\",'Contact & Facility Information'!F192)","v":""},null,{"$f":"IF('Contact & Facility Information'!G192=\"\",\"\",'Contact & Facility Information'!G192)","v":""},null,{"$f":"IF('Contact & Facility Information'!I192=\"\",\"\",'Contact & Facility Information'!I192)","v":""}]
[{"$f":"IF('Contact & Facility Information'!B193=\"\",\"\",'Contact & Facility Information'!B193)","v":""},null,null,null,{"$f":"IF('Contact & Facility Information'!E193=\"\",\"\",'Contact & Facility Information'!E193)","v":""},{"$f":"IF('Contact & Facility Information'!F193=\"\",\"\",'Contact & Facility Information'!F193)","v":""},null,{"$f":"IF('Contact & Facility Information'!G193=\"\",\"\",'Contact & Facility Information'!G193)","v":""},null,{"$f":"IF('Contact & Facility Information'!I193=\"\",\"\",'Contact & Facility Information'!I193)","v":""}]
[{"$f":"IF('Contact & Facility Information'!B194=\"\",\"\",'Contact & Facility Information'!B194)","v":""},null,null,null,{"$f":"IF('Contact & Facility Information'!E194=\"\",\"\",'Contact & Facility Information'!E194)","v":""},{"$f":"IF('Contact & Facility Information'!F194=\"\",\"\",'Contact & Facility Information'!F194)","v":""},null,{"$f":"IF('Contact & Facility Information'!G194=\"\",\"\",'Contact & Facility Information'!G194)","v":""},null,{"$f":"IF('Contact & Facility Information'!I194=\"\",\"\",'Contact & Facility Information'!I194)","v":""}]
[{"$f":"IF('Contact & Facility Information'!B195=\"\",\"\",'Contact & Facility Information'!B195)","v":""},null,null,null,{"$f":"IF('Contact & Facility Information'!E195=\"\",\"\",'Contact & Facility Information'!E195)","v":""},{"$f":"IF('Contact & Facility Information'!F195=\"\",\"\",'Contact & Facility Information'!F195)","v":""},null,{"$f":"IF('Contact & Facility Information'!G195=\"\",\"\",'Contact & Facility Information'!G195)","v":""},null,{"$f":"IF('Contact & Facility Information'!I195=\"\",\"\",'Contact & Facility Information'!I195)","v":""}]
[{"$f":"IF('Contact & Facility Information'!B196=\"\",\"\",'Contact & Facility Information'!B196)","v":""},null,null,null,{"$f":"IF('Contact & Facility Information'!E196=\"\",\"\",'Contact & Facility Information'!E196)","v":""},{"$f":"IF('Contact & Facility Information'!F196=\"\",\"\",'Contact & Facility Information'!F196)","v":""},null,{"$f":"IF('Contact & Facility Information'!G196=\"\",\"\",'Contact & Facility Information'!G196)","v":""},null,{"$f":"IF('Contact & Facility Information'!I196=\"\",\"\",'Contact & Facility Information'!I196)","v":""}]

{"sheet":"Top10","index":68,"n_rows":13,"n_cols":3,"rows_kept":13,"cut":false,"hidden":true,"merged":[[12,2,12,6],[8,2,8,6],[9,2,9,6],[10,2,10,6],[11,2,11,6],[1,0,1,6],[4,2,4,6],[5,2,5,6],[6,2,6,6],[7,2,7,6],[3,2,3,6]]}
[]
["Below is a list of the top 10 measures commonly found in RCx studies."]
[]
[null,1," Scheduling Equipment: \n AHUs, Fans, Pumps, Electric Heat, VAV/FPBs, Lighting"]
[null,2," Economizer and Outdoor Air Control"]
[null,3," Duct Static Pressure Reduce/Reset"]
[null,4," Chilled Water Temperature Reset"]
[null,5," Supply Air Temperature Reset"]
[null,6," Reduce Ventilation"]
[null,7," Condenser Water Temperature Reset"]
[null,8," Setback Space Temperature"]
[null,9," Reduce Simultaneous Heating and Cooling"]
[null,10," Reduce Pump Differential Setpoint"]

{"sheet":"BOC","index":69,"n_rows":2,"n_cols":1,"rows_kept":2,"cut":false,"hidden":true,"merged":[[13,12,18,12],[1,0,50,11]]}
[]
["Building Operator Certification (BOC) is a nationally recognized training program focused on optimizing energy-efficient building operations and preventative maintenance procedures. BOC is ideal for building operators with 2+ years of experience working with mechanical systems in commercial or institutional buildings that are 50,000 square feet or larger. BOC graduates help their facilities use less energy, reduce overhead costs, and improve occupant comfort. \n\nTraining consists of about 60 hours of classroom time and 10 hours of project work. Class typically meets every other week for three (3) months with a unique, expert instructor for each session. Upon successful completion, graduates earn a certificate of completion and are eligible to take an exam to become a Certified Building Operator (CBO). ComEd customers will receive a discounted tuition of $1,400. In addition, ComEd customers may also qualify for full tuition reimbursement and labor incentives. \n\nSample BOC curricula are listed below: \n\nBOC Level I: Building Systems Maintenance\n\n1. Energy Efficient Operation of Building HVAC Systems\n2. Measuring and Benchmarking Energy Performance\n3. Efficient Lighting Fundamentals\n4. HVAC Control Fundamentals\n5. Indoor Environmental Quality\n6. Common Opportunities for Low-Cost Operational Improvements\n7. One topic will vary: smart features, electrical systems, O&M practices, ventilation strategies, energy recovery\n\nBOC Level II: Improving Building Operational Performance\n\n1. Building Scoping for Operational Improvements\n2. Optimizing HVAC Controls for Energy Efficiency\n3. Introduction to Building Commissioning\n4. Water Efficiency for Building Operators\n5. Project Peer Exchange: Present Your Final Report\n6. One topic will vary: motors in facilities, preventative maintenance principles, mastering electric control circuits\n\nFor more information, go to www.boccentral.org/ComEd or email boc@mwalliance.org."]

{"sheet":"IssueLog","index":70,"n_rows":12,"n_cols":5,"rows_kept":12,"cut":false,"hidden":true,"merged":[[2,1,2,3],[3,1,3,3],[4,1,4,3],[5,1,5,3],[11,1,11,3],[6,1,6,3],[7,1,7,3],[8,1,8,3],[9,1,9,3],[10,1,10,3],[7,4,7,13],[8,4,8,13],[9,4,9,13],[10,4,10,13],[11,4,11,13],[2,4,2,13],[3,4,3,13],[4,4,4,13],[5,4,5,13],[6,4,6,13]]}
[]
[null,{"$f":"IF('Issue Log'!B5=\"\",\"No issues identified during this project.\",\"The following issues were identified during this project:\")","v":"No issues identified during this project."}]
[null,{"$f":"'Issue Log'!B5:E5","v":0},null,null,{"$f":"'Issue Log'!F5","v":0}]
[null,{"$f":"'Issue Log'!B6:E6","v":0},null,null,{"$f":"'Issue Log'!F6","v":0}]
[null,{"$f":"'Issue Log'!B7:E7","v":0},null,null,{"$f":"'Issue Log'!F7","v":0}]
[null,{"$f":"'Issue Log'!B8:E8","v":0},null,null,{"$f":"'Issue Log'!F8","v":0}]
[null,{"$f":"'Issue Log'!B9:E9","v":0},null,null,{"$f":"'Issue Log'!F9","v":0}]
[null,{"$f":"'Issue Log'!B10:E10","v":0},null,null,{"$f":"'Issue Log'!F10","v":0}]
[null,{"$f":"'Issue Log'!B11:E11","v":0},null,null,{"$f":"'Issue Log'!F11","v":0}]
[null,{"$f":"'Issue Log'!B12:E12","v":0},null,null,{"$f":"'Issue Log'!F12","v":0}]
[null,{"$f":"'Issue Log'!B13:E13","v":0},null,null,{"$f":"'Issue Log'!F13","v":0}]
[null,{"$f":"'Issue Log'!B14:E14","v":0},null,null,{"$f":"'Issue Log'!F14","v":0}]

{"sheet":"MeasPersist","index":71,"n_rows":223,"n_cols":9,"rows_kept":223,"cut":false,"hidden":true,"merged":[[24,4,25,6],[18,2,19,3],[18,4,19,6],[0,0,0,8],[11,3,11,4],[14,3,14,4],[17,4,17,6],[17,7,17,8],[1,6,1,8],[1,0,1,5],[2,0,2,5],[3,0,6,8],[18,7,19,8],[18,0,19,1],[17,2,17,3],[12,3,12,4],[13,3,13,4],[13,0,13,1],[36,5,36,6],[36,7,36,8],[24,0,25,1],[20,2,21,3],[20,4,21,6],[20,7,21,8],[22,2,23,3],[22,4,23,6],[22,7,23,8],[33,0,33,1],[33,2,33,3],[33,4,33,5],[31,0,31,1],[32,0,32,1],[30,2,30,3],[31,2,31,3],[32,2,32,3],[30,4,30,5],[31,4,31,5],[32,4,32,5],[24,7,25,8],[20,0,21,1],[22,0,23,1],[24,2,25,3],[68,0,68,8],[70,0,70,8],[74,0,74,8],[58,0,58,4],[34,0,34,8],[38,1,38,4],[39,1,39,4],[37,1,37,4],[36,0,36,4],[41,1,41,4],[42,1,42,4],[43,1,43,4],[44,1,44,4],[45,1,45,4],[46,1,46,4],[47,1,47,4],[48,1,48,4],[49,1,49,4],[50,1,50,4],[51,1,51,4],[52,1,52,4],[56,1,56,4],[66,0,66,8],[40,1,40,4],[222,0,222,8],[202,0,202,8],[204,0,204,8],[206,0,206,8],[210,0,210,8],[212,0,212,8],[218,0,218,8],[220,0,220,8],[164,0,164,8],[166,0,166,8],[214,0,214,8],[174,0,174,8],[178,0,178,8],[180,0,180,8],[182,0,182,8],[186,0,186,8],[170,0,170,8],[172,0,172,8],[188,0,188,8],[190,0,190,8],[194,0,194,8],[196,0,196,8],[198,0,198,8],[142,0,142,8],[146,0,146,8],[148,0,148,8],[150,0,150,8],[154,0,154,8],[110,0,110,8],[76,0,76,8],[78,0,78,8],[82,0,82,8],[84,0,84,8],[86,0,86,8],[102,0,102,8],[106,0,106,8],[108,0,108,8],[156,0,156,8],[158,0,158,8],[162,0,162,8],[53,1,53,4],[54,1,54,4],[55,1,55,4],[57,1,57,4],[138,0,138,8],[140,0,140,8],[116,0,116,8],[118,0,118,8],[122,0,122,8],[124,0,124,8],[126,0,126,8],[114,0,114,8],[90,0,90,8],[92,0,92,8],[94,0,94,8],[98,0,98,8],[100,0,100,8],[130,0,130,8],[132,0,132,8],[134,0,134,8],[61,0,62,8]]}
[]
[{"$f":"Instructions!H12&\" | \"&'Contact & Facility Information'!B6","v":" | "},null,null,null,null,null,{"$f":"\"Issue Date | \" & TEXT(TODAY(), \"mm/dd/yyyy\")","v":"Issue Date | 05/06/2025"}]
[{"$f":"DataPhaseValid!$G$5","v":""}]
[{"$f":"DataPhaseValid!G164","v":"FALSE, to confirm the status and results of all ECMs implemented. This document provides a reference to ECMs implemented at your facility, and serves as a guide to maintaining efficient operations going forward. Please don’t hesitate to contact  or your Resource Innovations Project Coordinator for further assistance. "}]
[]
[]
[]
[]
[]
[]
["Project Information"]
["Implementation Completion Date: ",null,null,{"$f":"Instructions!F13","v":"00:00:00"}]
["Annual Energy Cost Savings: ",null,null,{"$f":"IFERROR(DataPhaseValid!G17+DataPhaseValid!G18,\"\")","v":""}]
["Total Implementation Cost:",null,null,{"$f":"DataPhaseValid!G21","v":""},null,{"$f":"D14/D13","v":{"$error":"#VALUE!"}}]
["Simple Payback Period: ",null,null,{"$f":"IF(F14<0.1,\"Immediate\",_xlfn.CONCAT(ROUND(F14,1),\" years\"))","v":{"$error":"#VALUE!"}}]
[]
["Contact Information"]
[null,null,"Name",null,"Email ",null,null,"Phone Number"]
["Customer",null,{"$f":"'Contact & Facility Information'!B8","v":0},null,{"$f":"'Contact & Facility Information'!F8","v":0},null,null,{"$f":"'Contact & Facility Information'!E8","v":0}]
[]
["Service Providers",null,{"$f":"'Contact & Facility Information'!B14","v":0},null,{"$f":"'Contact & Facility Information'!F14","v":0},null,null,{"$f":"'Contact & Facility Information'!E14","v":0}]
[]
["Resource Innovations",null,{"$f":"'Contact & Facility Information'!B20","v":0},null,{"$f":"'Contact & Facility Information'!F20","v":"Select PC"},null,null,{"$f":"'Contact & Facility Information'!E20","v":"Select PC"}]
[]
["Implementation Contractor",null,{"$f":"IF(ISBLANK('Contact & Facility Information'!$B$50),\"\",('Contact & Facility Information'!$B$50))","v":""},null,{"$f":"IF(ISBLANK('Contact & Facility Information'!$F$50),\"\",('Contact & Facility Information'!$F$50))","v":""},null,null,{"$f":"IF(ISBLANK('Contact & Facility Information'!$E$50),\"\",('Contact & Facility Information'!$E$50))","v":""}]
[]
[]
[]
[]
["ECM Active Season"]
[null,null,"Count",null,"ECM #s"]
["Cooling",null,{"$f":"DataPhaseValid!H176","v":0},null,{"$f":"IF(C32=0,\"-\",DataPhaseValid!I176)","v":"-"}]
["Heating ",null,{"$f":"DataPhaseValid!H175","v":0},null,{"$f":"IF(C33=0,\"-\",DataPhaseValid!I175)","v":"-"}]
["Heating & Cooling ",null,{"$f":"DataPhaseValid!H177","v":0},null,{"$f":"IF(C34=0,\"-\",DataPhaseValid!I177)","v":"-"}]
["The energy savings realized from the implementation of the following ECMs will only persist if these sequences remain active. The below table is an overview of ECMs, its cost & energy savings associated with them."]
["ECM Overview"]
["ECM Information",null,null,null,null,"Energy Savings",null,"Energy Cost Savings"]
["ECM #","ECM Name",null,null,null,"Electric Savings (kWh)","Gas Savings (therms)","Electric Savings ($)","Gas Savings ($)"]
[{"$f":"IF('Measure Recommendation'!$I41=\"\",\"\",IF('Measure Recommendation'!$X41=\"Yes\",'Measure Recommendation'!$D41,\"\"))","v":""},{"$f":"IF(A39=\"\",\"\",'Measure Recommendation'!I41)","v":""},null,null,null,{"$f":"IF(A39=\"\",\"\",'Measure Recommendation'!AE41)","v":""},{"$f":"IF(A39=\"\",\"\",'Measure Recommendation'!AG41)","v":""},{"$f":"IF(B39=\"\",\"\",'Measure Recommendation'!AF41)","v":""},{"$f":"IF(A39=\"\",\"\",'Measure Recommendation'!AH41)","v":""}]
[{"$f":"IF('Measure Recommendation'!$I42=\"\",\"\",IF('Measure Recommendation'!$X42=\"Yes\",'Measure Recommendation'!$D42,\"\"))","v":""},{"$f":"IF(A40=\"\",\"\",'Measure Recommendation'!I42)","v":""},null,null,null,{"$f":"IF(A40=\"\",\"\",'Measure Recommendation'!AE42)","v":""},{"$f":"IF(A40=\"\",\"\",'Measure Recommendation'!AG42)","v":""},{"$f":"IF(B40=\"\",\"\",'Measure Recommendation'!AF42)","v":""},{"$f":"IF(A40=\"\",\"\",'Measure Recommendation'!AH42)","v":""}]
[{"$f":"IF('Measure Recommendation'!$I43=\"\",\"\",IF('Measure Recommendation'!$X43=\"Yes\",'Measure Recommendation'!$D43,\"\"))","v":""},{"$f":"IF(A41=\"\",\"\",'Measure Recommendation'!I43)","v":""},null,null,null,{"$f":"IF(A41=\"\",\"\",'Measure Recommendation'!AE43)","v":""},{"$f":"IF(A41=\"\",\"\",'Measure Recommendation'!AG43)","v":""},{"$f":"IF(B41=\"\",\"\",'Measure Recommendation'!AF43)","v":""},{"$f":"IF(A41=\"\",\"\",'Measure Recommendation'!AH43)","v":""}]
[{"$f":"IF('Measure Recommendation'!$I44=\"\",\"\",IF('Measure Recommendation'!$X44=\"Yes\",'Measure Recommendation'!$D44,\"\"))","v":""},{"$f":"IF(A42=\"\",\"\",'Measure Recommendation'!I44)","v":""},null,null,null,{"$f":"IF(A42=\"\",\"\",'Measure Recommendation'!AE44)","v":""},{"$f":"IF(A42=\"\",\"\",'Measure Recommendation'!AG44)","v":""},{"$f":"IF(B42=\"\",\"\",'Measure Recommendation'!AF44)","v":""},{"$f":"IF(A42=\"\",\"\",'Measure Recommendation'!AH44)","v":""}]
[{"$f":"IF('Measure Recommendation'!$I45=\"\",\"\",IF('Measure Recommendation'!$X45=\"Yes\",'Measure Recommendation'!$D45,\"\"))","v":""},{"$f":"IF(A43=\"\",\"\",'Measure Recommendation'!I45)","v":""},null,null,null,{"$f":"IF(A43=\"\",\"\",'Measure Recommendation'!AE45)","v":""},{"$f":"IF(A43=\"\",\"\",'Measure Recommendation'!AG45)","v":""},{"$f":"IF(B43=\"\",\"\",'Measure Recommendation'!AF45)","v":""},{"$f":"IF(A43=\"\",\"\",'Measure Recommendation'!AH45)","v":""}]
[{"$f":"IF('Measure Recommendation'!$I46=\"\",\"\",IF('Measure Recommendation'!$X46=\"Yes\",'Measure Recommendation'!$D46,\"\"))","v":""},{"$f":"IF(A44=\"\",\"\",'Measure Recommendation'!I46)","v":""},null,null,null,{"$f":"IF(A44=\"\",\"\",'Measure Recommendation'!AE46)","v":""},{"$f":"IF(A44=\"\",\"\",'Measure Recommendation'!AG46)","v":""},{"$f":"IF(B44=\"\",\"\",'Measure Recommendation'!AF46)","v":""},{"$f":"IF(A44=\"\",\"\",'Measure Recommendation'!AH46)","v":""}]
[{"$f":"IF('Measure Recommendation'!$I47=\"\",\"\",IF('Measure Recommendation'!$X47=\"Yes\",'Measure Recommendation'!$D47,\"\"))","v":""},{"$f":"IF(A45=\"\",\"\",'Measure Recommendation'!I47)","v":""},null,null,null,{"$f":"IF(A45=\"\",\"\",'Measure Recommendation'!AE47)","v":""},{"$f":"IF(A45=\"\",\"\",'Measure Recommendation'!AG47)","v":""},{"$f":"IF(B45=\"\",\"\",'Measure Recommendation'!AF47)","v":""},{"$f":"IF(A45=\"\",\"\",'Measure Recommendation'!AH47)","v":""}]
[{"$f":"IF('Measure Recommendation'!$I48=\"\",\"\",IF('Measure Recommendation'!$X48=\"Yes\",'Measure Recommendation'!$D48,\"\"))","v":""},{"$f":"IF(A46=\"\",\"\",'Measure Recommendation'!I48)","v":""},null,null,null,{"$f":"IF(A46=\"\",\"\",'Measure Recommendation'!AE48)","v":""},{"$f":"IF(A46=\"\",\"\",'Measure Recommendation'!AG48)","v":""},{"$f":"IF(B46=\"\",\"\",'Measure Recommendation'!AF48)","v":""},{"$f":"IF(A46=\"\",\"\",'Measure Recommendation'!AH48)","v":""}]
[{"$f":"IF('Measure Recommendation'!$I49=\"\",\"\",IF('Measure Recommendation'!$X49=\"Yes\",'Measure Recommendation'!$D49,\"\"))","v":""},{"$f":"IF(A47=\"\",\"\",'Measure Recommendation'!I49)","v":""},null,null,null,{"$f":"IF(A47=\"\",\"\",'Measure Recommendation'!AE49)","v":""},{"$f":"IF(A47=\"\",\"\",'Measure Recommendation'!AG49)","v":""},{"$f":"IF(B47=\"\",\"\",'Measure Recommendation'!AF49)","v":""},{"$f":"IF(A47=\"\",\"\",'Measure Recommendation'!AH49)","v":""}]
[{"$f":"IF('Measure Recommendation'!$I50=\"\",\"\",IF('Measure Recommendation'!$X50=\"Yes\",'Measure Recommendation'!$D50,\"\"))","v":""},{"$f":"IF(A48=\"\",\"\",'Measure Recommendation'!I50)","v":""},null,null,null,{"$f":"IF(A48=\"\",\"\",'Measure Recommendation'!AE50)","v":""},{"$f":"IF(A48=\"\",\"\",'Measure Recommendation'!AG50)","v":""},{"$f":"IF(B48=\"\",\"\",'Measure Recommendation'!AF50)","v":""},{"$f":"IF(A48=\"\",\"\",'Measure Recommendation'!AH50)","v":""}]
[{"$f":"IF('Measure Recommendation'!$I51=\"\",\"\",IF('Measure Recommendation'!$X51=\"Yes\",'Measure Recommendation'!$D51,\"\"))","v":""},{"$f":"IF(A49=\"\",\"\",'Measure Recommendation'!I51)","v":""},null,null,null,{"$f":"IF(A49=\"\",\"\",'Measure Recommendation'!AE51)","v":""},{"$f":"IF(A49=\"\",\"\",'Measure Recommendation'!AG51)","v":""},{"$f":"IF(B49=\"\",\"\",'Measure Recommendation'!AF51)","v":""},{"$f":"IF(A49=\"\",\"\",'Measure Recommendation'!AH51)","v":""}]
[{"$f":"IF('Measure Recommendation'!$I52=\"\",\"\",IF('Measure Recommendation'!$X52=\"Yes\",'Measure Recommendation'!$D52,\"\"))","v":""},{"$f":"IF(A50=\"\",\"\",'Measure Recommendation'!I52)","v":""},null,null,null,{"$f":"IF(A50=\"\",\"\",'Measure Recommendation'!AE52)","v":""},{"$f":"IF(A50=\"\",\"\",'Measure Recommendation'!AG52)","v":""},{"$f":"IF(B50=\"\",\"\",'Measure Recommendation'!AF52)","v":""},{"$f":"IF(A50=\"\",\"\",'Measure Recommendation'!AH52)","v":""}]
[{"$f":"IF('Measure Recommendation'!$I53=\"\",\"\",IF('Measure Recommendation'!$X53=\"Yes\",'Measure Recommendation'!$D53,\"\"))","v":""},{"$f":"IF(A51=\"\",\"\",'Measure Recommendation'!I53)","v":""},null,null,null,{"$f":"IF(A51=\"\",\"\",'Measure Recommendation'!AE53)","v":""},{"$f":"IF(A51=\"\",\"\",'Measure Recommendation'!AG53)","v":""},{"$f":"IF(B51=\"\",\"\",'Measure Recommendation'!AF53)","v":""},{"$f":"IF(A51=\"\",\"\",'Measure Recommendation'!AH53)","v":""}]
[{"$f":"IF('Measure Recommendation'!$I54=\"\",\"\",IF('Measure Recommendation'!$X54=\"Yes\",'Measure Recommendation'!$D54,\"\"))","v":""},{"$f":"IF(A52=\"\",\"\",'Measure Recommendation'!I54)","v":""},null,null,null,{"$f":"IF(A52=\"\",\"\",'Measure Recommendation'!AE54)","v":""},{"$f":"IF(A52=\"\",\"\",'Measure Recommendation'!AG54)","v":""},{"$f":"IF(B52=\"\",\"\",'Measure Recommendation'!AF54)","v":""},{"$f":"IF(A52=\"\",\"\",'Measure Recommendation'!AH54)","v":""}]
[{"$f":"IF('Measure Recommendation'!$I55=\"\",\"\",IF('Measure Recommendation'!$X55=\"Yes\",'Measure Recommendation'!$D55,\"\"))","v":""},{"$f":"IF(A53=\"\",\"\",'Measure Recommendation'!I55)","v":""},null,null,null,{"$f":"IF(A53=\"\",\"\",'Measure Recommendation'!AE55)","v":""},{"$f":"IF(A53=\"\",\"\",'Measure Recommendation'!AG55)","v":""},{"$f":"IF(B53=\"\",\"\",'Measure Recommendation'!AF55)","v":""},{"$f":"IF(A53=\"\",\"\",'Measure Recommendation'!AH55)","v":""}]
[{"$f":"IF('Measure Recommendation'!$I56=\"\",\"\",IF('Measure Recommendation'!$X56=\"Yes\",'Measure Recommendation'!$D56,\"\"))","v":""},{"$f":"IF(A54=\"\",\"\",'Measure Recommendation'!I56)","v":""},null,null,null,{"$f":"IF(A54=\"\",\"\",'Measure Recommendation'!AE56)","v":""},{"$f":"IF(A54=\"\",\"\",'Measure Recommendation'!AG56)","v":""},{"$f":"IF(B54=\"\",\"\",'Measure Recommendation'!AF56)","v":""},{"$f":"IF(A54=\"\",\"\",'Measure Recommendation'!AH56)","v":""}]
[{"$f":"IF('Measure Recommendation'!$I57=\"\",\"\",IF('Measure Recommendation'!$X57=\"Yes\",'Measure Recommendation'!$D57,\"\"))","v":""},{"$f":"IF(A55=\"\",\"\",'Measure Recommendation'!I57)","v":""},null,null,null,{"$f":"IF(A55=\"\",\"\",'Measure Recommendation'!AE57)","v":""},{"$f":"IF(A55=\"\",\"\",'Measure Recommendation'!AG57)","v":""},{"$f":"IF(B55=\"\",\"\",'Measure Recommendation'!AF57)","v":""},{"$f":"IF(A55=\"\",\"\",'Measure Recommendation'!AH57)","v":""}]
[{"$f":"IF('Measure Recommendation'!$I58=\"\",\"\",IF('Measure Recommendation'!$X58=\"Yes\",'Measure Recommendation'!$D58,\"\"))","v":""},{"$f":"IF(A56=\"\",\"\",'Measure Recommendation'!I58)","v":""},null,null,null,{"$f":"IF(A56=\"\",\"\",'Measure Recommendation'!AE58)","v":""},{"$f":"IF(A56=\"\",\"\",'Measure Recommendation'!AG58)","v":""},{"$f":"IF(B56=\"\",\"\",'Measure Recommendation'!AF58)","v":""},{"$f":"IF(A56=\"\",\"\",'Measure Recommendation'!AH58)","v":""}]
[{"$f":"IF('Measure Recommendation'!$I59=\"\",\"\",IF('Measure Recommendation'!$X59=\"Yes\",'Measure Recommendation'!$D59,\"\"))","v":""},{"$f":"IF(A57=\"\",\"\",'Measure Recommendation'!I59)","v":""},null,null,null,{"$f":"IF(A57=\"\",\"\",'Measure Recommendation'!AE59)","v":""},{"$f":"IF(A57=\"\",\"\",'Measure Recommendation'!AG59)","v":""},{"$f":"IF(B57=\"\",\"\",'Measure Recommendation'!AF59)","v":""},{"$f":"IF(A57=\"\",\"\",'Measure Recommendation'!AH59)","v":""}]
[{"$f":"IF('Measure Recommendation'!$I60=\"\",\"\",IF('Measure Recommendation'!$X60=\"Yes\",'Measure Recommendation'!$D60,\"\"))","v":""},{"$f":"IF(A58=\"\",\"\",'Measure Recommendation'!I60)","v":""},null,null,null,{"$f":"IF(A58=\"\",\"\",'Measure Recommendation'!AE60)","v":""},{"$f":"IF(A58=\"\",\"\",'Measure Recommendation'!AG60)","v":""},{"$f":"IF(B58=\"\",\"\",'Measure Recommendation'!AF60)","v":""},{"$f":"IF(A58=\"\",\"\",'Measure Recommendation'!AH60)","v":""}]
["Total",null,null,null,null,{"$f":"SUM(F39:F58)","v":0},{"$f":"SUM(G39:G58)","v":0},0,0]
[]
["ECM Implemented Sequences of Operation"]
["Sequences of operations outlined below for your reference in the event changes are made to the system. Please refer to ECM - Diagnostic and Calculation Plan for further details. "]
[]
[]
[{"$f":"IF(A39=\"\",\"\",\"ECM #\")","v":""},{"$f":"IF(A65=\"\",\"\",A39&\" - \"&B39)","v":""}]
[{"$f":"IF(B65=\"\",\"\", \"Equipment Affected and Areas Served:\")","v":""}]
[{"$f":"IF(B65=\"\",\"\",'ECM1'!C49)","v":""}]
[{"$f":"IF(B65=\"\",\"\",\"Measure Description: \")","v":""}]
[{"$f":"IF(B65=\"\",\"\",'ECM1'!C51)","v":""}]
[{"$f":"IF(B65=\"\",\"\",\"Implemented Sequences of Operation and Set Points: \")","v":""}]
[{"$f":"IF(B65=\"\",\"\",'ECM1'!C53)","v":""}]
[]
[{"$f":"IF(A40=\"\",\"\",\"ECM #\")","v":""},{"$f":"IF(A73=\"\",\"\",A40&\" - \"&B40)","v":""}]
[{"$f":"IF(B73=\"\",\"\", \"Equipment Affected and Areas Served:\")","v":""}]
[{"$f":"IF(B73=\"\",\"\",'ECM2'!C49)","v":""}]
[{"$f":"IF(B73=\"\",\"\",\"Measure Description: \")","v":""}]
[{"$f":"IF(B73=\"\",\"\",'ECM2'!C51)","v":""}]
[{"$f":"IF(B73=\"\",\"\",\"Implemented Sequences of Operation and Set Points: \")","v":""}]
[{"$f":"IF(B73=\"\",\"\",'ECM2'!C53)","v":""}]
[]
[{"$f":"IF(A41=\"\",\"\",\"ECM #\")","v":""},{"$f":"IF(A81=\"\",\"\",A41&\" - \"&B41)","v":""}]
[{"$f":"IF(B81=\"\",\"\", \"Equipment Affected and Areas Served:\")","v":""}]
[{"$f":"IF(B81=\"\",\"\",'ECM3'!C49)","v":""}]
[{"$f":"IF(B81=\"\",\"\",\"Measure Description: \")","v":""}]
[{"$f":"IF(B81=\"\",\"\",'ECM3'!C51)","v":""}]
[{"$f":"IF(B81=\"\",\"\",\"Implemented Sequences of Operation and Set Points: \")","v":""}]
[{"$f":"IF(B81=\"\",\"\",'ECM3'!C53)","v":""}]
[]
[{"$f":"IF(A42=\"\",\"\",\"ECM #\")","v":""},{"$f":"IF(A89=\"\",\"\",A42&\" - \"&B42)","v":""}]
[{"$f":"IF(B89=\"\",\"\", \"Equipment Affected and Areas Served:\")","v":""}]
[{"$f":"IF(B89=\"\",\"\",'ECM4'!C49)","v":""}]
[{"$f":"IF(B89=\"\",\"\",\"Measure Description: \")","v":""}]
[{"$f":"IF(B89=\"\",\"\",'ECM4'!C51)","v":""}]
[{"$f":"IF(B89=\"\",\"\",\"Implemented Sequences of Operation and Set Points: \")","v":""}]
[{"$f":"IF(B89=\"\",\"\",'ECM4'!C53)","v":""}]
[]
[{"$f":"IF(A43=\"\",\"\",\"ECM #\")","v":""},{"$f":"IF(A97=\"\",\"\",A43&\" - \"&B43)","v":""}]
[{"$f":"IF(B97=\"\",\"\", \"Equipment Affected and Areas Served:\")","v":""}]
[{"$f":"IF(B97=\"\",\"\",'ECM5'!C49)","v":""}]
[{"$f":"IF(B97=\"\",\"\",\"Measure Description: \")","v":""}]
[{"$f":"IF(B97=\"\",\"\",'ECM5'!C51)","v":""}]
[{"$f":"IF(B97=\"\",\"\",\"Implemented Sequences of Operation and Set Points: \")","v":""}]
[{"$f":"IF(B97=\"\",\"\",'ECM5'!C53)","v":""}]
[]
[{"$f":"IF(A44=\"\",\"\",\"ECM #\")","v":""},{"$f":"IF(A105=\"\",\"\",A44&\" - \"&B44)","v":""}]
[{"$f":"IF(B105=\"\",\"\", \"Equipment Affected and Areas Served:\")","v":""}]
[{"$f":"IF(B105=\"\",\"\",'ECM6'!C49)","v":""}]
[{"$f":"IF(B105=\"\",\"\",\"Measure Description: \")","v":""}]
[{"$f":"IF(B105=\"\",\"\",'ECM6'!C51)","v":""}]
[{"$f":"IF(B105=\"\",\"\",\"Implemented Sequences of Operation and Set Points: \")","v":""}]
[{"$f":"IF(B105=\"\",\"\",'ECM6'!C53)","v":""}]
[]
[{"$f":"IF(A45=\"\",\"\",\"ECM #\")","v":""},{"$f":"IF(A113=\"\",\"\",A45&\" - \"&B45)","v":""}]
[{"$f":"IF(B113=\"\",\"\", \"Equipment Affected and Areas Served:\")","v":""}]
[{"$f":"IF(B113=\"\",\"\",'ECM7'!C49)","v":""}]
[{"$f":"IF(B113=\"\",\"\",\"Measure Description: \")","v":""}]
[{"$f":"IF(B113=\"\",\"\",'ECM7'!C51)","v":""}]
[{"$f":"IF(B113=\"\",\"\",\"Implemented Sequences of Operation and Set Points: \")","v":""}]
[{"$f":"IF(B113=\"\",\"\",'ECM7'!C53)","v":""}]
[]
[{"$f":"IF(A46=\"\",\"\",\"ECM #\")","v":""},{"$f":"IF(A121=\"\",\"\",A46&\" - \"&B46)","v":""}]
[{"$f":"IF(B121=\"\",\"\", \"Equipment Affected and Areas Served:\")","v":""}]
[{"$f":"IF(B121=\"\",\"\",'ECM8'!C49)","v":""}]
[{"$f":"IF(B121=\"\",\"\",\"Measure Description: \")","v":""}]
[{"$f":"IF(B121=\"\",\"\",'ECM8'!C51)","v":""}]
[{"$f":"IF(B121=\"\",\"\",\"Implemented Sequences of Operation and Set Points: \")","v":""}]
[{"$f":"IF(B121=\"\",\"\",'ECM8'!C53)","v":""}]
[]
[{"$f":"IF(A47=\"\",\"\",\"ECM #\")","v":""},{"$f":"IF(A129=\"\",\"\",A47&\" - \"&B47)","v":""}]
[{"$f":"IF(B129=\"\",\"\", \"Equipment Affected and Areas Served:\")","v":""}]
[{"$f":"IF(B129=\"\",\"\",'ECM9'!C49)","v":""}]
[{"$f":"IF(B129=\"\",\"\",\"Measure Description: \")","v":""}]
[{"$f":"IF(B129=\"\",\"\",'ECM9'!C51)","v":""}]
[{"$f":"IF(B129=\"\",\"\",\"Implemented Sequences of Operation and Set Points: \")","v":""}]
[{"$f":"IF(B129=\"\",\"\",'ECM9'!C53)","v":""}]
[]
[{"$f":"IF(A48=\"\",\"\",\"ECM #\")","v":""},{"$f":"IF(A137=\"\",\"\",A48&\" - \"&B48)","v":""}]
[{"$f":"IF(B137=\"\",\"\", \"Equipment Affected and Areas Served:\")","v":""}]
[{"$f":"IF(B137=\"\",\"\",'ECM10'!C49)","v":""}]
[{"$f":"IF(B137=\"\",\"\",\"Measure Description: \")","v":""}]
[{"$f":"IF(B137=\"\",\"\",'ECM10'!C51)","v":""}]
[{"$f":"IF(B137=\"\",\"\",\"Implemented Sequences of Operation and Set Points: \")","v":""}]
[{"$f":"IF(B137=\"\",\"\",'ECM10'!C53)","v":""}]
[]
[{"$f":"IF(A49=\"\",\"\",\"ECM #\")","v":""},{"$f":"IF(A145=\"\",\"\",A49&\" - \"&B49)","v":""}]
[{"$f":"IF(B145=\"\",\"\", \"Equipment Affected and Areas Served:\")","v":""}]
[{"$f":"IF(B145=\"\",\"\",'ECM11'!C49)","v":""}]
[{"$f":"IF(B145=\"\",\"\",\"Measure Description: \")","v":""}]
[{"$f":"IF(B145=\"\",\"\",'ECM11'!C51)","v":""}]
[{"$f":"IF(B145=\"\",\"\",\"Implemented Sequences of Operation and Set Points: \")","v":""}]
[{"$f":"IF(B145=\"\",\"\",'ECM11'!C53)","v":""}]
[]
[{"$f":"IF(A50=\"\",\"\",\"ECM #\")","v":""},{"$f":"IF(A153=\"\",\"\",A50&\" - \"&B50)","v":""}]
[{"$f":"IF(B153=\"\",\"\", \"Equipment Affected and Areas Served:\")","v":""}]
[{"$f":"IF(B153=\"\",\"\",'ECM12'!C49)","v":""}]
[{"$f":"IF(B153=\"\",\"\",\"Measure Description: \")","v":""}]
[{"$f":"IF(B153=\"\",\"\",'ECM12'!C51)","v":""}]
[{"$f":"IF(B153=\"\",\"\",\"Implemented Sequences of Operation and Set Points: \")","v":""}]
[{"$f":"IF(B153=\"\",\"\",'ECM12'!C53)","v":""}]
[]
[{"$f":"IF(A51=\"\",\"\",\"ECM #\")","v":""},{"$f":"IF(A161=\"\",\"\",A51&\" - \"&B51)","v":""}]
[{"$f":"IF(B161=\"\",\"\", \"Equipment Affected and Areas Served:\")","v":""}]
[{"$f":"IF(B161=\"\",\"\",'ECM13'!C49)","v":""}]
[{"$f":"IF(B161=\"\",\"\",\"Measure Description: \")","v":""}]
[{"$f":"IF(B161=\"\",\"\",'ECM13'!C51)","v":""}]
[{"$f":"IF(B161=\"\",\"\",\"Implemented Sequences of Operation and Set Points: \")","v":""}]
[{"$f":"IF(B161=\"\",\"\",'ECM13'!C53)","v":""}]
[]
[{"$f":"IF(A52=\"\",\"\",\"ECM #\")","v":""},{"$f":"IF(A169=\"\",\"\",A52&\" - \"&B52)","v":""}]
[{"$f":"IF(B169=\"\",\"\", \"Equipment Affected and Areas Served:\")","v":""}]
[{"$f":"IF(B169=\"\",\"\",'ECM14'!C49)","v":""}]
[{"$f":"IF(B169=\"\",\"\",\"Measure Description: \")","v":""}]
[{"$f":"IF(B169=\"\",\"\",'ECM14'!C51)","v":""}]
[{"$f":"IF(B169=\"\",\"\",\"Implemented Sequences of Operation and Set Points: \")","v":""}]
[{"$f":"IF(B169=\"\",\"\",'ECM14'!C53)","v":""}]
[]
[{"$f":"IF(A53=\"\",\"\",\"ECM #\")","v":""},{"$f":"IF(A177=\"\",\"\",A53&\" - \"&B53)","v":""}]
[{"$f":"IF(B177=\"\",\"\", \"Equipment Affected and Areas Served:\")","v":""}]
[{"$f":"IF(B177=\"\",\"\",'ECM15'!C49)","v":""}]
[{"$f":"IF(B177=\"\",\"\",\"Measure Description: \")","v":""}]
[{"$f":"IF(B177=\"\",\"\",'ECM15'!C51)","v":""}]
[{"$f":"IF(B177=\"\",\"\",\"Implemented Sequences of Operation and Set Points: \")","v":""}]
[{"$f":"IF(B177=\"\",\"\",'ECM15'!C53)","v":""}]
[]
[{"$f":"IF(A54=\"\",\"\",\"ECM #\")","v":""},{"$f":"IF(A185=\"\",\"\",A54&\" - \"&B54)","v":""}]
[{"$f":"IF(B185=\"\",\"\", \"Equipment Affected and Areas Served:\")","v":""}]
[{"$f":"IF(B185=\"\",\"\",'ECM16'!C49)","v":""}]
[{"$f":"IF(B185=\"\",\"\",\"Measure Description: \")","v":""}]
[{"$f":"IF(B185=\"\",\"\",'ECM16'!C51)","v":""}]
[{"$f":"IF(B185=\"\",\"\",\"Implemented Sequences of Operation and Set Points: \")","v":""}]
[{"$f":"IF(B185=\"\",\"\",'ECM16'!C53)","v":""}]
[]
[{"$f":"IF(A55=\"\",\"\",\"ECM #\")","v":""},{"$f":"IF(A193=\"\",\"\",A55&\" - \"&B55)","v":""}]
[{"$f":"IF(B193=\"\",\"\", \"Equipment Affected and Areas Served:\")","v":""}]
[{"$f":"IF(B193=\"\",\"\",'ECM17'!C49)","v":""}]
[{"$f":"IF(B193=\"\",\"\",\"Measure Description: \")","v":""}]
[{"$f":"IF(B193=\"\",\"\",'ECM17'!C51)","v":""}]
[{"$f":"IF(B193=\"\",\"\",\"Implemented Sequences of Operation and Set Points: \")","v":""}]
[{"$f":"IF(B193=\"\",\"\",'ECM17'!C53)","v":""}]
[]
[{"$f":"IF(A56=\"\",\"\",\"ECM #\")","v":""},{"$f":"IF(A201=\"\",\"\",A56&\" - \"&B56)","v":""}]
[{"$f":"IF(B201=\"\",\"\", \"Equipment Affected and Areas Served:\")","v":""}]
[{"$f":"IF(B201=\"\",\"\",'ECM18'!C49)","v":""}]
[{"$f":"IF(B201=\"\",\"\",\"Measure Description: \")","v":""}]
[{"$f":"IF(B201=\"\",\"\",'ECM18'!C51)","v":""}]
[{"$f":"IF(B201=\"\",\"\",\"Implemented Sequences of Operation and Set Points: \")","v":""}]
[{"$f":"IF(B201=\"\",\"\",'ECM18'!C53)","v":""}]
[]
[{"$f":"IF(A57=\"\",\"\",\"ECM #\")","v":""},{"$f":"IF(A209=\"\",\"\",A57&\" - \"&B57)","v":""}]
[{"$f":"IF(B209=\"\",\"\", \"Equipment Affected and Areas Served:\")","v":""}]
[{"$f":"IF(B209=\"\",\"\",'ECM19'!C49)","v":""}]
[{"$f":"IF(B209=\"\",\"\",\"Measure Description: \")","v":""}]
[{"$f":"IF(B209=\"\",\"\",'ECM19'!C51)","v":""}]
[{"$f":"IF(B209=\"\",\"\",\"Implemented Sequences of Operation and Set Points: \")","v":""}]
[{"$f":"IF(B209=\"\",\"\",'ECM19'!C53)","v":""}]
[]
[{"$f":"IF(A58=\"\",\"\",\"ECM #\")","v":""},{"$f":"IF(A217=\"\",\"\",A58&\" - \"&B58)","v":""}]
[{"$f":"IF(B217=\"\",\"\", \"Equipment Affected and Areas Served:\")","v":""}]
[{"$f":"IF(B217=\"\",\"\",'ECM20'!C49)","v":""}]
[{"$f":"IF(B217=\"\",\"\",\"Measure Description: \")","v":""}]
[{"$f":"IF(B217=\"\",\"\",'ECM20'!C51)","v":""}]
[{"$f":"IF(B217=\"\",\"\",\"Implemented Sequences of Operation and Set Points: \")","v":""}]
[{"$f":"IF(B217=\"\",\"\",'ECM20'!C53)","v":""}]

{"sheet":"MeasPersistBEA","index":72,"n_rows":11,"n_cols":1,"rows_kept":11,"cut":false,"hidden":true,"merged":[[1,0,8,8],[0,0,0,8],[10,0,16,8]]}
[]
["We recommend to continue monitoring your facility energy usage by accessing Business Energy Analyzer (BEA). It is an online tool offered by ComEd where you can review historical energy usage & associated costs. BEA pinpoints high use periods and suggests energy eficiency solutions that may add up to big savings. "]
[]
[]
[]
[]
[]
[]
[]
[]
["Visit ComEd.com/BEA to see how your company is using its electricity.\n\nFor more information about the ComEd Energy Efficiency Program, including applications and incentive amounts, visit ComEd.com/BizIncentives. You can also reach us by phone at 855-433-2700 or email us at BusinessEE@ComEd.com (for businesses) or PublicSectorEE@ComEd.com (for public sector customers)."]

{"sheet":"etrack_inputs","index":73,"n_rows":30,"n_cols":32,"rows_kept":30,"cut":false,"hidden":false,"merged":[[7,1,7,2],[2,1,2,11],[3,1,3,2],[4,1,4,2],[5,1,5,2],[6,1,6,2]]}
[]
[]
[]
[null,"Offering Type:",null,{"$f":"IF(Instructions!F3=\"\",\"\",IF(Instructions!F3=\"RCx Flex\",\"Flex\",IF(Instructions!F3=\"MBCx\",\"MBCx\")))","v":""}]
[null,"Project Name:",null,{"$f":"IF('Contact & Facility Information'!B6=\"\",\"\",'Contact & Facility Information'!B6)","v":""}]
[null,"Service Provider Name",null,{"$f":"IF('Contact & Facility Information'!B12=\"\",\"\",'Contact & Facility Information'!B12)","v":""}]
[null,"Phase: ",null,{"$f":"IF(Instructions!F4=\"\",\"\",Instructions!F4)","v":""}]
[null,"Report Approval Date:",null,{"$f":"IF(IF(Instructions!$F$4=\"Investigation\",Instructions!F12,IF(Instructions!$F$4=\"Verification\",Instructions!F14))>0,IF(Instructions!$F$4=\"Investigation\",Instructions!F12,IF(Instructions!$F$4=\"Verification\",Instructions!F14)),\"\")","v":false}]
[]
[null,"Project Code","Offering Type","Account Number","Phase","Measure Included in Current Upload (X)","ECM #","Standard Measure Type","Standard Measure Name","Standard Measure Name Modifier\n(Required for \"Other\" measures)","Measure Name","Interaction Factor","ComEd Peak Demand Savings (kW)","Total Electrical Energy Savings (kWh/year)","Total Electrical Cost Savings ($/year)","Total Gas Energy Savings (therms/year)","Total Gas Cost Savings ($/year)","District Chilled Water Energy Savings(ton-hrs/year)","District Chilled Water Cost Savings ($/year)","District Chilled Water Equivalent Electric Energy Savings (kWh/year)","District Steam Energy Savings ","District Steam Cost savings($/year)","District Steam Equivalent Gas Energy Savings (therms/year)","Incremental Measure Cost\n($)","Simple Payback (Years)","Standard Calculator Used",null,"Verification Report Approved Date","Bundle #",null,"Implementation Start Date","Implementation End Date"]
[null,{"$f":"Instructions!$I$12","v":0},{"$f":"$D$4","v":""},null,{"$f":"$D$7","v":""},{"$f":"IF(OR(H11=\"\",H11=FALSE),\"\",\"Yes\")","v":""},1,{"$f":"IF(Instructions!$F$4=\"Investigation\",IF('Measure Recommendation'!E17=\"\",\"\",'Measure Recommendation'!E17),IF(Instructions!$F$4=\"Verification\",IF('Measure Recommendation'!E41=\"\",\"\",'Measure Recommendation'!E41)))","v":false},{"$f":"IF(Instructions!$F$4=\"Investigation\",IF('Measure Recommendation'!F17=\"\",\"\",'Measure Recommendation'!F17),IF(Instructions!$F$4=\"Verification\",IF('Measure Recommendation'!F41=\"\",\"\",'Measure Recommendation'!F41)))","v":false},{"$f":"IF(Instructions!$F$4=\"Investigation\",IF('Measure Recommendation'!H17=\"\",\"\",'Measure Recommendation'!H17),IF(Instructions!$F$4=\"Verification\",IF('Measure Recommendation'!H41=\"\",\"\",'Measure Recommendation'!H41)))","v":false},{"$f":"IF(Instructions!$F$4=\"Investigation\",IF('Measure Recommendation'!I17=\"\",\"\",'Measure Recommendation'!I17),IF(Instructions!$F$4=\"Verification\",IF('Measure Recommendation'!I41=\"\",\"\",'Measure Recommendation'!I41)))","v":false},{"$f":"IF(Instructions!$F$4=\"Investigation\",IF('Measure Recommendation'!J17=\"\",\"\",'Measure Recommendation'!J17),IF(Instructions!$F$4=\"Verification\",IF('Measure Recommendation'!J41=\"\",\"\",'Measure Recommendation'!J41)))","v":false},{"$f":"IF(Instructions!$F$4=\"Investigation\",IF('Measure Recommendation'!K17=\"\",\"\",'Measure Recommendation'!K17),IF(Instructions!$F$4=\"Verification\",IF('Measure Recommendation'!K41=\"\",\"\",'Measure Recommendation'!K41)))","v":false},{"$f":"IF(Instructions!$F$4=\"Investigation\",IF('Measure Recommendation'!AE17=\"\",\"\",'Measure Recommendation'!AE17),IF(Instructions!$F$4=\"Verification\",IF('Measure Recommendation'!AE41=\"\",\"\",'Measure Recommendation'!AE41)))","v":false},{"$f":"IF(Instructions!$F$4=\"Investigation\",IF('Measure Recommendation'!AF17=\"\",\"\",'Measure Recommendation'!AF17),IF(Instructions!$F$4=\"Verification\",IF('Measure Recommendation'!AF41=\"\",\"\",'Measure Recommendation'!AF41)))","v":false},{"$f":"IF(Instructions!$F$4=\"Investigation\",IF('Measure Recommendation'!AG17=\"\",\"\",'Measure Recommendation'!AG17),IF(Instructions!$F$4=\"Verification\",IF('Measure Recommendation'!AG41=\"\",\"\",'Measure Recommendation'!AG41)))","v":false},{"$f":"IF(Instructions!$F$4=\"Investigation\",IF('Measure Recommendation'!AH17=\"\",\"\",'Measure Recommendation'!AH17),IF(Instructions!$F$4=\"Verification\",IF('Measure Recommendation'!AH41=\"\",\"\",'Measure Recommendation'!AH41)))","v":false},0,0,0,0,0,0,{"$f":"IF(Instructions!$F$4=\"Investigation\",IF('Measure Recommendation'!V17=\"\",0,'Measure Recommendation'!V17),IF(Instructions!$F$4=\"Verification\",IF('Measure Recommendation'!V41=\"\",0,'Measure Recommendation'!V41)))","v":false},{"$f":"IF(Instructions!$F$4=\"Investigation\",IF('Measure Recommendation'!W17=\"\",0,'Measure Recommendation'!W17),IF(Instructions!$F$4=\"Verification\",IF('Measure Recommendation'!W41=\"\",0,'Measure Recommendation'!W41)))","v":false},0,null,{"$f":"IF(Instructions!$F$4=\"Investigation\",\"\",IF(Instructions!$F$4=\"Verification\",IF('Measure Recommendation'!AB41=\"\",\"\",'Measure Recommendation'!AB41)))","v":false},{"$f":"IF(Instructions!$F$4=\"Investigation\",IF('Measure Recommendation'!C17=\"\",\"\",'Measure Recommendation'!C17),IF(Instructions!$F$4=\"Verification\",IF('Measure Recommendation'!C41=\"\",\"\",'Measure Recommendation'!C41)))","v":false},null,{"$f":"IF(Instructions!$F$4=\"Investigation\",\"\",IF(Instructions!$F$4=\"Verification\",IF('Measure Recommendation'!Y41=\"\",\"\",'Measure Recommendation'!Y41)))","v":false},{"$f":"IF(Instructions!$F$4=\"Investigation\",\"\",IF(Instructions!$F$4=\"Verification\",IF('Measure Recommendation'!Z41=\"\",\"\",'Measure Recommendation'!Z41)))","v":false}]
[null,{"$f":"Instructions!$I$12","v":0},{"$f":"$D$4","v":""},null,{"$f":"$D$7","v":""},{"$f":"IF(OR(H12=\"\",H12=FALSE),\"\",\"Yes\")","v":""},2,{"$f":"IF(Instructions!$F$4=\"Investigation\",IF('Measure Recommendation'!E18=\"\",\"\",'Measure Recommendation'!E18),IF(Instructions!$F$4=\"Verification\",IF('Measure Recommendation'!E42=\"\",\"\",'Measure Recommendation'!E42)))","v":false},{"$f":"IF(Instructions!$F$4=\"Investigation\",IF('Measure Recommendation'!F18=\"\",\"\",'Measure Recommendation'!F18),IF(Instructions!$F$4=\"Verification\",IF('Measure Recommendation'!F42=\"\",\"\",'Measure Recommendation'!F42)))","v":false},{"$f":"IF(Instructions!$F$4=\"Investigation\",IF('Measure Recommendation'!H18=\"\",\"\",'Measure Recommendation'!H18),IF(Instructions!$F$4=\"Verification\",IF('Measure Recommendation'!H42=\"\",\"\",'Measure Recommendation'!H42)))","v":false},{"$f":"IF(Instructions!$F$4=\"Investigation\",IF('Measure Recommendation'!I18=\"\",\"\",'Measure Recommendation'!I18),IF(Instructions!$F$4=\"Verification\",IF('Measure Recommendation'!I42=\"\",\"\",'Measure Recommendation'!I42)))","v":false},{"$f":"IF(Instructions!$F$4=\"Investigation\",IF('Measure Recommendation'!J18=\"\",\"\",'Measure Recommendation'!J18),IF(Instructions!$F$4=\"Verification\",IF('Measure Recommendation'!J42=\"\",\"\",'Measure Recommendation'!J42)))","v":false},{"$f":"IF(Instructions!$F$4=\"Investigation\",IF('Measure Recommendation'!K18=\"\",\"\",'Measure Recommendation'!K18),IF(Instructions!$F$4=\"Verification\",IF('Measure Recommendation'!K42=\"\",\"\",'Measure Recommendation'!K42)))","v":false},{"$f":"IF(Instructions!$F$4=\"Investigation\",IF('Measure Recommendation'!AE18=\"\",\"\",'Measure Recommendation'!AE18),IF(Instructions!$F$4=\"Verification\",IF('Measure Recommendation'!AE42=\"\",\"\",'Measure Recommendation'!AE42)))","v":false},{"$f":"IF(Instructions!$F$4=\"Investigation\",IF('Measure Recommendation'!AF18=\"\",\"\",'Measure Recommendation'!AF18),IF(Instructions!$F$4=\"Verification\",IF('Measure Recommendation'!AF42=\"\",\"\",'Measure Recommendation'!AF42)))","v":false},{"$f":"IF(Instructions!$F$4=\"Investigation\",IF('Measure Recommendation'!AG18=\"\",\"\",'Measure Recommendation'!AG18),IF(Instructions!$F$4=\"Verification\",IF('Measure Recommendation'!AG42=\"\",\"\",'Measure Recommendation'!AG42)))","v":false},{"$f":"IF(Instructions!$F$4=\"Investigation\",IF('Measure Recommendation'!AH18=\"\",\"\",'Measure Recommendation'!AH18),IF(Instructions!$F$4=\"Verification\",IF('Measure Recommendation'!AH42=\"\",\"\",'Measure Recommendation'!AH42)))","v":false},0,0,0,0,0,0,{"$f":"IF(Instructions!$F$4=\"Investigation\",IF('Measure Recommendation'!V18=\"\",0,'Measure Recommendation'!V18),IF(Instructions!$F$4=\"Verification\",IF('Measure Recommendation'!V42=\"\",0,'Measure Recommendation'!V42)))","v":false},{"$f":"IF(Instructions!$F$4=\"Investigation\",IF('Measure Recommendation'!W18=\"\",0,'Measure Recommendation'!W18),IF(Instructions!$F$4=\"Verification\",IF('Measure Recommendation'!W42=\"\",0,'Measure Recommendation'!W42)))","v":false},0,null,{"$f":"IF(Instructions!$F$4=\"Investigation\",\"\",IF(Instructions!$F$4=\"Verification\",IF('Measure Recommendation'!AB42=\"\",\"\",'Measure Recommendation'!AB42)))","v":false},{"$f":"IF(Instructions!$F$4=\"Investigation\",IF('Measure Recommendation'!C18=\"\",\"\",'Measure Recommendation'!C18),IF(Instructions!$F$4=\"Verification\",IF('Measure Recommendation'!C42=\"\",\"\",'Measure Recommendation'!C42)))","v":false},null,{"$f":"IF(Instructions!$F$4=\"Investigation\",\"\",IF(Instructions!$F$4=\"Verification\",IF('Measure Recommendation'!Y42=\"\",\"\",'Measure Recommendation'!Y42)))","v":false},{"$f":"IF(Instructions!$F$4=\"Investigation\",\"\",IF(Instructions!$F$4=\"Verification\",IF('Measure Recommendation'!Z42=\"\",\"\",'Measure Recommendation'!Z42)))","v":false}]
[null,{"$f":"Instructions!$I$12","v":0},"",null,"","",3,{"$f":"IF(Instructions!$F$4=\"Investigation\",IF('Measure Recommendation'!E19=\"\",\"\",'Measure Recommendation'!E19),IF(Instructions!$F$4=\"Verification\",IF('Measure Recommendation'!E43=\"\",\"\",'Measure Recommendation'!E43)))","v":false},{"$f":"IF(Instructions!$F$4=\"Investigation\",IF('Measure Recommendation'!F19=\"\",\"\",'Measure Recommendation'!F19),IF(Instructions!$F$4=\"Verification\",IF('Measure Recommendation'!F43=\"\",\"\",'Measure Recommendation'!F43)))","v":false},{"$f":"IF(Instructions!$F$4=\"Investigation\",IF('Measure Recommendation'!H19=\"\",\"\",'Measure Recommendation'!H19),IF(Instructions!$F$4=\"Verification\",IF('Measure Recommendation'!H43=\"\",\"\",'Measure Recommendation'!H43)))","v":false},{"$f":"IF(Instructions!$F$4=\"Investigation\",IF('Measure Recommendation'!I19=\"\",\"\",'Measure Recommendation'!I19),IF(Instructions!$F$4=\"Verification\",IF('Measure Recommendation'!I43=\"\",\"\",'Measure Recommendation'!I43)))","v":false},{"$f":"IF(Instructions!$F$4=\"Investigation\",IF('Measure Recommendation'!J19=\"\",\"\",'Measure Recommendation'!J19),IF(Instructions!$F$4=\"Verification\",IF('Measure Recommendation'!J43=\"\",\"\",'Measure Recommendation'!J43)))","v":false},{"$f":"IF(Instructions!$F$4=\"Investigation\",IF('Measure Recommendation'!K19=\"\",\"\",'Measure Recommendation'!K19),IF(Instructions!$F$4=\"Verification\",IF('Measure Recommendation'!K43=\"\",\"\",'Measure Recommendation'!K43)))","v":false},{"$f":"IF(Instructions!$F$4=\"Investigation\",IF('Measure Recommendation'!AE19=\"\",\"\",'Measure Recommendation'!AE19),IF(Instructions!$F$4=\"Verification\",IF('Measure Recommendation'!AE43=\"\",\"\",'Measure Recommendation'!AE43)))","v":false},{"$f":"IF(Instructions!$F$4=\"Investigation\",IF('Measure Recommendation'!AF19=\"\",\"\",'Measure Recommendation'!AF19),IF(Instructions!$F$4=\"Verification\",IF('Measure Recommendation'!AF43=\"\",\"\",'Measure Recommendation'!AF43)))","v":false},{"$f":"IF(Instructions!$F$4=\"Investigation\",IF('Measure Recommendation'!AG19=\"\",\"\",'Measure Recommendation'!AG19),IF(Instructions!$F$4=\"Verification\",IF('Measure Recommendation'!AG43=\"\",\"\",'Measure Recommendation'!AG43)))","v":false},{"$f":"IF(Instructions!$F$4=\"Investigation\",IF('Measure Recommendation'!AH19=\"\",\"\",'Measure Recommendation'!AH19),IF(Instructions!$F$4=\"Verification\",IF('Measure Recommendation'!AH43=\"\",\"\",'Measure Recommendation'!AH43)))","v":false},0,0,0,0,0,0,{"$f":"IF(Instructions!$F$4=\"Investigation\",IF('Measure Recommendation'!V19=\"\",0,'Measure Recommendation'!V19),IF(Instructions!$F$4=\"Verification\",IF('Measure Recommendation'!V43=\"\",0,'Measure Recommendation'!V43)))","v":false},{"$f":"IF(Instructions!$F$4=\"Investigation\",IF('Measure Recommendation'!W19=\"\",0,'Measure Recommendation'!W19),IF(Instructions!$F$4=\"Verification\",IF('Measure Recommendation'!W43=\"\",0,'Measure Recommendation'!W43)))","v":false},0,null,{"$f":"IF(Instructions!$F$4=\"Investigation\",\"\",IF(Instructions!$F$4=\"Verification\",IF('Measure Recommendation'!AB43=\"\",\"\",'Measure Recommendation'!AB43)))","v":false},{"$f":"IF(Instructions!$F$4=\"Investigation\",IF('Measure Recommendation'!C19=\"\",\"\",'Measure Recommendation'!C19),IF(Instructions!$F$4=\"Verification\",IF('Measure Recommendation'!C43=\"\",\"\",'Measure Recommendation'!C43)))","v":false},null,{"$f":"IF(Instructions!$F$4=\"Investigation\",\"\",IF(Instructions!$F$4=\"Verification\",IF('Measure Recommendation'!Y43=\"\",\"\",'Measure Recommendation'!Y43)))","v":false},{"$f":"IF(Instructions!$F$4=\"Investigation\",\"\",IF(Instructions!$F$4=\"Verification\",IF('Measure Recommendation'!Z43=\"\",\"\",'Measure Recommendation'!Z43)))","v":false}]
[null,{"$f":"Instructions!$I$12","v":0},"",null,"","",4,{"$f":"IF(Instructions!$F$4=\"Investigation\",IF('Measure Recommendation'!E20=\"\",\"\",'Measure Recommendation'!E20),IF(Instructions!$F$4=\"Verification\",IF('Measure Recommendation'!E44=\"\",\"\",'Measure Recommendation'!E44)))","v":false},{"$f":"IF(Instructions!$F$4=\"Investigation\",IF('Measure Recommendation'!F20=\"\",\"\",'Measure Recommendation'!F20),IF(Instructions!$F$4=\"Verification\",IF('Measure Recommendation'!F44=\"\",\"\",'Measure Recommendation'!F44)))","v":false},{"$f":"IF(Instructions!$F$4=\"Investigation\",IF('Measure Recommendation'!H20=\"\",\"\",'Measure Recommendation'!H20),IF(Instructions!$F$4=\"Verification\",IF('Measure Recommendation'!H44=\"\",\"\",'Measure Recommendation'!H44)))","v":false},{"$f":"IF(Instructions!$F$4=\"Investigation\",IF('Measure Recommendation'!I20=\"\",\"\",'Measure Recommendation'!I20),IF(Instructions!$F$4=\"Verification\",IF('Measure Recommendation'!I44=\"\",\"\",'Measure Recommendation'!I44)))","v":false},{"$f":"IF(Instructions!$F$4=\"Investigation\",IF('Measure Recommendation'!J20=\"\",\"\",'Measure Recommendation'!J20),IF(Instructions!$F$4=\"Verification\",IF('Measure Recommendation'!J44=\"\",\"\",'Measure Recommendation'!J44)))","v":false},{"$f":"IF(Instructions!$F$4=\"Investigation\",IF('Measure Recommendation'!K20=\"\",\"\",'Measure Recommendation'!K20),IF(Instructions!$F$4=\"Verification\",IF('Measure Recommendation'!K44=\"\",\"\",'Measure Recommendation'!K44)))","v":false},{"$f":"IF(Instructions!$F$4=\"Investigation\",IF('Measure Recommendation'!AE20=\"\",\"\",'Measure Recommendation'!AE20),IF(Instructions!$F$4=\"Verification\",IF('Measure Recommendation'!AE44=\"\",\"\",'Measure Recommendation'!AE44)))","v":false},{"$f":"IF(Instructions!$F$4=\"Investigation\",IF('Measure Recommendation'!AF20=\"\",\"\",'Measure Recommendation'!AF20),IF(Instructions!$F$4=\"Verification\",IF('Measure Recommendation'!AF44=\"\",\"\",'Measure Recommendation'!AF44)))","v":false},{"$f":"IF(Instructions!$F$4=\"Investigation\",IF('Measure Recommendation'!AG20=\"\",\"\",'Measure Recommendation'!AG20),IF(Instructions!$F$4=\"Verification\",IF('Measure Recommendation'!AG44=\"\",\"\",'Measure Recommendation'!AG44)))","v":false},{"$f":"IF(Instructions!$F$4=\"Investigation\",IF('Measure Recommendation'!AH20=\"\",\"\",'Measure Recommendation'!AH20),IF(Instructions!$F$4=\"Verification\",IF('Measure Recommendation'!AH44=\"\",\"\",'Measure Recommendation'!AH44)))","v":false},0,0,0,0,0,0,{"$f":"IF(Instructions!$F$4=\"Investigation\",IF('Measure Recommendation'!V20=\"\",0,'Measure Recommendation'!V20),IF(Instructions!$F$4=\"Verification\",IF('Measure Recommendation'!V44=\"\",0,'Measure Recommendation'!V44)))","v":false},{"$f":"IF(Instructions!$F$4=\"Investigation\",IF('Measure Recommendation'!W20=\"\",0,'Measure Recommendation'!W20),IF(Instructions!$F$4=\"Verification\",IF('Measure Recommendation'!W44=\"\",0,'Measure Recommendation'!W44)))","v":false},0,null,{"$f":"IF(Instructions!$F$4=\"Investigation\",\"\",IF(Instructions!$F$4=\"Verification\",IF('Measure Recommendation'!AB44=\"\",\"\",'Measure Recommendation'!AB44)))","v":false},{"$f":"IF(Instructions!$F$4=\"Investigation\",IF('Measure Recommendation'!C20=\"\",\"\",'Measure Recommendation'!C20),IF(Instructions!$F$4=\"Verification\",IF('Measure Recommendation'!C44=\"\",\"\",'Measure Recommendation'!C44)))","v":false},null,{"$f":"IF(Instructions!$F$4=\"Investigation\",\"\",IF(Instructions!$F$4=\"Verification\",IF('Measure Recommendation'!Y44=\"\",\"\",'Measure Recommendation'!Y44)))","v":false},{"$f":"IF(Instructions!$F$4=\"Investigation\",\"\",IF(Instructions!$F$4=\"Verification\",IF('Measure Recommendation'!Z44=\"\",\"\",'Measure Recommendation'!Z44)))","v":false}]
[null,{"$f":"Instructions!$I$12","v":0},"",null,"","",5,{"$f":"IF(Instructions!$F$4=\"Investigation\",IF('Measure Recommendation'!E21=\"\",\"\",'Measure Recommendation'!E21),IF(Instructions!$F$4=\"Verification\",IF('Measure Recommendation'!E45=\"\",\"\",'Measure Recommendation'!E45)))","v":false},{"$f":"IF(Instructions!$F$4=\"Investigation\",IF('Measure Recommendation'!F21=\"\",\"\",'Measure Recommendation'!F21),IF(Instructions!$F$4=\"Verification\",IF('Measure Recommendation'!F45=\"\",\"\",'Measure Recommendation'!F45)))","v":false},{"$f":"IF(Instructions!$F$4=\"Investigation\",IF('Measure Recommendation'!H21=\"\",\"\",'Measure Recommendation'!H21),IF(Instructions!$F$4=\"Verification\",IF('Measure Recommendation'!H45=\"\",\"\",'Measure Recommendation'!H45)))","v":false},{"$f":"IF(Instructions!$F$4=\"Investigation\",IF('Measure Recommendation'!I21=\"\",\"\",'Measure Recommendation'!I21),IF(Instructions!$F$4=\"Verification\",IF('Measure Recommendation'!I45=\"\",\"\",'Measure Recommendation'!I45)))","v":false},{"$f":"IF(Instructions!$F$4=\"Investigation\",IF('Measure Recommendation'!J21=\"\",\"\",'Measure Recommendation'!J21),IF(Instructions!$F$4=\"Verification\",IF('Measure Recommendation'!J45=\"\",\"\",'Measure Recommendation'!J45)))","v":false},{"$f":"IF(Instructions!$F$4=\"Investigation\",IF('Measure Recommendation'!K21=\"\",\"\",'Measure Recommendation'!K21),IF(Instructions!$F$4=\"Verification\",IF('Measure Recommendation'!K45=\"\",\"\",'Measure Recommendation'!K45)))","v":false},{"$f":"IF(Instructions!$F$4=\"Investigation\",IF('Measure Recommendation'!AE21=\"\",\"\",'Measure Recommendation'!AE21),IF(Instructions!$F$4=\"Verification\",IF('Measure Recommendation'!AE45=\"\",\"\",'Measure Recommendation'!AE45)))","v":false},{"$f":"IF(Instructions!$F$4=\"Investigation\",IF('Measure Recommendation'!AF21=\"\",\"\",'Measure Recommendation'!AF21),IF(Instructions!$F$4=\"Verification\",IF('Measure Recommendation'!AF45=\"\",\"\",'Measure Recommendation'!AF45)))","v":false},{"$f":"IF(Instructions!$F$4=\"Investigation\",IF('Measure Recommendation'!AG21=\"\",\"\",'Measure Recommendation'!AG21),IF(Instructions!$F$4=\"Verification\",IF('Measure Recommendation'!AG45=\"\",\"\",'Measure Recommendation'!AG45)))","v":false},{"$f":"IF(Instructions!$F$4=\"Investigation\",IF('Measure Recommendation'!AH21=\"\",\"\",'Measure Recommendation'!AH21),IF(Instructions!$F$4=\"Verification\",IF('Measure Recommendation'!AH45=\"\",\"\",'Measure Recommendation'!AH45)))","v":false},0,0,0,0,0,0,{"$f":"IF(Instructions!$F$4=\"Investigation\",IF('Measure Recommendation'!V21=\"\",0,'Measure Recommendation'!V21),IF(Instructions!$F$4=\"Verification\",IF('Measure Recommendation'!V45=\"\",0,'Measure Recommendation'!V45)))","v":false},{"$f":"IF(Instructions!$F$4=\"Investigation\",IF('Measure Recommendation'!W21=\"\",0,'Measure Recommendation'!W21),IF(Instructions!$F$4=\"Verification\",IF('Measure Recommendation'!W45=\"\",0,'Measure Recommendation'!W45)))","v":false},0,null,{"$f":"IF(Instructions!$F$4=\"Investigation\",\"\",IF(Instructions!$F$4=\"Verification\",IF('Measure Recommendation'!AB45=\"\",\"\",'Measure Recommendation'!AB45)))","v":false},{"$f":"IF(Instructions!$F$4=\"Investigation\",IF('Measure Recommendation'!C21=\"\",\"\",'Measure Recommendation'!C21),IF(Instructions!$F$4=\"Verification\",IF('Measure Recommendation'!C45=\"\",\"\",'Measure Recommendation'!C45)))","v":false},null,{"$f":"IF(Instructions!$F$4=\"Investigation\",\"\",IF(Instructions!$F$4=\"Verification\",IF('Measure Recommendation'!Y45=\"\",\"\",'Measure Recommendation'!Y45)))","v":false},{"$f":"IF(Instructions!$F$4=\"Investigation\",\"\",IF(Instructions!$F$4=\"Verification\",IF('Measure Recommendation'!Z45=\"\",\"\",'Measure Recommendation'!Z45)))","v":false}]
[null,{"$f":"Instructions!$I$12","v":0},"",null,"","",6,{"$f":"IF(Instructions!$F$4=\"Investigation\",IF('Measure Recommendation'!E22=\"\",\"\",'Measure Recommendation'!E22),IF(Instructions!$F$4=\"Verification\",IF('Measure Recommendation'!E46=\"\",\"\",'Measure Recommendation'!E46)))","v":false},{"$f":"IF(Instructions!$F$4=\"Investigation\",IF('Measure Recommendation'!F22=\"\",\"\",'Measure Recommendation'!F22),IF(Instructions!$F$4=\"Verification\",IF('Measure Recommendation'!F46=\"\",\"\",'Measure Recommendation'!F46)))","v":false},{"$f":"IF(Instructions!$F$4=\"Investigation\",IF('Measure Recommendation'!H22=\"\",\"\",'Measure Recommendation'!H22),IF(Instructions!$F$4=\"Verification\",IF('Measure Recommendation'!H46=\"\",\"\",'Measure Recommendation'!H46)))","v":false},{"$f":"IF(Instructions!$F$4=\"Investigation\",IF('Measure Recommendation'!I22=\"\",\"\",'Measure Recommendation'!I22),IF(Instructions!$F$4=\"Verification\",IF('Measure Recommendation'!I46=\"\",\"\",'Measure Recommendation'!I46)))","v":false},{"$f":"IF(Instructions!$F$4=\"Investigation\",IF('Measure Recommendation'!J22=\"\",\"\",'Measure Recommendation'!J22),IF(Instructions!$F$4=\"Verification\",IF('Measure Recommendation'!J46=\"\",\"\",'Measure Recommendation'!J46)))","v":false},{"$f":"IF(Instructions!$F$4=\"Investigation\",IF('Measure Recommendation'!K22=\"\",\"\",'Measure Recommendation'!K22),IF(Instructions!$F$4=\"Verification\",IF('Measure Recommendation'!K46=\"\",\"\",'Measure Recommendation'!K46)))","v":false},{"$f":"IF(Instructions!$F$4=\"Investigation\",IF('Measure Recommendation'!AE22=\"\",\"\",'Measure Recommendation'!AE22),IF(Instructions!$F$4=\"Verification\",IF('Measure Recommendation'!AE46=\"\",\"\",'Measure Recommendation'!AE46)))","v":false},{"$f":"IF(Instructions!$F$4=\"Investigation\",IF('Measure Recommendation'!AF22=\"\",\"\",'Measure Recommendation'!AF22),IF(Instructions!$F$4=\"Verification\",IF('Measure Recommendation'!AF46=\"\",\"\",'Measure Recommendation'!AF46)))","v":false},{"$f":"IF(Instructions!$F$4=\"Investigation\",IF('Measure Recommendation'!AG22=\"\",\"\",'Measure Recommendation'!AG22),IF(Instructions!$F$4=\"Verification\",IF('Measure Recommendation'!AG46=\"\",\"\",'Measure Recommendation'!AG46)))","v":false},{"$f":"IF(Instructions!$F$4=\"Investigation\",IF('Measure Recommendation'!AH22=\"\",\"\",'Measure Recommendation'!AH22),IF(Instructions!$F$4=\"Verification\",IF('Measure Recommendation'!AH46=\"\",\"\",'Measure Recommendation'!AH46)))","v":false},0,0,0,0,0,0,{"$f":"IF(Instructions!$F$4=\"Investigation\",IF('Measure Recommendation'!V22=\"\",0,'Measure Recommendation'!V22),IF(Instructions!$F$4=\"Verification\",IF('Measure Recommendation'!V46=\"\",0,'Measure Recommendation'!V46)))","v":false},{"$f":"IF(Instructions!$F$4=\"Investigation\",IF('Measure Recommendation'!W22=\"\",0,'Measure Recommendation'!W22),IF(Instructions!$F$4=\"Verification\",IF('Measure Recommendation'!W46=\"\",0,'Measure Recommendation'!W46)))","v":false},0,null,{"$f":"IF(Instructions!$F$4=\"Investigation\",\"\",IF(Instructions!$F$4=\"Verification\",IF('Measure Recommendation'!AB46=\"\",\"\",'Measure Recommendation'!AB46)))","v":false},{"$f":"IF(Instructions!$F$4=\"Investigation\",IF('Measure Recommendation'!C22=\"\",\"\",'Measure Recommendation'!C22),IF(Instructions!$F$4=\"Verification\",IF('Measure Recommendation'!C46=\"\",\"\",'Measure Recommendation'!C46)))","v":false},null,{"$f":"IF(Instructions!$F$4=\"Investigation\",\"\",IF(Instructions!$F$4=\"Verification\",IF('Measure Recommendation'!Y46=\"\",\"\",'Measure Recommendation'!Y46)))","v":false},{"$f":"IF(Instructions!$F$4=\"Investigation\",\"\",IF(Instructions!$F$4=\"Verification\",IF('Measure Recommendation'!Z46=\"\",\"\",'Measure Recommendation'!Z46)))","v":false}]
[null,{"$f":"Instructions!$I$12","v":0},"",null,"","",7,{"$f":"IF(Instructions!$F$4=\"Investigation\",IF('Measure Recommendation'!E23=\"\",\"\",'Measure Recommendation'!E23),IF(Instructions!$F$4=\"Verification\",IF('Measure Recommendation'!E47=\"\",\"\",'Measure Recommendation'!E47)))","v":false},{"$f":"IF(Instructions!$F$4=\"Investigation\",IF('Measure Recommendation'!F23=\"\",\"\",'Measure Recommendation'!F23),IF(Instructions!$F$4=\"Verification\",IF('Measure Recommendation'!F47=\"\",\"\",'Measure Recommendation'!F47)))","v":false},{"$f":"IF(Instructions!$F$4=\"Investigation\",IF('Measure Recommendation'!H23=\"\",\"\",'Measure Recommendation'!H23),IF(Instructions!$F$4=\"Verification\",IF('Measure Recommendation'!H47=\"\",\"\",'Measure Recommendation'!H47)))","v":false},{"$f":"IF(Instructions!$F$4=\"Investigation\",IF('Measure Recommendation'!I23=\"\",\"\",'Measure Recommendation'!I23),IF(Instructions!$F$4=\"Verification\",IF('Measure Recommendation'!I47=\"\",\"\",'Measure Recommendation'!I47)))","v":false},{"$f":"IF(Instructions!$F$4=\"Investigation\",IF('Measure Recommendation'!J23=\"\",\"\",'Measure Recommendation'!J23),IF(Instructions!$F$4=\"Verification\",IF('Measure Recommendation'!J47=\"\",\"\",'Measure Recommendation'!J47)))","v":false},{"$f":"IF(Instructions!$F$4=\"Investigation\",IF('Measure Recommendation'!K23=\"\",\"\",'Measure Recommendation'!K23),IF(Instructions!$F$4=\"Verification\",IF('Measure Recommendation'!K47=\"\",\"\",'Measure Recommendation'!K47)))","v":false},{"$f":"IF(Instructions!$F$4=\"Investigation\",IF('Measure Recommendation'!AE23=\"\",\"\",'Measure Recommendation'!AE23),IF(Instructions!$F$4=\"Verification\",IF('Measure Recommendation'!AE47=\"\",\"\",'Measure Recommendation'!AE47)))","v":false},{"$f":"IF(Instructions!$F$4=\"Investigation\",IF('Measure Recommendation'!AF23=\"\",\"\",'Measure Recommendation'!AF23),IF(Instructions!$F$4=\"Verification\",IF('Measure Recommendation'!AF47=\"\",\"\",'Measure Recommendation'!AF47)))","v":false},{"$f":"IF(Instructions!$F$4=\"Investigation\",IF('Measure Recommendation'!AG23=\"\",\"\",'Measure Recommendation'!AG23),IF(Instructions!$F$4=\"Verification\",IF('Measure Recommendation'!AG47=\"\",\"\",'Measure Recommendation'!AG47)))","v":false},{"$f":"IF(Instructions!$F$4=\"Investigation\",IF('Measure Recommendation'!AH23=\"\",\"\",'Measure Recommendation'!AH23),IF(Instructions!$F$4=\"Verification\",IF('Measure Recommendation'!AH47=\"\",\"\",'Measure Recommendation'!AH47)))","v":false},0,0,0,0,0,0,{"$f":"IF(Instructions!$F$4=\"Investigation\",IF('Measure Recommendation'!V23=\"\",0,'Measure Recommendation'!V23),IF(Instructions!$F$4=\"Verification\",IF('Measure Recommendation'!V47=\"\",0,'Measure Recommendation'!V47)))","v":false},{"$f":"IF(Instructions!$F$4=\"Investigation\",IF('Measure Recommendation'!W23=\"\",0,'Measure Recommendation'!W23),IF(Instructions!$F$4=\"Verification\",IF('Measure Recommendation'!W47=\"\",0,'Measure Recommendation'!W47)))","v":false},0,null,{"$f":"IF(Instructions!$F$4=\"Investigation\",\"\",IF(Instructions!$F$4=\"Verification\",IF('Measure Recommendation'!AB47=\"\",\"\",'Measure Recommendation'!AB47)))","v":false},{"$f":"IF(Instructions!$F$4=\"Investigation\",IF('Measure Recommendation'!C23=\"\",\"\",'Measure Recommendation'!C23),IF(Instructions!$F$4=\"Verification\",IF('Measure Recommendation'!C47=\"\",\"\",'Measure Recommendation'!C47)))","v":false},null,{"$f":"IF(Instructions!$F$4=\"Investigation\",\"\",IF(Instructions!$F$4=\"Verification\",IF('Measure Recommendation'!Y47=\"\",\"\",'Measure Recommendation'!Y47)))","v":false},{"$f":"IF(Instructions!$F$4=\"Investigation\",\"\",IF(Instructions!$F$4=\"Verification\",IF('Measure Recommendation'!Z47=\"\",\"\",'Measure Recommendation'!Z47)))","v":false}]
[null,{"$f":"Instructions!$I$12","v":0},"",null,"","",8,{"$f":"IF(Instructions!$F$4=\"Investigation\",IF('Measure Recommendation'!E24=\"\",\"\",'Measure Recommendation'!E24),IF(Instructions!$F$4=\"Verification\",IF('Measure Recommendation'!E48=\"\",\"\",'Measure Recommendation'!E48)))","v":false},{"$f":"IF(Instructions!$F$4=\"Investigation\",IF('Measure Recommendation'!F24=\"\",\"\",'Measure Recommendation'!F24),IF(Instructions!$F$4=\"Verification\",IF('Measure Recommendation'!F48=\"\",\"\",'Measure Recommendation'!F48)))","v":false},{"$f":"IF(Instructions!$F$4=\"Investigation\",IF('Measure Recommendation'!H24=\"\",\"\",'Measure Recommendation'!H24),IF(Instructions!$F$4=\"Verification\",IF('Measure Recommendation'!H48=\"\",\"\",'Measure Recommendation'!H48)))","v":false},{"$f":"IF(Instructions!$F$4=\"Investigation\",IF('Measure Recommendation'!I24=\"\",\"\",'Measure Recommendation'!I24),IF(Instructions!$F$4=\"Verification\",IF('Measure Recommendation'!I48=\"\",\"\",'Measure Recommendation'!I48)))","v":false},{"$f":"IF(Instructions!$F$4=\"Investigation\",IF('Measure Recommendation'!J24=\"\",\"\",'Measure Recommendation'!J24),IF(Instructions!$F$4=\"Verification\",IF('Measure Recommendation'!J48=\"\",\"\",'Measure Recommendation'!J48)))","v":false},{"$f":"IF(Instructions!$F$4=\"Investigation\",IF('Measure Recommendation'!K24=\"\",\"\",'Measure Recommendation'!K24),IF(Instructions!$F$4=\"Verification\",IF('Measure Recommendation'!K48=\"\",\"\",'Measure Recommendation'!K48)))","v":false},{"$f":"IF(Instructions!$F$4=\"Investigation\",IF('Measure Recommendation'!AE24=\"\",\"\",'Measure Recommendation'!AE24),IF(Instructions!$F$4=\"Verification\",IF('Measure Recommendation'!AE48=\"\",\"\",'Measure Recommendation'!AE48)))","v":false},{"$f":"IF(Instructions!$F$4=\"Investigation\",IF('Measure Recommendation'!AF24=\"\",\"\",'Measure Recommendation'!AF24),IF(Instructions!$F$4=\"Verification\",IF('Measure Recommendation'!AF48=\"\",\"\",'Measure Recommendation'!AF48)))","v":false},{"$f":"IF(Instructions!$F$4=\"Investigation\",IF('Measure Recommendation'!AG24=\"\",\"\",'Measure Recommendation'!AG24),IF(Instructions!$F$4=\"Verification\",IF('Measure Recommendation'!AG48=\"\",\"\",'Measure Recommendation'!AG48)))","v":false},{"$f":"IF(Instructions!$F$4=\"Investigation\",IF('Measure Recommendation'!AH24=\"\",\"\",'Measure Recommendation'!AH24),IF(Instructions!$F$4=\"Verification\",IF('Measure Recommendation'!AH48=\"\",\"\",'Measure Recommendation'!AH48)))","v":false},0,0,0,0,0,0,{"$f":"IF(Instructions!$F$4=\"Investigation\",IF('Measure Recommendation'!V24=\"\",0,'Measure Recommendation'!V24),IF(Instructions!$F$4=\"Verification\",IF('Measure Recommendation'!V48=\"\",0,'Measure Recommendation'!V48)))","v":false},{"$f":"IF(Instructions!$F$4=\"Investigation\",IF('Measure Recommendation'!W24=\"\",0,'Measure Recommendation'!W24),IF(Instructions!$F$4=\"Verification\",IF('Measure Recommendation'!W48=\"\",0,'Measure Recommendation'!W48)))","v":false},0,null,{"$f":"IF(Instructions!$F$4=\"Investigation\",\"\",IF(Instructions!$F$4=\"Verification\",IF('Measure Recommendation'!AB48=\"\",\"\",'Measure Recommendation'!AB48)))","v":false},{"$f":"IF(Instructions!$F$4=\"Investigation\",IF('Measure Recommendation'!C24=\"\",\"\",'Measure Recommendation'!C24),IF(Instructions!$F$4=\"Verification\",IF('Measure Recommendation'!C48=\"\",\"\",'Measure Recommendation'!C48)))","v":false},null,{"$f":"IF(Instructions!$F$4=\"Investigation\",\"\",IF(Instructions!$F$4=\"Verification\",IF('Measure Recommendation'!Y48=\"\",\"\",'Measure Recommendation'!Y48)))","v":false},{"$f":"IF(Instructions!$F$4=\"Investigation\",\"\",IF(Instructions!$F$4=\"Verification\",IF('Measure Recommendation'!Z48=\"\",\"\",'Measure Recommendation'!Z48)))","v":false}]
[null,{"$f":"Instructions!$I$12","v":0},"",null,"","",9,{"$f":"IF(Instructions!$F$4=\"Investigation\",IF('Measure Recommendation'!E25=\"\",\"\",'Measure Recommendation'!E25),IF(Instructions!$F$4=\"Verification\",IF('Measure Recommendation'!E49=\"\",\"\",'Measure Recommendation'!E49)))","v":false},{"$f":"IF(Instructions!$F$4=\"Investigation\",IF('Measure Recommendation'!F25=\"\",\"\",'Measure Recommendation'!F25),IF(Instructions!$F$4=\"Verification\",IF('Measure Recommendation'!F49=\"\",\"\",'Measure Recommendation'!F49)))","v":false},{"$f":"IF(Instructions!$F$4=\"Investigation\",IF('Measure Recommendation'!H25=\"\",\"\",'Measure Recommendation'!H25),IF(Instructions!$F$4=\"Verification\",IF('Measure Recommendation'!H49=\"\",\"\",'Measure Recommendation'!H49)))","v":false},{"$f":"IF(Instructions!$F$4=\"Investigation\",IF('Measure Recommendation'!I25=\"\",\"\",'Measure Recommendation'!I25),IF(Instructions!$F$4=\"Verification\",IF('Measure Recommendation'!I49=\"\",\"\",'Measure Recommendation'!I49)))","v":false},{"$f":"IF(Instructions!$F$4=\"Investigation\",IF('Measure Recommendation'!J25=\"\",\"\",'Measure Recommendation'!J25),IF(Instructions!$F$4=\"Verification\",IF('Measure Recommendation'!J49=\"\",\"\",'Measure Recommendation'!J49)))","v":false},{"$f":"IF(Instructions!$F$4=\"Investigation\",IF('Measure Recommendation'!K25=\"\",\"\",'Measure Recommendation'!K25),IF(Instructions!$F$4=\"Verification\",IF('Measure Recommendation'!K49=\"\",\"\",'Measure Recommendation'!K49)))","v":false},{"$f":"IF(Instructions!$F$4=\"Investigation\",IF('Measure Recommendation'!AE25=\"\",\"\",'Measure Recommendation'!AE25),IF(Instructions!$F$4=\"Verification\",IF('Measure Recommendation'!AE49=\"\",\"\",'Measure Recommendation'!AE49)))","v":false},{"$f":"IF(Instructions!$F$4=\"Investigation\",IF('Measure Recommendation'!AF25=\"\",\"\",'Measure Recommendation'!AF25),IF(Instructions!$F$4=\"Verification\",IF('Measure Recommendation'!AF49=\"\",\"\",'Measure Recommendation'!AF49)))","v":false},{"$f":"IF(Instructions!$F$4=\"Investigation\",IF('Measure Recommendation'!AG25=\"\",\"\",'Measure Recommendation'!AG25),IF(Instructions!$F$4=\"Verification\",IF('Measure Recommendation'!AG49=\"\",\"\",'Measure Recommendation'!AG49)))","v":false},{"$f":"IF(Instructions!$F$4=\"Investigation\",IF('Measure Recommendation'!AH25=\"\",\"\",'Measure Recommendation'!AH25),IF(Instructions!$F$4=\"Verification\",IF('Measure Recommendation'!AH49=\"\",\"\",'Measure Recommendation'!AH49)))","v":false},0,0,0,0,0,0,{"$f":"IF(Instructions!$F$4=\"Investigation\",IF('Measure Recommendation'!V25=\"\",0,'Measure Recommendation'!V25),IF(Instructions!$F$4=\"Verification\",IF('Measure Recommendation'!V49=\"\",0,'Measure Recommendation'!V49)))","v":false},{"$f":"IF(Instructions!$F$4=\"Investigation\",IF('Measure Recommendation'!W25=\"\",0,'Measure Recommendation'!W25),IF(Instructions!$F$4=\"Verification\",IF('Measure Recommendation'!W49=\"\",0,'Measure Recommendation'!W49)))","v":false},0,null,{"$f":"IF(Instructions!$F$4=\"Investigation\",\"\",IF(Instructions!$F$4=\"Verification\",IF('Measure Recommendation'!AB49=\"\",\"\",'Measure Recommendation'!AB49)))","v":false},{"$f":"IF(Instructions!$F$4=\"Investigation\",IF('Measure Recommendation'!C25=\"\",\"\",'Measure Recommendation'!C25),IF(Instructions!$F$4=\"Verification\",IF('Measure Recommendation'!C49=\"\",\"\",'Measure Recommendation'!C49)))","v":false},null,{"$f":"IF(Instructions!$F$4=\"Investigation\",\"\",IF(Instructions!$F$4=\"Verification\",IF('Measure Recommendation'!Y49=\"\",\"\",'Measure Recommendation'!Y49)))","v":false},{"$f":"IF(Instructions!$F$4=\"Investigation\",\"\",IF(Instructions!$F$4=\"Verification\",IF('Measure Recommendation'!Z49=\"\",\"\",'Measure Recommendation'!Z49)))","v":false}]
[null,{"$f":"Instructions!$I$12","v":0},"",null,"","",10,{"$f":"IF(Instructions!$F$4=\"Investigation\",IF('Measure Recommendation'!E26=\"\",\"\",'Measure Recommendation'!E26),IF(Instructions!$F$4=\"Verification\",IF('Measure Recommendation'!E50=\"\",\"\",'Measure Recommendation'!E50)))","v":false},{"$f":"IF(Instructions!$F$4=\"Investigation\",IF('Measure Recommendation'!F26=\"\",\"\",'Measure Recommendation'!F26),IF(Instructions!$F$4=\"Verification\",IF('Measure Recommendation'!F50=\"\",\"\",'Measure Recommendation'!F50)))","v":false},{"$f":"IF(Instructions!$F$4=\"Investigation\",IF('Measure Recommendation'!H26=\"\",\"\",'Measure Recommendation'!H26),IF(Instructions!$F$4=\"Verification\",IF('Measure Recommendation'!H50=\"\",\"\",'Measure Recommendation'!H50)))","v":false},{"$f":"IF(Instructions!$F$4=\"Investigation\",IF('Measure Recommendation'!I26=\"\",\"\",'Measure Recommendation'!I26),IF(Instructions!$F$4=\"Verification\",IF('Measure Recommendation'!I50=\"\",\"\",'Measure Recommendation'!I50)))","v":false},{"$f":"IF(Instructions!$F$4=\"Investigation\",IF('Measure Recommendation'!J26=\"\",\"\",'Measure Recommendation'!J26),IF(Instructions!$F$4=\"Verification\",IF('Measure Recommendation'!J50=\"\",\"\",'Measure Recommendation'!J50)))","v":false},{"$f":"IF(Instructions!$F$4=\"Investigation\",IF('Measure Recommendation'!K26=\"\",\"\",'Measure Recommendation'!K26),IF(Instructions!$F$4=\"Verification\",IF('Measure Recommendation'!K50=\"\",\"\",'Measure Recommendation'!K50)))","v":false},{"$f":"IF(Instructions!$F$4=\"Investigation\",IF('Measure Recommendation'!AE26=\"\",\"\",'Measure Recommendation'!AE26),IF(Instructions!$F$4=\"Verification\",IF('Measure Recommendation'!AE50=\"\",\"\",'Measure Recommendation'!AE50)))","v":false},{"$f":"IF(Instructions!$F$4=\"Investigation\",IF('Measure Recommendation'!AF26=\"\",\"\",'Measure Recommendation'!AF26),IF(Instructions!$F$4=\"Verification\",IF('Measure Recommendation'!AF50=\"\",\"\",'Measure Recommendation'!AF50)))","v":false},{"$f":"IF(Instructions!$F$4=\"Investigation\",IF('Measure Recommendation'!AG26=\"\",\"\",'Measure Recommendation'!AG26),IF(Instructions!$F$4=\"Verification\",IF('Measure Recommendation'!AG50=\"\",\"\",'Measure Recommendation'!AG50)))","v":false},{"$f":"IF(Instructions!$F$4=\"Investigation\",IF('Measure Recommendation'!AH26=\"\",\"\",'Measure Recommendation'!AH26),IF(Instructions!$F$4=\"Verification\",IF('Measure Recommendation'!AH50=\"\",\"\",'Measure Recommendation'!AH50)))","v":false},0,0,0,0,0,0,{"$f":"IF(Instructions!$F$4=\"Investigation\",IF('Measure Recommendation'!V26=\"\",0,'Measure Recommendation'!V26),IF(Instructions!$F$4=\"Verification\",IF('Measure Recommendation'!V50=\"\",0,'Measure Recommendation'!V50)))","v":false},{"$f":"IF(Instructions!$F$4=\"Investigation\",IF('Measure Recommendation'!W26=\"\",0,'Measure Recommendation'!W26),IF(Instructions!$F$4=\"Verification\",IF('Measure Recommendation'!W50=\"\",0,'Measure Recommendation'!W50)))","v":false},0,null,{"$f":"IF(Instructions!$F$4=\"Investigation\",\"\",IF(Instructions!$F$4=\"Verification\",IF('Measure Recommendation'!AB50=\"\",\"\",'Measure Recommendation'!AB50)))","v":false},{"$f":"IF(Instructions!$F$4=\"Investigation\",IF('Measure Recommendation'!C26=\"\",\"\",'Measure Recommendation'!C26),IF(Instructions!$F$4=\"Verification\",IF('Measure Recommendation'!C50=\"\",\"\",'Measure Recommendation'!C50)))","v":false},null,{"$f":"IF(Instructions!$F$4=\"Investigation\",\"\",IF(Instructions!$F$4=\"Verification\",IF('Measure Recommendation'!Y50=\"\",\"\",'Measure Recommendation'!Y50)))","v":false},{"$f":"IF(Instructions!$F$4=\"Investigation\",\"\",IF(Instructions!$F$4=\"Verification\",IF('Measure Recommendation'!Z50=\"\",\"\",'Measure Recommendation'!Z50)))","v":false}]
[null,{"$f":"Instructions!$I$12","v":0},"",null,"","",11,{"$f":"IF(Instructions!$F$4=\"Investigation\",IF('Measure Recommendation'!E27=\"\",\"\",'Measure Recommendation'!E27),IF(Instructions!$F$4=\"Verification\",IF('Measure Recommendation'!E51=\"\",\"\",'Measure Recommendation'!E51)))","v":false},{"$f":"IF(Instructions!$F$4=\"Investigation\",IF('Measure Recommendation'!F27=\"\",\"\",'Measure Recommendation'!F27),IF(Instructions!$F$4=\"Verification\",IF('Measure Recommendation'!F51=\"\",\"\",'Measure Recommendation'!F51)))","v":false},{"$f":"IF(Instructions!$F$4=\"Investigation\",IF('Measure Recommendation'!H27=\"\",\"\",'Measure Recommendation'!H27),IF(Instructions!$F$4=\"Verification\",IF('Measure Recommendation'!H51=\"\",\"\",'Measure Recommendation'!H51)))","v":false},{"$f":"IF(Instructions!$F$4=\"Investigation\",IF('Measure Recommendation'!I27=\"\",\"\",'Measure Recommendation'!I27),IF(Instructions!$F$4=\"Verification\",IF('Measure Recommendation'!I51=\"\",\"\",'Measure Recommendation'!I51)))","v":false},{"$f":"IF(Instructions!$F$4=\"Investigation\",IF('Measure Recommendation'!J27=\"\",\"\",'Measure Recommendation'!J27),IF(Instructions!$F$4=\"Verification\",IF('Measure Recommendation'!J51=\"\",\"\",'Measure Recommendation'!J51)))","v":false},{"$f":"IF(Instructions!$F$4=\"Investigation\",IF('Measure Recommendation'!K27=\"\",\"\",'Measure Recommendation'!K27),IF(Instructions!$F$4=\"Verification\",IF('Measure Recommendation'!K51=\"\",\"\",'Measure Recommendation'!K51)))","v":false},{"$f":"IF(Instructions!$F$4=\"Investigation\",IF('Measure Recommendation'!AE27=\"\",\"\",'Measure Recommendation'!AE27),IF(Instructions!$F$4=\"Verification\",IF('Measure Recommendation'!AE51=\"\",\"\",'Measure Recommendation'!AE51)))","v":false},{"$f":"IF(Instructions!$F$4=\"Investigation\",IF('Measure Recommendation'!AF27=\"\",\"\",'Measure Recommendation'!AF27),IF(Instructions!$F$4=\"Verification\",IF('Measure Recommendation'!AF51=\"\",\"\",'Measure Recommendation'!AF51)))","v":false},{"$f":"IF(Instructions!$F$4=\"Investigation\",IF('Measure Recommendation'!AG27=\"\",\"\",'Measure Recommendation'!AG27),IF(Instructions!$F$4=\"Verification\",IF('Measure Recommendation'!AG51=\"\",\"\",'Measure Recommendation'!AG51)))","v":false},{"$f":"IF(Instructions!$F$4=\"Investigation\",IF('Measure Recommendation'!AH27=\"\",\"\",'Measure Recommendation'!AH27),IF(Instructions!$F$4=\"Verification\",IF('Measure Recommendation'!AH51=\"\",\"\",'Measure Recommendation'!AH51)))","v":false},0,0,0,0,0,0,{"$f":"IF(Instructions!$F$4=\"Investigation\",IF('Measure Recommendation'!V27=\"\",0,'Measure Recommendation'!V27),IF(Instructions!$F$4=\"Verification\",IF('Measure Recommendation'!V51=\"\",0,'Measure Recommendation'!V51)))","v":false},{"$f":"IF(Instructions!$F$4=\"Investigation\",IF('Measure Recommendation'!W27=\"\",0,'Measure Recommendation'!W27),IF(Instructions!$F$4=\"Verification\",IF('Measure Recommendation'!W51=\"\",0,'Measure Recommendation'!W51)))","v":false},0,null,{"$f":"IF(Instructions!$F$4=\"Investigation\",\"\",IF(Instructions!$F$4=\"Verification\",IF('Measure Recommendation'!AB51=\"\",\"\",'Measure Recommendation'!AB51)))","v":false},{"$f":"IF(Instructions!$F$4=\"Investigation\",IF('Measure Recommendation'!C27=\"\",\"\",'Measure Recommendation'!C27),IF(Instructions!$F$4=\"Verification\",IF('Measure Recommendation'!C51=\"\",\"\",'Measure Recommendation'!C51)))","v":false},null,{"$f":"IF(Instructions!$F$4=\"Investigation\",\"\",IF(Instructions!$F$4=\"Verification\",IF('Measure Recommendation'!Y51=\"\",\"\",'Measure Recommendation'!Y51)))","v":false},{"$f":"IF(Instructions!$F$4=\"Investigation\",\"\",IF(Instructions!$F$4=\"Verification\",IF('Measure Recommendation'!Z51=\"\",\"\",'Measure Recommendation'!Z51)))","v":false}]
[null,{"$f":"Instructions!$I$12","v":0},"",null,"","",12,{"$f":"IF(Instructions!$F$4=\"Investigation\",IF('Measure Recommendation'!E28=\"\",\"\",'Measure Recommendation'!E28),IF(Instructions!$F$4=\"Verification\",IF('Measure Recommendation'!E52=\"\",\"\",'Measure Recommendation'!E52)))","v":false},{"$f":"IF(Instructions!$F$4=\"Investigation\",IF('Measure Recommendation'!F28=\"\",\"\",'Measure Recommendation'!F28),IF(Instructions!$F$4=\"Verification\",IF('Measure Recommendation'!F52=\"\",\"\",'Measure Recommendation'!F52)))","v":false},{"$f":"IF(Instructions!$F$4=\"Investigation\",IF('Measure Recommendation'!H28=\"\",\"\",'Measure Recommendation'!H28),IF(Instructions!$F$4=\"Verification\",IF('Measure Recommendation'!H52=\"\",\"\",'Measure Recommendation'!H52)))","v":false},{"$f":"IF(Instructions!$F$4=\"Investigation\",IF('Measure Recommendation'!I28=\"\",\"\",'Measure Recommendation'!I28),IF(Instructions!$F$4=\"Verification\",IF('Measure Recommendation'!I52=\"\",\"\",'Measure Recommendation'!I52)))","v":false},{"$f":"IF(Instructions!$F$4=\"Investigation\",IF('Measure Recommendation'!J28=\"\",\"\",'Measure Recommendation'!J28),IF(Instructions!$F$4=\"Verification\",IF('Measure Recommendation'!J52=\"\",\"\",'Measure Recommendation'!J52)))","v":false},{"$f":"IF(Instructions!$F$4=\"Investigation\",IF('Measure Recommendation'!K28=\"\",\"\",'Measure Recommendation'!K28),IF(Instructions!$F$4=\"Verification\",IF('Measure Recommendation'!K52=\"\",\"\",'Measure Recommendation'!K52)))","v":false},{"$f":"IF(Instructions!$F$4=\"Investigation\",IF('Measure Recommendation'!AE28=\"\",\"\",'Measure Recommendation'!AE28),IF(Instructions!$F$4=\"Verification\",IF('Measure Recommendation'!AE52=\"\",\"\",'Measure Recommendation'!AE52)))","v":false},{"$f":"IF(Instructions!$F$4=\"Investigation\",IF('Measure Recommendation'!AF28=\"\",\"\",'Measure Recommendation'!AF28),IF(Instructions!$F$4=\"Verification\",IF('Measure Recommendation'!AF52=\"\",\"\",'Measure Recommendation'!AF52)))","v":false},{"$f":"IF(Instructions!$F$4=\"Investigation\",IF('Measure Recommendation'!AG28=\"\",\"\",'Measure Recommendation'!AG28),IF(Instructions!$F$4=\"Verification\",IF('Measure Recommendation'!AG52=\"\",\"\",'Measure Recommendation'!AG52)))","v":false},{"$f":"IF(Instructions!$F$4=\"Investigation\",IF('Measure Recommendation'!AH28=\"\",\"\",'Measure Recommendation'!AH28),IF(Instructions!$F$4=\"Verification\",IF('Measure Recommendation'!AH52=\"\",\"\",'Measure Recommendation'!AH52)))","v":false},0,0,0,0,0,0,{"$f":"IF(Instructions!$F$4=\"Investigation\",IF('Measure Recommendation'!V28=\"\",0,'Measure Recommendation'!V28),IF(Instructions!$F$4=\"Verification\",IF('Measure Recommendation'!V52=\"\",0,'Measure Recommendation'!V52)))","v":false},{"$f":"IF(Instructions!$F$4=\"Investigation\",IF('Measure Recommendation'!W28=\"\",0,'Measure Recommendation'!W28),IF(Instructions!$F$4=\"Verification\",IF('Measure Recommendation'!W52=\"\",0,'Measure Recommendation'!W52)))","v":false},0,null,{"$f":"IF(Instructions!$F$4=\"Investigation\",\"\",IF(Instructions!$F$4=\"Verification\",IF('Measure Recommendation'!AB52=\"\",\"\",'Measure Recommendation'!AB52)))","v":false},{"$f":"IF(Instructions!$F$4=\"Investigation\",IF('Measure Recommendation'!C28=\"\",\"\",'Measure Recommendation'!C28),IF(Instructions!$F$4=\"Verification\",IF('Measure Recommendation'!C52=\"\",\"\",'Measure Recommendation'!C52)))","v":false},null,{"$f":"IF(Instructions!$F$4=\"Investigation\",\"\",IF(Instructions!$F$4=\"Verification\",IF('Measure Recommendation'!Y52=\"\",\"\",'Measure Recommendation'!Y52)))","v":false},{"$f":"IF(Instructions!$F$4=\"Investigation\",\"\",IF(Instructions!$F$4=\"Verification\",IF('Measure Recommendation'!Z52=\"\",\"\",'Measure Recommendation'!Z52)))","v":false}]
[null,{"$f":"Instructions!$I$12","v":0},"",null,"","",13,{"$f":"IF(Instructions!$F$4=\"Investigation\",IF('Measure Recommendation'!E29=\"\",\"\",'Measure Recommendation'!E29),IF(Instructions!$F$4=\"Verification\",IF('Measure Recommendation'!E53=\"\",\"\",'Measure Recommendation'!E53)))","v":false},{"$f":"IF(Instructions!$F$4=\"Investigation\",IF('Measure Recommendation'!F29=\"\",\"\",'Measure Recommendation'!F29),IF(Instructions!$F$4=\"Verification\",IF('Measure Recommendation'!F53=\"\",\"\",'Measure Recommendation'!F53)))","v":false},{"$f":"IF(Instructions!$F$4=\"Investigation\",IF('Measure Recommendation'!H29=\"\",\"\",'Measure Recommendation'!H29),IF(Instructions!$F$4=\"Verification\",IF('Measure Recommendation'!H53=\"\",\"\",'Measure Recommendation'!H53)))","v":false},{"$f":"IF(Instructions!$F$4=\"Investigation\",IF('Measure Recommendation'!I29=\"\",\"\",'Measure Recommendation'!I29),IF(Instructions!$F$4=\"Verification\",IF('Measure Recommendation'!I53=\"\",\"\",'Measure Recommendation'!I53)))","v":false},{"$f":"IF(Instructions!$F$4=\"Investigation\",IF('Measure Recommendation'!J29=\"\",\"\",'Measure Recommendation'!J29),IF(Instructions!$F$4=\"Verification\",IF('Measure Recommendation'!J53=\"\",\"\",'Measure Recommendation'!J53)))","v":false},{"$f":"IF(Instructions!$F$4=\"Investigation\",IF('Measure Recommendation'!K29=\"\",\"\",'Measure Recommendation'!K29),IF(Instructions!$F$4=\"Verification\",IF('Measure Recommendation'!K53=\"\",\"\",'Measure Recommendation'!K53)))","v":false},{"$f":"IF(Instructions!$F$4=\"Investigation\",IF('Measure Recommendation'!AE29=\"\",\"\",'Measure Recommendation'!AE29),IF(Instructions!$F$4=\"Verification\",IF('Measure Recommendation'!AE53=\"\",\"\",'Measure Recommendation'!AE53)))","v":false},{"$f":"IF(Instructions!$F$4=\"Investigation\",IF('Measure Recommendation'!AF29=\"\",\"\",'Measure Recommendation'!AF29),IF(Instructions!$F$4=\"Verification\",IF('Measure Recommendation'!AF53=\"\",\"\",'Measure Recommendation'!AF53)))","v":false},{"$f":"IF(Instructions!$F$4=\"Investigation\",IF('Measure Recommendation'!AG29=\"\",\"\",'Measure Recommendation'!AG29),IF(Instructions!$F$4=\"Verification\",IF('Measure Recommendation'!AG53=\"\",\"\",'Measure Recommendation'!AG53)))","v":false},{"$f":"IF(Instructions!$F$4=\"Investigation\",IF('Measure Recommendation'!AH29=\"\",\"\",'Measure Recommendation'!AH29),IF(Instructions!$F$4=\"Verification\",IF('Measure Recommendation'!AH53=\"\",\"\",'Measure Recommendation'!AH53)))","v":false},0,0,0,0,0,0,{"$f":"IF(Instructions!$F$4=\"Investigation\",IF('Measure Recommendation'!V29=\"\",0,'Measure Recommendation'!V29),IF(Instructions!$F$4=\"Verification\",IF('Measure Recommendation'!V53=\"\",0,'Measure Recommendation'!V53)))","v":false},{"$f":"IF(Instructions!$F$4=\"Investigation\",IF('Measure Recommendation'!W29=\"\",0,'Measure Recommendation'!W29),IF(Instructions!$F$4=\"Verification\",IF('Measure Recommendation'!W53=\"\",0,'Measure Recommendation'!W53)))","v":false},0,null,{"$f":"IF(Instructions!$F$4=\"Investigation\",\"\",IF(Instructions!$F$4=\"Verification\",IF('Measure Recommendation'!AB53=\"\",\"\",'Measure Recommendation'!AB53)))","v":false},{"$f":"IF(Instructions!$F$4=\"Investigation\",IF('Measure Recommendation'!C29=\"\",\"\",'Measure Recommendation'!C29),IF(Instructions!$F$4=\"Verification\",IF('Measure Recommendation'!C53=\"\",\"\",'Measure Recommendation'!C53)))","v":false},null,{"$f":"IF(Instructions!$F$4=\"Investigation\",\"\",IF(Instructions!$F$4=\"Verification\",IF('Measure Recommendation'!Y53=\"\",\"\",'Measure Recommendation'!Y53)))","v":false},{"$f":"IF(Instructions!$F$4=\"Investigation\",\"\",IF(Instructions!$F$4=\"Verification\",IF('Measure Recommendation'!Z53=\"\",\"\",'Measure Recommendation'!Z53)))","v":false}]
[null,{"$f":"Instructions!$I$12","v":0},"",null,"","",14,{"$f":"IF(Instructions!$F$4=\"Investigation\",IF('Measure Recommendation'!E30=\"\",\"\",'Measure Recommendation'!E30),IF(Instructions!$F$4=\"Verification\",IF('Measure Recommendation'!E54=\"\",\"\",'Measure Recommendation'!E54)))","v":false},{"$f":"IF(Instructions!$F$4=\"Investigation\",IF('Measure Recommendation'!F30=\"\",\"\",'Measure Recommendation'!F30),IF(Instructions!$F$4=\"Verification\",IF('Measure Recommendation'!F54=\"\",\"\",'Measure Recommendation'!F54)))","v":false},{"$f":"IF(Instructions!$F$4=\"Investigation\",IF('Measure Recommendation'!H30=\"\",\"\",'Measure Recommendation'!H30),IF(Instructions!$F$4=\"Verification\",IF('Measure Recommendation'!H54=\"\",\"\",'Measure Recommendation'!H54)))","v":false},{"$f":"IF(Instructions!$F$4=\"Investigation\",IF('Measure Recommendation'!I30=\"\",\"\",'Measure Recommendation'!I30),IF(Instructions!$F$4=\"Verification\",IF('Measure Recommendation'!I54=\"\",\"\",'Measure Recommendation'!I54)))","v":false},{"$f":"IF(Instructions!$F$4=\"Investigation\",IF('Measure Recommendation'!J30=\"\",\"\",'Measure Recommendation'!J30),IF(Instructions!$F$4=\"Verification\",IF('Measure Recommendation'!J54=\"\",\"\",'Measure Recommendation'!J54)))","v":false},{"$f":"IF(Instructions!$F$4=\"Investigation\",IF('Measure Recommendation'!K30=\"\",\"\",'Measure Recommendation'!K30),IF(Instructions!$F$4=\"Verification\",IF('Measure Recommendation'!K54=\"\",\"\",'Measure Recommendation'!K54)))","v":false},{"$f":"IF(Instructions!$F$4=\"Investigation\",IF('Measure Recommendation'!AE30=\"\",\"\",'Measure Recommendation'!AE30),IF(Instructions!$F$4=\"Verification\",IF('Measure Recommendation'!AE54=\"\",\"\",'Measure Recommendation'!AE54)))","v":false},{"$f":"IF(Instructions!$F$4=\"Investigation\",IF('Measure Recommendation'!AF30=\"\",\"\",'Measure Recommendation'!AF30),IF(Instructions!$F$4=\"Verification\",IF('Measure Recommendation'!AF54=\"\",\"\",'Measure Recommendation'!AF54)))","v":false},{"$f":"IF(Instructions!$F$4=\"Investigation\",IF('Measure Recommendation'!AG30=\"\",\"\",'Measure Recommendation'!AG30),IF(Instructions!$F$4=\"Verification\",IF('Measure Recommendation'!AG54=\"\",\"\",'Measure Recommendation'!AG54)))","v":false},{"$f":"IF(Instructions!$F$4=\"Investigation\",IF('Measure Recommendation'!AH30=\"\",\"\",'Measure Recommendation'!AH30),IF(Instructions!$F$4=\"Verification\",IF('Measure Recommendation'!AH54=\"\",\"\",'Measure Recommendation'!AH54)))","v":false},0,0,0,0,0,0,{"$f":"IF(Instructions!$F$4=\"Investigation\",IF('Measure Recommendation'!V30=\"\",0,'Measure Recommendation'!V30),IF(Instructions!$F$4=\"Verification\",IF('Measure Recommendation'!V54=\"\",0,'Measure Recommendation'!V54)))","v":false},{"$f":"IF(Instructions!$F$4=\"Investigation\",IF('Measure Recommendation'!W30=\"\",0,'Measure Recommendation'!W30),IF(Instructions!$F$4=\"Verification\",IF('Measure Recommendation'!W54=\"\",0,'Measure Recommendation'!W54)))","v":false},0,null,{"$f":"IF(Instructions!$F$4=\"Investigation\",\"\",IF(Instructions!$F$4=\"Verification\",IF('Measure Recommendation'!AB54=\"\",\"\",'Measure Recommendation'!AB54)))","v":false},{"$f":"IF(Instructions!$F$4=\"Investigation\",IF('Measure Recommendation'!C30=\"\",\"\",'Measure Recommendation'!C30),IF(Instructions!$F$4=\"Verification\",IF('Measure Recommendation'!C54=\"\",\"\",'Measure Recommendation'!C54)))","v":false},null,{"$f":"IF(Instructions!$F$4=\"Investigation\",\"\",IF(Instructions!$F$4=\"Verification\",IF('Measure Recommendation'!Y54=\"\",\"\",'Measure Recommendation'!Y54)))","v":false},{"$f":"IF(Instructions!$F$4=\"Investigation\",\"\",IF(Instructions!$F$4=\"Verification\",IF('Measure Recommendation'!Z54=\"\",\"\",'Measure Recommendation'!Z54)))","v":false}]
[null,{"$f":"Instructions!$I$12","v":0},"",null,"","",15,{"$f":"IF(Instructions!$F$4=\"Investigation\",IF('Measure Recommendation'!E31=\"\",\"\",'Measure Recommendation'!E31),IF(Instructions!$F$4=\"Verification\",IF('Measure Recommendation'!E55=\"\",\"\",'Measure Recommendation'!E55)))","v":false},{"$f":"IF(Instructions!$F$4=\"Investigation\",IF('Measure Recommendation'!F31=\"\",\"\",'Measure Recommendation'!F31),IF(Instructions!$F$4=\"Verification\",IF('Measure Recommendation'!F55=\"\",\"\",'Measure Recommendation'!F55)))","v":false},{"$f":"IF(Instructions!$F$4=\"Investigation\",IF('Measure Recommendation'!H31=\"\",\"\",'Measure Recommendation'!H31),IF(Instructions!$F$4=\"Verification\",IF('Measure Recommendation'!H55=\"\",\"\",'Measure Recommendation'!H55)))","v":false},{"$f":"IF(Instructions!$F$4=\"Investigation\",IF('Measure Recommendation'!I31=\"\",\"\",'Measure Recommendation'!I31),IF(Instructions!$F$4=\"Verification\",IF('Measure Recommendation'!I55=\"\",\"\",'Measure Recommendation'!I55)))","v":false},{"$f":"IF(Instructions!$F$4=\"Investigation\",IF('Measure Recommendation'!J31=\"\",\"\",'Measure Recommendation'!J31),IF(Instructions!$F$4=\"Verification\",IF('Measure Recommendation'!J55=\"\",\"\",'Measure Recommendation'!J55)))","v":false},{"$f":"IF(Instructions!$F$4=\"Investigation\",IF('Measure Recommendation'!K31=\"\",\"\",'Measure Recommendation'!K31),IF(Instructions!$F$4=\"Verification\",IF('Measure Recommendation'!K55=\"\",\"\",'Measure Recommendation'!K55)))","v":false},{"$f":"IF(Instructions!$F$4=\"Investigation\",IF('Measure Recommendation'!AE31=\"\",\"\",'Measure Recommendation'!AE31),IF(Instructions!$F$4=\"Verification\",IF('Measure Recommendation'!AE55=\"\",\"\",'Measure Recommendation'!AE55)))","v":false},{"$f":"IF(Instructions!$F$4=\"Investigation\",IF('Measure Recommendation'!AF31=\"\",\"\",'Measure Recommendation'!AF31),IF(Instructions!$F$4=\"Verification\",IF('Measure Recommendation'!AF55=\"\",\"\",'Measure Recommendation'!AF55)))","v":false},{"$f":"IF(Instructions!$F$4=\"Investigation\",IF('Measure Recommendation'!AG31=\"\",\"\",'Measure Recommendation'!AG31),IF(Instructions!$F$4=\"Verification\",IF('Measure Recommendation'!AG55=\"\",\"\",'Measure Recommendation'!AG55)))","v":false},{"$f":"IF(Instructions!$F$4=\"Investigation\",IF('Measure Recommendation'!AH31=\"\",\"\",'Measure Recommendation'!AH31),IF(Instructions!$F$4=\"Verification\",IF('Measure Recommendation'!AH55=\"\",\"\",'Measure Recommendation'!AH55)))","v":false},0,0,0,0,0,0,{"$f":"IF(Instructions!$F$4=\"Investigation\",IF('Measure Recommendation'!V31=\"\",0,'Measure Recommendation'!V31),IF(Instructions!$F$4=\"Verification\",IF('Measure Recommendation'!V55=\"\",0,'Measure Recommendation'!V55)))","v":false},{"$f":"IF(Instructions!$F$4=\"Investigation\",IF('Measure Recommendation'!W31=\"\",0,'Measure Recommendation'!W31),IF(Instructions!$F$4=\"Verification\",IF('Measure Recommendation'!W55=\"\",0,'Measure Recommendation'!W55)))","v":false},0,null,{"$f":"IF(Instructions!$F$4=\"Investigation\",\"\",IF(Instructions!$F$4=\"Verification\",IF('Measure Recommendation'!AB55=\"\",\"\",'Measure Recommendation'!AB55)))","v":false},{"$f":"IF(Instructions!$F$4=\"Investigation\",IF('Measure Recommendation'!C31=\"\",\"\",'Measure Recommendation'!C31),IF(Instructions!$F$4=\"Verification\",IF('Measure Recommendation'!C55=\"\",\"\",'Measure Recommendation'!C55)))","v":false},null,{"$f":"IF(Instructions!$F$4=\"Investigation\",\"\",IF(Instructions!$F$4=\"Verification\",IF('Measure Recommendation'!Y55=\"\",\"\",'Measure Recommendation'!Y55)))","v":false},{"$f":"IF(Instructions!$F$4=\"Investigation\",\"\",IF(Instructions!$F$4=\"Verification\",IF('Measure Recommendation'!Z55=\"\",\"\",'Measure Recommendation'!Z55)))","v":false}]
[null,{"$f":"Instructions!$I$12","v":0},"",null,"","",16,{"$f":"IF(Instructions!$F$4=\"Investigation\",IF('Measure Recommendation'!E32=\"\",\"\",'Measure Recommendation'!E32),IF(Instructions!$F$4=\"Verification\",IF('Measure Recommendation'!E56=\"\",\"\",'Measure Recommendation'!E56)))","v":false},{"$f":"IF(Instructions!$F$4=\"Investigation\",IF('Measure Recommendation'!F32=\"\",\"\",'Measure Recommendation'!F32),IF(Instructions!$F$4=\"Verification\",IF('Measure Recommendation'!F56=\"\",\"\",'Measure Recommendation'!F56)))","v":false},{"$f":"IF(Instructions!$F$4=\"Investigation\",IF('Measure Recommendation'!H32=\"\",\"\",'Measure Recommendation'!H32),IF(Instructions!$F$4=\"Verification\",IF('Measure Recommendation'!H56=\"\",\"\",'Measure Recommendation'!H56)))","v":false},{"$f":"IF(Instructions!$F$4=\"Investigation\",IF('Measure Recommendation'!I32=\"\",\"\",'Measure Recommendation'!I32),IF(Instructions!$F$4=\"Verification\",IF('Measure Recommendation'!I56=\"\",\"\",'Measure Recommendation'!I56)))","v":false},{"$f":"IF(Instructions!$F$4=\"Investigation\",IF('Measure Recommendation'!J32=\"\",\"\",'Measure Recommendation'!J32),IF(Instructions!$F$4=\"Verification\",IF('Measure Recommendation'!J56=\"\",\"\",'Measure Recommendation'!J56)))","v":false},{"$f":"IF(Instructions!$F$4=\"Investigation\",IF('Measure Recommendation'!K32=\"\",\"\",'Measure Recommendation'!K32),IF(Instructions!$F$4=\"Verification\",IF('Measure Recommendation'!K56=\"\",\"\",'Measure Recommendation'!K56)))","v":false},{"$f":"IF(Instructions!$F$4=\"Investigation\",IF('Measure Recommendation'!AE32=\"\",\"\",'Measure Recommendation'!AE32),IF(Instructions!$F$4=\"Verification\",IF('Measure Recommendation'!AE56=\"\",\"\",'Measure Recommendation'!AE56)))","v":false},{"$f":"IF(Instructions!$F$4=\"Investigation\",IF('Measure Recommendation'!AF32=\"\",\"\",'Measure Recommendation'!AF32),IF(Instructions!$F$4=\"Verification\",IF('Measure Recommendation'!AF56=\"\",\"\",'Measure Recommendation'!AF56)))","v":false},{"$f":"IF(Instructions!$F$4=\"Investigation\",IF('Measure Recommendation'!AG32=\"\",\"\",'Measure Recommendation'!AG32),IF(Instructions!$F$4=\"Verification\",IF('Measure Recommendation'!AG56=\"\",\"\",'Measure Recommendation'!AG56)))","v":false},{"$f":"IF(Instructions!$F$4=\"Investigation\",IF('Measure Recommendation'!AH32=\"\",\"\",'Measure Recommendation'!AH32),IF(Instructions!$F$4=\"Verification\",IF('Measure Recommendation'!AH56=\"\",\"\",'Measure Recommendation'!AH56)))","v":false},0,0,0,0,0,0,{"$f":"IF(Instructions!$F$4=\"Investigation\",IF('Measure Recommendation'!V32=\"\",0,'Measure Recommendation'!V32),IF(Instructions!$F$4=\"Verification\",IF('Measure Recommendation'!V56=\"\",0,'Measure Recommendation'!V56)))","v":false},{"$f":"IF(Instructions!$F$4=\"Investigation\",IF('Measure Recommendation'!W32=\"\",0,'Measure Recommendation'!W32),IF(Instructions!$F$4=\"Verification\",IF('Measure Recommendation'!W56=\"\",0,'Measure Recommendation'!W56)))","v":false},0,null,{"$f":"IF(Instructions!$F$4=\"Investigation\",\"\",IF(Instructions!$F$4=\"Verification\",IF('Measure Recommendation'!AB56=\"\",\"\",'Measure Recommendation'!AB56)))","v":false},{"$f":"IF(Instructions!$F$4=\"Investigation\",IF('Measure Recommendation'!C32=\"\",\"\",'Measure Recommendation'!C32),IF(Instructions!$F$4=\"Verification\",IF('Measure Recommendation'!C56=\"\",\"\",'Measure Recommendation'!C56)))","v":false},null,{"$f":"IF(Instructions!$F$4=\"Investigation\",\"\",IF(Instructions!$F$4=\"Verification\",IF('Measure Recommendation'!Y56=\"\",\"\",'Measure Recommendation'!Y56)))","v":false},{"$f":"IF(Instructions!$F$4=\"Investigation\",\"\",IF(Instructions!$F$4=\"Verification\",IF('Measure Recommendation'!Z56=\"\",\"\",'Measure Recommendation'!Z56)))","v":false}]
[null,{"$f":"Instructions!$I$12","v":0},"",null,"","",17,{"$f":"IF(Instructions!$F$4=\"Investigation\",IF('Measure Recommendation'!E33=\"\",\"\",'Measure Recommendation'!E33),IF(Instructions!$F$4=\"Verification\",IF('Measure Recommendation'!E57=\"\",\"\",'Measure Recommendation'!E57)))","v":false},{"$f":"IF(Instructions!$F$4=\"Investigation\",IF('Measure Recommendation'!F33=\"\",\"\",'Measure Recommendation'!F33),IF(Instructions!$F$4=\"Verification\",IF('Measure Recommendation'!F57=\"\",\"\",'Measure Recommendation'!F57)))","v":false},{"$f":"IF(Instructions!$F$4=\"Investigation\",IF('Measure Recommendation'!H33=\"\",\"\",'Measure Recommendation'!H33),IF(Instructions!$F$4=\"Verification\",IF('Measure Recommendation'!H57=\"\",\"\",'Measure Recommendation'!H57)))","v":false},{"$f":"IF(Instructions!$F$4=\"Investigation\",IF('Measure Recommendation'!I33=\"\",\"\",'Measure Recommendation'!I33),IF(Instructions!$F$4=\"Verification\",IF('Measure Recommendation'!I57=\"\",\"\",'Measure Recommendation'!I57)))","v":false},{"$f":"IF(Instructions!$F$4=\"Investigation\",IF('Measure Recommendation'!J33=\"\",\"\",'Measure Recommendation'!J33),IF(Instructions!$F$4=\"Verification\",IF('Measure Recommendation'!J57=\"\",\"\",'Measure Recommendation'!J57)))","v":false},{"$f":"IF(Instructions!$F$4=\"Investigation\",IF('Measure Recommendation'!K33=\"\",\"\",'Measure Recommendation'!K33),IF(Instructions!$F$4=\"Verification\",IF('Measure Recommendation'!K57=\"\",\"\",'Measure Recommendation'!K57)))","v":false},{"$f":"IF(Instructions!$F$4=\"Investigation\",IF('Measure Recommendation'!AE33=\"\",\"\",'Measure Recommendation'!AE33),IF(Instructions!$F$4=\"Verification\",IF('Measure Recommendation'!AE57=\"\",\"\",'Measure Recommendation'!AE57)))","v":false},{"$f":"IF(Instructions!$F$4=\"Investigation\",IF('Measure Recommendation'!AF33=\"\",\"\",'Measure Recommendation'!AF33),IF(Instructions!$F$4=\"Verification\",IF('Measure Recommendation'!AF57=\"\",\"\",'Measure Recommendation'!AF57)))","v":false},{"$f":"IF(Instructions!$F$4=\"Investigation\",IF('Measure Recommendation'!AG33=\"\",\"\",'Measure Recommendation'!AG33),IF(Instructions!$F$4=\"Verification\",IF('Measure Recommendation'!AG57=\"\",\"\",'Measure Recommendation'!AG57)))","v":false},{"$f":"IF(Instructions!$F$4=\"Investigation\",IF('Measure Recommendation'!AH33=\"\",\"\",'Measure Recommendation'!AH33),IF(Instructions!$F$4=\"Verification\",IF('Measure Recommendation'!AH57=\"\",\"\",'Measure Recommendation'!AH57)))","v":false},0,0,0,0,0,0,{"$f":"IF(Instructions!$F$4=\"Investigation\",IF('Measure Recommendation'!V33=\"\",0,'Measure Recommendation'!V33),IF(Instructions!$F$4=\"Verification\",IF('Measure Recommendation'!V57=\"\",0,'Measure Recommendation'!V57)))","v":false},{"$f":"IF(Instructions!$F$4=\"Investigation\",IF('Measure Recommendation'!W33=\"\",0,'Measure Recommendation'!W33),IF(Instructions!$F$4=\"Verification\",IF('Measure Recommendation'!W57=\"\",0,'Measure Recommendation'!W57)))","v":false},0,null,{"$f":"IF(Instructions!$F$4=\"Investigation\",\"\",IF(Instructions!$F$4=\"Verification\",IF('Measure Recommendation'!AB57=\"\",\"\",'Measure Recommendation'!AB57)))","v":false},{"$f":"IF(Instructions!$F$4=\"Investigation\",IF('Measure Recommendation'!C33=\"\",\"\",'Measure Recommendation'!C33),IF(Instructions!$F$4=\"Verification\",IF('Measure Recommendation'!C57=\"\",\"\",'Measure Recommendation'!C57)))","v":false},null,{"$f":"IF(Instructions!$F$4=\"Investigation\",\"\",IF(Instructions!$F$4=\"Verification\",IF('Measure Recommendation'!Y57=\"\",\"\",'Measure Recommendation'!Y57)))","v":false},{"$f":"IF(Instructions!$F$4=\"Investigation\",\"\",IF(Instructions!$F$4=\"Verification\",IF('Measure Recommendation'!Z57=\"\",\"\",'Measure Recommendation'!Z57)))","v":false}]
[null,{"$f":"Instructions!$I$12","v":0},"",null,"","",18,{"$f":"IF(Instructions!$F$4=\"Investigation\",IF('Measure Recommendation'!E34=\"\",\"\",'Measure Recommendation'!E34),IF(Instructions!$F$4=\"Verification\",IF('Measure Recommendation'!E58=\"\",\"\",'Measure Recommendation'!E58)))","v":false},{"$f":"IF(Instructions!$F$4=\"Investigation\",IF('Measure Recommendation'!F34=\"\",\"\",'Measure Recommendation'!F34),IF(Instructions!$F$4=\"Verification\",IF('Measure Recommendation'!F58=\"\",\"\",'Measure Recommendation'!F58)))","v":false},{"$f":"IF(Instructions!$F$4=\"Investigation\",IF('Measure Recommendation'!H34=\"\",\"\",'Measure Recommendation'!H34),IF(Instructions!$F$4=\"Verification\",IF('Measure Recommendation'!H58=\"\",\"\",'Measure Recommendation'!H58)))","v":false},{"$f":"IF(Instructions!$F$4=\"Investigation\",IF('Measure Recommendation'!I34=\"\",\"\",'Measure Recommendation'!I34),IF(Instructions!$F$4=\"Verification\",IF('Measure Recommendation'!I58=\"\",\"\",'Measure Recommendation'!I58)))","v":false},{"$f":"IF(Instructions!$F$4=\"Investigation\",IF('Measure Recommendation'!J34=\"\",\"\",'Measure Recommendation'!J34),IF(Instructions!$F$4=\"Verification\",IF('Measure Recommendation'!J58=\"\",\"\",'Measure Recommendation'!J58)))","v":false},{"$f":"IF(Instructions!$F$4=\"Investigation\",IF('Measure Recommendation'!K34=\"\",\"\",'Measure Recommendation'!K34),IF(Instructions!$F$4=\"Verification\",IF('Measure Recommendation'!K58=\"\",\"\",'Measure Recommendation'!K58)))","v":false},{"$f":"IF(Instructions!$F$4=\"Investigation\",IF('Measure Recommendation'!AE34=\"\",\"\",'Measure Recommendation'!AE34),IF(Instructions!$F$4=\"Verification\",IF('Measure Recommendation'!AE58=\"\",\"\",'Measure Recommendation'!AE58)))","v":false},{"$f":"IF(Instructions!$F$4=\"Investigation\",IF('Measure Recommendation'!AF34=\"\",\"\",'Measure Recommendation'!AF34),IF(Instructions!$F$4=\"Verification\",IF('Measure Recommendation'!AF58=\"\",\"\",'Measure Recommendation'!AF58)))","v":false},{"$f":"IF(Instructions!$F$4=\"Investigation\",IF('Measure Recommendation'!AG34=\"\",\"\",'Measure Recommendation'!AG34),IF(Instructions!$F$4=\"Verification\",IF('Measure Recommendation'!AG58=\"\",\"\",'Measure Recommendation'!AG58)))","v":false},{"$f":"IF(Instructions!$F$4=\"Investigation\",IF('Measure Recommendation'!AH34=\"\",\"\",'Measure Recommendation'!AH34),IF(Instructions!$F$4=\"Verification\",IF('Measure Recommendation'!AH58=\"\",\"\",'Measure Recommendation'!AH58)))","v":false},0,0,0,0,0,0,{"$f":"IF(Instructions!$F$4=\"Investigation\",IF('Measure Recommendation'!V34=\"\",0,'Measure Recommendation'!V34),IF(Instructions!$F$4=\"Verification\",IF('Measure Recommendation'!V58=\"\",0,'Measure Recommendation'!V58)))","v":false},{"$f":"IF(Instructions!$F$4=\"Investigation\",IF('Measure Recommendation'!W34=\"\",0,'Measure Recommendation'!W34),IF(Instructions!$F$4=\"Verification\",IF('Measure Recommendation'!W58=\"\",0,'Measure Recommendation'!W58)))","v":false},0,null,{"$f":"IF(Instructions!$F$4=\"Investigation\",\"\",IF(Instructions!$F$4=\"Verification\",IF('Measure Recommendation'!AB58=\"\",\"\",'Measure Recommendation'!AB58)))","v":false},{"$f":"IF(Instructions!$F$4=\"Investigation\",IF('Measure Recommendation'!C34=\"\",\"\",'Measure Recommendation'!C34),IF(Instructions!$F$4=\"Verification\",IF('Measure Recommendation'!C58=\"\",\"\",'Measure Recommendation'!C58)))","v":false},null,{"$f":"IF(Instructions!$F$4=\"Investigation\",\"\",IF(Instructions!$F$4=\"Verification\",IF('Measure Recommendation'!Y58=\"\",\"\",'Measure Recommendation'!Y58)))","v":false},{"$f":"IF(Instructions!$F$4=\"Investigation\",\"\",IF(Instructions!$F$4=\"Verification\",IF('Measure Recommendation'!Z58=\"\",\"\",'Measure Recommendation'!Z58)))","v":false}]
[null,{"$f":"Instructions!$I$12","v":0},"",null,"","",19,{"$f":"IF(Instructions!$F$4=\"Investigation\",IF('Measure Recommendation'!E35=\"\",\"\",'Measure Recommendation'!E35),IF(Instructions!$F$4=\"Verification\",IF('Measure Recommendation'!E59=\"\",\"\",'Measure Recommendation'!E59)))","v":false},{"$f":"IF(Instructions!$F$4=\"Investigation\",IF('Measure Recommendation'!F35=\"\",\"\",'Measure Recommendation'!F35),IF(Instructions!$F$4=\"Verification\",IF('Measure Recommendation'!F59=\"\",\"\",'Measure Recommendation'!F59)))","v":false},{"$f":"IF(Instructions!$F$4=\"Investigation\",IF('Measure Recommendation'!H35=\"\",\"\",'Measure Recommendation'!H35),IF(Instructions!$F$4=\"Verification\",IF('Measure Recommendation'!H59=\"\",\"\",'Measure Recommendation'!H59)))","v":false},{"$f":"IF(Instructions!$F$4=\"Investigation\",IF('Measure Recommendation'!I35=\"\",\"\",'Measure Recommendation'!I35),IF(Instructions!$F$4=\"Verification\",IF('Measure Recommendation'!I59=\"\",\"\",'Measure Recommendation'!I59)))","v":false},{"$f":"IF(Instructions!$F$4=\"Investigation\",IF('Measure Recommendation'!J35=\"\",\"\",'Measure Recommendation'!J35),IF(Instructions!$F$4=\"Verification\",IF('Measure Recommendation'!J59=\"\",\"\",'Measure Recommendation'!J59)))","v":false},{"$f":"IF(Instructions!$F$4=\"Investigation\",IF('Measure Recommendation'!K35=\"\",\"\",'Measure Recommendation'!K35),IF(Instructions!$F$4=\"Verification\",IF('Measure Recommendation'!K59=\"\",\"\",'Measure Recommendation'!K59)))","v":false},{"$f":"IF(Instructions!$F$4=\"Investigation\",IF('Measure Recommendation'!AE35=\"\",\"\",'Measure Recommendation'!AE35),IF(Instructions!$F$4=\"Verification\",IF('Measure Recommendation'!AE59=\"\",\"\",'Measure Recommendation'!AE59)))","v":false},{"$f":"IF(Instructions!$F$4=\"Investigation\",IF('Measure Recommendation'!AF35=\"\",\"\",'Measure Recommendation'!AF35),IF(Instructions!$F$4=\"Verification\",IF('Measure Recommendation'!AF59=\"\",\"\",'Measure Recommendation'!AF59)))","v":false},{"$f":"IF(Instructions!$F$4=\"Investigation\",IF('Measure Recommendation'!AG35=\"\",\"\",'Measure Recommendation'!AG35),IF(Instructions!$F$4=\"Verification\",IF('Measure Recommendation'!AG59=\"\",\"\",'Measure Recommendation'!AG59)))","v":false},{"$f":"IF(Instructions!$F$4=\"Investigation\",IF('Measure Recommendation'!AH35=\"\",\"\",'Measure Recommendation'!AH35),IF(Instructions!$F$4=\"Verification\",IF('Measure Recommendation'!AH59=\"\",\"\",'Measure Recommendation'!AH59)))","v":false},0,0,0,0,0,0,{"$f":"IF(Instructions!$F$4=\"Investigation\",IF('Measure Recommendation'!V35=\"\",0,'Measure Recommendation'!V35),IF(Instructions!$F$4=\"Verification\",IF('Measure Recommendation'!V59=\"\",0,'Measure Recommendation'!V59)))","v":false},{"$f":"IF(Instructions!$F$4=\"Investigation\",IF('Measure Recommendation'!W35=\"\",0,'Measure Recommendation'!W35),IF(Instructions!$F$4=\"Verification\",IF('Measure Recommendation'!W59=\"\",0,'Measure Recommendation'!W59)))","v":false},0,null,{"$f":"IF(Instructions!$F$4=\"Investigation\",\"\",IF(Instructions!$F$4=\"Verification\",IF('Measure Recommendation'!AB59=\"\",\"\",'Measure Recommendation'!AB59)))","v":false},{"$f":"IF(Instructions!$F$4=\"Investigation\",IF('Measure Recommendation'!C35=\"\",\"\",'Measure Recommendation'!C35),IF(Instructions!$F$4=\"Verification\",IF('Measure Recommendation'!C59=\"\",\"\",'Measure Recommendation'!C59)))","v":false},null,{"$f":"IF(Instructions!$F$4=\"Investigation\",\"\",IF(Instructions!$F$4=\"Verification\",IF('Measure Recommendation'!Y59=\"\",\"\",'Measure Recommendation'!Y59)))","v":false},{"$f":"IF(Instructions!$F$4=\"Investigation\",\"\",IF(Instructions!$F$4=\"Verification\",IF('Measure Recommendation'!Z59=\"\",\"\",'Measure Recommendation'!Z59)))","v":false}]
[null,{"$f":"Instructions!$I$12","v":0},"",null,"","",20,{"$f":"IF(Instructions!$F$4=\"Investigation\",IF('Measure Recommendation'!E36=\"\",\"\",'Measure Recommendation'!E36),IF(Instructions!$F$4=\"Verification\",IF('Measure Recommendation'!E60=\"\",\"\",'Measure Recommendation'!E60)))","v":false},{"$f":"IF(Instructions!$F$4=\"Investigation\",IF('Measure Recommendation'!F36=\"\",\"\",'Measure Recommendation'!F36),IF(Instructions!$F$4=\"Verification\",IF('Measure Recommendation'!F60=\"\",\"\",'Measure Recommendation'!F60)))","v":false},{"$f":"IF(Instructions!$F$4=\"Investigation\",IF('Measure Recommendation'!H36=\"\",\"\",'Measure Recommendation'!H36),IF(Instructions!$F$4=\"Verification\",IF('Measure Recommendation'!H60=\"\",\"\",'Measure Recommendation'!H60)))","v":false},{"$f":"IF(Instructions!$F$4=\"Investigation\",IF('Measure Recommendation'!I36=\"\",\"\",'Measure Recommendation'!I36),IF(Instructions!$F$4=\"Verification\",IF('Measure Recommendation'!I60=\"\",\"\",'Measure Recommendation'!I60)))","v":false},{"$f":"IF(Instructions!$F$4=\"Investigation\",IF('Measure Recommendation'!J36=\"\",\"\",'Measure Recommendation'!J36),IF(Instructions!$F$4=\"Verification\",IF('Measure Recommendation'!J60=\"\",\"\",'Measure Recommendation'!J60)))","v":false},{"$f":"IF(Instructions!$F$4=\"Investigation\",IF('Measure Recommendation'!K36=\"\",\"\",'Measure Recommendation'!K36),IF(Instructions!$F$4=\"Verification\",IF('Measure Recommendation'!K60=\"\",\"\",'Measure Recommendation'!K60)))","v":false},{"$f":"IF(Instructions!$F$4=\"Investigation\",IF('Measure Recommendation'!AE36=\"\",\"\",'Measure Recommendation'!AE36),IF(Instructions!$F$4=\"Verification\",IF('Measure Recommendation'!AE60=\"\",\"\",'Measure Recommendation'!AE60)))","v":false},{"$f":"IF(Instructions!$F$4=\"Investigation\",IF('Measure Recommendation'!AF36=\"\",\"\",'Measure Recommendation'!AF36),IF(Instructions!$F$4=\"Verification\",IF('Measure Recommendation'!AF60=\"\",\"\",'Measure Recommendation'!AF60)))","v":false},{"$f":"IF(Instructions!$F$4=\"Investigation\",IF('Measure Recommendation'!AG36=\"\",\"\",'Measure Recommendation'!AG36),IF(Instructions!$F$4=\"Verification\",IF('Measure Recommendation'!AG60=\"\",\"\",'Measure Recommendation'!AG60)))","v":false},{"$f":"IF(Instructions!$F$4=\"Investigation\",IF('Measure Recommendation'!AH36=\"\",\"\",'Measure Recommendation'!AH36),IF(Instructions!$F$4=\"Verification\",IF('Measure Recommendation'!AH60=\"\",\"\",'Measure Recommendation'!AH60)))","v":false},0,0,0,0,0,0,{"$f":"IF(Instructions!$F$4=\"Investigation\",IF('Measure Recommendation'!V36=\"\",0,'Measure Recommendation'!V36),IF(Instructions!$F$4=\"Verification\",IF('Measure Recommendation'!V60=\"\",0,'Measure Recommendation'!V60)))","v":false},{"$f":"IF(Instructions!$F$4=\"Investigation\",IF('Measure Recommendation'!W36=\"\",0,'Measure Recommendation'!W36),IF(Instructions!$F$4=\"Verification\",IF('Measure Recommendation'!W60=\"\",0,'Measure Recommendation'!W60)))","v":false},0,null,{"$f":"IF(Instructions!$F$4=\"Investigation\",\"\",IF(Instructions!$F$4=\"Verification\",IF('Measure Recommendation'!AB60=\"\",\"\",'Measure Recommendation'!AB60)))","v":false},{"$f":"IF(Instructions!$F$4=\"Investigation\",IF('Measure Recommendation'!C36=\"\",\"\",'Measure Recommendation'!C36),IF(Instructions!$F$4=\"Verification\",IF('Measure Recommendation'!C60=\"\",\"\",'Measure Recommendation'!C60)))","v":false},null,{"$f":"IF(Instructions!$F$4=\"Investigation\",\"\",IF(Instructions!$F$4=\"Verification\",IF('Measure Recommendation'!Y60=\"\",\"\",'Measure Recommendation'!Y60)))","v":false},{"$f":"IF(Instructions!$F$4=\"Investigation\",\"\",IF(Instructions!$F$4=\"Verification\",IF('Measure Recommendation'!Z60=\"\",\"\",'Measure Recommendation'!Z60)))","v":false}]

{"sheet":"Autofit3","index":74,"n_rows":80,"n_cols":1,"rows_kept":80,"cut":false,"hidden":true,"merged":[]}
[]
[" | "]
[]
["The ComEd Energy Efficiency Program Retro-Commissioning Flex offering provides a fully-funded study of your commercial building’s existing energy-using systems. A RCx verification was performed by the energy efficiency service provider, , to confirm the status and results of all ECMs implemented. This document provides a reference to energy conservation measures (ECMs) implemented at your facility, and serves as a guide to maintaining efficient operations going forward. Project contact information is also provided. Please don’t hesitate to contact  or your Resource Innovations Project Coordinator for further assistance. "]
[]
[]
[]
[]
[]
[]
["Project Information"]
["Implementation Completion Date: "]
["Annual Energy Cost Savings: "]
["Implementation Cost:"]
["Simple Payback Period (year): "]
[]
["Customer Information"]
["Staff Name: "]
["Email:"]
["Phone Number: "]
[]
["Contact Information"]
["Service Provider:"]
[0]
[0]
[0]
[0]
[]
[]
[]
[]
[]
[]
[]
[]
[]
[]
[]
[]
["The energy savings realized from the implementation of the following ECMs will only persist if these sequences remain active. The below table is an overview of ECMs, their active season and energy savings associated with them.\n"]
[]
[]
[]
[]
["ECM Overview"]
["ECM Information"]
["ECM #"]
[1]
[]
[]
[]
[]
[]
[]
[]
[]
[]
[]
[]
[]
[]
[]
[]
[]
[]
[]
[]
[]
[]
["ECM Implemented Sequences of Operation"]
["Sequences of operations outlined below for your reference in the event changes are made to the system. Please refer to ECM - Diagnostic and Calculation Plan for further details. "]
[]
[]
["ECM #"]
["Equipment Affected and Areas Served:"]
["Enter text here."]
["Measure Description: "]
["Enter text here."]
["Implemented Sequences of Operation and Set Points: "]
["To be completed during Verification Phase."]